{"text_format":"1","workbook":"xlsx","n_sheets":16,"sheets":["Control","Members","Results","Scores-Men","Scores-ladies","Individual Series Winners","Men Inidividual Series","Ladies Individual Series","Race 1-Men","Race 1-Ladies","Race 2-Men","Race 2-Ladies","Race 3-Men","Race 3-Ladies","Race 4-Men","Race 4-Ladies"],"not_rendered":{"charts":0,"images":0,"macros":1,"external_links":0,"defined_names":4,"comments":0,"pivot_tables":0},"unopened":[],"bounds":{"document_bytes":16777216,"sheet_cells":100000,"rows_first":2000,"rows_last":500,"rows_between":2000,"halvings":0,"cell_chars":16384,"cell_head_chars":4096},"cells_cut":0,"cells_raw":0,"read":"whole","date_system":"1900"}

{"sheet":"Control","index":0,"n_rows":25,"n_cols":34,"rows_kept":25,"cut":false,"hidden":false,"merged":[[0,29,0,33],[13,29,13,33],[0,0,0,9],[0,11,0,20],[0,22,0,24]]}
["Mens",null,null,null,null,null,null,null,null,null,null,"Ladies",null,null,null,null,null,null,null,null,null,null,"Clubs",null,null,null,"Rules - Men",null,null,"Runners - Men"]
[1,21,41,61,81,101,121,141,161,181,null,1,21,41,61,81,101,121,141,161,181,null,"Race","Club","Code",null,"Number of Scoring Runners",8,null,"Club","Race 1","Race 2","Race 3","Race 4"]
[2,22,42,62,82,102,122,142,162,182,null,2,22,42,62,82,102,122,142,162,182,null,1,"Ware Joggers","WJ",null,"Number of Veterans",2,null,{"$f":"X3","v":"Ware Joggers"},27,26,34,29]
[3,23,43,63,83,103,123,143,163,183,null,3,23,43,63,83,103,123,143,163,183,null,2,"Bishop's Stortford","BS",null,"Number of 2nd Claim Scorers",2,null,{"$f":"X4","v":"Bishop's Stortford"},15,23,15,11]
[4,24,44,64,84,104,124,144,164,184,null,4,24,44,64,84,104,124,144,164,184,null,3,"Saffron Striders","SS",null,null,null,null,{"$f":"X5","v":"Saffron Striders"},11,17,11,10]
[5,25,45,65,85,105,125,145,165,185,null,5,25,45,65,85,105,125,145,165,185,null,4,"Harlow Running & Tri Club","HRC",null,"Rules - Ladies",null,null,{"$f":"X6","v":"Harlow Running & Tri Club"},18,26,17,18]
[6,26,46,66,86,106,126,146,166,186,null,6,26,46,66,86,106,126,146,166,186,null,5,null,null,null,"Number of Scoring Runners",8,null,{"$f":"X7","v":0},0,0,0,0]
[7,27,47,67,87,107,127,147,167,187,null,7,27,47,67,87,107,127,147,167,187,null,6,null,null,null,"Number of Veterans",2]
[8,28,48,68,88,108,128,148,168,188,null,8,28,48,68,88,108,128,148,168,188,null,7,null,null,null,"Number of 2nd Claim Scorers",2]
[9,29,49,69,89,109,129,149,169,189,null,9,29,49,69,89,109,129,149,169,189,null,8]
[10,30,50,70,90,110,130,150,170,190,null,10,30,50,70,90,110,130,150,170,190,null,9,null,null,null,"Penalty for Incomplete team"]
[11,31,51,71,91,111,131,151,171,191,null,11,31,51,71,91,111,131,151,171,191,null,10,null,null,null,"Men",78]
[12,32,52,72,92,112,132,152,172,192,null,12,32,52,72,92,112,132,152,172,192,null,null,null,null,null,"Ladies",63]
[13,33,53,73,93,113,133,153,173,193,null,13,33,53,73,93,113,133,153,173,193,null,null,null,null,null,null,null,null,"Runners - Ladies"]
[14,34,54,74,94,114,134,154,174,194,null,14,34,54,74,94,114,134,154,174,194,null,null,"Race Number",4,null,null,null,null,"Club","Race 1","Race 2","Race 3","Race 4"]
[15,35,55,75,95,115,135,155,175,195,null,15,35,55,75,95,115,135,155,175,195,null,null,null,null,null,null,null,null,{"$f":"X3","v":"Ware Joggers"},18,17,22,21]
[16,36,56,76,96,116,136,156,176,196,null,16,36,56,76,96,116,136,156,176,196,null,null,null,null,null,null,null,null,{"$f":"X4","v":"Bishop's Stortford"},9,16,15,4]
[17,37,57,77,97,117,137,157,177,197,null,17,37,57,77,97,117,137,157,177,197,null,null,null,null,null,null,null,null,"Saffron Striders",8,10,7,4]
[18,38,58,78,98,118,138,158,178,198,null,18,38,58,78,98,118,138,158,178,198,null,null,null,null,null,null,null,null,"Harlow Running & Tri Club",17,17,11,24]
[19,39,59,79,99,119,139,159,179,199,null,19,39,59,79,99,119,139,159,179,199,null,null,null,null,null,null,null,null,0,0,0,0,0]
[20,40,60,80,100,120,140,160,180,200,null,20,40,60,80,100,120,140,160,180,200]
[]
[null,null,null,null,null,null,null,null,null,null,null,null,null,null,null,null,null,null,null,null,null,null,null,"Age Categories"]
[null,null,null,null,null,null,null,null,null,null,null,null,null,null,null,null,null,null,null,null,null,null,null,"Men","S","V40","V50","V60","V70"]
[null,null,null,null,null,null,null,null,null,null,null,null,null,null,null,null,null,null,null,null,null,null,null,"Ladies","S","V35","V45","V55","V65"]

{"sheet":"Members","index":1,"n_rows":500,"n_cols":11,"rows_kept":500,"cut":false,"hidden":false,"merged":[]}
["Name","Club","Age Category","Claim","Finish Position",null,"Name","Club","Age Category","Claim","Finish Position"]
["Adam Beaumont","BS","S","1st",null,null,"Abby Canfield","BS","S","1st"]
["Adam Chapman","BS","V40","1st",null,null,"Abigail White","BS","S","1st"]
["adrian hampstead","BS","V50","1st",null,null,"Alexia Kitching","BS","V55","1st"]
["Alasdair Bruce","BS","V50","1st",null,null,"Alison Chadwick","BS","S","1st"]
["Alastair Humphrey","BS","V40","1st",null,null,"Alison Malcolm","BS","V45","1st"]
["Alec Felstead","BS","V70","1st",null,null,"Alison Street","BS","V45","1st"]
["Andrew Cook","BS","V50","1st",null,null,"Amanda Bavin","BS","V45","1st"]
["Andrew Farmery","BS","S","1st",null,null,"Amanda Edwards","BS","V45","1st"]
["Andrew Pooley","BS","V40","1st",null,null,"Andrea Thorpe","BS","V45","1st"]
["Andrew Wilson","BS","V50","1st",null,null,"Anne-Claire Definod","BS","","1st"]
["Andy Kumar","BS","","2nd",null,null,"Bekah Cranch","BS","S","1st"]
["Anthony Kirby","BS","V40","1st",null,null,"Briony Hudson","BS","V35"]
["Antony Welden","BS","V50","1st",null,null,"Catherine Bacon","BS","V55","1st"]
["Archie Gilbey","BS","S","1st",null,null,"Catherine Gage","BS","V35","1st"]
["Ashish Tiwari","BS","S","1st",null,null,"Catherine Howard","BS","V45","1st"]
["Ben Dean","BS","V40","1st",null,null,"Cathy Dutta","BS","V55","1st"]
["Ben Pickford","BS","V40","1st",null,null,"Charlotte Hoole","BS","S","1st"]
["Brian Sullivan","BS","V50","1st",null,null,"Charlotte Hussey","BS","V35","1st"]
["Callum Ross","BS","","1st",null,null,"Charu Dayama","BS","V35","1st"]
["Chris Allan","BS","V50","1st",null,null,"Chloe Boyce","BS","V35","1st"]
["Chris Brolly","BS","V60","1st",null,null,"Claire Boylan","BS","V45","1st"]
["Chris Chew","BS","V50","1st",39,null,"Claire Fields","BS","V45","1st"]
["Chun Hei Alvin Cheng","BS","S","1st",null,null,"Claire Nicholson","BS","S","1st"]
["Connor Mak","BS","S","1st",null,null,"Clare Gallagher","BS","V35","1st"]
["Dan Palmer","BS","S","1st",null,null,"Clare Masterson","BS","V35","1st"]
["Daniel Beazley","BS","V40","1st",null,null,"Colette Kerins","BS","V45","1st"]
["Daniel Brayshaw","BS","V40","1st",null,null,"Corinna Rowe","BS","V55","1st"]
["Daniel Hume","BS","V40","1st",null,null,"Danielle Sims","BS","V45","1st"]
["David Broughton","BS","V50","1st",null,null,"Deborah Bridges","BS","V45","1st"]
["David McMillan","BS","V50","1st",null,null,"Deirdre Walton","BS","V55","1st"]
["David Rutter","BS","V50","1st",null,null,"Eilidh Malcolm","BS","S","2nd",19]
["Dawid Szulc","BS","S","1st",null,null,"Eleanor Mason","BS","S","2nd"]
["Dean Aylott","BS","S","1st",null,null,"Eleanor Rodgers","BS","V45","1st"]
["Dominic Mason","BS","V50","1st",null,null,"Eleanor Wells","BS","S","1st"]
["Douglas Mathers","BS","","1st",null,null,"Eleanor Williams","BS","V45","1st"]
["Ernesto Johnson","BS","V60","1st",null,null,"Elizabeth Bellinger","BS","V35","1st"]
["Etienne Faure","BS","V40","1st",34,null,"Ellen Brooks","BS","V35","1st"]
["Evan Stewart","BS","S","1st",null,null,"Elna Vermaak","BS","V55","1st"]
["Feridun Kadir","BS","V50","1st",null,null,"Emily Clancey","BS","S","1st"]
["Garry Stuart","BS","V50","1st",null,null,"Emily Warrington","BS","S","1st"]
["Gary Jones","BS","V50","1st",null,null,"Emma Barnes","BS","V35","1st"]
["Gavin Moulton","BS","V50","1st",null,null,"Emma Harvey","BS","V45","1st"]
["George Thomas","BS","V70","1st",null,null,"Emma Nixon","BS","V55","1st",26]
["George Thorpe","BS","S","1st",null,null,"Eve Warrington","BS","S","1st"]
["Glen Malcolm","BS","V50","1st",null,null,"Fay Dodgen","BS","V45","1st"]
["Gordon Mcleod","BS","S","1st",38,null,"Fay Humphries","BS","S","1st"]
["Gordon Wilson","BS","V60","1st",null,null,"Fiona Liddell","BS","V55","1st"]
["Graham O'Malley","BS","V60","1st",null,null,"Frances Iwaschkin","BS","V35","1st"]
["Graham Ross","BS","S","1st",null,null,"Francesca Palmer","BS","V45","1st"]
["Graham Statter","BS","V60","1st",null,null,"Georgie Hoole","BS","S","1st"]
["Graham Willson","BS","V50","1st",null,null,"Grace Malcolm","BS","S","2nd"]
["Henry Ward","BS","S","1st",11,null,"Greta Lyons","BS","V55","1st"]
["Ian Griffiths","BS","V40","1st",null,null,"Hannah McIlvenna","BS","V45","2nd"]
["Ian McClymont","BS","V70","1st",null,null,"Hannah Prince","BS","V45","1st"]
["Ian Penson","BS","V60","1st",65,null,"Harriet Wyatt","BS","V55","1st"]
["James Delve","BS","V40","1st",28,null,"Hayley Miller","BS","V35","1st"]
["James Gurr","BS","","1st",null,null,"Helen Baucher","BS","V55","1st"]
["Jamie Smith","BS","V40","1st",51,null,"Helen Brown","BS","V55","1st"]
["Jan Bisschoff","BS","V70","1st",null,null,"Helen Hollingsworth","BS","V45","1st"]
["Jason Haigh","BS","V50","1st",null,null,"Imogen Drake","BS","S","1st"]
["Jason Hasty","BS","V50","1st",null,null,"Inese Stan","BS","V35","1st"]
["Jerry Piron","BS","V60","1st",null,null,"Jane Malone","BS","V45","1st"]
["Jess Melville","BS","V40","1st",null,null,"Jane Mansfield","BS","V55","1st"]
["Joe Costley","BS","V50","2nd",null,null,"Janet Howes","BS","V65","1st"]
["John Appleby","BS","V50","1st",null,null,"Janna Jenkins","BS","V35","1st"]
["John Baker","BS","V70","1st",null,null,"Jasmine Crawford","BS","","1st"]
["John Dodsworth","BS","V50","1st",null,null,"Jenny Barnett","BS","V45","1st"]
["John Earley","BS","V50","1st",null,null,"Jenny Brayshaw","BS","V65","1st"]
["John Etherden","BS","V70","1st",null,null,"Jenny Latham","BS","V35","1st"]
["John Ivens","BS","V60","1st",null,null,"Jenny Wright","BS","V45","1st"]
["John Kennedy","BS","V50","1st",null,null,"Jilly Palmer","BS","V55","1st",48]
["John Neary","BS","V60","1st",null,null,"Joanna Jurd","BS","V35","1st"]
["John Nichol","BS","V50","1st",null,null,"Joanna Keable","BS","","1st"]
["John Wright","BS","V40","1st",null,null,"joanna Sturrock","BS","V45","1st"]
["Jonathan Derrick","BS","S","1st",null,null,"Joanne Hume","BS","V45","1st"]
["Jonathan Haynes","BS","V60","1st",null,null,"Julia Fonnereau","BS","V55","1st"]
["Jonathan Round","BS","S","1st",null,null,"Julie Pagram","BS","V45","1st"]
["Justin Patten","BS","V50","1st",null,null,"Julie Rogers","BS","V55","1st"]
["Keir Mann","BS","V40","1st",null,null,"Julie Witchalls","BS","V45","1st"]
["Keith House","BS","V60","1st",null,null,"Karen Roddam","BS","V45","1st"]
["Keith Phillips","BS","V60","1st",null,null,"Kathryn Chapman","BS","V45","1st"]
["Kevin Gillespie","BS","V50","1st",null,null,"Kirsty Reid","BS","V35","1st"]
["Kevin Marshall","BS","V50","1st",null,null,"Lara Wheeldon","BS","V45","1st"]
["Kevin Mully","BS","V40","1st",17,null,"Laura Hollis","BS","","1st"]
["Krishna Kakkaiyadi","BS","S","1st",null,null,"Lisa Collier-Smith","BS","V45","1st"]
["Laurence Foote","BS","V40","1st",null,null,"Lorraine Evans","BS","V55","1st"]
["Laurence Lee","BS","V50","1st",null,null,"Lucy Northedge","BS","V35","1st"]
["Lee Boswell","BS","S","1st",42,null,"Lucy Robinson","BS","V35","1st"]
["Lee Kirby","BS","V40","1st",null,null,"Mairead Wright","BS","V35","1st"]
["Lee Maughan","BS","S","1st",null,null,"Mairi Malcolm","BS","S","2nd"]
["Lee Pickering","BS","V50","1st",null,null,"Marie Hockley","BS","V55","1st"]
["Lee Rhodes","BS","V40","1st",null,null,"Mary Amos","BS","V65","1st"]
["Lee Vass","BS","V40","1st",null,null,"Meryl Herniman","BS","V35","1st"]
["Liam Dillon","BS","V40","1st",null,null,"Michelle Cook","BS","","1st"]
["Liam Sheils","BS","V40","1st",null,null,"Michelle Hasty","BS","V45","1st"]
["Luke Shepherd","BS","S","1st",null,null,"Mrinalini Kar","BS","V35","1st"]
["Malcolm Dewhurst","BS","V60","1st",null,null,"Natasha Spiller","BS","V35","1st"]
["Marcus Collings","BS","","1st",null,null,"Neema Sheby","BS","V35","1st"]
["Mark Booker","BS","V50","1st",null,null,"Nick Smith","BS","V35","1st"]
["Mark Burkett","BS","V50","1st",null,null,"Nicola Cockerell","BS","V35","1st"]
["Mark Lawrence","BS","S","1st",null,null,"Niki Champion","BS","V45","1st"]
["Mark Palmer","BS","V40","1st",null,null,"Nikki Frostick","BS","","1st"]
["Mark Spiller","BS","S","1st",null,null,"Olivia Beresford","BS","S","1st"]
["Mark Wilds","BS","V50","1st",null,null,"Patricia Poole","BS","V55","1st"]
["Martin Brooks","BS","S","1st",null,null,"Paula Beades","BS","V45","1st"]
["Martin Cockerell","BS","V40","1st",null,null,"Peijie Zhu","BS","V45","1st"]
["Martin Collier-Smith","BS","V50","1st",null,null,"Penelope Roux","BS","S","1st"]
["Martin Howe","BS","V60","1st",null,null,"Rachael Fletcher","BS","V45","1st"]
["Martin Pettitt","BS","V60","1st",null,null,"Rachel Rissbrook","BS","V55","1st"]
["Matt Cooker","BS","V40",null,null,null,"Rachel Turvey","BS","V45","1st"]
["Matt McRandal","BS","S","1st",null,null,"Rebecca Cole","BS","V35","1st"]
["Matthew Coaker","BS","V40","1st",null,null,"Rebecca Dolan","BS","S","1st"]
["Matthew Cole","BS","V40","1st",null,null,"Rebecca Thorp","BS","V35","1st"]
["Matthew Ironside","BS","S","1st",null,null,"Robinne Colby","BS","V55","1st"]
["Matthieu Militon","BS","V40","1st",null,null,"Rosemary Nugent","BS","V65","1st"]
["Melvyn Grimwood","BS","V40","1st",null,null,"Sally House","BS","V55","1st"]
["Michael Chinnery","BS","S","1st",null,null,"sarah crooks","BS","V35","1st"]
["Michael Connolly","BS","V60","1st",null,null,"Sarah Godfrey","BS","V45","1st"]
["Mike Grant","BS","V60","1st",null,null,"Sarah Mackay","BS","V35","1st"]
["NEIL GAGE","BS","V40","1st",null,null,"Sarah Mathura","BS","V45","1st"]
["Nick Yeadon","BS","V50","1st",null,null,"Sarah Porter","BS","V45","1st"]
["Owen Bailey","BS","V40","1st",null,null,"Serena Beresford","BS","V35","1st"]
["Paul Dearlove","BS","V50","1st",null,null,"Sharon Neary","BS","V55","1st"]
["Paul Kerins","BS","V50","1st",null,null,"Shirley Ball","BS","V65","1st"]
["Paul Malone","BS","V40","1st",null,null,"Sophie Barc","BS","V45","1st"]
["Paul Scofield","BS","V40","1st",null,null,"Sophie Evans","BS","V35","1st"]
["Paul Walker","BS","V50","1st",null,null,"Sophie Paterson","BS","","1st"]
["Pekka Aalto","BS","V40","1st",null,null,"Stacey Smith","BS","V35","1st"]
["Peter Allen","BS","V60","1st",null,null,"Stefanie Azuga","BS","V45","1st"]
["Peter Beatty","BS","V60","1st",null,null,"Susan Albiston","BS","V45","1st"]
["Peter Cormack","BS","S","1st",null,null,"Susan Anderson","BS","V35","1st"]
["Peter Forsey","BS","V40","1st",null,null,"Susan Judge","BS","V35","1st"]
["Peter Jurd","BS","V40","1st",null,null,"Susan Tidman","BS","V45","1st"]
["Peter Rowe","BS","V50","1st",null,null,"Theresa Burke","BS","V65","1st"]
["Peter Wenzel","BS","V70","1st",null,null,"Trudy Lynch","BS","V45","1st"]
["Peter Winfield","BS","","1st",null,null,"Vicky Simpson","BS","V45","1st",8]
["Philip Butson","BS","V50","1st",null,null,"Victoria Maddox","BS","V35","1st"]
["Philip Chaplin","BS","V50","2nd",null,null,"Alex Soady","HRC","S","1st"]
["Philip Gibsone","BS","V50","1st",null,null,"Alison Bull","HRC","V55","1st"]
["Phillip Mansfield","BS","V50","1st",null,null,"Alison Wilkinson","HRC","V55","1st",45]
["Quentin Downes","BS","","1st",null,null,"Allison Beeton","HRC","V55","1st"]
["Richard Eddershaw","BS","V60","1st",31,null,"Amanda Martin-Hose","HRC","V35","1st"]
["Richard Faverker","BS","V40",null,59,null,"Amber Ingle","HRC","S","1st"]
["Richard Payne","BS","V40","1st",null,null,"Angela Cook","HRC","V55","1st"]
["Robert Thorpe","BS","V50","1st",null,null,"Anique Liiv","HRC","V35","1st"]
["Robin Newman","BS","V40","1st",null,null,"Anna Robey","HRC","V35","1st"]
["Roger Berry","BS","V40","1st",null,null,"Annabel Moeser","HRC","S","1st"]
["Rohit Dayama","BS","V40","1st",null,null,"Antonella Crudgington","HRC","V45","1st"]
["Ryan Gow","BS","S","1st",null,null,"Carinne Jay","HRC","V55","1st"]
["Samuel Brennan","BS","","1st",null,null,"Carla Hockley","HRC","V35","1st"]
["Samuel Pedley","BS","S","1st",null,null,"Catherine Ridge","HRC","V35","1st",11]
["Shane Tomlinson","BS","V40","1st",null,null,"Charleen Tillotson","HRC","V35","1st"]
["Simon Dewhurst","BS","S","1st",null,null,"Claire Carter","HRC","V45","1st",43]
["Simon Judkins","BS","V40","1st",null,null,"Claire Clark","HRC","V35","1st"]
["Simon Treadwell","BS","S","1st",null,null,"Claire Johnson","HRC","V45","1st"]
["Stephen Ball","BS","V60","1st",null,null,"Claire Morris","HRC","V35","1st",39]
["Stephen Berry","BS","V40","1st",null,null,"Claire Sage","HRC","S","1st"]
["Stephen Chimunye","BS","","1st",null,null,"Dawn Elford","HRC","V45","1st"]
["Stephen Crafford","BS","V50","1st",null,null,"Debbie Barry","HRC","V55","1st"]
["Stephen Price","BS","S","1st",null,null,"Debbie Hayden","HRC","V35","1st"]
["Stephen Wilkes","BS","V50","1st",null,null,"Debbie Mead","HRC","V45","1st"]
["Steve Page","BS","V60","1st",null,null,"Deborah Garfield","HRC","V45","2nd"]
["Steven Prosser","BS","V40","1st",null,null,"Deborah Pomphret","HRC","V45","1st"]
["Steven Vale","BS","V50","1st",null,null,"Debra Monk","HRC","V55","1st"]
["Stewart Grant","BS","V50","1st",null,null,"Dionne Jones","HRC","V45","1st"]
["Stuart Davenport","BS","V50","1st",null,null,"Donna Milton","HRC","V45","1st",30]
["Themi Petridis","BS","V40","1st",null,null,"Elizabeth Roberts","HRC","S","1st"]
["Thomas Castle","BS","V40","1st",null,null,"Elle Curran","HRC","S","1st"]
["Thomas Wilton","BS","S","1st",null,null,"Ellie Williams","HRC","S","1st"]
["Tim Kelly","BS","V60","1st",null,null,"Emma Luck","HRC","V45","1st",37]
["Toby Allanson","BS","V40","1st",null,null,"Emma Thompson","HRC","V45","1st"]
["Tommy Fanton","BS","V40","1st",null,null,"Eva Lenicka","HRC","V35","1st"]
["Tony Chada","BS","V50","1st",null,null,"Fieke Blackwell","HRC","V35","1st",9]
["Tony Dawkins","BS","V60","1st",null,null,"Fionnuala Quinn","HRC","V35","1st"]
["Wayne Greet","BS","V50","1st",null,null,"Freya Anglin-Liiv","HRC","S","1st"]
["Will Bell","BS","S","1st",null,null,"Gail Nicholls","HRC","V55","1st",31]
["Will Hunt Vincent","BS","V50","1st",null,null,"Gemma Curran","HRC","S","1st"]
["Will Morton","BS","S","1st",null,null,"Gulsun Shevket","HRC","S","1st"]
["William Price","BS","S","1st",null,null,"Harriett Martin","HRC","S","1st"]
["Adam Galloway","HRC","S","1st",null,null,"Heidi Fox","HRC","V35","1st"]
["Alan Chatterton","HRC","S","1st",null,null,"Helen Barnes-Martin","HRC","V55","1st"]
["Alan Cootes","HRC","V60","1st",null,null,"Helen Barrell","HRC","S","1st"]
["Alan Godbold","HRC","V50","1st",null,null,"Helena May","HRC","S","1st"]
["Alan Knightley","HRC","V50","1st",null,null,"Holly Nairn","HRC","S","1st"]
["Alan Wellbelove","HRC","V60","1st",null,null,"Iwona Antolik","HRC","V45","1st"]
["Alexis Ellington","HRC","V50","1st",null,null,"Jane Evans","HRC","V55","1st"]
["Andrew Kinney","HRC","V50","1st",null,null,"Janet Webster","HRC","V65","1st"]
["Andrew Smith","HRC","V50","1st",67,null,"Jayne Mouser","HRC","V45","1st"]
["Andrew Terrell","HRC","V40","1st",30,null,"Jessica Carter","HRC","S","1st"]
["Austin Nyamande","HRC","V60","1st",null,null,"Joanne Mills","HRC","V65","1st"]
["Ben Fowler","HRC","V40","1st",null,null,"Joy Hale","HRC","V35","1st"]
["Benjamin Usher","HRC","S","1st",19,null,"Judy Ward","HRC","V65","1st"]
["Bradley Holmes","HRC","S","1st",null,null,"Julia Gardiner","HRC","V35","1st"]
["Bradley Power","HRC","S","1st",null,null,"Julie Bradley","HRC","V55","1st"]
["Chris Arnell","HRC","V40","1st",48,null,"Julie Bull","HRC","V45","1st"]
["Chris Mella","HRC","S","1st",41,null,"Julie Ireland","HRC","V55","1st"]
["Christian Golebiowski","HRC","S","1st",null,null,"Karen Moir","HRC","V55","1st"]
["Christopher Donnelly","HRC","V40","1st",null,null,"Kate Babb","HRC","V55","1st",46]
["Colin Baker","HRC","V40","1st",26,null,"Kate Porter","HRC","V45","1st",34]
["Colin Langbridge","HRC","S","1st",null,null,"Kelly Spires","HRC","V45","1st"]
["Colin Moody","HRC","V70","1st",null,null,"Keren Greenall","HRC","V35","1st",49]
["Craig Segal","HRC","S","1st",null,null,"Kerry Mavris","HRC","V45","1st",25]
["Cyril Cornmillet","HRC","V40",null,null,null,"Kim Wookey","HRC","V55","1st"]
["Dan Winter","HRC","V40","1st",null,null,"Laura Prime","HRC","V45","1st"]
["Darren Coates","HRC","V50","1st",null,null,"Linda Helm-Manley","HRC","V55","1st",22]
["Darren Tiley","HRC","V50","1st",null,null,"Lisa Brett","HRC","V45","1st",50]
["Dave Smith","HRC","V40","1st",null,null,"Lizzie Wright","HRC","V45","1st"]
["David Goosetree","HRC","V40","1st",null,null,"Lorna Crump","HRC","V35","1st"]
["David Johnson","HRC","V50","1st",null,null,"Lorraine Berry","HRC","V35","1st"]
["Daz Red","HRC","V50","1st",null,null,"Louise Cootes","HRC","V35","1st",17]
["Dean Moore","HRC","V50","1st",null,null,"Louise Kedge","HRC","V35","1st"]
["Dominic Emery","HRC","V50","1st",null,null,"Louise Shury","HRC","V45","1st"]
["Gary Mead","HRC","V50","1st",60,null,"Lucy Barnes","HRC","S","1st",1]
["Georgia Gadsdon","HRC","S","1st",null,null,"Luella Dixon","HRC","V55","1st"]
["Glen Wilson","HRC","V40","1st",null,null,"Maria Sassons","HRC","V45","1st"]
["Graham Saville","HRC","V60","1st",null,null,"Martine Beard","HRC","V35","1st"]
["Hossein Erfani","HRC","V70","1st",null,null,"Melanie Harris","HRC","V65","1st"]
["Iain Bulloch","HRC","V40","1st",null,null,"Michelle Hyde","HRC","V35","1st",40]
["Jack Kelly","HRC","S","1st",null,null,"Michelle Sheridan","HRC","V35","1st",24]
["Jack Shury","HRC","S","1st",null,null,"Millie McGovern","HRC","S","1st"]
["Jack Waight","HRC","S","1st",null,null,"Nadine Bedi","HRC","V45","1st"]
["Jacobus van der Poel","HRC","V60","1st",null,null,"Natasha Terrell","HRC","V45","1st"]
["James Dowsett","HRC","V40","1st",33,null,"Nicola Smith","HRC","V35","1st"]
["James Hay","HRC","S","1st",null,null,"Nicolette Harley","HRC","V45","1st"]
["James Martin","HRC","V50","1st",null,null,"Odette Galea-Highstead","HRC","V35","1st"]
["James Northrop","HRC","V40","1st",null,null,"Paige Bircham","HRC","S","1st",12]
["Jamie Olsen Ferreira","HRC","V40","1st",57,null,"Paula Miles","HRC","V45","1st"]
["Jason Fox","HRC","V50","1st",null,null,"Paulene Galoppi","HRC","V65","1st"]
["Jason Fryer","HRC","V50","1st",null,null,"Pauline Weirich","HRC","V45","1st"]
["Jeff Mace","HRC","V40","1st",null,null,"Rachel Lewis","HRC","S","1st"]
["Jermaine Shand","HRC","S","1st",37,null,"Rebecca Walker","HRC","S","1st"]
["Jim Bates","HRC","V70","1st",null,null,"Sandra Rust","HRC","V45","1st",21]
["Joe Dainty","HRC","V50","1st",null,null,"Sandra Webber","HRC","V35","1st"]
["John Bull","HRC","V50","1st",56,null,"Sandra Westgate","HRC","V45","1st"]
["John Edwards","HRC","V40","1st",null,null,"Sarah Carman","HRC","S","1st"]
["John McCarthy","HRC","V40","1st",null,null,"Sarah Ede","HRC","S","1st"]
["John Tennant","HRC","V70","1st",null,null,"Sarah Gainsford","HRC","V55","1st"]
["Jon Steadman","HRC","V40","1st",45,null,"Sarah Medlock","HRC","V45","1st"]
["Jon Waight","HRC","V50","1st",null,null,"Selina Morgan","HRC","V35","1st",44]
["Jonathan Bristowe","HRC","V40","1st",null,null,"Susan Maloney","HRC","V55","1st"]
["Keith Streeter","HRC","V50","1st",null,null,"Susan Reilly","HRC","V45","1st"]
["Kevin Peacock","HRC","V40","1st",null,null,"Suzie Middleton","HRC","V45","1st"]
["Kirk Crudgington","HRC","V40","1st",null,null,"Teresa Stickland","HRC","V55","1st",47]
["Lee Daniels","HRC","S","1st",null,null,"Terri Wiley","HRC","V35","1st",6]
["Lee Webber","HRC","V40","1st",27,null,"Tracey Cruz","HRC","V35","1st"]
["Leigh Brown","HRC","V40","1st",null,null,"Tracy Greenall","HRC","V45","1st"]
["Luke Hardy","HRC","S","1st",null,null,"Tracy Stratford","HRC","V35","1st",27]
["Luke Healy","HRC","S","1st",null,null,"Vanessa Murray","HRC","V45","1st"]
["Luke Howard","HRC","S","1st",null,null,"Vicky Steadman","HRC","V45","1st"]
["Marc Witham","HRC","V40","1st",null,null,"Victoria Jory","HRC","V35","1st"]
["Mark Bentley","HRC","V50","1st",null,null,"Wendy Hunt","HRC","V45","1st"]
["Mark Grant","HRC","V50","1st",null,null,"Yasmin Gregory","HRC","V55","1st"]
["Mark Unwin","HRC","V40","1st",null,null,"Amy Thomas","SS","V35","1st"]
["Martin Westley","HRC","S","1st",13,null,"Anna Cooper","SS","V35","1st"]
["Martyn Coulter","HRC","S","1st",15,null,"Anna Kotowska","SS","S","1st"]
["Martyn Langman","HRC","S","1st",null,null,"Anne Dawson","SS","V35","1st"]
["Matthew Spires","HRC","V40","1st",null,null,"Cara Donker","SS","V45","1st"]
["Michael Casey","HRC","V60","1st",null,null,"Carol Ringhofer","SS","V55","1st"]
["Michael Gleeson","HRC","V50","1st",68,null,"Charlotte Diggins","SS","V45","1st"]
["Michael Houlihan","HRC","V50","1st",null,null,"Charlotte Teall","SS","V35","1st",36]
["Michael Robey","HRC","V40","1st",null,null,"Chloe Brown","SS","V55","1st"]
["Michael Woodruff","HRC","V50","1st",null,null,"Cindy Drinnan","SS","V35","1st"]
["Micky Warwick","HRC","V60","1st",null,null,"Claire Crommie","SS","V45","1st"]
["Miguel Luque","HRC","V50","1st",null,null,"Claire Steel","SS","V35","1st"]
["Neil Goodgame","HRC","V40","1st",null,null,"Clare Little","SS","V55","1st"]
["Nick Burnage","HRC","V50","1st",null,null,"Coral White","SS","S","1st"]
["Nick D'Alton","HRC","V50","1st",null,null,"Dawn Ruff","SS","V35","1st"]
["Nick Davis","HRC","V40","1st",null,null,"Fiona Halls","SS","V45","1st"]
["Nigel Barton","HRC","V40","1st",null,null,"Fiona Viney","SS","V45","1st"]
["Noel Thatcher","HRC","V50","1st",null,null,"Fliss Tournant","SS","S","1st",3]
["Paskell Blackwell","HRC","V40","1st",null,null,"Flo Greatrix","SS","S","1st"]
["Pasquale Pellecchia","HRC","V70","1st",null,null,"Gill Sarginson","SS","V55","1st"]
["Paul Dixon","HRC","V50","1st",null,null,"Gillian Herbert","SS","V55","1st"]
["Paul Lawes","HRC","V50","1st",null,null,"Gina Holley","SS","V45","1st"]
["Paul Smith","HRC","V50","1st",null,null,"Helen Howard","SS","V45","1st"]
["Paul Watts","HRC","V50","1st",null,null,"Helen Marks","SS","V55","1st"]
["Peter Berry","HRC","V40","1st",null,null,"Helen Sears","SS","V45","1st"]
["Peter Mills","HRC","V70","1st",null,null,"Issie Grayson","SS","V65","1st"]
["Phil Middleton","HRC","V40","1st",null,null,"Jacqueline Lucas","SS","V55","1st"]
["Richard Fryer","HRC","V50","1st",null,null,"Jennifer Murray","SS","V35","1st"]
["Richard Ricketts","HRC","V50","1st",null,null,"Jo Dallas","SS","V55","1st"]
["Richard Taylor","HRC","V50","1st",null,null,"Julie Hartle","SS","V55","1st"]
["Rob Lowe","HRC","V50","1st",2,null,"June Brennan","SS","V65","1st"]
["Rob Peters","HRC","V50","1st",null,null,"Kate Holden","SS","V55","1st"]
["Robert Foxley","HRC","V40","1st",null,null,"Kate Poulter","SS","V45","1st"]
["Robin Lozeau","HRC","V60","1st",null,null,"Kate Waite","SS","S","1st"]
["Ron Newton","HRC","V60","1st",null,null,"Katharine Lewis","SS","V45","1st"]
["Roy Steven","HRC","V70","1st",null,null,"Kathy Nixon","SS","V55","1st"]
["Ryan Kaye","HRC","V40","1st",null,null,"Kavita White","SS","V45","1st"]
["Ryan Smith","HRC","V40","1st",null,null,"Kay Phillips","SS","V55","1st"]
["Salvatore Maggiulli","HRC","V60","1st",null,null,"Kerry Brooks","SS","V45","1st"]
["Sam Carter","HRC","V40","1st",null,null,"Kerry Harrington","SS","V45","1st",23]
["Sam Nicholls","HRC","S","1st",null,null,"Lili Pluck","SS","V45","1st"]
["Sam Snelling","HRC","S","1st",null,null,"Linda Brett","SS","V55","1st"]
["Samuel Treadwell","HRC","S","1st",null,null,"Lindsay Seth","SS","V35","1st"]
["Scott Bird","HRC","S","1st",null,null,"Lisa Plumb","SS","V45","1st"]
["Sean Flynn","HRC","V60","1st",null,null,"Lucie Heanley","SS","V35","1st"]
["Simon Morgans","HRC","V40","1st",null,null,"Lucy Coston","SS","S","1st"]
["Stephen Leahy","HRC","V50","1st",null,null,"Margit Wendelberger James","SS","V55","1st"]
["Stephen Mayo","HRC","V40","1st",null,null,"Martha Flind","SS","S","1st"]
["Steve Cozens","HRC","V40","1st",null,null,"Melissa Sangha","SS","V45","1st"]
["Steve Hennessy","HRC","V40","1st",null,null,"Natalie Gilder","SS","V35","1st"]
["Steve Warren","HRC","V60","1st",null,null,"Nikola Coutts","SS","V45","1st"]
["Steve Wright","HRC","V50","1st",null,null,"Paula Thurston","SS","V45","1st"]
["Stuart Glynn","HRC","S","1st",null,null,"Phily Watson","SS","S","1st"]
["Thomas Beales","HRC","V40","1st",null,null,"Rachael Pearson","SS","V35","1st"]
["Timothy Wood","HRC","S","1st",40,null,"Rebecca White","SS","V35","1st"]
["Tony Harman","HRC","V60","1st",null,null,"Salli White","SS","S","1st"]
["Tony Russell","HRC","S","1st",null,null,"Sara Larsen Armstrong","SS","S","1st"]
["Tyrone Mustafa","HRC","V40","1st",null,null,"Sarah McKenna","SS","V55","1st"]
["Vincent Martin","HRC","V60","1st",null,null,"Sarah Shucksmith","SS","V35","1st"]
["Yaser Alsaghir","HRC","S","1st",null,null,"Shelley Menell","SS","V35","1st"]
["Alan Gleaves","SS","V40","1st",null,null,"Siobhan Gibson","SS","V55","1st"]
["Alan Jones","SS","V50","1st",35,null,"Sue Hamilton","SS","V35","1st"]
["Alan Taylor","SS","V50","1st",null,null,"Sue Hayden","SS","V45","1st"]
["Alex Bibby","SS","V40","1st",null,null,"Susan Grant","SS","V55","1st"]
["Alex Smith","SS","S","1st",null,null,"Tamara Lamb","SS","V55","1st"]
["Alexandre Ros","SS","V50","1st",null,null,"Tina Hamilton","SS","V45","1st"]
["Alistair Cooke","SS","V40","1st",null,null,"Valerie Foreman","SS","V35","1st"]
["Amit Davda","SS","S","1st",null,null,"Vicky Reed","SS","V45","1st"]
["Andrew Armour","SS","V40","1st",null,null,"Victoria Cutler","SS","V45","1st"]
["Andrew Flind","SS","V50","1st",null,null,"Vivienne Prentice","SS","V55","1st"]
["Andrew Jacklin","SS","S","1st",null,null,"Zib Gotto","SS","V45","1st",14]
["Andrew Page","SS","V40","1st",null,null,"Aileen Lacey","WJ","V55","1st"]
["Andy Watkins","SS","V40","1st",null,null,"Alina Tarca","WJ","V35","1st"]
["Archie Ruggles-Brise","SS","V40","1st",null,null,"Amanda Richard","WJ","V45","1st"]
["Arnold Sienerth","SS","V40","1st",null,null,"Ani Brix","WJ","V45","1st"]
["Arthur Oliva","SS","V60","1st",63,null,"Anne Ramsden","WJ","V65","1st"]
["Barry Taylor","SS","V40","1st",null,null,"Annie Reville","WJ","V45","1st",18]
["Ben Wright","SS","S","1st",null,null,"Annie Thomas","WJ","V65","1st"]
["Calum Ewing","SS","V40","1st",null,null,"Anthea Francis","WJ","V45","1st",16]
["Chris Dodge","SS","V50","1st",null,null,"Asta Neely","WJ","V35","1st"]
["Chris O'Donovan","SS","S","2nd",null,null,"Beverley McLees","WJ","V45","1st"]
["Chris Shucksmith","SS","S","1st",null,null,"Carla Bell","WJ","V55","1st"]
["Craig Dyce","SS","V50","1st",3,null,"Caroline Stephens","WJ","V55","1st"]
["Daniel Vaughan","SS","V40","1st",null,null,"Cate Campany","WJ","V55","1st",42]
["Darren Barnes","SS","V40","1st",null,null,"Chloe Turner","WJ","S","1st"]
["Dave Lewis","SS","V60","1st",null,null,"Chris Reed","WJ","V65","2nd"]
["David Bulmer","SS","V40","1st",null,null,"Christel Ainge","WJ","V45","1st"]
["David Martin","SS","V50","1st",52,null,"Christy van Maanenberg","WJ","V45","1st"]
["David Raimondo","SS","V40","1st",null,null,"Claire Hardy","WJ","V35","1st"]
["David Sinnet","SS","V40","1st",null,null,"Claire Nichols","WJ","V45","1st"]
["David Tew","SS","V60","1st",null,null,"Claire Teague","WJ","V45","1st"]
["Edward Benyon","SS","V40","1st",null,null,"Claire Watson","WJ","V45","1st"]
["George Lloyd","SS","S","1st",null,null,"Clare Browne","WJ","V55","2nd"]
["Graeme Loudain","SS","V60","1st",null,null,"Claron Riviere","WJ","V65","1st"]
["Guy Taylor","SS","S","1st",null,null,"Deborah Amies","WJ","V45","1st",33]
["Guy Tremayne","SS","V60","2nd",null,null,"Ekaterina Mead","WJ","V45","1st"]
["Harry Game","SS","S","1st",null,null,"Elizabeth Davey","WJ","V45","1st"]
["Henry Rowe","SS","V60","1st",null,null,"Elizabeth Lord","WJ","V65","1st"]
["Iain Henley","SS","V40","1st",null,null,"Elizabeth Watson","WJ","V65","1st"]
["Iain Rogers","SS","V50","1st",66,null,"Ellie Burt","WJ","V35","2nd"]
["Ian Christopher Scott","SS","V50","1st",null,null,"Ellie Perkins","WJ","V65","1st"]
["Ian MacDougall","SS","V60","1st",null,null,"Emily Reid","WJ","V35","1st",13]
["Jason Coles","SS","V50","1st",null,null,"Emma Mulley","WJ","V35","2nd"]
["Joe Hall","SS","V50","1st",null,null,"Emma Raymen","WJ","V35","1st"]
["John Heanley","SS","V40","1st",null,null,"Fiona Alder","WJ","V55","1st",53]
["John James","SS","V60","1st",54,null,"Fiona Smith","WJ","S","1st",20]
["Jon Cooke","SS","V50","1st",null,null,"Gemma Charville","WJ","V35","1st"]
["Joshua Entwistle","SS","S","2nd",null,null,"Hannah Hartnett","WJ","S","1st"]
["Justin Attelsey","SS","V40","1st",null,null,"Harriet Kealy","WJ","S","1st",4]
["Justin James","SS","V50","1st",null,null,"Hazel Nichols","WJ","V65","2nd"]
["Lee Gamble","SS","V40","1st",null,null,"Helen Church","WJ","V45","1st"]
["Lewis Elmes","SS","S","1st",null,null,"Jacki Clifford","WJ","V55","1st"]
["Marco Arcidiacono","SS","V50","1st",null,null,"Jacqui Barnard","WJ","V55","1st"]
["Mark Anderton","SS","V40","1st",null,null,"Jan Stock","WJ","V55","1st"]
["Mark Coutts","SS","V40","1st",null,null,"Jane Wren","WJ","V55","2nd",32]
["Mark Fitzhenry","SS","V60","1st",null,null,"Janet Readitt","WJ","V55","1st"]
["Mark Frow","SS","S","1st",null,null,"Jaqueline Gelman","WJ","V65","1st"]
["Mark Thackstone","SS","V50","1st",43,null,"Jeanette Collins","WJ","V55","2nd"]
["Matthew Billis","SS","V40","1st",null,null,"Jemina Punni","WJ","V35","1st",35]
["Matthew Switzer","SS","V40","1st",null,null,"Jenni Viner","WJ","V65","1st"]
["Mayank Seth","SS","V40","1st",null,null,"Jennifer Evans","WJ","S","1st",29]
["Michael Bradley","SS","V50","1st",null,null,"Jessica Baxter","WJ","V35","1st"]
["Neil Halls","SS","V50","1st",53,null,"Jill Patel","WJ","V45","1st"]
["Niall Sullivan","SS","V40","1st",null,null,"Josephine Joel","WJ","V45","1st"]
["Nick White","SS","V40","1st",null,null,"Judy Sillitto","WJ","V55","1st"]
["Nick Wilkinson","SS","V50","1st",null,null,"Julia Booker","WJ","V45","1st"]
["Nigel Coates","SS","V60","1st",49,null,"Julia Gristwood","WJ","V55","2nd"]
["Nigel Poad","SS","V50","1st",null,null,"Julie Fogg","WJ","V55","1st"]
["Oliver Diggins","SS","V40","1st",null,null,"Katie Blacker","WJ","V45","1st"]
["Patrick Bickerton","SS","V40","1st",null,null,"Katrina Dobson","WJ","V35","1st",7]
["Paul Johnstone","SS","V40","1st",null,null,"Katy Woodward","WJ","V35","1st",2]
["Paul Long","SS","V50","1st",null,null,"Lisa Hough","WJ","V55","1st"]
["Pieter de Koning","SS","V50","1st",null,null,"Lisa Roberts","WJ","V45","1st"]
["Richard Auty","SS","V40","1st",null,null,"Liz Sanders","WJ","V45","1st"]
["Richard Balarkas","SS","V60","1st",null,null,"Louise Oliver","WJ","V45","1st"]
["Richard Viney","SS","V50","1st",null,null,"Lucy Dupuis","WJ","V45","1st",15]
["Robert Shaw","SS","V60","2nd",null,null,"Lucy Elizabeth Jones","WJ","V35","1st"]
["Russell Sanford","SS","V40","1st",null,null,"Lynsay Evans","WJ","V45","1st",51]
["Samuel Scheibel","SS","S","1st",null,null,"Mandy Avery","WJ","V55","1st"]
["Simon Chambers","SS","V50","1st",null,null,"Margaret Balfour","WJ","V65","1st"]
["Simon Ede","SS","V40","1st",null,null,"Margaret Waddingham","WJ","V65","1st"]
["Simon Ollerenshaw","SS","V50","1st",null,null,"Marianne Mitchell","WJ","V45","1st"]
["Stephen Hillyard","SS","V50","1st",null,null,"Marie Heenan","WJ","S","1st"]
["Stephen Inkley","SS","V60","1st",null,null,"Maureen Hurt","WJ","V55","1st"]
["Stuart Gibson","SS","V50","1st",null,null,"Melanie Blackaby","WJ","V45","1st"]
["Thomas Coutts","SS","S","1st",null,null,"Mia Davey","WJ","S","1st"]
["Thomas Roelleke","SS","V50","1st",null,null,"Michelle Cross","WJ","V55","1st"]
["Tim McMahon","SS","V40","1st",null,null,"Mili Mladenovic","WJ","V35","1st"]
["Tim Penn","SS","V70","1st",null,null,"Nadia Selby","WJ","V45","1st"]
["Tim Tait","SS","V40","1st",null,null,"Nicola Quantrell","WJ","V35","1st"]
["Tim Wilkinson","SS","V40","1st",null,null,"Olu Gooden","WJ","V55","2nd",38]
["Toby Lumsden","SS","V60","1st",44,null,"Pamela Wilson","WJ","V65","1st",28]
["Tony Kelly","SS","V60","1st",null,null,"Paula Gollop","WJ","V35","1st"]
["Yusuf Firat","SS","V50","2nd",null,null,"Rachel Symonds","WJ","V35","1st"]
["Adam Wallace","WJ","V40","1st",null,null,"Rebecca Drinkwater","WJ","V45","2nd"]
["Adam Watson","WJ","S","1st",24,null,"Rhonda Moon","WJ","V45","1st"]
["Alan Rafferty","WJ","V60","1st",null,null,"Rosalind Hitchen","WJ","V55","1st",52]
["Alan Randall","WJ","V60","2nd",58,null,"Sam Rowe","WJ","V55","1st"]
["Alan Taylor","WJ","V50","1st",47,null,"Sarah Berry","WJ","V35","1st"]
["Alex Hardy","WJ","V40","1st",null,null,"Sarah Doe","WJ","V45","1st"]
["Alexander Chappell","WJ","S","1st",16,null,"Sharon Threlfall","WJ","V45","1st"]
["Andrew Biggs","WJ","V40","1st",29,null,"Sue Taylor","WJ","V45","1st"]
["Andrew Colbran","WJ","S","1st",null,null,"Susan Fraser","WJ","S","1st"]
["Andrew Kavanagh","WJ","S","1st",null,null,"Susan Millward","WJ","V45","2nd",5]
["Andrew Mynott","WJ","V40","1st",null,null,"Suzy Bell","WJ","V45","2nd"]
["Andrew Tait","WJ","S","1st",null,null,"Teresa Weedon","WJ","V55","1st"]
["Andy Issitt","WJ","V50","1st",null,null,"Tina Clark","WJ","V35","1st"]
["Ashley Smith","WJ","S","1st",null,null,"Tracy Brennan","WJ","V45","1st",41]
["Bailey Doe","WJ","S","1st",null,null,"Tracy Brewer","WJ","V55","1st"]
["Brian Smith","WJ","V70","2nd",null,null,"Val Stringer","WJ","V65","1st"]
["Chris Haws","WJ","V50","2nd",null,null,"Vibeke Rowe","WJ","V65","1st"]
["Chris Williams","WJ","S","1st",null,null,"Vicky Smith","WJ","V45","1st"]
["Christopher Ganney","WJ","V40","1st",null,null,"Wendy Reddaway","WJ","V55","1st"]
["Clive Smith","WJ","V60","1st",null,null,"Sarah Hopewell","WJ","V35","1st",10]
["Colin Beacon","WJ","V60","1st"]
["Colin Naman","WJ","V70","1st"]
["David Craddock","WJ","S","1st"]
["Garth Morris","WJ","V60","1st",21]
["Iain McMurray","WJ","S","1st",9]
["Jack Oliver","WJ","V40","1st"]
["James Randall","WJ","S","1st"]
["James Reed","WJ","V40","1st"]
["Jamie Higgs","WJ","V40","1st",22]
["Jason Champion","WJ","V40","1st"]
["Jason Mentern","WJ","V50","1st"]
["John Butcher","WJ","V70","2nd"]
["John Hair","WJ","V50","1st"]
["Jon Williams","WJ","V40","1st",20]
["Jonathan Hall","WJ","V40","1st"]
["Kevin Francis","WJ","V40","1st",4]
["Kevin Gournay","WJ","V70","2nd"]
["Kevin Sambridge","WJ","V50","1st"]
["Laurence Joseph Watson","WJ","V70","1st"]
["Lee Hembling","WJ","S","1st"]
["Liam Struwe","WJ","S","1st",8]
["Mark Cyl","WJ","V50","1st"]
["Mark Ford","WJ","S","1st",12]
["Mark Sanz","WJ","V50","1st",36]
["Martin Sillitto","WJ","V60","1st"]
["Matt Brown","WJ","S","1st",6]
["Matt Earl","WJ","V40","1st",50]
["Matthew Crook","WJ","V50","2nd"]
["Matthew Cummings","WJ","V40","2nd"]
["Matthew Stephens","WJ","S","1st"]
["Michael Waddington","WJ","S","1st"]
["Mikey Ramnauth","WJ","V50","1st"]
["Neil Bull","WJ","V40","1st",18]
["Nicholas Egginton","WJ","V40","2nd"]
["Nick Cheal","WJ","V60","1st"]
["Nick Kenyon-Muir","WJ","V50","1st",23]
["Nick Sansom","WJ","V40","1st"]
["Oscar Bell","WJ","S","2nd",1]
["Pascal McManmon","WJ","V60","1st"]
["Paul Brennan","WJ","V50","1st"]
["Paul Cocklin","WJ","V60","1st"]
["Paul Heuvelmans","WJ","V40","1st"]
["Paul Reddaway","WJ","V60","1st"]
["Peter Baker","WJ","V60","1st",46]
["Peter Keats","WJ","V60","1st",61]
["Phil Cunningham","WJ","V70","1st"]
["Phil Hudson","WJ","V60","1st"]
["Richard Coffey","WJ","V50","1st",62]
["Richard Hearne","WJ","V40","1st"]
["Richard van Maanenberg","WJ","V50","1st"]
["Richard Whiting","WJ","V70","2nd"]
["Robert O'Hara","WJ","S","1st"]
["Robert Waddingham","WJ","V60","1st"]
["Roger Partridge","WJ","V60","1st"]
["Roy Stringer","WJ","V70","1st"]
["Russell Cook","WJ","S","1st",55]
["Simon Barker","WJ","V40","1st"]
["Simon Dent","WJ","S","1st"]
["Simon Joyce","WJ","V50","1st",64]
["Stefan Gauntlett","WJ","S","1st",25]
["Stephen Argent","WJ","V60","1st",32]
["Stephen Johnson","WJ","V70","2nd"]
["Stuart Chandler","WJ","V40","1st"]
["Terry Nichols","WJ","V70","1st"]
["Timothy Brignall","WJ","S","1st"]
["Tom Porter","WJ","S","1st",7]
["Tom Quinn","WJ","S","1st"]
["Vincent Riviere","WJ","V40","1st",5]
["W Bloomfield","WJ","V50","1st"]
["Wayne Baxter","WJ","V40","1st"]
["Will Breese","WJ","S","1st"]
["William Caunce","WJ","S","1st",10]
["Ian  Perrins","WJ","S","1st",14]

{"sheet":"Results","index":2,"n_rows":32,"n_cols":15,"rows_kept":32,"cut":false,"hidden":false,"merged":[]}
["T","Mens Score",null,null,null,null,null,null,null,"Mens Score"]
[null,"Club","Race 1","Race 2","Race 3","Race 4","Total",null,null,"Club","Race 1","Race 2","Race 3","Race 4","Total"]
[null,{"$f":"Control!AD3","v":"Ware Joggers"},46,51,57,50,{"$f":"SUM(C3:F3)","v":204},null,null,"Ware Joggers",{"$f":"IF(ISNA(RANK(C3,C$3:C$6)),0,RANK(C3,C$3:C$6))","v":4},4,4,{"$f":"IF(ISNA(RANK(F3,F$3:F$6)),0,RANK(F3,F$3:F$6))","v":4},{"$f":"SUM(K3:N3)","v":16}]
[null,{"$f":"Control!AD4","v":"Bishop's Stortford"},156,254,254,240,{"$f":"SUM(C4:F4)","v":904},null,null,"Bishop's Stortford",{"$f":"IF(ISNA(RANK(C4,C$3:C$6)),0,RANK(C4,C$3:C$6))","v":3},{"$f":"IF(ISNA(RANK(D4,D$3:D$6)),0,RANK(D4,D$3:D$6))","v":1},{"$f":"IF(ISNA(RANK(E4,E$3:E$6)),0,RANK(E4,E$3:E$6))","v":2},{"$f":"IF(ISNA(RANK(F4,F$3:F$6)),0,RANK(F4,F$3:F$6))","v":2},{"$f":"SUM(K4:N4)","v":8}]
[null,{"$f":"Control!AD5","v":"Saffron Striders"},280,183,289,333,{"$f":"SUM(C5:F5)","v":1085},null,null,"Saffron Striders",1,2,1,1,5]
[null,{"$f":"Control!AD6","v":"Harlow Running & Tri Club"},172,133,149,165,{"$f":"SUM(C6:F6)","v":619},null,null,"Harlow Running & Tri Club",2,3,3,3,11]
[null,null,null,816,696,624]
[]
[]
[]
[]
[]
[]
[null,"Ladies Score",null,null,null,null,null,null,null,"Ladies Score"]
[null,"Club","Race 1","Race 2","Race 3","Race 4","Total",null,null,"Club","Race 1","Race 2","Race 3","Race 4","Total"]
[null,{"$f":"Control!AD16","v":"Ware Joggers"},80,100,119,72,{"$f":"SUM(C16:F16)","v":371},null,null,"Ware Joggers",{"$f":"IF(ISNA(RANK(C16,C$16:C$19)),0,RANK(C16,C$16:C$19))","v":4},{"$f":"IF(ISNA(RANK(D16,D$16:D$19)),0,RANK(D16,D$16:D$19))","v":4},3,{"$f":"IF(ISNA(RANK(F16,F$16:F$19)),0,RANK(F16,F$16:F$19))","v":4},{"$f":"SUM(K16:N16)","v":15}]
[null,{"$f":"Control!AD17","v":"Bishop's Stortford"},179,171,82,353,785,null,null,"Bishop's Stortford",{"$f":"IF(ISNA(RANK(C17,C$16:C$19)),0,RANK(C17,C$16:C$19))","v":2},2,4,1,9]
[null,{"$f":"Control!AD18","v":"Saffron Striders"},187,174,241,328,930,null,null,"Saffron Striders",1,1,1,2,5]
[null,{"$f":"Control!AD19","v":"Harlow Running & Tri Club"},123,116,160,99,498,null,null,"Harlow Running & Tri Club",3,3,2,3,11]
[null,null,null,560,520,504]
[]
[]
[]
[]
[]
[]
[null,"Overall Score",null,null,null,null,null,null,null,"Overall Score"]
[null,"Club","Race 1","Race 2","Race 3","Race 4","Total",null,null,"Club","Race 1","Race 2","Race 3","Race 4","Total"]
[null,{"$f":"B16","v":"Ware Joggers"},{"$f":"C3+C16","v":126},151,176,122,{"$f":"SUM(C29:F29)","v":575},null,null,"Ware Joggers",{"$f":"IF(ISNA(RANK(C29,C$29:C$32)),0,RANK(C29,C$29:C$32))","v":4},{"$f":"IF(ISNA(RANK(D29,D$29:D$32)),0,RANK(D29,D$29:D$32))","v":4},4,{"$f":"IF(F29=0,0,RANK(F29,F$29:F$32))","v":4},{"$f":"SUM(K29:N29)","v":16}]
[null,{"$f":"B17","v":"Bishop's Stortford"},335,425,336,593,1689,null,null,"Bishop's Stortford",{"$f":"IF(ISNA(RANK(C30,C$29:C$32)),0,RANK(C30,C$29:C$32))","v":2},{"$f":"IF(ISNA(RANK(D30,D$29:D$32)),0,RANK(D30,D$29:D$32))","v":1},{"$f":"IF(ISNA(RANK(E30,E$29:E$32)),0,RANK(E30,E$29:E$32))","v":2},{"$f":"IF(F30=0,0,RANK(F30,F$29:F$32))","v":2},7]
[null,{"$f":"B18","v":"Saffron Striders"},467,357,530,661,2015,null,null,"Saffron Striders",1,2,1,1,5]
[null,{"$f":"B19","v":"Harlow Running & Tri Club"},295,249,309,264,1117,null,null,"Harlow Running & Tri Club",3,3,3,3,12]

{"sheet":"Scores-Men","index":3,"n_rows":0,"n_cols":0,"rows_kept":0,"cut":false,"hidden":true,"merged":[]}

{"sheet":"Scores-ladies","index":4,"n_rows":0,"n_cols":0,"rows_kept":0,"cut":false,"hidden":true,"merged":[]}

{"sheet":"Individual Series Winners","index":5,"n_rows":13,"n_cols":3,"rows_kept":13,"cut":false,"hidden":false,"merged":[]}
["Mens"]
["Michael Waddington","WJ","S"]
["Andrew Mynott","WJ","V40"]
["Rob Lowe","HRC","V50"]
["Garth Morris","WJ","V60"]
[]
[]
["Ladies"]
["Lucy Barnes","HRC","S"]
["Katy Woodward","WJ","V35"]
["Susan Millward","WJ","V45"]
["Linda Helm-Manley","HRC","V55"]
["Pamela Wilson","WJ","V65"]

{"sheet":"Men Inidividual Series","index":6,"n_rows":500,"n_cols":12,"rows_kept":500,"cut":false,"hidden":false,"merged":[]}
["Name","Club","Age Category","Race 1 Age Category Result","Race 2 Age Category Result","Race 3 Age Category Result","Race 4 Age Category Result","Best 1","Best 2","Best 3","Total Series Score","Rank"]
["Andy Kumar","BS","",{"$f":"IF(ISNA(VLOOKUP($A2,'Race 1-Men'!$G$34:$L$53,6,0)),100,VLOOKUP($A2,'Race 1-Men'!$G$34:$L$53,6,0))","v":100},{"$f":"IF(ISNA(VLOOKUP($A2,'Race 2-Men'!$G$32:$L$53,6,0)),100,VLOOKUP($A2,'Race 2-Men'!$G$32:$L$53,6,0))","v":100},{"$f":"IF(ISNA(VLOOKUP($A2,'Race 3-Men'!$G$40:$L$61,6,0)),100,VLOOKUP($A2,'Race 3-Men'!$G$40:$L$61,6,0))","v":100},{"$f":"IF(ISNA(VLOOKUP($A2,'Race 4-Men'!$G$35:$L$100,6,0)),100,VLOOKUP($A2,'Race 4-Men'!$G$35:$L$100,6,0))","v":100},{"$f":"SMALL(D2:G2,{1,2,3})","v":100},100,100,{"$f":"SUM(H2:J2)","v":300},{"$f":"RANK(K2,$K$2:$K$118,1)","v":34}]
["Callum Ross","BS","",{"$f":"IF(ISNA(VLOOKUP($A3,'Race 1-Men'!$G$34:$L$53,6,0)),100,VLOOKUP($A3,'Race 1-Men'!$G$34:$L$53,6,0))","v":100},{"$f":"IF(ISNA(VLOOKUP($A3,'Race 2-Men'!$G$32:$L$53,6,0)),100,VLOOKUP($A3,'Race 2-Men'!$G$32:$L$53,6,0))","v":100},{"$f":"IF(ISNA(VLOOKUP($A3,'Race 3-Men'!$G$40:$L$61,6,0)),100,VLOOKUP($A3,'Race 3-Men'!$G$40:$L$61,6,0))","v":100},{"$f":"IF(ISNA(VLOOKUP($A3,'Race 4-Men'!$G$35:$L$100,6,0)),100,VLOOKUP($A3,'Race 4-Men'!$G$35:$L$100,6,0))","v":100},{"$f":"SMALL(D3:G3,{1,2,3})","v":100},100,100,{"$f":"SUM(H3:J3)","v":300},{"$f":"RANK(K3,$K$2:$K$118,1)","v":34}]
["Douglas Mathers","BS","",{"$f":"IF(ISNA(VLOOKUP($A4,'Race 1-Men'!$G$34:$L$53,6,0)),100,VLOOKUP($A4,'Race 1-Men'!$G$34:$L$53,6,0))","v":100},{"$f":"IF(ISNA(VLOOKUP($A4,'Race 2-Men'!$G$32:$L$53,6,0)),100,VLOOKUP($A4,'Race 2-Men'!$G$32:$L$53,6,0))","v":100},{"$f":"IF(ISNA(VLOOKUP($A4,'Race 3-Men'!$G$40:$L$61,6,0)),100,VLOOKUP($A4,'Race 3-Men'!$G$40:$L$61,6,0))","v":100},{"$f":"IF(ISNA(VLOOKUP($A4,'Race 4-Men'!$G$35:$L$100,6,0)),100,VLOOKUP($A4,'Race 4-Men'!$G$35:$L$100,6,0))","v":100},{"$f":"SMALL(D4:G4,{1,2,3})","v":100},100,100,300,34]
["James Gurr","BS","",{"$f":"IF(ISNA(VLOOKUP($A5,'Race 1-Men'!$G$34:$L$53,6,0)),100,VLOOKUP($A5,'Race 1-Men'!$G$34:$L$53,6,0))","v":100},{"$f":"IF(ISNA(VLOOKUP($A5,'Race 2-Men'!$G$32:$L$53,6,0)),100,VLOOKUP($A5,'Race 2-Men'!$G$32:$L$53,6,0))","v":100},{"$f":"IF(ISNA(VLOOKUP($A5,'Race 3-Men'!$G$40:$L$61,6,0)),100,VLOOKUP($A5,'Race 3-Men'!$G$40:$L$61,6,0))","v":100},{"$f":"IF(ISNA(VLOOKUP($A5,'Race 4-Men'!$G$35:$L$100,6,0)),100,VLOOKUP($A5,'Race 4-Men'!$G$35:$L$100,6,0))","v":100},{"$f":"SMALL(D5:G5,{1,2,3})","v":100},100,100,300,34]
["Marcus Collings","BS","",{"$f":"IF(ISNA(VLOOKUP($A6,'Race 1-Men'!$G$34:$L$53,6,0)),100,VLOOKUP($A6,'Race 1-Men'!$G$34:$L$53,6,0))","v":100},{"$f":"IF(ISNA(VLOOKUP($A6,'Race 2-Men'!$G$32:$L$53,6,0)),100,VLOOKUP($A6,'Race 2-Men'!$G$32:$L$53,6,0))","v":100},{"$f":"IF(ISNA(VLOOKUP($A6,'Race 3-Men'!$G$40:$L$61,6,0)),100,VLOOKUP($A6,'Race 3-Men'!$G$40:$L$61,6,0))","v":100},{"$f":"IF(ISNA(VLOOKUP($A6,'Race 4-Men'!$G$35:$L$100,6,0)),100,VLOOKUP($A6,'Race 4-Men'!$G$35:$L$100,6,0))","v":100},{"$f":"SMALL(D6:G6,{1,2,3})","v":100},100,100,300,34]
["Peter Winfield","BS","",{"$f":"IF(ISNA(VLOOKUP($A7,'Race 1-Men'!$G$34:$L$53,6,0)),100,VLOOKUP($A7,'Race 1-Men'!$G$34:$L$53,6,0))","v":100},{"$f":"IF(ISNA(VLOOKUP($A7,'Race 2-Men'!$G$32:$L$53,6,0)),100,VLOOKUP($A7,'Race 2-Men'!$G$32:$L$53,6,0))","v":100},{"$f":"IF(ISNA(VLOOKUP($A7,'Race 3-Men'!$G$40:$L$61,6,0)),100,VLOOKUP($A7,'Race 3-Men'!$G$40:$L$61,6,0))","v":100},{"$f":"IF(ISNA(VLOOKUP($A7,'Race 4-Men'!$G$35:$L$100,6,0)),100,VLOOKUP($A7,'Race 4-Men'!$G$35:$L$100,6,0))","v":100},{"$f":"SMALL(D7:G7,{1,2,3})","v":100},100,100,300,34]
["Quentin Downes","BS","",{"$f":"IF(ISNA(VLOOKUP($A8,'Race 1-Men'!$G$34:$L$53,6,0)),100,VLOOKUP($A8,'Race 1-Men'!$G$34:$L$53,6,0))","v":100},{"$f":"IF(ISNA(VLOOKUP($A8,'Race 2-Men'!$G$32:$L$53,6,0)),100,VLOOKUP($A8,'Race 2-Men'!$G$32:$L$53,6,0))","v":100},{"$f":"IF(ISNA(VLOOKUP($A8,'Race 3-Men'!$G$40:$L$61,6,0)),100,VLOOKUP($A8,'Race 3-Men'!$G$40:$L$61,6,0))","v":100},{"$f":"IF(ISNA(VLOOKUP($A8,'Race 4-Men'!$G$35:$L$100,6,0)),100,VLOOKUP($A8,'Race 4-Men'!$G$35:$L$100,6,0))","v":100},{"$f":"SMALL(D8:G8,{1,2,3})","v":100},100,100,300,34]
["Samuel Brennan","BS","",{"$f":"IF(ISNA(VLOOKUP($A9,'Race 1-Men'!$G$34:$L$53,6,0)),100,VLOOKUP($A9,'Race 1-Men'!$G$34:$L$53,6,0))","v":100},{"$f":"IF(ISNA(VLOOKUP($A9,'Race 2-Men'!$G$32:$L$53,6,0)),100,VLOOKUP($A9,'Race 2-Men'!$G$32:$L$53,6,0))","v":100},{"$f":"IF(ISNA(VLOOKUP($A9,'Race 3-Men'!$G$40:$L$61,6,0)),100,VLOOKUP($A9,'Race 3-Men'!$G$40:$L$61,6,0))","v":100},{"$f":"IF(ISNA(VLOOKUP($A9,'Race 4-Men'!$G$35:$L$100,6,0)),100,VLOOKUP($A9,'Race 4-Men'!$G$35:$L$100,6,0))","v":100},{"$f":"SMALL(D9:G9,{1,2,3})","v":100},100,100,300,34]
["Stephen Chimunye","BS","",{"$f":"IF(ISNA(VLOOKUP($A10,'Race 1-Men'!$G$34:$L$53,6,0)),100,VLOOKUP($A10,'Race 1-Men'!$G$34:$L$53,6,0))","v":100},{"$f":"IF(ISNA(VLOOKUP($A10,'Race 2-Men'!$G$32:$L$53,6,0)),100,VLOOKUP($A10,'Race 2-Men'!$G$32:$L$53,6,0))","v":100},{"$f":"IF(ISNA(VLOOKUP($A10,'Race 3-Men'!$G$40:$L$61,6,0)),100,VLOOKUP($A10,'Race 3-Men'!$G$40:$L$61,6,0))","v":100},{"$f":"IF(ISNA(VLOOKUP($A10,'Race 4-Men'!$G$35:$L$100,6,0)),100,VLOOKUP($A10,'Race 4-Men'!$G$35:$L$100,6,0))","v":100},{"$f":"SMALL(D10:G10,{1,2,3})","v":100},100,100,300,34]
["Adam Beaumont","BS","S",{"$f":"IF(ISNA(VLOOKUP($A11,'Race 1-Men'!$G$34:$L$53,6,0)),100,VLOOKUP($A11,'Race 1-Men'!$G$34:$L$53,6,0))","v":100},{"$f":"IF(ISNA(VLOOKUP($A11,'Race 2-Men'!$G$32:$L$53,6,0)),100,VLOOKUP($A11,'Race 2-Men'!$G$32:$L$53,6,0))","v":100},{"$f":"IF(ISNA(VLOOKUP($A11,'Race 3-Men'!$G$40:$L$61,6,0)),100,VLOOKUP($A11,'Race 3-Men'!$G$40:$L$61,6,0))","v":100},{"$f":"IF(ISNA(VLOOKUP($A11,'Race 4-Men'!$G$35:$L$100,6,0)),100,VLOOKUP($A11,'Race 4-Men'!$G$35:$L$100,6,0))","v":100},{"$f":"SMALL(D11:G11,{1,2,3})","v":100},100,100,300,34]
["Adam Galloway","HRC","S",{"$f":"IF(ISNA(VLOOKUP($A12,'Race 1-Men'!$G$34:$L$53,6,0)),100,VLOOKUP($A12,'Race 1-Men'!$G$34:$L$53,6,0))","v":100},{"$f":"IF(ISNA(VLOOKUP($A12,'Race 2-Men'!$G$32:$L$53,6,0)),100,VLOOKUP($A12,'Race 2-Men'!$G$32:$L$53,6,0))","v":100},{"$f":"IF(ISNA(VLOOKUP($A12,'Race 3-Men'!$G$40:$L$61,6,0)),100,VLOOKUP($A12,'Race 3-Men'!$G$40:$L$61,6,0))","v":100},{"$f":"IF(ISNA(VLOOKUP($A12,'Race 4-Men'!$G$35:$L$100,6,0)),100,VLOOKUP($A12,'Race 4-Men'!$G$35:$L$100,6,0))","v":100},{"$f":"SMALL(D12:G12,{1,2,3})","v":100},100,100,300,34]
["Adam Watson","WJ","S",{"$f":"IF(ISNA(VLOOKUP($A13,'Race 1-Men'!$G$34:$L$53,6,0)),100,VLOOKUP($A13,'Race 1-Men'!$G$34:$L$53,6,0))","v":12},{"$f":"IF(ISNA(VLOOKUP($A13,'Race 2-Men'!$G$32:$L$53,6,0)),100,VLOOKUP($A13,'Race 2-Men'!$G$32:$L$53,6,0))","v":100},{"$f":"IF(ISNA(VLOOKUP($A13,'Race 3-Men'!$G$40:$L$61,6,0)),100,VLOOKUP($A13,'Race 3-Men'!$G$40:$L$61,6,0))","v":16},{"$f":"IF(ISNA(VLOOKUP($A13,'Race 4-Men'!$G$35:$L$100,6,0)),100,VLOOKUP($A13,'Race 4-Men'!$G$35:$L$100,6,0))","v":14},{"$f":"SMALL(D13:G13,{1,2,3})","v":12},14,16,42,12]
["Alan Chatterton","HRC","S",{"$f":"IF(ISNA(VLOOKUP($A14,'Race 1-Men'!$G$34:$L$53,6,0)),100,VLOOKUP($A14,'Race 1-Men'!$G$34:$L$53,6,0))","v":100},{"$f":"IF(ISNA(VLOOKUP($A14,'Race 2-Men'!$G$32:$L$53,6,0)),100,VLOOKUP($A14,'Race 2-Men'!$G$32:$L$53,6,0))","v":100},{"$f":"IF(ISNA(VLOOKUP($A14,'Race 3-Men'!$G$40:$L$61,6,0)),100,VLOOKUP($A14,'Race 3-Men'!$G$40:$L$61,6,0))","v":100},{"$f":"IF(ISNA(VLOOKUP($A14,'Race 4-Men'!$G$35:$L$100,6,0)),100,VLOOKUP($A14,'Race 4-Men'!$G$35:$L$100,6,0))","v":100},{"$f":"SMALL(D14:G14,{1,2,3})","v":100},100,100,300,34]
["Alex Smith","SS","S",{"$f":"IF(ISNA(VLOOKUP($A15,'Race 1-Men'!$G$34:$L$53,6,0)),100,VLOOKUP($A15,'Race 1-Men'!$G$34:$L$53,6,0))","v":100},{"$f":"IF(ISNA(VLOOKUP($A15,'Race 2-Men'!$G$32:$L$53,6,0)),100,VLOOKUP($A15,'Race 2-Men'!$G$32:$L$53,6,0))","v":100},{"$f":"IF(ISNA(VLOOKUP($A15,'Race 3-Men'!$G$40:$L$61,6,0)),100,VLOOKUP($A15,'Race 3-Men'!$G$40:$L$61,6,0))","v":100},{"$f":"IF(ISNA(VLOOKUP($A15,'Race 4-Men'!$G$35:$L$100,6,0)),100,VLOOKUP($A15,'Race 4-Men'!$G$35:$L$100,6,0))","v":100},{"$f":"SMALL(D15:G15,{1,2,3})","v":100},100,100,300,34]
["Alexander Chappell","WJ","S",{"$f":"IF(ISNA(VLOOKUP($A16,'Race 1-Men'!$G$34:$L$53,6,0)),100,VLOOKUP($A16,'Race 1-Men'!$G$34:$L$53,6,0))","v":15},{"$f":"IF(ISNA(VLOOKUP($A16,'Race 2-Men'!$G$32:$L$53,6,0)),100,VLOOKUP($A16,'Race 2-Men'!$G$32:$L$53,6,0))","v":100},{"$f":"IF(ISNA(VLOOKUP($A16,'Race 3-Men'!$G$40:$L$61,6,0)),100,VLOOKUP($A16,'Race 3-Men'!$G$40:$L$61,6,0))","v":13},{"$f":"IF(ISNA(VLOOKUP($A16,'Race 4-Men'!$G$35:$L$100,6,0)),100,VLOOKUP($A16,'Race 4-Men'!$G$35:$L$100,6,0))","v":12},{"$f":"SMALL(D16:G16,{1,2,3})","v":12},13,15,40,11]
["Amit Davda","SS","S",{"$f":"IF(ISNA(VLOOKUP($A17,'Race 1-Men'!$G$34:$L$53,6,0)),100,VLOOKUP($A17,'Race 1-Men'!$G$34:$L$53,6,0))","v":100},{"$f":"IF(ISNA(VLOOKUP($A17,'Race 2-Men'!$G$32:$L$53,6,0)),100,VLOOKUP($A17,'Race 2-Men'!$G$32:$L$53,6,0))","v":20},{"$f":"IF(ISNA(VLOOKUP($A17,'Race 3-Men'!$G$40:$L$61,6,0)),100,VLOOKUP($A17,'Race 3-Men'!$G$40:$L$61,6,0))","v":100},{"$f":"IF(ISNA(VLOOKUP($A17,'Race 4-Men'!$G$35:$L$100,6,0)),100,VLOOKUP($A17,'Race 4-Men'!$G$35:$L$100,6,0))","v":100},{"$f":"SMALL(D17:G17,{1,2,3})","v":20},100,100,220,33]
["Andrew Colbran","WJ","S",{"$f":"IF(ISNA(VLOOKUP($A18,'Race 1-Men'!$G$34:$L$53,6,0)),100,VLOOKUP($A18,'Race 1-Men'!$G$34:$L$53,6,0))","v":100},{"$f":"IF(ISNA(VLOOKUP($A18,'Race 2-Men'!$G$32:$L$53,6,0)),100,VLOOKUP($A18,'Race 2-Men'!$G$32:$L$53,6,0))","v":100},{"$f":"IF(ISNA(VLOOKUP($A18,'Race 3-Men'!$G$40:$L$61,6,0)),100,VLOOKUP($A18,'Race 3-Men'!$G$40:$L$61,6,0))","v":100},{"$f":"IF(ISNA(VLOOKUP($A18,'Race 4-Men'!$G$35:$L$100,6,0)),100,VLOOKUP($A18,'Race 4-Men'!$G$35:$L$100,6,0))","v":100},{"$f":"SMALL(D18:G18,{1,2,3})","v":100},100,100,300,34]
["Andrew Farmery","BS","S",{"$f":"IF(ISNA(VLOOKUP($A19,'Race 1-Men'!$G$34:$L$53,6,0)),100,VLOOKUP($A19,'Race 1-Men'!$G$34:$L$53,6,0))","v":100},{"$f":"IF(ISNA(VLOOKUP($A19,'Race 2-Men'!$G$32:$L$53,6,0)),100,VLOOKUP($A19,'Race 2-Men'!$G$32:$L$53,6,0))","v":100},{"$f":"IF(ISNA(VLOOKUP($A19,'Race 3-Men'!$G$40:$L$61,6,0)),100,VLOOKUP($A19,'Race 3-Men'!$G$40:$L$61,6,0))","v":100},{"$f":"IF(ISNA(VLOOKUP($A19,'Race 4-Men'!$G$35:$L$100,6,0)),100,VLOOKUP($A19,'Race 4-Men'!$G$35:$L$100,6,0))","v":100},{"$f":"SMALL(D19:G19,{1,2,3})","v":100},100,100,300,34]
["Andrew Jacklin","SS","S",{"$f":"IF(ISNA(VLOOKUP($A20,'Race 1-Men'!$G$34:$L$53,6,0)),100,VLOOKUP($A20,'Race 1-Men'!$G$34:$L$53,6,0))","v":100},{"$f":"IF(ISNA(VLOOKUP($A20,'Race 2-Men'!$G$32:$L$53,6,0)),100,VLOOKUP($A20,'Race 2-Men'!$G$32:$L$53,6,0))","v":100},{"$f":"IF(ISNA(VLOOKUP($A20,'Race 3-Men'!$G$40:$L$61,6,0)),100,VLOOKUP($A20,'Race 3-Men'!$G$40:$L$61,6,0))","v":100},{"$f":"IF(ISNA(VLOOKUP($A20,'Race 4-Men'!$G$35:$L$100,6,0)),100,VLOOKUP($A20,'Race 4-Men'!$G$35:$L$100,6,0))","v":100},{"$f":"SMALL(D20:G20,{1,2,3})","v":100},100,100,300,34]
["Andrew Kavanagh","WJ","S",{"$f":"IF(ISNA(VLOOKUP($A21,'Race 1-Men'!$G$34:$L$53,6,0)),100,VLOOKUP($A21,'Race 1-Men'!$G$34:$L$53,6,0))","v":14},{"$f":"IF(ISNA(VLOOKUP($A21,'Race 2-Men'!$G$32:$L$53,6,0)),100,VLOOKUP($A21,'Race 2-Men'!$G$32:$L$53,6,0))","v":100},{"$f":"IF(ISNA(VLOOKUP($A21,'Race 3-Men'!$G$40:$L$61,6,0)),100,VLOOKUP($A21,'Race 3-Men'!$G$40:$L$61,6,0))","v":15},{"$f":"IF(ISNA(VLOOKUP($A21,'Race 4-Men'!$G$35:$L$100,6,0)),100,VLOOKUP($A21,'Race 4-Men'!$G$35:$L$100,6,0))","v":100},{"$f":"SMALL(D21:G21,{1,2,3})","v":14},15,100,129,21]
["Andrew Tait","WJ","S",{"$f":"IF(ISNA(VLOOKUP($A22,'Race 1-Men'!$G$34:$L$53,6,0)),100,VLOOKUP($A22,'Race 1-Men'!$G$34:$L$53,6,0))","v":100},{"$f":"IF(ISNA(VLOOKUP($A22,'Race 2-Men'!$G$32:$L$53,6,0)),100,VLOOKUP($A22,'Race 2-Men'!$G$32:$L$53,6,0))","v":100},{"$f":"IF(ISNA(VLOOKUP($A22,'Race 3-Men'!$G$40:$L$61,6,0)),100,VLOOKUP($A22,'Race 3-Men'!$G$40:$L$61,6,0))","v":100},{"$f":"IF(ISNA(VLOOKUP($A22,'Race 4-Men'!$G$35:$L$100,6,0)),100,VLOOKUP($A22,'Race 4-Men'!$G$35:$L$100,6,0))","v":100},{"$f":"SMALL(D22:G22,{1,2,3})","v":100},100,100,300,34]
["Archie Gilbey","BS","S",{"$f":"IF(ISNA(VLOOKUP($A23,'Race 1-Men'!$G$34:$L$53,6,0)),100,VLOOKUP($A23,'Race 1-Men'!$G$34:$L$53,6,0))","v":100},{"$f":"IF(ISNA(VLOOKUP($A23,'Race 2-Men'!$G$32:$L$53,6,0)),100,VLOOKUP($A23,'Race 2-Men'!$G$32:$L$53,6,0))","v":100},{"$f":"IF(ISNA(VLOOKUP($A23,'Race 3-Men'!$G$40:$L$61,6,0)),100,VLOOKUP($A23,'Race 3-Men'!$G$40:$L$61,6,0))","v":100},{"$f":"IF(ISNA(VLOOKUP($A23,'Race 4-Men'!$G$35:$L$100,6,0)),100,VLOOKUP($A23,'Race 4-Men'!$G$35:$L$100,6,0))","v":100},{"$f":"SMALL(D23:G23,{1,2,3})","v":100},100,100,300,34]
["Ashish Tiwari","BS","S",{"$f":"IF(ISNA(VLOOKUP($A24,'Race 1-Men'!$G$34:$L$53,6,0)),100,VLOOKUP($A24,'Race 1-Men'!$G$34:$L$53,6,0))","v":100},{"$f":"IF(ISNA(VLOOKUP($A24,'Race 2-Men'!$G$32:$L$53,6,0)),100,VLOOKUP($A24,'Race 2-Men'!$G$32:$L$53,6,0))","v":100},{"$f":"IF(ISNA(VLOOKUP($A24,'Race 3-Men'!$G$40:$L$61,6,0)),100,VLOOKUP($A24,'Race 3-Men'!$G$40:$L$61,6,0))","v":100},{"$f":"IF(ISNA(VLOOKUP($A24,'Race 4-Men'!$G$35:$L$100,6,0)),100,VLOOKUP($A24,'Race 4-Men'!$G$35:$L$100,6,0))","v":100},{"$f":"SMALL(D24:G24,{1,2,3})","v":100},100,100,300,34]
["Ashley Smith","WJ","S",{"$f":"IF(ISNA(VLOOKUP($A25,'Race 1-Men'!$G$34:$L$53,6,0)),100,VLOOKUP($A25,'Race 1-Men'!$G$34:$L$53,6,0))","v":100},{"$f":"IF(ISNA(VLOOKUP($A25,'Race 2-Men'!$G$32:$L$53,6,0)),100,VLOOKUP($A25,'Race 2-Men'!$G$32:$L$53,6,0))","v":100},{"$f":"IF(ISNA(VLOOKUP($A25,'Race 3-Men'!$G$40:$L$61,6,0)),100,VLOOKUP($A25,'Race 3-Men'!$G$40:$L$61,6,0))","v":100},{"$f":"IF(ISNA(VLOOKUP($A25,'Race 4-Men'!$G$35:$L$100,6,0)),100,VLOOKUP($A25,'Race 4-Men'!$G$35:$L$100,6,0))","v":100},{"$f":"SMALL(D25:G25,{1,2,3})","v":100},100,100,300,34]
["Bailey Doe","WJ","S",{"$f":"IF(ISNA(VLOOKUP($A26,'Race 1-Men'!$G$34:$L$53,6,0)),100,VLOOKUP($A26,'Race 1-Men'!$G$34:$L$53,6,0))","v":100},{"$f":"IF(ISNA(VLOOKUP($A26,'Race 2-Men'!$G$32:$L$53,6,0)),100,VLOOKUP($A26,'Race 2-Men'!$G$32:$L$53,6,0))","v":100},{"$f":"IF(ISNA(VLOOKUP($A26,'Race 3-Men'!$G$40:$L$61,6,0)),100,VLOOKUP($A26,'Race 3-Men'!$G$40:$L$61,6,0))","v":100},{"$f":"IF(ISNA(VLOOKUP($A26,'Race 4-Men'!$G$35:$L$100,6,0)),100,VLOOKUP($A26,'Race 4-Men'!$G$35:$L$100,6,0))","v":100},{"$f":"SMALL(D26:G26,{1,2,3})","v":100},100,100,300,34]
["Ben Wright","SS","S",{"$f":"IF(ISNA(VLOOKUP($A27,'Race 1-Men'!$G$34:$L$53,6,0)),100,VLOOKUP($A27,'Race 1-Men'!$G$34:$L$53,6,0))","v":100},{"$f":"IF(ISNA(VLOOKUP($A27,'Race 2-Men'!$G$32:$L$53,6,0)),100,VLOOKUP($A27,'Race 2-Men'!$G$32:$L$53,6,0))","v":100},{"$f":"IF(ISNA(VLOOKUP($A27,'Race 3-Men'!$G$40:$L$61,6,0)),100,VLOOKUP($A27,'Race 3-Men'!$G$40:$L$61,6,0))","v":100},{"$f":"IF(ISNA(VLOOKUP($A27,'Race 4-Men'!$G$35:$L$100,6,0)),100,VLOOKUP($A27,'Race 4-Men'!$G$35:$L$100,6,0))","v":100},{"$f":"SMALL(D27:G27,{1,2,3})","v":100},100,100,300,34]
["Benjamin Usher","HRC","S",{"$f":"IF(ISNA(VLOOKUP($A28,'Race 1-Men'!$G$34:$L$53,6,0)),100,VLOOKUP($A28,'Race 1-Men'!$G$34:$L$53,6,0))","v":16},{"$f":"IF(ISNA(VLOOKUP($A28,'Race 2-Men'!$G$32:$L$53,6,0)),100,VLOOKUP($A28,'Race 2-Men'!$G$32:$L$53,6,0))","v":100},{"$f":"IF(ISNA(VLOOKUP($A28,'Race 3-Men'!$G$40:$L$61,6,0)),100,VLOOKUP($A28,'Race 3-Men'!$G$40:$L$61,6,0))","v":100},{"$f":"IF(ISNA(VLOOKUP($A28,'Race 4-Men'!$G$35:$L$100,6,0)),100,VLOOKUP($A28,'Race 4-Men'!$G$35:$L$100,6,0))","v":13},{"$f":"SMALL(D28:G28,{1,2,3})","v":13},16,100,129,21]
["Bradley Holmes","HRC","S",{"$f":"IF(ISNA(VLOOKUP($A29,'Race 1-Men'!$G$34:$L$53,6,0)),100,VLOOKUP($A29,'Race 1-Men'!$G$34:$L$53,6,0))","v":100},{"$f":"IF(ISNA(VLOOKUP($A29,'Race 2-Men'!$G$32:$L$53,6,0)),100,VLOOKUP($A29,'Race 2-Men'!$G$32:$L$53,6,0))","v":100},{"$f":"IF(ISNA(VLOOKUP($A29,'Race 3-Men'!$G$40:$L$61,6,0)),100,VLOOKUP($A29,'Race 3-Men'!$G$40:$L$61,6,0))","v":100},{"$f":"IF(ISNA(VLOOKUP($A29,'Race 4-Men'!$G$35:$L$100,6,0)),100,VLOOKUP($A29,'Race 4-Men'!$G$35:$L$100,6,0))","v":100},{"$f":"SMALL(D29:G29,{1,2,3})","v":100},100,100,300,34]
["Bradley Power","HRC","S",{"$f":"IF(ISNA(VLOOKUP($A30,'Race 1-Men'!$G$34:$L$53,6,0)),100,VLOOKUP($A30,'Race 1-Men'!$G$34:$L$53,6,0))","v":100},{"$f":"IF(ISNA(VLOOKUP($A30,'Race 2-Men'!$G$32:$L$53,6,0)),100,VLOOKUP($A30,'Race 2-Men'!$G$32:$L$53,6,0))","v":100},{"$f":"IF(ISNA(VLOOKUP($A30,'Race 3-Men'!$G$40:$L$61,6,0)),100,VLOOKUP($A30,'Race 3-Men'!$G$40:$L$61,6,0))","v":100},{"$f":"IF(ISNA(VLOOKUP($A30,'Race 4-Men'!$G$35:$L$100,6,0)),100,VLOOKUP($A30,'Race 4-Men'!$G$35:$L$100,6,0))","v":100},{"$f":"SMALL(D30:G30,{1,2,3})","v":100},100,100,300,34]
["Chris Mella","HRC","S",{"$f":"IF(ISNA(VLOOKUP($A31,'Race 1-Men'!$G$34:$L$53,6,0)),100,VLOOKUP($A31,'Race 1-Men'!$G$34:$L$53,6,0))","v":18},{"$f":"IF(ISNA(VLOOKUP($A31,'Race 2-Men'!$G$32:$L$53,6,0)),100,VLOOKUP($A31,'Race 2-Men'!$G$32:$L$53,6,0))","v":11},{"$f":"IF(ISNA(VLOOKUP($A31,'Race 3-Men'!$G$40:$L$61,6,0)),100,VLOOKUP($A31,'Race 3-Men'!$G$40:$L$61,6,0))","v":18},{"$f":"IF(ISNA(VLOOKUP($A31,'Race 4-Men'!$G$35:$L$100,6,0)),100,VLOOKUP($A31,'Race 4-Men'!$G$35:$L$100,6,0))","v":19},{"$f":"SMALL(D31:G31,{1,2,3})","v":11},18,18,47,13]
["Chris O'Donovan","SS","S",{"$f":"IF(ISNA(VLOOKUP($A32,'Race 1-Men'!$G$34:$L$53,6,0)),100,VLOOKUP($A32,'Race 1-Men'!$G$34:$L$53,6,0))","v":10},{"$f":"IF(ISNA(VLOOKUP($A32,'Race 2-Men'!$G$32:$L$53,6,0)),100,VLOOKUP($A32,'Race 2-Men'!$G$32:$L$53,6,0))","v":21},{"$f":"IF(ISNA(VLOOKUP($A32,'Race 3-Men'!$G$40:$L$61,6,0)),100,VLOOKUP($A32,'Race 3-Men'!$G$40:$L$61,6,0))","v":100},{"$f":"IF(ISNA(VLOOKUP($A32,'Race 4-Men'!$G$35:$L$100,6,0)),100,VLOOKUP($A32,'Race 4-Men'!$G$35:$L$100,6,0))","v":100},{"$f":"SMALL(D32:G32,{1,2,3})","v":10},21,100,131,23]
["Chris Shucksmith","SS","S",{"$f":"IF(ISNA(VLOOKUP($A33,'Race 1-Men'!$G$34:$L$53,6,0)),100,VLOOKUP($A33,'Race 1-Men'!$G$34:$L$53,6,0))","v":100},{"$f":"IF(ISNA(VLOOKUP($A33,'Race 2-Men'!$G$32:$L$53,6,0)),100,VLOOKUP($A33,'Race 2-Men'!$G$32:$L$53,6,0))","v":100},{"$f":"IF(ISNA(VLOOKUP($A33,'Race 3-Men'!$G$40:$L$61,6,0)),100,VLOOKUP($A33,'Race 3-Men'!$G$40:$L$61,6,0))","v":100},{"$f":"IF(ISNA(VLOOKUP($A33,'Race 4-Men'!$G$35:$L$100,6,0)),100,VLOOKUP($A33,'Race 4-Men'!$G$35:$L$100,6,0))","v":100},{"$f":"SMALL(D33:G33,{1,2,3})","v":100},100,100,300,34]
["Christian Golebiowski","HRC","S",{"$f":"IF(ISNA(VLOOKUP($A34,'Race 1-Men'!$G$34:$L$53,6,0)),100,VLOOKUP($A34,'Race 1-Men'!$G$34:$L$53,6,0))","v":100},{"$f":"IF(ISNA(VLOOKUP($A34,'Race 2-Men'!$G$32:$L$53,6,0)),100,VLOOKUP($A34,'Race 2-Men'!$G$32:$L$53,6,0))","v":100},{"$f":"IF(ISNA(VLOOKUP($A34,'Race 3-Men'!$G$40:$L$61,6,0)),100,VLOOKUP($A34,'Race 3-Men'!$G$40:$L$61,6,0))","v":100},{"$f":"IF(ISNA(VLOOKUP($A34,'Race 4-Men'!$G$35:$L$100,6,0)),100,VLOOKUP($A34,'Race 4-Men'!$G$35:$L$100,6,0))","v":100},{"$f":"SMALL(D34:G34,{1,2,3})","v":100},100,100,300,34]
["Chun Hei Alvin Cheng","BS","S",{"$f":"IF(ISNA(VLOOKUP($A35,'Race 1-Men'!$G$34:$L$53,6,0)),100,VLOOKUP($A35,'Race 1-Men'!$G$34:$L$53,6,0))","v":100},{"$f":"IF(ISNA(VLOOKUP($A35,'Race 2-Men'!$G$32:$L$53,6,0)),100,VLOOKUP($A35,'Race 2-Men'!$G$32:$L$53,6,0))","v":100},{"$f":"IF(ISNA(VLOOKUP($A35,'Race 3-Men'!$G$40:$L$61,6,0)),100,VLOOKUP($A35,'Race 3-Men'!$G$40:$L$61,6,0))","v":100},{"$f":"IF(ISNA(VLOOKUP($A35,'Race 4-Men'!$G$35:$L$100,6,0)),100,VLOOKUP($A35,'Race 4-Men'!$G$35:$L$100,6,0))","v":100},{"$f":"SMALL(D35:G35,{1,2,3})","v":100},100,100,300,34]
["Colin Langbridge","HRC","S",{"$f":"IF(ISNA(VLOOKUP($A36,'Race 1-Men'!$G$34:$L$53,6,0)),100,VLOOKUP($A36,'Race 1-Men'!$G$34:$L$53,6,0))","v":100},{"$f":"IF(ISNA(VLOOKUP($A36,'Race 2-Men'!$G$32:$L$53,6,0)),100,VLOOKUP($A36,'Race 2-Men'!$G$32:$L$53,6,0))","v":100},{"$f":"IF(ISNA(VLOOKUP($A36,'Race 3-Men'!$G$40:$L$61,6,0)),100,VLOOKUP($A36,'Race 3-Men'!$G$40:$L$61,6,0))","v":100},{"$f":"IF(ISNA(VLOOKUP($A36,'Race 4-Men'!$G$35:$L$100,6,0)),100,VLOOKUP($A36,'Race 4-Men'!$G$35:$L$100,6,0))","v":100},{"$f":"SMALL(D36:G36,{1,2,3})","v":100},100,100,300,34]
["Connor Mak","BS","S",{"$f":"IF(ISNA(VLOOKUP($A37,'Race 1-Men'!$G$34:$L$53,6,0)),100,VLOOKUP($A37,'Race 1-Men'!$G$34:$L$53,6,0))","v":100},{"$f":"IF(ISNA(VLOOKUP($A37,'Race 2-Men'!$G$32:$L$53,6,0)),100,VLOOKUP($A37,'Race 2-Men'!$G$32:$L$53,6,0))","v":100},{"$f":"IF(ISNA(VLOOKUP($A37,'Race 3-Men'!$G$40:$L$61,6,0)),100,VLOOKUP($A37,'Race 3-Men'!$G$40:$L$61,6,0))","v":100},{"$f":"IF(ISNA(VLOOKUP($A37,'Race 4-Men'!$G$35:$L$100,6,0)),100,VLOOKUP($A37,'Race 4-Men'!$G$35:$L$100,6,0))","v":100},{"$f":"SMALL(D37:G37,{1,2,3})","v":100},100,100,300,34]
["Craig Segal","HRC","S",{"$f":"IF(ISNA(VLOOKUP($A38,'Race 1-Men'!$G$34:$L$53,6,0)),100,VLOOKUP($A38,'Race 1-Men'!$G$34:$L$53,6,0))","v":100},{"$f":"IF(ISNA(VLOOKUP($A38,'Race 2-Men'!$G$32:$L$53,6,0)),100,VLOOKUP($A38,'Race 2-Men'!$G$32:$L$53,6,0))","v":100},{"$f":"IF(ISNA(VLOOKUP($A38,'Race 3-Men'!$G$40:$L$61,6,0)),100,VLOOKUP($A38,'Race 3-Men'!$G$40:$L$61,6,0))","v":100},{"$f":"IF(ISNA(VLOOKUP($A38,'Race 4-Men'!$G$35:$L$100,6,0)),100,VLOOKUP($A38,'Race 4-Men'!$G$35:$L$100,6,0))","v":100},{"$f":"SMALL(D38:G38,{1,2,3})","v":100},100,100,300,34]
["Dan Palmer","BS","S",{"$f":"IF(ISNA(VLOOKUP($A39,'Race 1-Men'!$G$34:$L$53,6,0)),100,VLOOKUP($A39,'Race 1-Men'!$G$34:$L$53,6,0))","v":100},{"$f":"IF(ISNA(VLOOKUP($A39,'Race 2-Men'!$G$32:$L$53,6,0)),100,VLOOKUP($A39,'Race 2-Men'!$G$32:$L$53,6,0))","v":100},{"$f":"IF(ISNA(VLOOKUP($A39,'Race 3-Men'!$G$40:$L$61,6,0)),100,VLOOKUP($A39,'Race 3-Men'!$G$40:$L$61,6,0))","v":100},{"$f":"IF(ISNA(VLOOKUP($A39,'Race 4-Men'!$G$35:$L$100,6,0)),100,VLOOKUP($A39,'Race 4-Men'!$G$35:$L$100,6,0))","v":100},{"$f":"SMALL(D39:G39,{1,2,3})","v":100},100,100,300,34]
["David Craddock","WJ","S",{"$f":"IF(ISNA(VLOOKUP($A40,'Race 1-Men'!$G$34:$L$53,6,0)),100,VLOOKUP($A40,'Race 1-Men'!$G$34:$L$53,6,0))","v":100},{"$f":"IF(ISNA(VLOOKUP($A40,'Race 2-Men'!$G$32:$L$53,6,0)),100,VLOOKUP($A40,'Race 2-Men'!$G$32:$L$53,6,0))","v":100},{"$f":"IF(ISNA(VLOOKUP($A40,'Race 3-Men'!$G$40:$L$61,6,0)),100,VLOOKUP($A40,'Race 3-Men'!$G$40:$L$61,6,0))","v":100},{"$f":"IF(ISNA(VLOOKUP($A40,'Race 4-Men'!$G$35:$L$100,6,0)),100,VLOOKUP($A40,'Race 4-Men'!$G$35:$L$100,6,0))","v":100},{"$f":"SMALL(D40:G40,{1,2,3})","v":100},100,100,300,34]
["Dawid Szulc","BS","S",{"$f":"IF(ISNA(VLOOKUP($A41,'Race 1-Men'!$G$34:$L$53,6,0)),100,VLOOKUP($A41,'Race 1-Men'!$G$34:$L$53,6,0))","v":100},{"$f":"IF(ISNA(VLOOKUP($A41,'Race 2-Men'!$G$32:$L$53,6,0)),100,VLOOKUP($A41,'Race 2-Men'!$G$32:$L$53,6,0))","v":100},{"$f":"IF(ISNA(VLOOKUP($A41,'Race 3-Men'!$G$40:$L$61,6,0)),100,VLOOKUP($A41,'Race 3-Men'!$G$40:$L$61,6,0))","v":100},{"$f":"IF(ISNA(VLOOKUP($A41,'Race 4-Men'!$G$35:$L$100,6,0)),100,VLOOKUP($A41,'Race 4-Men'!$G$35:$L$100,6,0))","v":100},{"$f":"SMALL(D41:G41,{1,2,3})","v":100},100,100,300,34]
["Dean Aylott","BS","S",{"$f":"IF(ISNA(VLOOKUP($A42,'Race 1-Men'!$G$34:$L$53,6,0)),100,VLOOKUP($A42,'Race 1-Men'!$G$34:$L$53,6,0))","v":100},{"$f":"IF(ISNA(VLOOKUP($A42,'Race 2-Men'!$G$32:$L$53,6,0)),100,VLOOKUP($A42,'Race 2-Men'!$G$32:$L$53,6,0))","v":100},{"$f":"IF(ISNA(VLOOKUP($A42,'Race 3-Men'!$G$40:$L$61,6,0)),100,VLOOKUP($A42,'Race 3-Men'!$G$40:$L$61,6,0))","v":100},{"$f":"IF(ISNA(VLOOKUP($A42,'Race 4-Men'!$G$35:$L$100,6,0)),100,VLOOKUP($A42,'Race 4-Men'!$G$35:$L$100,6,0))","v":100},{"$f":"SMALL(D42:G42,{1,2,3})","v":100},100,100,300,34]
["Evan Stewart","BS","S",{"$f":"IF(ISNA(VLOOKUP($A43,'Race 1-Men'!$G$34:$L$53,6,0)),100,VLOOKUP($A43,'Race 1-Men'!$G$34:$L$53,6,0))","v":100},{"$f":"IF(ISNA(VLOOKUP($A43,'Race 2-Men'!$G$32:$L$53,6,0)),100,VLOOKUP($A43,'Race 2-Men'!$G$32:$L$53,6,0))","v":100},{"$f":"IF(ISNA(VLOOKUP($A43,'Race 3-Men'!$G$40:$L$61,6,0)),100,VLOOKUP($A43,'Race 3-Men'!$G$40:$L$61,6,0))","v":100},{"$f":"IF(ISNA(VLOOKUP($A43,'Race 4-Men'!$G$35:$L$100,6,0)),100,VLOOKUP($A43,'Race 4-Men'!$G$35:$L$100,6,0))","v":100},{"$f":"SMALL(D43:G43,{1,2,3})","v":100},100,100,300,34]
["George Lloyd","SS","S",{"$f":"IF(ISNA(VLOOKUP($A44,'Race 1-Men'!$G$34:$L$53,6,0)),100,VLOOKUP($A44,'Race 1-Men'!$G$34:$L$53,6,0))","v":100},{"$f":"IF(ISNA(VLOOKUP($A44,'Race 2-Men'!$G$32:$L$53,6,0)),100,VLOOKUP($A44,'Race 2-Men'!$G$32:$L$53,6,0))","v":100},{"$f":"IF(ISNA(VLOOKUP($A44,'Race 3-Men'!$G$40:$L$61,6,0)),100,VLOOKUP($A44,'Race 3-Men'!$G$40:$L$61,6,0))","v":100},{"$f":"IF(ISNA(VLOOKUP($A44,'Race 4-Men'!$G$35:$L$100,6,0)),100,VLOOKUP($A44,'Race 4-Men'!$G$35:$L$100,6,0))","v":100},{"$f":"SMALL(D44:G44,{1,2,3})","v":100},100,100,300,34]
["George Thorpe","BS","S",{"$f":"IF(ISNA(VLOOKUP($A45,'Race 1-Men'!$G$34:$L$53,6,0)),100,VLOOKUP($A45,'Race 1-Men'!$G$34:$L$53,6,0))","v":100},{"$f":"IF(ISNA(VLOOKUP($A45,'Race 2-Men'!$G$32:$L$53,6,0)),100,VLOOKUP($A45,'Race 2-Men'!$G$32:$L$53,6,0))","v":100},{"$f":"IF(ISNA(VLOOKUP($A45,'Race 3-Men'!$G$40:$L$61,6,0)),100,VLOOKUP($A45,'Race 3-Men'!$G$40:$L$61,6,0))","v":100},{"$f":"IF(ISNA(VLOOKUP($A45,'Race 4-Men'!$G$35:$L$100,6,0)),100,VLOOKUP($A45,'Race 4-Men'!$G$35:$L$100,6,0))","v":100},{"$f":"SMALL(D45:G45,{1,2,3})","v":100},100,100,300,34]
["Georgia Gadsdon","HRC","S",{"$f":"IF(ISNA(VLOOKUP($A46,'Race 1-Men'!$G$34:$L$53,6,0)),100,VLOOKUP($A46,'Race 1-Men'!$G$34:$L$53,6,0))","v":100},{"$f":"IF(ISNA(VLOOKUP($A46,'Race 2-Men'!$G$32:$L$53,6,0)),100,VLOOKUP($A46,'Race 2-Men'!$G$32:$L$53,6,0))","v":100},{"$f":"IF(ISNA(VLOOKUP($A46,'Race 3-Men'!$G$40:$L$61,6,0)),100,VLOOKUP($A46,'Race 3-Men'!$G$40:$L$61,6,0))","v":100},{"$f":"IF(ISNA(VLOOKUP($A46,'Race 4-Men'!$G$35:$L$100,6,0)),100,VLOOKUP($A46,'Race 4-Men'!$G$35:$L$100,6,0))","v":100},{"$f":"SMALL(D46:G46,{1,2,3})","v":100},100,100,300,34]
["Gordon Mcleod","BS","S",{"$f":"IF(ISNA(VLOOKUP($A47,'Race 1-Men'!$G$34:$L$53,6,0)),100,VLOOKUP($A47,'Race 1-Men'!$G$34:$L$53,6,0))","v":100},{"$f":"IF(ISNA(VLOOKUP($A47,'Race 2-Men'!$G$32:$L$53,6,0)),100,VLOOKUP($A47,'Race 2-Men'!$G$32:$L$53,6,0))","v":17},{"$f":"IF(ISNA(VLOOKUP($A47,'Race 3-Men'!$G$40:$L$61,6,0)),100,VLOOKUP($A47,'Race 3-Men'!$G$40:$L$61,6,0))","v":100},{"$f":"IF(ISNA(VLOOKUP($A47,'Race 4-Men'!$G$35:$L$100,6,0)),100,VLOOKUP($A47,'Race 4-Men'!$G$35:$L$100,6,0))","v":17},{"$f":"SMALL(D47:G47,{1,2,3})","v":17},17,100,134,24]
["Graham Ross","BS","S",{"$f":"IF(ISNA(VLOOKUP($A48,'Race 1-Men'!$G$34:$L$53,6,0)),100,VLOOKUP($A48,'Race 1-Men'!$G$34:$L$53,6,0))","v":100},{"$f":"IF(ISNA(VLOOKUP($A48,'Race 2-Men'!$G$32:$L$53,6,0)),100,VLOOKUP($A48,'Race 2-Men'!$G$32:$L$53,6,0))","v":100},{"$f":"IF(ISNA(VLOOKUP($A48,'Race 3-Men'!$G$40:$L$61,6,0)),100,VLOOKUP($A48,'Race 3-Men'!$G$40:$L$61,6,0))","v":100},{"$f":"IF(ISNA(VLOOKUP($A48,'Race 4-Men'!$G$35:$L$100,6,0)),100,VLOOKUP($A48,'Race 4-Men'!$G$35:$L$100,6,0))","v":100},{"$f":"SMALL(D48:G48,{1,2,3})","v":100},100,100,300,34]
["Guy Taylor","SS","S",{"$f":"IF(ISNA(VLOOKUP($A49,'Race 1-Men'!$G$34:$L$53,6,0)),100,VLOOKUP($A49,'Race 1-Men'!$G$34:$L$53,6,0))","v":100},{"$f":"IF(ISNA(VLOOKUP($A49,'Race 2-Men'!$G$32:$L$53,6,0)),100,VLOOKUP($A49,'Race 2-Men'!$G$32:$L$53,6,0))","v":100},{"$f":"IF(ISNA(VLOOKUP($A49,'Race 3-Men'!$G$40:$L$61,6,0)),100,VLOOKUP($A49,'Race 3-Men'!$G$40:$L$61,6,0))","v":100},{"$f":"IF(ISNA(VLOOKUP($A49,'Race 4-Men'!$G$35:$L$100,6,0)),100,VLOOKUP($A49,'Race 4-Men'!$G$35:$L$100,6,0))","v":100},{"$f":"SMALL(D49:G49,{1,2,3})","v":100},100,100,300,34]
["Harry Game","SS","S",{"$f":"IF(ISNA(VLOOKUP($A50,'Race 1-Men'!$G$34:$L$53,6,0)),100,VLOOKUP($A50,'Race 1-Men'!$G$34:$L$53,6,0))","v":100},{"$f":"IF(ISNA(VLOOKUP($A50,'Race 2-Men'!$G$32:$L$53,6,0)),100,VLOOKUP($A50,'Race 2-Men'!$G$32:$L$53,6,0))","v":100},{"$f":"IF(ISNA(VLOOKUP($A50,'Race 3-Men'!$G$40:$L$61,6,0)),100,VLOOKUP($A50,'Race 3-Men'!$G$40:$L$61,6,0))","v":100},{"$f":"IF(ISNA(VLOOKUP($A50,'Race 4-Men'!$G$35:$L$100,6,0)),100,VLOOKUP($A50,'Race 4-Men'!$G$35:$L$100,6,0))","v":100},{"$f":"SMALL(D50:G50,{1,2,3})","v":100},100,100,300,34]
["Henry Ward","BS","S",{"$f":"IF(ISNA(VLOOKUP($A51,'Race 1-Men'!$G$34:$L$53,6,0)),100,VLOOKUP($A51,'Race 1-Men'!$G$34:$L$53,6,0))","v":13},{"$f":"IF(ISNA(VLOOKUP($A51,'Race 2-Men'!$G$32:$L$53,6,0)),100,VLOOKUP($A51,'Race 2-Men'!$G$32:$L$53,6,0))","v":9},{"$f":"IF(ISNA(VLOOKUP($A51,'Race 3-Men'!$G$40:$L$61,6,0)),100,VLOOKUP($A51,'Race 3-Men'!$G$40:$L$61,6,0))","v":10},{"$f":"IF(ISNA(VLOOKUP($A51,'Race 4-Men'!$G$35:$L$100,6,0)),100,VLOOKUP($A51,'Race 4-Men'!$G$35:$L$100,6,0))","v":7},{"$f":"SMALL(D51:G51,{1,2,3})","v":7},9,10,26,9]
["Iain McMurray","WJ","S",{"$f":"IF(ISNA(VLOOKUP($A52,'Race 1-Men'!$G$34:$L$53,6,0)),100,VLOOKUP($A52,'Race 1-Men'!$G$34:$L$53,6,0))","v":100},{"$f":"IF(ISNA(VLOOKUP($A52,'Race 2-Men'!$G$32:$L$53,6,0)),100,VLOOKUP($A52,'Race 2-Men'!$G$32:$L$53,6,0))","v":100},{"$f":"IF(ISNA(VLOOKUP($A52,'Race 3-Men'!$G$40:$L$61,6,0)),100,VLOOKUP($A52,'Race 3-Men'!$G$40:$L$61,6,0))","v":100},{"$f":"IF(ISNA(VLOOKUP($A52,'Race 4-Men'!$G$35:$L$100,6,0)),100,VLOOKUP($A52,'Race 4-Men'!$G$35:$L$100,6,0))","v":5},{"$f":"SMALL(D52:G52,{1,2,3})","v":5},100,100,205,27]
["Ian  Perrins","WJ","S",{"$f":"IF(ISNA(VLOOKUP($A53,'Race 1-Men'!$G$34:$L$53,6,0)),100,VLOOKUP($A53,'Race 1-Men'!$G$34:$L$53,6,0))","v":100},{"$f":"IF(ISNA(VLOOKUP($A53,'Race 2-Men'!$G$32:$L$53,6,0)),100,VLOOKUP($A53,'Race 2-Men'!$G$32:$L$53,6,0))","v":100},{"$f":"IF(ISNA(VLOOKUP($A53,'Race 3-Men'!$G$40:$L$61,6,0)),100,VLOOKUP($A53,'Race 3-Men'!$G$40:$L$61,6,0))","v":100},{"$f":"IF(ISNA(VLOOKUP($A53,'Race 4-Men'!$G$35:$L$100,6,0)),100,VLOOKUP($A53,'Race 4-Men'!$G$35:$L$100,6,0))","v":10},{"$f":"SMALL(D53:G53,{1,2,3})","v":10},100,100,{"$f":"SUM(H53:J53)","v":210},{"$f":"RANK(K53,$K$2:$K$118,1)","v":30}]
["Jack Kelly","HRC","S",{"$f":"IF(ISNA(VLOOKUP($A54,'Race 1-Men'!$G$34:$L$53,6,0)),100,VLOOKUP($A54,'Race 1-Men'!$G$34:$L$53,6,0))","v":100},{"$f":"IF(ISNA(VLOOKUP($A54,'Race 2-Men'!$G$32:$L$53,6,0)),100,VLOOKUP($A54,'Race 2-Men'!$G$32:$L$53,6,0))","v":100},{"$f":"IF(ISNA(VLOOKUP($A54,'Race 3-Men'!$G$40:$L$61,6,0)),100,VLOOKUP($A54,'Race 3-Men'!$G$40:$L$61,6,0))","v":100},{"$f":"IF(ISNA(VLOOKUP($A54,'Race 4-Men'!$G$35:$L$100,6,0)),100,VLOOKUP($A54,'Race 4-Men'!$G$35:$L$100,6,0))","v":100},{"$f":"SMALL(D54:G54,{1,2,3})","v":100},100,100,300,34]
["Jack Shury","HRC","S",{"$f":"IF(ISNA(VLOOKUP($A55,'Race 1-Men'!$G$34:$L$53,6,0)),100,VLOOKUP($A55,'Race 1-Men'!$G$34:$L$53,6,0))","v":100},{"$f":"IF(ISNA(VLOOKUP($A55,'Race 2-Men'!$G$32:$L$53,6,0)),100,VLOOKUP($A55,'Race 2-Men'!$G$32:$L$53,6,0))","v":100},{"$f":"IF(ISNA(VLOOKUP($A55,'Race 3-Men'!$G$40:$L$61,6,0)),100,VLOOKUP($A55,'Race 3-Men'!$G$40:$L$61,6,0))","v":100},{"$f":"IF(ISNA(VLOOKUP($A55,'Race 4-Men'!$G$35:$L$100,6,0)),100,VLOOKUP($A55,'Race 4-Men'!$G$35:$L$100,6,0))","v":100},{"$f":"SMALL(D55:G55,{1,2,3})","v":100},100,100,300,34]
["Jack Waight","HRC","S",{"$f":"IF(ISNA(VLOOKUP($A56,'Race 1-Men'!$G$34:$L$53,6,0)),100,VLOOKUP($A56,'Race 1-Men'!$G$34:$L$53,6,0))","v":100},{"$f":"IF(ISNA(VLOOKUP($A56,'Race 2-Men'!$G$32:$L$53,6,0)),100,VLOOKUP($A56,'Race 2-Men'!$G$32:$L$53,6,0))","v":100},{"$f":"IF(ISNA(VLOOKUP($A56,'Race 3-Men'!$G$40:$L$61,6,0)),100,VLOOKUP($A56,'Race 3-Men'!$G$40:$L$61,6,0))","v":100},{"$f":"IF(ISNA(VLOOKUP($A56,'Race 4-Men'!$G$35:$L$100,6,0)),100,VLOOKUP($A56,'Race 4-Men'!$G$35:$L$100,6,0))","v":100},{"$f":"SMALL(D56:G56,{1,2,3})","v":100},100,100,300,34]
["James Hay","HRC","S",{"$f":"IF(ISNA(VLOOKUP($A57,'Race 1-Men'!$G$34:$L$53,6,0)),100,VLOOKUP($A57,'Race 1-Men'!$G$34:$L$53,6,0))","v":100},{"$f":"IF(ISNA(VLOOKUP($A57,'Race 2-Men'!$G$32:$L$53,6,0)),100,VLOOKUP($A57,'Race 2-Men'!$G$32:$L$53,6,0))","v":100},{"$f":"IF(ISNA(VLOOKUP($A57,'Race 3-Men'!$G$40:$L$61,6,0)),100,VLOOKUP($A57,'Race 3-Men'!$G$40:$L$61,6,0))","v":100},{"$f":"IF(ISNA(VLOOKUP($A57,'Race 4-Men'!$G$35:$L$100,6,0)),100,VLOOKUP($A57,'Race 4-Men'!$G$35:$L$100,6,0))","v":100},{"$f":"SMALL(D57:G57,{1,2,3})","v":100},100,100,300,34]
["James Randall","WJ","S",{"$f":"IF(ISNA(VLOOKUP($A58,'Race 1-Men'!$G$34:$L$53,6,0)),100,VLOOKUP($A58,'Race 1-Men'!$G$34:$L$53,6,0))","v":20},{"$f":"IF(ISNA(VLOOKUP($A58,'Race 2-Men'!$G$32:$L$53,6,0)),100,VLOOKUP($A58,'Race 2-Men'!$G$32:$L$53,6,0))","v":15},{"$f":"IF(ISNA(VLOOKUP($A58,'Race 3-Men'!$G$40:$L$61,6,0)),100,VLOOKUP($A58,'Race 3-Men'!$G$40:$L$61,6,0))","v":21},{"$f":"IF(ISNA(VLOOKUP($A58,'Race 4-Men'!$G$35:$L$100,6,0)),100,VLOOKUP($A58,'Race 4-Men'!$G$35:$L$100,6,0))","v":100},{"$f":"SMALL(D58:G58,{1,2,3})","v":15},20,21,56,18]
["Jermaine Shand","HRC","S",{"$f":"IF(ISNA(VLOOKUP($A59,'Race 1-Men'!$G$34:$L$53,6,0)),100,VLOOKUP($A59,'Race 1-Men'!$G$34:$L$53,6,0))","v":100},{"$f":"IF(ISNA(VLOOKUP($A59,'Race 2-Men'!$G$32:$L$53,6,0)),100,VLOOKUP($A59,'Race 2-Men'!$G$32:$L$53,6,0))","v":14},{"$f":"IF(ISNA(VLOOKUP($A59,'Race 3-Men'!$G$40:$L$61,6,0)),100,VLOOKUP($A59,'Race 3-Men'!$G$40:$L$61,6,0))","v":19},{"$f":"IF(ISNA(VLOOKUP($A59,'Race 4-Men'!$G$35:$L$100,6,0)),100,VLOOKUP($A59,'Race 4-Men'!$G$35:$L$100,6,0))","v":16},{"$f":"SMALL(D59:G59,{1,2,3})","v":14},16,19,49,15]
["Jonathan Derrick","BS","S",{"$f":"IF(ISNA(VLOOKUP($A60,'Race 1-Men'!$G$34:$L$53,6,0)),100,VLOOKUP($A60,'Race 1-Men'!$G$34:$L$53,6,0))","v":100},{"$f":"IF(ISNA(VLOOKUP($A60,'Race 2-Men'!$G$32:$L$53,6,0)),100,VLOOKUP($A60,'Race 2-Men'!$G$32:$L$53,6,0))","v":100},{"$f":"IF(ISNA(VLOOKUP($A60,'Race 3-Men'!$G$40:$L$61,6,0)),100,VLOOKUP($A60,'Race 3-Men'!$G$40:$L$61,6,0))","v":100},{"$f":"IF(ISNA(VLOOKUP($A60,'Race 4-Men'!$G$35:$L$100,6,0)),100,VLOOKUP($A60,'Race 4-Men'!$G$35:$L$100,6,0))","v":100},{"$f":"SMALL(D60:G60,{1,2,3})","v":100},100,100,300,34]
["Jonathan Round","BS","S",{"$f":"IF(ISNA(VLOOKUP($A61,'Race 1-Men'!$G$34:$L$53,6,0)),100,VLOOKUP($A61,'Race 1-Men'!$G$34:$L$53,6,0))","v":100},{"$f":"IF(ISNA(VLOOKUP($A61,'Race 2-Men'!$G$32:$L$53,6,0)),100,VLOOKUP($A61,'Race 2-Men'!$G$32:$L$53,6,0))","v":100},{"$f":"IF(ISNA(VLOOKUP($A61,'Race 3-Men'!$G$40:$L$61,6,0)),100,VLOOKUP($A61,'Race 3-Men'!$G$40:$L$61,6,0))","v":100},{"$f":"IF(ISNA(VLOOKUP($A61,'Race 4-Men'!$G$35:$L$100,6,0)),100,VLOOKUP($A61,'Race 4-Men'!$G$35:$L$100,6,0))","v":100},{"$f":"SMALL(D61:G61,{1,2,3})","v":100},100,100,300,34]
["Joshua Entwistle","SS","S",{"$f":"IF(ISNA(VLOOKUP($A62,'Race 1-Men'!$G$34:$L$53,6,0)),100,VLOOKUP($A62,'Race 1-Men'!$G$34:$L$53,6,0))","v":100},{"$f":"IF(ISNA(VLOOKUP($A62,'Race 2-Men'!$G$32:$L$53,6,0)),100,VLOOKUP($A62,'Race 2-Men'!$G$32:$L$53,6,0))","v":100},{"$f":"IF(ISNA(VLOOKUP($A62,'Race 3-Men'!$G$40:$L$61,6,0)),100,VLOOKUP($A62,'Race 3-Men'!$G$40:$L$61,6,0))","v":100},{"$f":"IF(ISNA(VLOOKUP($A62,'Race 4-Men'!$G$35:$L$100,6,0)),100,VLOOKUP($A62,'Race 4-Men'!$G$35:$L$100,6,0))","v":100},{"$f":"SMALL(D62:G62,{1,2,3})","v":100},100,100,300,34]
["Krishna Kakkaiyadi","BS","S",{"$f":"IF(ISNA(VLOOKUP($A63,'Race 1-Men'!$G$34:$L$53,6,0)),100,VLOOKUP($A63,'Race 1-Men'!$G$34:$L$53,6,0))","v":100},{"$f":"IF(ISNA(VLOOKUP($A63,'Race 2-Men'!$G$32:$L$53,6,0)),100,VLOOKUP($A63,'Race 2-Men'!$G$32:$L$53,6,0))","v":100},{"$f":"IF(ISNA(VLOOKUP($A63,'Race 3-Men'!$G$40:$L$61,6,0)),100,VLOOKUP($A63,'Race 3-Men'!$G$40:$L$61,6,0))","v":100},{"$f":"IF(ISNA(VLOOKUP($A63,'Race 4-Men'!$G$35:$L$100,6,0)),100,VLOOKUP($A63,'Race 4-Men'!$G$35:$L$100,6,0))","v":100},{"$f":"SMALL(D63:G63,{1,2,3})","v":100},100,100,300,34]
["Lee Boswell","BS","S",{"$f":"IF(ISNA(VLOOKUP($A64,'Race 1-Men'!$G$34:$L$53,6,0)),100,VLOOKUP($A64,'Race 1-Men'!$G$34:$L$53,6,0))","v":17},{"$f":"IF(ISNA(VLOOKUP($A64,'Race 2-Men'!$G$32:$L$53,6,0)),100,VLOOKUP($A64,'Race 2-Men'!$G$32:$L$53,6,0))","v":13},{"$f":"IF(ISNA(VLOOKUP($A64,'Race 3-Men'!$G$40:$L$61,6,0)),100,VLOOKUP($A64,'Race 3-Men'!$G$40:$L$61,6,0))","v":100},{"$f":"IF(ISNA(VLOOKUP($A64,'Race 4-Men'!$G$35:$L$100,6,0)),100,VLOOKUP($A64,'Race 4-Men'!$G$35:$L$100,6,0))","v":20},{"$f":"SMALL(D64:G64,{1,2,3})","v":13},17,20,50,16]
["Lee Daniels","HRC","S",{"$f":"IF(ISNA(VLOOKUP($A65,'Race 1-Men'!$G$34:$L$53,6,0)),100,VLOOKUP($A65,'Race 1-Men'!$G$34:$L$53,6,0))","v":100},{"$f":"IF(ISNA(VLOOKUP($A65,'Race 2-Men'!$G$32:$L$53,6,0)),100,VLOOKUP($A65,'Race 2-Men'!$G$32:$L$53,6,0))","v":100},{"$f":"IF(ISNA(VLOOKUP($A65,'Race 3-Men'!$G$40:$L$61,6,0)),100,VLOOKUP($A65,'Race 3-Men'!$G$40:$L$61,6,0))","v":100},{"$f":"IF(ISNA(VLOOKUP($A65,'Race 4-Men'!$G$35:$L$100,6,0)),100,VLOOKUP($A65,'Race 4-Men'!$G$35:$L$100,6,0))","v":100},{"$f":"SMALL(D65:G65,{1,2,3})","v":100},100,100,300,34]
["Lee Hembling","WJ","S",{"$f":"IF(ISNA(VLOOKUP($A66,'Race 1-Men'!$G$34:$L$53,6,0)),100,VLOOKUP($A66,'Race 1-Men'!$G$34:$L$53,6,0))","v":100},{"$f":"IF(ISNA(VLOOKUP($A66,'Race 2-Men'!$G$32:$L$53,6,0)),100,VLOOKUP($A66,'Race 2-Men'!$G$32:$L$53,6,0))","v":100},{"$f":"IF(ISNA(VLOOKUP($A66,'Race 3-Men'!$G$40:$L$61,6,0)),100,VLOOKUP($A66,'Race 3-Men'!$G$40:$L$61,6,0))","v":100},{"$f":"IF(ISNA(VLOOKUP($A66,'Race 4-Men'!$G$35:$L$100,6,0)),100,VLOOKUP($A66,'Race 4-Men'!$G$35:$L$100,6,0))","v":100},{"$f":"SMALL(D66:G66,{1,2,3})","v":100},100,100,300,34]
["Lee Maughan","BS","S",{"$f":"IF(ISNA(VLOOKUP($A67,'Race 1-Men'!$G$34:$L$53,6,0)),100,VLOOKUP($A67,'Race 1-Men'!$G$34:$L$53,6,0))","v":100},{"$f":"IF(ISNA(VLOOKUP($A67,'Race 2-Men'!$G$32:$L$53,6,0)),100,VLOOKUP($A67,'Race 2-Men'!$G$32:$L$53,6,0))","v":100},{"$f":"IF(ISNA(VLOOKUP($A67,'Race 3-Men'!$G$40:$L$61,6,0)),100,VLOOKUP($A67,'Race 3-Men'!$G$40:$L$61,6,0))","v":100},{"$f":"IF(ISNA(VLOOKUP($A67,'Race 4-Men'!$G$35:$L$100,6,0)),100,VLOOKUP($A67,'Race 4-Men'!$G$35:$L$100,6,0))","v":100},{"$f":"SMALL(D67:G67,{1,2,3})","v":100},100,100,300,34]
["Lewis Elmes","SS","S",{"$f":"IF(ISNA(VLOOKUP($A68,'Race 1-Men'!$G$34:$L$53,6,0)),100,VLOOKUP($A68,'Race 1-Men'!$G$34:$L$53,6,0))","v":100},{"$f":"IF(ISNA(VLOOKUP($A68,'Race 2-Men'!$G$32:$L$53,6,0)),100,VLOOKUP($A68,'Race 2-Men'!$G$32:$L$53,6,0))","v":19},{"$f":"IF(ISNA(VLOOKUP($A68,'Race 3-Men'!$G$40:$L$61,6,0)),100,VLOOKUP($A68,'Race 3-Men'!$G$40:$L$61,6,0))","v":100},{"$f":"IF(ISNA(VLOOKUP($A68,'Race 4-Men'!$G$35:$L$100,6,0)),100,VLOOKUP($A68,'Race 4-Men'!$G$35:$L$100,6,0))","v":100},{"$f":"SMALL(D68:G68,{1,2,3})","v":19},100,100,{"$f":"SUM(H68:J68)","v":219},{"$f":"RANK(K68,$K$2:$K$118,1)","v":32}]
["Liam Struwe","WJ","S",{"$f":"IF(ISNA(VLOOKUP($A69,'Race 1-Men'!$G$34:$L$53,6,0)),100,VLOOKUP($A69,'Race 1-Men'!$G$34:$L$53,6,0))","v":7},{"$f":"IF(ISNA(VLOOKUP($A69,'Race 2-Men'!$G$32:$L$53,6,0)),100,VLOOKUP($A69,'Race 2-Men'!$G$32:$L$53,6,0))","v":100},{"$f":"IF(ISNA(VLOOKUP($A69,'Race 3-Men'!$G$40:$L$61,6,0)),100,VLOOKUP($A69,'Race 3-Men'!$G$40:$L$61,6,0))","v":6},{"$f":"IF(ISNA(VLOOKUP($A69,'Race 4-Men'!$G$35:$L$100,6,0)),100,VLOOKUP($A69,'Race 4-Men'!$G$35:$L$100,6,0))","v":4},{"$f":"SMALL(D69:G69,{1,2,3})","v":4},6,7,17,4]
["Luke Hardy","HRC","S",{"$f":"IF(ISNA(VLOOKUP($A70,'Race 1-Men'!$G$34:$L$53,6,0)),100,VLOOKUP($A70,'Race 1-Men'!$G$34:$L$53,6,0))","v":100},{"$f":"IF(ISNA(VLOOKUP($A70,'Race 2-Men'!$G$32:$L$53,6,0)),100,VLOOKUP($A70,'Race 2-Men'!$G$32:$L$53,6,0))","v":100},{"$f":"IF(ISNA(VLOOKUP($A70,'Race 3-Men'!$G$40:$L$61,6,0)),100,VLOOKUP($A70,'Race 3-Men'!$G$40:$L$61,6,0))","v":100},{"$f":"IF(ISNA(VLOOKUP($A70,'Race 4-Men'!$G$35:$L$100,6,0)),100,VLOOKUP($A70,'Race 4-Men'!$G$35:$L$100,6,0))","v":100},{"$f":"SMALL(D70:G70,{1,2,3})","v":100},100,100,300,34]
["Luke Healy","HRC","S",{"$f":"IF(ISNA(VLOOKUP($A71,'Race 1-Men'!$G$34:$L$53,6,0)),100,VLOOKUP($A71,'Race 1-Men'!$G$34:$L$53,6,0))","v":100},{"$f":"IF(ISNA(VLOOKUP($A71,'Race 2-Men'!$G$32:$L$53,6,0)),100,VLOOKUP($A71,'Race 2-Men'!$G$32:$L$53,6,0))","v":100},{"$f":"IF(ISNA(VLOOKUP($A71,'Race 3-Men'!$G$40:$L$61,6,0)),100,VLOOKUP($A71,'Race 3-Men'!$G$40:$L$61,6,0))","v":100},{"$f":"IF(ISNA(VLOOKUP($A71,'Race 4-Men'!$G$35:$L$100,6,0)),100,VLOOKUP($A71,'Race 4-Men'!$G$35:$L$100,6,0))","v":100},{"$f":"SMALL(D71:G71,{1,2,3})","v":100},100,100,300,34]
["Luke Howard","HRC","S",{"$f":"IF(ISNA(VLOOKUP($A72,'Race 1-Men'!$G$34:$L$53,6,0)),100,VLOOKUP($A72,'Race 1-Men'!$G$34:$L$53,6,0))","v":100},{"$f":"IF(ISNA(VLOOKUP($A72,'Race 2-Men'!$G$32:$L$53,6,0)),100,VLOOKUP($A72,'Race 2-Men'!$G$32:$L$53,6,0))","v":100},{"$f":"IF(ISNA(VLOOKUP($A72,'Race 3-Men'!$G$40:$L$61,6,0)),100,VLOOKUP($A72,'Race 3-Men'!$G$40:$L$61,6,0))","v":100},{"$f":"IF(ISNA(VLOOKUP($A72,'Race 4-Men'!$G$35:$L$100,6,0)),100,VLOOKUP($A72,'Race 4-Men'!$G$35:$L$100,6,0))","v":100},{"$f":"SMALL(D72:G72,{1,2,3})","v":100},100,100,300,34]
["Luke Shepherd","BS","S",{"$f":"IF(ISNA(VLOOKUP($A73,'Race 1-Men'!$G$34:$L$53,6,0)),100,VLOOKUP($A73,'Race 1-Men'!$G$34:$L$53,6,0))","v":100},{"$f":"IF(ISNA(VLOOKUP($A73,'Race 2-Men'!$G$32:$L$53,6,0)),100,VLOOKUP($A73,'Race 2-Men'!$G$32:$L$53,6,0))","v":100},{"$f":"IF(ISNA(VLOOKUP($A73,'Race 3-Men'!$G$40:$L$61,6,0)),100,VLOOKUP($A73,'Race 3-Men'!$G$40:$L$61,6,0))","v":100},{"$f":"IF(ISNA(VLOOKUP($A73,'Race 4-Men'!$G$35:$L$100,6,0)),100,VLOOKUP($A73,'Race 4-Men'!$G$35:$L$100,6,0))","v":100},{"$f":"SMALL(D73:G73,{1,2,3})","v":100},100,100,300,34]
["Mark Ford","WJ","S",{"$f":"IF(ISNA(VLOOKUP($A74,'Race 1-Men'!$G$34:$L$53,6,0)),100,VLOOKUP($A74,'Race 1-Men'!$G$34:$L$53,6,0))","v":6},{"$f":"IF(ISNA(VLOOKUP($A74,'Race 2-Men'!$G$32:$L$53,6,0)),100,VLOOKUP($A74,'Race 2-Men'!$G$32:$L$53,6,0))","v":7},{"$f":"IF(ISNA(VLOOKUP($A74,'Race 3-Men'!$G$40:$L$61,6,0)),100,VLOOKUP($A74,'Race 3-Men'!$G$40:$L$61,6,0))","v":11},{"$f":"IF(ISNA(VLOOKUP($A74,'Race 4-Men'!$G$35:$L$100,6,0)),100,VLOOKUP($A74,'Race 4-Men'!$G$35:$L$100,6,0))","v":8},{"$f":"SMALL(D74:G74,{1,2,3})","v":6},7,8,21,6]
["Mark Frow","SS","S",{"$f":"IF(ISNA(VLOOKUP($A75,'Race 1-Men'!$G$34:$L$53,6,0)),100,VLOOKUP($A75,'Race 1-Men'!$G$34:$L$53,6,0))","v":100},{"$f":"IF(ISNA(VLOOKUP($A75,'Race 2-Men'!$G$32:$L$53,6,0)),100,VLOOKUP($A75,'Race 2-Men'!$G$32:$L$53,6,0))","v":100},{"$f":"IF(ISNA(VLOOKUP($A75,'Race 3-Men'!$G$40:$L$61,6,0)),100,VLOOKUP($A75,'Race 3-Men'!$G$40:$L$61,6,0))","v":100},{"$f":"IF(ISNA(VLOOKUP($A75,'Race 4-Men'!$G$35:$L$100,6,0)),100,VLOOKUP($A75,'Race 4-Men'!$G$35:$L$100,6,0))","v":100},{"$f":"SMALL(D75:G75,{1,2,3})","v":100},100,100,300,34]
["Mark Lawrence","BS","S",{"$f":"IF(ISNA(VLOOKUP($A76,'Race 1-Men'!$G$34:$L$53,6,0)),100,VLOOKUP($A76,'Race 1-Men'!$G$34:$L$53,6,0))","v":100},{"$f":"IF(ISNA(VLOOKUP($A76,'Race 2-Men'!$G$32:$L$53,6,0)),100,VLOOKUP($A76,'Race 2-Men'!$G$32:$L$53,6,0))","v":100},{"$f":"IF(ISNA(VLOOKUP($A76,'Race 3-Men'!$G$40:$L$61,6,0)),100,VLOOKUP($A76,'Race 3-Men'!$G$40:$L$61,6,0))","v":100},{"$f":"IF(ISNA(VLOOKUP($A76,'Race 4-Men'!$G$35:$L$100,6,0)),100,VLOOKUP($A76,'Race 4-Men'!$G$35:$L$100,6,0))","v":100},{"$f":"SMALL(D76:G76,{1,2,3})","v":100},100,100,300,34]
["Mark Spiller","BS","S",{"$f":"IF(ISNA(VLOOKUP($A77,'Race 1-Men'!$G$34:$L$53,6,0)),100,VLOOKUP($A77,'Race 1-Men'!$G$34:$L$53,6,0))","v":100},{"$f":"IF(ISNA(VLOOKUP($A77,'Race 2-Men'!$G$32:$L$53,6,0)),100,VLOOKUP($A77,'Race 2-Men'!$G$32:$L$53,6,0))","v":100},{"$f":"IF(ISNA(VLOOKUP($A77,'Race 3-Men'!$G$40:$L$61,6,0)),100,VLOOKUP($A77,'Race 3-Men'!$G$40:$L$61,6,0))","v":100},{"$f":"IF(ISNA(VLOOKUP($A77,'Race 4-Men'!$G$35:$L$100,6,0)),100,VLOOKUP($A77,'Race 4-Men'!$G$35:$L$100,6,0))","v":100},{"$f":"SMALL(D77:G77,{1,2,3})","v":100},100,100,300,34]
["Martin Brooks","BS","S",{"$f":"IF(ISNA(VLOOKUP($A78,'Race 1-Men'!$G$34:$L$53,6,0)),100,VLOOKUP($A78,'Race 1-Men'!$G$34:$L$53,6,0))","v":100},{"$f":"IF(ISNA(VLOOKUP($A78,'Race 2-Men'!$G$32:$L$53,6,0)),100,VLOOKUP($A78,'Race 2-Men'!$G$32:$L$53,6,0))","v":100},{"$f":"IF(ISNA(VLOOKUP($A78,'Race 3-Men'!$G$40:$L$61,6,0)),100,VLOOKUP($A78,'Race 3-Men'!$G$40:$L$61,6,0))","v":100},{"$f":"IF(ISNA(VLOOKUP($A78,'Race 4-Men'!$G$35:$L$100,6,0)),100,VLOOKUP($A78,'Race 4-Men'!$G$35:$L$100,6,0))","v":100},{"$f":"SMALL(D78:G78,{1,2,3})","v":100},100,100,300,34]
["Martin Westley","HRC","S",{"$f":"IF(ISNA(VLOOKUP($A79,'Race 1-Men'!$G$34:$L$53,6,0)),100,VLOOKUP($A79,'Race 1-Men'!$G$34:$L$53,6,0))","v":9},{"$f":"IF(ISNA(VLOOKUP($A79,'Race 2-Men'!$G$32:$L$53,6,0)),100,VLOOKUP($A79,'Race 2-Men'!$G$32:$L$53,6,0))","v":6},{"$f":"IF(ISNA(VLOOKUP($A79,'Race 3-Men'!$G$40:$L$61,6,0)),100,VLOOKUP($A79,'Race 3-Men'!$G$40:$L$61,6,0))","v":14},{"$f":"IF(ISNA(VLOOKUP($A79,'Race 4-Men'!$G$35:$L$100,6,0)),100,VLOOKUP($A79,'Race 4-Men'!$G$35:$L$100,6,0))","v":9},{"$f":"SMALL(D79:G79,{1,2,3})","v":6},9,9,24,7]
["Martyn Coulter","HRC","S",{"$f":"IF(ISNA(VLOOKUP($A80,'Race 1-Men'!$G$34:$L$53,6,0)),100,VLOOKUP($A80,'Race 1-Men'!$G$34:$L$53,6,0))","v":8},{"$f":"IF(ISNA(VLOOKUP($A80,'Race 2-Men'!$G$32:$L$53,6,0)),100,VLOOKUP($A80,'Race 2-Men'!$G$32:$L$53,6,0))","v":8},{"$f":"IF(ISNA(VLOOKUP($A80,'Race 3-Men'!$G$40:$L$61,6,0)),100,VLOOKUP($A80,'Race 3-Men'!$G$40:$L$61,6,0))","v":8},{"$f":"IF(ISNA(VLOOKUP($A80,'Race 4-Men'!$G$35:$L$100,6,0)),100,VLOOKUP($A80,'Race 4-Men'!$G$35:$L$100,6,0))","v":11},{"$f":"SMALL(D80:G80,{1,2,3})","v":8},8,8,24,7]
["Martyn Langman","HRC","S",{"$f":"IF(ISNA(VLOOKUP($A81,'Race 1-Men'!$G$34:$L$53,6,0)),100,VLOOKUP($A81,'Race 1-Men'!$G$34:$L$53,6,0))","v":100},{"$f":"IF(ISNA(VLOOKUP($A81,'Race 2-Men'!$G$32:$L$53,6,0)),100,VLOOKUP($A81,'Race 2-Men'!$G$32:$L$53,6,0))","v":100},{"$f":"IF(ISNA(VLOOKUP($A81,'Race 3-Men'!$G$40:$L$61,6,0)),100,VLOOKUP($A81,'Race 3-Men'!$G$40:$L$61,6,0))","v":100},{"$f":"IF(ISNA(VLOOKUP($A81,'Race 4-Men'!$G$35:$L$100,6,0)),100,VLOOKUP($A81,'Race 4-Men'!$G$35:$L$100,6,0))","v":100},{"$f":"SMALL(D81:G81,{1,2,3})","v":100},100,100,300,34]
["Matt Brown","WJ","S",{"$f":"IF(ISNA(VLOOKUP($A82,'Race 1-Men'!$G$34:$L$53,6,0)),100,VLOOKUP($A82,'Race 1-Men'!$G$34:$L$53,6,0))","v":3},{"$f":"IF(ISNA(VLOOKUP($A82,'Race 2-Men'!$G$32:$L$53,6,0)),100,VLOOKUP($A82,'Race 2-Men'!$G$32:$L$53,6,0))","v":3},{"$f":"IF(ISNA(VLOOKUP($A82,'Race 3-Men'!$G$40:$L$61,6,0)),100,VLOOKUP($A82,'Race 3-Men'!$G$40:$L$61,6,0))","v":5},{"$f":"IF(ISNA(VLOOKUP($A82,'Race 4-Men'!$G$35:$L$100,6,0)),100,VLOOKUP($A82,'Race 4-Men'!$G$35:$L$100,6,0))","v":2},{"$f":"SMALL(D82:G82,{1,2,3})","v":2},3,3,8,2]
["Matt McRandal","BS","S",{"$f":"IF(ISNA(VLOOKUP($A83,'Race 1-Men'!$G$34:$L$53,6,0)),100,VLOOKUP($A83,'Race 1-Men'!$G$34:$L$53,6,0))","v":5},{"$f":"IF(ISNA(VLOOKUP($A83,'Race 2-Men'!$G$32:$L$53,6,0)),100,VLOOKUP($A83,'Race 2-Men'!$G$32:$L$53,6,0))","v":100},{"$f":"IF(ISNA(VLOOKUP($A83,'Race 3-Men'!$G$40:$L$61,6,0)),100,VLOOKUP($A83,'Race 3-Men'!$G$40:$L$61,6,0))","v":100},{"$f":"IF(ISNA(VLOOKUP($A83,'Race 4-Men'!$G$35:$L$100,6,0)),100,VLOOKUP($A83,'Race 4-Men'!$G$35:$L$100,6,0))","v":100},{"$f":"SMALL(D83:G83,{1,2,3})","v":5},100,100,205,27]
["Matthew Ironside","BS","S",{"$f":"IF(ISNA(VLOOKUP($A84,'Race 1-Men'!$G$34:$L$53,6,0)),100,VLOOKUP($A84,'Race 1-Men'!$G$34:$L$53,6,0))","v":100},{"$f":"IF(ISNA(VLOOKUP($A84,'Race 2-Men'!$G$32:$L$53,6,0)),100,VLOOKUP($A84,'Race 2-Men'!$G$32:$L$53,6,0))","v":100},{"$f":"IF(ISNA(VLOOKUP($A84,'Race 3-Men'!$G$40:$L$61,6,0)),100,VLOOKUP($A84,'Race 3-Men'!$G$40:$L$61,6,0))","v":100},{"$f":"IF(ISNA(VLOOKUP($A84,'Race 4-Men'!$G$35:$L$100,6,0)),100,VLOOKUP($A84,'Race 4-Men'!$G$35:$L$100,6,0))","v":100},{"$f":"SMALL(D84:G84,{1,2,3})","v":100},100,100,300,34]
["Matthew Stephens","WJ","S",{"$f":"IF(ISNA(VLOOKUP($A85,'Race 1-Men'!$G$34:$L$53,6,0)),100,VLOOKUP($A85,'Race 1-Men'!$G$34:$L$53,6,0))","v":100},{"$f":"IF(ISNA(VLOOKUP($A85,'Race 2-Men'!$G$32:$L$53,6,0)),100,VLOOKUP($A85,'Race 2-Men'!$G$32:$L$53,6,0))","v":100},{"$f":"IF(ISNA(VLOOKUP($A85,'Race 3-Men'!$G$40:$L$61,6,0)),100,VLOOKUP($A85,'Race 3-Men'!$G$40:$L$61,6,0))","v":100},{"$f":"IF(ISNA(VLOOKUP($A85,'Race 4-Men'!$G$35:$L$100,6,0)),100,VLOOKUP($A85,'Race 4-Men'!$G$35:$L$100,6,0))","v":100},{"$f":"SMALL(D85:G85,{1,2,3})","v":100},100,100,300,34]
["Michael Chinnery","BS","S",{"$f":"IF(ISNA(VLOOKUP($A86,'Race 1-Men'!$G$34:$L$53,6,0)),100,VLOOKUP($A86,'Race 1-Men'!$G$34:$L$53,6,0))","v":100},{"$f":"IF(ISNA(VLOOKUP($A86,'Race 2-Men'!$G$32:$L$53,6,0)),100,VLOOKUP($A86,'Race 2-Men'!$G$32:$L$53,6,0))","v":100},{"$f":"IF(ISNA(VLOOKUP($A86,'Race 3-Men'!$G$40:$L$61,6,0)),100,VLOOKUP($A86,'Race 3-Men'!$G$40:$L$61,6,0))","v":100},{"$f":"IF(ISNA(VLOOKUP($A86,'Race 4-Men'!$G$35:$L$100,6,0)),100,VLOOKUP($A86,'Race 4-Men'!$G$35:$L$100,6,0))","v":100},{"$f":"SMALL(D86:G86,{1,2,3})","v":100},100,100,300,34]
["Michael Waddington","WJ","S",{"$f":"IF(ISNA(VLOOKUP($A87,'Race 1-Men'!$G$34:$L$53,6,0)),100,VLOOKUP($A87,'Race 1-Men'!$G$34:$L$53,6,0))","v":1},{"$f":"IF(ISNA(VLOOKUP($A87,'Race 2-Men'!$G$32:$L$53,6,0)),100,VLOOKUP($A87,'Race 2-Men'!$G$32:$L$53,6,0))","v":1},{"$f":"IF(ISNA(VLOOKUP($A87,'Race 3-Men'!$G$40:$L$61,6,0)),100,VLOOKUP($A87,'Race 3-Men'!$G$40:$L$61,6,0))","v":1},{"$f":"IF(ISNA(VLOOKUP($A87,'Race 4-Men'!$G$35:$L$100,6,0)),100,VLOOKUP($A87,'Race 4-Men'!$G$35:$L$100,6,0))","v":100},{"$f":"SMALL(D87:G87,{1,2,3})","v":1},1,1,3,1]
["Oscar Bell","WJ","S",{"$f":"IF(ISNA(VLOOKUP($A88,'Race 1-Men'!$G$34:$L$53,6,0)),100,VLOOKUP($A88,'Race 1-Men'!$G$34:$L$53,6,0))","v":100},{"$f":"IF(ISNA(VLOOKUP($A88,'Race 2-Men'!$G$32:$L$53,6,0)),100,VLOOKUP($A88,'Race 2-Men'!$G$32:$L$53,6,0))","v":100},{"$f":"IF(ISNA(VLOOKUP($A88,'Race 3-Men'!$G$40:$L$61,6,0)),100,VLOOKUP($A88,'Race 3-Men'!$G$40:$L$61,6,0))","v":100},{"$f":"IF(ISNA(VLOOKUP($A88,'Race 4-Men'!$G$35:$L$100,6,0)),100,VLOOKUP($A88,'Race 4-Men'!$G$35:$L$100,6,0))","v":1},{"$f":"SMALL(D88:G88,{1,2,3})","v":1},100,100,201,25]
["Peter Cormack","BS","S",{"$f":"IF(ISNA(VLOOKUP($A89,'Race 1-Men'!$G$34:$L$53,6,0)),100,VLOOKUP($A89,'Race 1-Men'!$G$34:$L$53,6,0))","v":100},{"$f":"IF(ISNA(VLOOKUP($A89,'Race 2-Men'!$G$32:$L$53,6,0)),100,VLOOKUP($A89,'Race 2-Men'!$G$32:$L$53,6,0))","v":100},{"$f":"IF(ISNA(VLOOKUP($A89,'Race 3-Men'!$G$40:$L$61,6,0)),100,VLOOKUP($A89,'Race 3-Men'!$G$40:$L$61,6,0))","v":100},{"$f":"IF(ISNA(VLOOKUP($A89,'Race 4-Men'!$G$35:$L$100,6,0)),100,VLOOKUP($A89,'Race 4-Men'!$G$35:$L$100,6,0))","v":100},{"$f":"SMALL(D89:G89,{1,2,3})","v":100},100,100,300,34]
["Robert O'Hara","WJ","S",{"$f":"IF(ISNA(VLOOKUP($A90,'Race 1-Men'!$G$34:$L$53,6,0)),100,VLOOKUP($A90,'Race 1-Men'!$G$34:$L$53,6,0))","v":100},{"$f":"IF(ISNA(VLOOKUP($A90,'Race 2-Men'!$G$32:$L$53,6,0)),100,VLOOKUP($A90,'Race 2-Men'!$G$32:$L$53,6,0))","v":100},{"$f":"IF(ISNA(VLOOKUP($A90,'Race 3-Men'!$G$40:$L$61,6,0)),100,VLOOKUP($A90,'Race 3-Men'!$G$40:$L$61,6,0))","v":100},{"$f":"IF(ISNA(VLOOKUP($A90,'Race 4-Men'!$G$35:$L$100,6,0)),100,VLOOKUP($A90,'Race 4-Men'!$G$35:$L$100,6,0))","v":100},{"$f":"SMALL(D90:G90,{1,2,3})","v":100},100,100,300,34]
["Russell Cook","WJ","S",{"$f":"IF(ISNA(VLOOKUP($A91,'Race 1-Men'!$G$34:$L$53,6,0)),100,VLOOKUP($A91,'Race 1-Men'!$G$34:$L$53,6,0))","v":19},{"$f":"IF(ISNA(VLOOKUP($A91,'Race 2-Men'!$G$32:$L$53,6,0)),100,VLOOKUP($A91,'Race 2-Men'!$G$32:$L$53,6,0))","v":12},{"$f":"IF(ISNA(VLOOKUP($A91,'Race 3-Men'!$G$40:$L$61,6,0)),100,VLOOKUP($A91,'Race 3-Men'!$G$40:$L$61,6,0))","v":17},{"$f":"IF(ISNA(VLOOKUP($A91,'Race 4-Men'!$G$35:$L$100,6,0)),100,VLOOKUP($A91,'Race 4-Men'!$G$35:$L$100,6,0))","v":21},{"$f":"SMALL(D91:G91,{1,2,3})","v":12},17,19,48,14]
["Ryan Gow","BS","S",{"$f":"IF(ISNA(VLOOKUP($A92,'Race 1-Men'!$G$34:$L$53,6,0)),100,VLOOKUP($A92,'Race 1-Men'!$G$34:$L$53,6,0))","v":100},{"$f":"IF(ISNA(VLOOKUP($A92,'Race 2-Men'!$G$32:$L$53,6,0)),100,VLOOKUP($A92,'Race 2-Men'!$G$32:$L$53,6,0))","v":100},{"$f":"IF(ISNA(VLOOKUP($A92,'Race 3-Men'!$G$40:$L$61,6,0)),100,VLOOKUP($A92,'Race 3-Men'!$G$40:$L$61,6,0))","v":100},{"$f":"IF(ISNA(VLOOKUP($A92,'Race 4-Men'!$G$35:$L$100,6,0)),100,VLOOKUP($A92,'Race 4-Men'!$G$35:$L$100,6,0))","v":100},{"$f":"SMALL(D92:G92,{1,2,3})","v":100},100,100,300,34]
["Sam Nicholls","HRC","S",{"$f":"IF(ISNA(VLOOKUP($A93,'Race 1-Men'!$G$34:$L$53,6,0)),100,VLOOKUP($A93,'Race 1-Men'!$G$34:$L$53,6,0))","v":100},{"$f":"IF(ISNA(VLOOKUP($A93,'Race 2-Men'!$G$32:$L$53,6,0)),100,VLOOKUP($A93,'Race 2-Men'!$G$32:$L$53,6,0))","v":100},{"$f":"IF(ISNA(VLOOKUP($A93,'Race 3-Men'!$G$40:$L$61,6,0)),100,VLOOKUP($A93,'Race 3-Men'!$G$40:$L$61,6,0))","v":100},{"$f":"IF(ISNA(VLOOKUP($A93,'Race 4-Men'!$G$35:$L$100,6,0)),100,VLOOKUP($A93,'Race 4-Men'!$G$35:$L$100,6,0))","v":100},{"$f":"SMALL(D93:G93,{1,2,3})","v":100},100,100,300,34]
["Sam Snelling","HRC","S",{"$f":"IF(ISNA(VLOOKUP($A94,'Race 1-Men'!$G$34:$L$53,6,0)),100,VLOOKUP($A94,'Race 1-Men'!$G$34:$L$53,6,0))","v":100},{"$f":"IF(ISNA(VLOOKUP($A94,'Race 2-Men'!$G$32:$L$53,6,0)),100,VLOOKUP($A94,'Race 2-Men'!$G$32:$L$53,6,0))","v":100},{"$f":"IF(ISNA(VLOOKUP($A94,'Race 3-Men'!$G$40:$L$61,6,0)),100,VLOOKUP($A94,'Race 3-Men'!$G$40:$L$61,6,0))","v":100},{"$f":"IF(ISNA(VLOOKUP($A94,'Race 4-Men'!$G$35:$L$100,6,0)),100,VLOOKUP($A94,'Race 4-Men'!$G$35:$L$100,6,0))","v":100},{"$f":"SMALL(D94:G94,{1,2,3})","v":100},100,100,300,34]
["Samuel Pedley","BS","S",{"$f":"IF(ISNA(VLOOKUP($A95,'Race 1-Men'!$G$34:$L$53,6,0)),100,VLOOKUP($A95,'Race 1-Men'!$G$34:$L$53,6,0))","v":100},{"$f":"IF(ISNA(VLOOKUP($A95,'Race 2-Men'!$G$32:$L$53,6,0)),100,VLOOKUP($A95,'Race 2-Men'!$G$32:$L$53,6,0))","v":100},{"$f":"IF(ISNA(VLOOKUP($A95,'Race 3-Men'!$G$40:$L$61,6,0)),100,VLOOKUP($A95,'Race 3-Men'!$G$40:$L$61,6,0))","v":2},{"$f":"IF(ISNA(VLOOKUP($A95,'Race 4-Men'!$G$35:$L$100,6,0)),100,VLOOKUP($A95,'Race 4-Men'!$G$35:$L$100,6,0))","v":100},{"$f":"SMALL(D95:G95,{1,2,3})","v":2},100,100,202,26]
["Samuel Scheibel","SS","S",{"$f":"IF(ISNA(VLOOKUP($A96,'Race 1-Men'!$G$34:$L$53,6,0)),100,VLOOKUP($A96,'Race 1-Men'!$G$34:$L$53,6,0))","v":100},{"$f":"IF(ISNA(VLOOKUP($A96,'Race 2-Men'!$G$32:$L$53,6,0)),100,VLOOKUP($A96,'Race 2-Men'!$G$32:$L$53,6,0))","v":100},{"$f":"IF(ISNA(VLOOKUP($A96,'Race 3-Men'!$G$40:$L$61,6,0)),100,VLOOKUP($A96,'Race 3-Men'!$G$40:$L$61,6,0))","v":100},{"$f":"IF(ISNA(VLOOKUP($A96,'Race 4-Men'!$G$35:$L$100,6,0)),100,VLOOKUP($A96,'Race 4-Men'!$G$35:$L$100,6,0))","v":100},{"$f":"SMALL(D96:G96,{1,2,3})","v":100},100,100,300,34]
["Samuel Treadwell","HRC","S",{"$f":"IF(ISNA(VLOOKUP($A97,'Race 1-Men'!$G$34:$L$53,6,0)),100,VLOOKUP($A97,'Race 1-Men'!$G$34:$L$53,6,0))","v":100},{"$f":"IF(ISNA(VLOOKUP($A97,'Race 2-Men'!$G$32:$L$53,6,0)),100,VLOOKUP($A97,'Race 2-Men'!$G$32:$L$53,6,0))","v":100},{"$f":"IF(ISNA(VLOOKUP($A97,'Race 3-Men'!$G$40:$L$61,6,0)),100,VLOOKUP($A97,'Race 3-Men'!$G$40:$L$61,6,0))","v":100},{"$f":"IF(ISNA(VLOOKUP($A97,'Race 4-Men'!$G$35:$L$100,6,0)),100,VLOOKUP($A97,'Race 4-Men'!$G$35:$L$100,6,0))","v":100},{"$f":"SMALL(D97:G97,{1,2,3})","v":100},100,100,300,34]
["Scott Bird","HRC","S",{"$f":"IF(ISNA(VLOOKUP($A98,'Race 1-Men'!$G$34:$L$53,6,0)),100,VLOOKUP($A98,'Race 1-Men'!$G$34:$L$53,6,0))","v":4},{"$f":"IF(ISNA(VLOOKUP($A98,'Race 2-Men'!$G$32:$L$53,6,0)),100,VLOOKUP($A98,'Race 2-Men'!$G$32:$L$53,6,0))","v":5},{"$f":"IF(ISNA(VLOOKUP($A98,'Race 3-Men'!$G$40:$L$61,6,0)),100,VLOOKUP($A98,'Race 3-Men'!$G$40:$L$61,6,0))","v":9},{"$f":"IF(ISNA(VLOOKUP($A98,'Race 4-Men'!$G$35:$L$100,6,0)),100,VLOOKUP($A98,'Race 4-Men'!$G$35:$L$100,6,0))","v":100},{"$f":"SMALL(D98:G98,{1,2,3})","v":4},5,9,18,5]
["Simon Dent","WJ","S",{"$f":"IF(ISNA(VLOOKUP($A99,'Race 1-Men'!$G$34:$L$53,6,0)),100,VLOOKUP($A99,'Race 1-Men'!$G$34:$L$53,6,0))","v":100},{"$f":"IF(ISNA(VLOOKUP($A99,'Race 2-Men'!$G$32:$L$53,6,0)),100,VLOOKUP($A99,'Race 2-Men'!$G$32:$L$53,6,0))","v":100},{"$f":"IF(ISNA(VLOOKUP($A99,'Race 3-Men'!$G$40:$L$61,6,0)),100,VLOOKUP($A99,'Race 3-Men'!$G$40:$L$61,6,0))","v":100},{"$f":"IF(ISNA(VLOOKUP($A99,'Race 4-Men'!$G$35:$L$100,6,0)),100,VLOOKUP($A99,'Race 4-Men'!$G$35:$L$100,6,0))","v":100},{"$f":"SMALL(D99:G99,{1,2,3})","v":100},100,100,300,34]
["Simon Dewhurst","BS","S",{"$f":"IF(ISNA(VLOOKUP($A100,'Race 1-Men'!$G$34:$L$53,6,0)),100,VLOOKUP($A100,'Race 1-Men'!$G$34:$L$53,6,0))","v":100},{"$f":"IF(ISNA(VLOOKUP($A100,'Race 2-Men'!$G$32:$L$53,6,0)),100,VLOOKUP($A100,'Race 2-Men'!$G$32:$L$53,6,0))","v":100},{"$f":"IF(ISNA(VLOOKUP($A100,'Race 3-Men'!$G$40:$L$61,6,0)),100,VLOOKUP($A100,'Race 3-Men'!$G$40:$L$61,6,0))","v":100},{"$f":"IF(ISNA(VLOOKUP($A100,'Race 4-Men'!$G$35:$L$100,6,0)),100,VLOOKUP($A100,'Race 4-Men'!$G$35:$L$100,6,0))","v":100},{"$f":"SMALL(D100:G100,{1,2,3})","v":100},100,100,300,34]
["Simon Treadwell","BS","S",{"$f":"IF(ISNA(VLOOKUP($A101,'Race 1-Men'!$G$34:$L$53,6,0)),100,VLOOKUP($A101,'Race 1-Men'!$G$34:$L$53,6,0))","v":100},{"$f":"IF(ISNA(VLOOKUP($A101,'Race 2-Men'!$G$32:$L$53,6,0)),100,VLOOKUP($A101,'Race 2-Men'!$G$32:$L$53,6,0))","v":100},{"$f":"IF(ISNA(VLOOKUP($A101,'Race 3-Men'!$G$40:$L$61,6,0)),100,VLOOKUP($A101,'Race 3-Men'!$G$40:$L$61,6,0))","v":100},{"$f":"IF(ISNA(VLOOKUP($A101,'Race 4-Men'!$G$35:$L$100,6,0)),100,VLOOKUP($A101,'Race 4-Men'!$G$35:$L$100,6,0))","v":100},{"$f":"SMALL(D101:G101,{1,2,3})","v":100},100,100,300,34]
["Stephen Price","BS","S",{"$f":"IF(ISNA(VLOOKUP($A102,'Race 1-Men'!$G$34:$L$53,6,0)),100,VLOOKUP($A102,'Race 1-Men'!$G$34:$L$53,6,0))","v":100},{"$f":"IF(ISNA(VLOOKUP($A102,'Race 2-Men'!$G$32:$L$53,6,0)),100,VLOOKUP($A102,'Race 2-Men'!$G$32:$L$53,6,0))","v":100},{"$f":"IF(ISNA(VLOOKUP($A102,'Race 3-Men'!$G$40:$L$61,6,0)),100,VLOOKUP($A102,'Race 3-Men'!$G$40:$L$61,6,0))","v":100},{"$f":"IF(ISNA(VLOOKUP($A102,'Race 4-Men'!$G$35:$L$100,6,0)),100,VLOOKUP($A102,'Race 4-Men'!$G$35:$L$100,6,0))","v":100},{"$f":"SMALL(D102:G102,{1,2,3})","v":100},100,100,300,34]
["Stuart Glynn","HRC","S",{"$f":"IF(ISNA(VLOOKUP($A103,'Race 1-Men'!$G$34:$L$53,6,0)),100,VLOOKUP($A103,'Race 1-Men'!$G$34:$L$53,6,0))","v":100},{"$f":"IF(ISNA(VLOOKUP($A103,'Race 2-Men'!$G$32:$L$53,6,0)),100,VLOOKUP($A103,'Race 2-Men'!$G$32:$L$53,6,0))","v":100},{"$f":"IF(ISNA(VLOOKUP($A103,'Race 3-Men'!$G$40:$L$61,6,0)),100,VLOOKUP($A103,'Race 3-Men'!$G$40:$L$61,6,0))","v":100},{"$f":"IF(ISNA(VLOOKUP($A103,'Race 4-Men'!$G$35:$L$100,6,0)),100,VLOOKUP($A103,'Race 4-Men'!$G$35:$L$100,6,0))","v":100},{"$f":"SMALL(D103:G103,{1,2,3})","v":100},100,100,300,34]
["Thomas Coutts","SS","S",{"$f":"IF(ISNA(VLOOKUP($A104,'Race 1-Men'!$G$34:$L$53,6,0)),100,VLOOKUP($A104,'Race 1-Men'!$G$34:$L$53,6,0))","v":100},{"$f":"IF(ISNA(VLOOKUP($A104,'Race 2-Men'!$G$32:$L$53,6,0)),100,VLOOKUP($A104,'Race 2-Men'!$G$32:$L$53,6,0))","v":100},{"$f":"IF(ISNA(VLOOKUP($A104,'Race 3-Men'!$G$40:$L$61,6,0)),100,VLOOKUP($A104,'Race 3-Men'!$G$40:$L$61,6,0))","v":100},{"$f":"IF(ISNA(VLOOKUP($A104,'Race 4-Men'!$G$35:$L$100,6,0)),100,VLOOKUP($A104,'Race 4-Men'!$G$35:$L$100,6,0))","v":100},{"$f":"SMALL(D104:G104,{1,2,3})","v":100},100,100,300,34]
["Thomas Wilton","BS","S",{"$f":"IF(ISNA(VLOOKUP($A105,'Race 1-Men'!$G$34:$L$53,6,0)),100,VLOOKUP($A105,'Race 1-Men'!$G$34:$L$53,6,0))","v":100},{"$f":"IF(ISNA(VLOOKUP($A105,'Race 2-Men'!$G$32:$L$53,6,0)),100,VLOOKUP($A105,'Race 2-Men'!$G$32:$L$53,6,0))","v":100},{"$f":"IF(ISNA(VLOOKUP($A105,'Race 3-Men'!$G$40:$L$61,6,0)),100,VLOOKUP($A105,'Race 3-Men'!$G$40:$L$61,6,0))","v":100},{"$f":"IF(ISNA(VLOOKUP($A105,'Race 4-Men'!$G$35:$L$100,6,0)),100,VLOOKUP($A105,'Race 4-Men'!$G$35:$L$100,6,0))","v":100},{"$f":"SMALL(D105:G105,{1,2,3})","v":100},100,100,300,34]
["Timothy Brignall","WJ","S",{"$f":"IF(ISNA(VLOOKUP($A106,'Race 1-Men'!$G$34:$L$53,6,0)),100,VLOOKUP($A106,'Race 1-Men'!$G$34:$L$53,6,0))","v":100},{"$f":"IF(ISNA(VLOOKUP($A106,'Race 2-Men'!$G$32:$L$53,6,0)),100,VLOOKUP($A106,'Race 2-Men'!$G$32:$L$53,6,0))","v":100},{"$f":"IF(ISNA(VLOOKUP($A106,'Race 3-Men'!$G$40:$L$61,6,0)),100,VLOOKUP($A106,'Race 3-Men'!$G$40:$L$61,6,0))","v":100},{"$f":"IF(ISNA(VLOOKUP($A106,'Race 4-Men'!$G$35:$L$100,6,0)),100,VLOOKUP($A106,'Race 4-Men'!$G$35:$L$100,6,0))","v":100},{"$f":"SMALL(D106:G106,{1,2,3})","v":100},100,100,300,34]
["Timothy Wood","HRC","S",{"$f":"IF(ISNA(VLOOKUP($A107,'Race 1-Men'!$G$34:$L$53,6,0)),100,VLOOKUP($A107,'Race 1-Men'!$G$34:$L$53,6,0))","v":100},{"$f":"IF(ISNA(VLOOKUP($A107,'Race 2-Men'!$G$32:$L$53,6,0)),100,VLOOKUP($A107,'Race 2-Men'!$G$32:$L$53,6,0))","v":16},{"$f":"IF(ISNA(VLOOKUP($A107,'Race 3-Men'!$G$40:$L$61,6,0)),100,VLOOKUP($A107,'Race 3-Men'!$G$40:$L$61,6,0))","v":20},{"$f":"IF(ISNA(VLOOKUP($A107,'Race 4-Men'!$G$35:$L$100,6,0)),100,VLOOKUP($A107,'Race 4-Men'!$G$35:$L$100,6,0))","v":18},{"$f":"SMALL(D107:G107,{1,2,3})","v":16},18,20,54,17]
["Tom Porter","WJ","S",{"$f":"IF(ISNA(VLOOKUP($A108,'Race 1-Men'!$G$34:$L$53,6,0)),100,VLOOKUP($A108,'Race 1-Men'!$G$34:$L$53,6,0))","v":2},{"$f":"IF(ISNA(VLOOKUP($A108,'Race 2-Men'!$G$32:$L$53,6,0)),100,VLOOKUP($A108,'Race 2-Men'!$G$32:$L$53,6,0))","v":4},{"$f":"IF(ISNA(VLOOKUP($A108,'Race 3-Men'!$G$40:$L$61,6,0)),100,VLOOKUP($A108,'Race 3-Men'!$G$40:$L$61,6,0))","v":4},{"$f":"IF(ISNA(VLOOKUP($A108,'Race 4-Men'!$G$35:$L$100,6,0)),100,VLOOKUP($A108,'Race 4-Men'!$G$35:$L$100,6,0))","v":3},{"$f":"SMALL(D108:G108,{1,2,3})","v":2},3,4,9,3]
["Tony Russell","HRC","S",{"$f":"IF(ISNA(VLOOKUP($A109,'Race 1-Men'!$G$34:$L$53,6,0)),100,VLOOKUP($A109,'Race 1-Men'!$G$34:$L$53,6,0))","v":100},{"$f":"IF(ISNA(VLOOKUP($A109,'Race 2-Men'!$G$32:$L$53,6,0)),100,VLOOKUP($A109,'Race 2-Men'!$G$32:$L$53,6,0))","v":100},{"$f":"IF(ISNA(VLOOKUP($A109,'Race 3-Men'!$G$40:$L$61,6,0)),100,VLOOKUP($A109,'Race 3-Men'!$G$40:$L$61,6,0))","v":100},{"$f":"IF(ISNA(VLOOKUP($A109,'Race 4-Men'!$G$35:$L$100,6,0)),100,VLOOKUP($A109,'Race 4-Men'!$G$35:$L$100,6,0))","v":100},{"$f":"SMALL(D109:G109,{1,2,3})","v":100},100,100,300,34]
["Will Bell","BS","S",{"$f":"IF(ISNA(VLOOKUP($A110,'Race 1-Men'!$G$34:$L$53,6,0)),100,VLOOKUP($A110,'Race 1-Men'!$G$34:$L$53,6,0))","v":100},{"$f":"IF(ISNA(VLOOKUP($A110,'Race 2-Men'!$G$32:$L$53,6,0)),100,VLOOKUP($A110,'Race 2-Men'!$G$32:$L$53,6,0))","v":100},{"$f":"IF(ISNA(VLOOKUP($A110,'Race 3-Men'!$G$40:$L$61,6,0)),100,VLOOKUP($A110,'Race 3-Men'!$G$40:$L$61,6,0))","v":100},{"$f":"IF(ISNA(VLOOKUP($A110,'Race 4-Men'!$G$35:$L$100,6,0)),100,VLOOKUP($A110,'Race 4-Men'!$G$35:$L$100,6,0))","v":100},{"$f":"SMALL(D110:G110,{1,2,3})","v":100},100,100,300,34]
["Will Breese","WJ","S",{"$f":"IF(ISNA(VLOOKUP($A111,'Race 1-Men'!$G$34:$L$53,6,0)),100,VLOOKUP($A111,'Race 1-Men'!$G$34:$L$53,6,0))","v":100},{"$f":"IF(ISNA(VLOOKUP($A111,'Race 2-Men'!$G$32:$L$53,6,0)),100,VLOOKUP($A111,'Race 2-Men'!$G$32:$L$53,6,0))","v":2},{"$f":"IF(ISNA(VLOOKUP($A111,'Race 3-Men'!$G$40:$L$61,6,0)),100,VLOOKUP($A111,'Race 3-Men'!$G$40:$L$61,6,0))","v":3},{"$f":"IF(ISNA(VLOOKUP($A111,'Race 4-Men'!$G$35:$L$100,6,0)),100,VLOOKUP($A111,'Race 4-Men'!$G$35:$L$100,6,0))","v":100},{"$f":"SMALL(D111:G111,{1,2,3})","v":2},3,100,105,19]
["Will Morton","BS","S",{"$f":"IF(ISNA(VLOOKUP($A112,'Race 1-Men'!$G$34:$L$53,6,0)),100,VLOOKUP($A112,'Race 1-Men'!$G$34:$L$53,6,0))","v":100},{"$f":"IF(ISNA(VLOOKUP($A112,'Race 2-Men'!$G$32:$L$53,6,0)),100,VLOOKUP($A112,'Race 2-Men'!$G$32:$L$53,6,0))","v":100},{"$f":"IF(ISNA(VLOOKUP($A112,'Race 3-Men'!$G$40:$L$61,6,0)),100,VLOOKUP($A112,'Race 3-Men'!$G$40:$L$61,6,0))","v":100},{"$f":"IF(ISNA(VLOOKUP($A112,'Race 4-Men'!$G$35:$L$100,6,0)),100,VLOOKUP($A112,'Race 4-Men'!$G$35:$L$100,6,0))","v":100},{"$f":"SMALL(D112:G112,{1,2,3})","v":100},100,100,300,34]
["William Caunce","WJ","S",{"$f":"IF(ISNA(VLOOKUP($A113,'Race 1-Men'!$G$34:$L$53,6,0)),100,VLOOKUP($A113,'Race 1-Men'!$G$34:$L$53,6,0))","v":11},{"$f":"IF(ISNA(VLOOKUP($A113,'Race 2-Men'!$G$32:$L$53,6,0)),100,VLOOKUP($A113,'Race 2-Men'!$G$32:$L$53,6,0))","v":100},{"$f":"IF(ISNA(VLOOKUP($A113,'Race 3-Men'!$G$40:$L$61,6,0)),100,VLOOKUP($A113,'Race 3-Men'!$G$40:$L$61,6,0))","v":100},{"$f":"IF(ISNA(VLOOKUP($A113,'Race 4-Men'!$G$35:$L$100,6,0)),100,VLOOKUP($A113,'Race 4-Men'!$G$35:$L$100,6,0))","v":6},{"$f":"SMALL(D113:G113,{1,2,3})","v":6},11,100,117,20]
["William Price","BS","S",{"$f":"IF(ISNA(VLOOKUP($A114,'Race 1-Men'!$G$34:$L$53,6,0)),100,VLOOKUP($A114,'Race 1-Men'!$G$34:$L$53,6,0))","v":100},{"$f":"IF(ISNA(VLOOKUP($A114,'Race 2-Men'!$G$32:$L$53,6,0)),100,VLOOKUP($A114,'Race 2-Men'!$G$32:$L$53,6,0))","v":100},{"$f":"IF(ISNA(VLOOKUP($A114,'Race 3-Men'!$G$40:$L$61,6,0)),100,VLOOKUP($A114,'Race 3-Men'!$G$40:$L$61,6,0))","v":100},{"$f":"IF(ISNA(VLOOKUP($A114,'Race 4-Men'!$G$35:$L$100,6,0)),100,VLOOKUP($A114,'Race 4-Men'!$G$35:$L$100,6,0))","v":100},{"$f":"SMALL(D114:G114,{1,2,3})","v":100},100,100,300,34]
["Yaser Alsaghir","HRC","S",{"$f":"IF(ISNA(VLOOKUP($A115,'Race 1-Men'!$G$34:$L$53,6,0)),100,VLOOKUP($A115,'Race 1-Men'!$G$34:$L$53,6,0))","v":100},{"$f":"IF(ISNA(VLOOKUP($A115,'Race 2-Men'!$G$32:$L$53,6,0)),100,VLOOKUP($A115,'Race 2-Men'!$G$32:$L$53,6,0))","v":100},{"$f":"IF(ISNA(VLOOKUP($A115,'Race 3-Men'!$G$40:$L$61,6,0)),100,VLOOKUP($A115,'Race 3-Men'!$G$40:$L$61,6,0))","v":100},{"$f":"IF(ISNA(VLOOKUP($A115,'Race 4-Men'!$G$35:$L$100,6,0)),100,VLOOKUP($A115,'Race 4-Men'!$G$35:$L$100,6,0))","v":100},{"$f":"SMALL(D115:G115,{1,2,3})","v":100},100,100,300,34]
["Tom Quinn","WJ","S",{"$f":"IF(ISNA(VLOOKUP($A116,'Race 1-Men'!$G$34:$L$53,6,0)),100,VLOOKUP($A116,'Race 1-Men'!$G$34:$L$53,6,0))","v":100},{"$f":"IF(ISNA(VLOOKUP($A116,'Race 2-Men'!$G$32:$L$53,6,0)),100,VLOOKUP($A116,'Race 2-Men'!$G$32:$L$53,6,0))","v":100},{"$f":"IF(ISNA(VLOOKUP($A116,'Race 3-Men'!$G$40:$L$61,6,0)),100,VLOOKUP($A116,'Race 3-Men'!$G$40:$L$61,6,0))","v":7},{"$f":"IF(ISNA(VLOOKUP($A116,'Race 4-Men'!$G$35:$L$100,6,0)),100,VLOOKUP($A116,'Race 4-Men'!$G$35:$L$100,6,0))","v":100},{"$f":"SMALL(D116:G116,{1,2,3})","v":7},100,100,207,29]
["Stefan Gauntlett","WJ","S",{"$f":"IF(ISNA(VLOOKUP($A117,'Race 1-Men'!$G$34:$L$53,6,0)),100,VLOOKUP($A117,'Race 1-Men'!$G$34:$L$53,6,0))","v":100},{"$f":"IF(ISNA(VLOOKUP($A117,'Race 2-Men'!$G$32:$L$53,6,0)),100,VLOOKUP($A117,'Race 2-Men'!$G$32:$L$53,6,0))","v":10},{"$f":"IF(ISNA(VLOOKUP($A117,'Race 3-Men'!$G$40:$L$61,6,0)),100,VLOOKUP($A117,'Race 3-Men'!$G$40:$L$61,6,0))","v":12},{"$f":"IF(ISNA(VLOOKUP($A117,'Race 4-Men'!$G$35:$L$100,6,0)),100,VLOOKUP($A117,'Race 4-Men'!$G$35:$L$100,6,0))","v":15},{"$f":"SMALL(D117:G117,{1,2,3})","v":10},12,15,37,10]
["Chris Williams","WJ","S",{"$f":"IF(ISNA(VLOOKUP($A118,'Race 1-Men'!$G$34:$L$53,6,0)),100,VLOOKUP($A118,'Race 1-Men'!$G$34:$L$53,6,0))","v":100},{"$f":"IF(ISNA(VLOOKUP($A118,'Race 2-Men'!$G$32:$L$53,6,0)),100,VLOOKUP($A118,'Race 2-Men'!$G$32:$L$53,6,0))","v":18},{"$f":"IF(ISNA(VLOOKUP($A118,'Race 3-Men'!$G$40:$L$61,6,0)),100,VLOOKUP($A118,'Race 3-Men'!$G$40:$L$61,6,0))","v":100},{"$f":"IF(ISNA(VLOOKUP($A118,'Race 4-Men'!$G$35:$L$100,6,0)),100,VLOOKUP($A118,'Race 4-Men'!$G$35:$L$100,6,0))","v":100},{"$f":"SMALL(D118:G118,{1,2,3})","v":18},100,100,218,31]
["Adam Chapman","BS","V40",{"$f":"IF(ISNA(VLOOKUP($A119,'Race 1-Men'!$N$33:$S$51,6,0)),100,VLOOKUP($A119,'Race 1-Men'!$N$33:$S$51,6,0))","v":100},{"$f":"IF(ISNA(VLOOKUP($A119,'Race 2-Men'!$N$32:$S$53,6,0)),100,VLOOKUP($A119,'Race 2-Men'!$N$32:$S$53,6,0))","v":100},{"$f":"IF(ISNA(VLOOKUP($A119,'Race 3-Men'!$N$40:$S$61,6,0)),100,VLOOKUP($A119,'Race 3-Men'!$N$40:$S$61,6,0))","v":100},{"$f":"IF(ISNA(VLOOKUP($A119,'Race 4-Men'!$N$35:$S$100,6,0)),100,VLOOKUP($A119,'Race 4-Men'!$N$35:$S$100,6,0))","v":100},{"$f":"SMALL(D119:G119,{1,2,3})","v":100},100,100,300,{"$f":"RANK(K119,$K$119:$K$270,1)","v":39}]
["Adam Wallace","WJ","V40",{"$f":"IF(ISNA(VLOOKUP($A120,'Race 1-Men'!$N$33:$S$51,6,0)),100,VLOOKUP($A120,'Race 1-Men'!$N$33:$S$51,6,0))","v":100},{"$f":"IF(ISNA(VLOOKUP($A120,'Race 2-Men'!$N$32:$S$53,6,0)),100,VLOOKUP($A120,'Race 2-Men'!$N$32:$S$53,6,0))","v":100},{"$f":"IF(ISNA(VLOOKUP($A120,'Race 3-Men'!$N$40:$S$61,6,0)),100,VLOOKUP($A120,'Race 3-Men'!$N$40:$S$61,6,0))","v":100},{"$f":"IF(ISNA(VLOOKUP($A120,'Race 4-Men'!$N$35:$S$100,6,0)),100,VLOOKUP($A120,'Race 4-Men'!$N$35:$S$100,6,0))","v":100},{"$f":"SMALL(D120:G120,{1,2,3})","v":100},100,100,300,{"$f":"RANK(K120,$K$119:$K$270,1)","v":39}]
["Alan Gleaves","SS","V40",{"$f":"IF(ISNA(VLOOKUP($A121,'Race 1-Men'!$N$33:$S$51,6,0)),100,VLOOKUP($A121,'Race 1-Men'!$N$33:$S$51,6,0))","v":100},{"$f":"IF(ISNA(VLOOKUP($A121,'Race 2-Men'!$N$32:$S$53,6,0)),100,VLOOKUP($A121,'Race 2-Men'!$N$32:$S$53,6,0))","v":100},{"$f":"IF(ISNA(VLOOKUP($A121,'Race 3-Men'!$N$40:$S$61,6,0)),100,VLOOKUP($A121,'Race 3-Men'!$N$40:$S$61,6,0))","v":100},{"$f":"IF(ISNA(VLOOKUP($A121,'Race 4-Men'!$N$35:$S$100,6,0)),100,VLOOKUP($A121,'Race 4-Men'!$N$35:$S$100,6,0))","v":100},{"$f":"SMALL(D121:G121,{1,2,3})","v":100},100,100,300,39]
["Alastair Humphrey","BS","V40",{"$f":"IF(ISNA(VLOOKUP($A122,'Race 1-Men'!$N$33:$S$51,6,0)),100,VLOOKUP($A122,'Race 1-Men'!$N$33:$S$51,6,0))","v":100},{"$f":"IF(ISNA(VLOOKUP($A122,'Race 2-Men'!$N$32:$S$53,6,0)),100,VLOOKUP($A122,'Race 2-Men'!$N$32:$S$53,6,0))","v":100},{"$f":"IF(ISNA(VLOOKUP($A122,'Race 3-Men'!$N$40:$S$61,6,0)),100,VLOOKUP($A122,'Race 3-Men'!$N$40:$S$61,6,0))","v":100},{"$f":"IF(ISNA(VLOOKUP($A122,'Race 4-Men'!$N$35:$S$100,6,0)),100,VLOOKUP($A122,'Race 4-Men'!$N$35:$S$100,6,0))","v":100},{"$f":"SMALL(D122:G122,{1,2,3})","v":100},100,100,300,39]
["Alex Bibby","SS","V40",{"$f":"IF(ISNA(VLOOKUP($A123,'Race 1-Men'!$N$33:$S$51,6,0)),100,VLOOKUP($A123,'Race 1-Men'!$N$33:$S$51,6,0))","v":100},{"$f":"IF(ISNA(VLOOKUP($A123,'Race 2-Men'!$N$32:$S$53,6,0)),100,VLOOKUP($A123,'Race 2-Men'!$N$32:$S$53,6,0))","v":100},{"$f":"IF(ISNA(VLOOKUP($A123,'Race 3-Men'!$N$40:$S$61,6,0)),100,VLOOKUP($A123,'Race 3-Men'!$N$40:$S$61,6,0))","v":100},{"$f":"IF(ISNA(VLOOKUP($A123,'Race 4-Men'!$N$35:$S$100,6,0)),100,VLOOKUP($A123,'Race 4-Men'!$N$35:$S$100,6,0))","v":100},{"$f":"SMALL(D123:G123,{1,2,3})","v":100},100,100,300,39]
["Alex Hardy","WJ","V40",{"$f":"IF(ISNA(VLOOKUP($A124,'Race 1-Men'!$N$33:$S$51,6,0)),100,VLOOKUP($A124,'Race 1-Men'!$N$33:$S$51,6,0))","v":100},{"$f":"IF(ISNA(VLOOKUP($A124,'Race 2-Men'!$N$32:$S$53,6,0)),100,VLOOKUP($A124,'Race 2-Men'!$N$32:$S$53,6,0))","v":100},{"$f":"IF(ISNA(VLOOKUP($A124,'Race 3-Men'!$N$40:$S$61,6,0)),100,VLOOKUP($A124,'Race 3-Men'!$N$40:$S$61,6,0))","v":100},{"$f":"IF(ISNA(VLOOKUP($A124,'Race 4-Men'!$N$35:$S$100,6,0)),100,VLOOKUP($A124,'Race 4-Men'!$N$35:$S$100,6,0))","v":100},{"$f":"SMALL(D124:G124,{1,2,3})","v":100},100,100,300,39]
["Alistair Cooke","SS","V40",{"$f":"IF(ISNA(VLOOKUP($A125,'Race 1-Men'!$N$33:$S$51,6,0)),100,VLOOKUP($A125,'Race 1-Men'!$N$33:$S$51,6,0))","v":100},{"$f":"IF(ISNA(VLOOKUP($A125,'Race 2-Men'!$N$32:$S$53,6,0)),100,VLOOKUP($A125,'Race 2-Men'!$N$32:$S$53,6,0))","v":100},{"$f":"IF(ISNA(VLOOKUP($A125,'Race 3-Men'!$N$40:$S$61,6,0)),100,VLOOKUP($A125,'Race 3-Men'!$N$40:$S$61,6,0))","v":100},{"$f":"IF(ISNA(VLOOKUP($A125,'Race 4-Men'!$N$35:$S$100,6,0)),100,VLOOKUP($A125,'Race 4-Men'!$N$35:$S$100,6,0))","v":100},{"$f":"SMALL(D125:G125,{1,2,3})","v":100},100,100,300,39]
["Andrew Armour","SS","V40",{"$f":"IF(ISNA(VLOOKUP($A126,'Race 1-Men'!$N$33:$S$51,6,0)),100,VLOOKUP($A126,'Race 1-Men'!$N$33:$S$51,6,0))","v":100},{"$f":"IF(ISNA(VLOOKUP($A126,'Race 2-Men'!$N$32:$S$53,6,0)),100,VLOOKUP($A126,'Race 2-Men'!$N$32:$S$53,6,0))","v":100},{"$f":"IF(ISNA(VLOOKUP($A126,'Race 3-Men'!$N$40:$S$61,6,0)),100,VLOOKUP($A126,'Race 3-Men'!$N$40:$S$61,6,0))","v":100},{"$f":"IF(ISNA(VLOOKUP($A126,'Race 4-Men'!$N$35:$S$100,6,0)),100,VLOOKUP($A126,'Race 4-Men'!$N$35:$S$100,6,0))","v":100},{"$f":"SMALL(D126:G126,{1,2,3})","v":100},100,100,300,39]
["Andrew Biggs","WJ","V40",{"$f":"IF(ISNA(VLOOKUP($A127,'Race 1-Men'!$N$33:$S$51,6,0)),100,VLOOKUP($A127,'Race 1-Men'!$N$33:$S$51,6,0))","v":11},{"$f":"IF(ISNA(VLOOKUP($A127,'Race 2-Men'!$N$32:$S$53,6,0)),100,VLOOKUP($A127,'Race 2-Men'!$N$32:$S$53,6,0))","v":100},{"$f":"IF(ISNA(VLOOKUP($A127,'Race 3-Men'!$N$40:$S$61,6,0)),100,VLOOKUP($A127,'Race 3-Men'!$N$40:$S$61,6,0))","v":15},{"$f":"IF(ISNA(VLOOKUP($A127,'Race 4-Men'!$N$35:$S$100,6,0)),100,VLOOKUP($A127,'Race 4-Men'!$N$35:$S$100,6,0))","v":10},{"$f":"SMALL(D127:G127,{1,2,3})","v":10},11,15,36,10]
["Andrew Mynott","WJ","V40",{"$f":"IF(ISNA(VLOOKUP($A128,'Race 1-Men'!$N$33:$S$51,6,0)),100,VLOOKUP($A128,'Race 1-Men'!$N$33:$S$51,6,0))","v":1},{"$f":"IF(ISNA(VLOOKUP($A128,'Race 2-Men'!$N$32:$S$53,6,0)),100,VLOOKUP($A128,'Race 2-Men'!$N$32:$S$53,6,0))","v":1},{"$f":"IF(ISNA(VLOOKUP($A128,'Race 3-Men'!$N$40:$S$61,6,0)),100,VLOOKUP($A128,'Race 3-Men'!$N$40:$S$61,6,0))","v":1},{"$f":"IF(ISNA(VLOOKUP($A128,'Race 4-Men'!$N$35:$S$100,6,0)),100,VLOOKUP($A128,'Race 4-Men'!$N$35:$S$100,6,0))","v":100},{"$f":"SMALL(D128:G128,{1,2,3})","v":1},1,1,3,1]
["Andrew Page","SS","V40",{"$f":"IF(ISNA(VLOOKUP($A129,'Race 1-Men'!$N$33:$S$51,6,0)),100,VLOOKUP($A129,'Race 1-Men'!$N$33:$S$51,6,0))","v":100},{"$f":"IF(ISNA(VLOOKUP($A129,'Race 2-Men'!$N$32:$S$53,6,0)),100,VLOOKUP($A129,'Race 2-Men'!$N$32:$S$53,6,0))","v":100},{"$f":"IF(ISNA(VLOOKUP($A129,'Race 3-Men'!$N$40:$S$61,6,0)),100,VLOOKUP($A129,'Race 3-Men'!$N$40:$S$61,6,0))","v":100},{"$f":"IF(ISNA(VLOOKUP($A129,'Race 4-Men'!$N$35:$S$100,6,0)),100,VLOOKUP($A129,'Race 4-Men'!$N$35:$S$100,6,0))","v":100},{"$f":"SMALL(D129:G129,{1,2,3})","v":100},100,100,300,39]
["Andrew Pooley","BS","V40",{"$f":"IF(ISNA(VLOOKUP($A130,'Race 1-Men'!$N$33:$S$51,6,0)),100,VLOOKUP($A130,'Race 1-Men'!$N$33:$S$51,6,0))","v":100},{"$f":"IF(ISNA(VLOOKUP($A130,'Race 2-Men'!$N$32:$S$53,6,0)),100,VLOOKUP($A130,'Race 2-Men'!$N$32:$S$53,6,0))","v":100},{"$f":"IF(ISNA(VLOOKUP($A130,'Race 3-Men'!$N$40:$S$61,6,0)),100,VLOOKUP($A130,'Race 3-Men'!$N$40:$S$61,6,0))","v":100},{"$f":"IF(ISNA(VLOOKUP($A130,'Race 4-Men'!$N$35:$S$100,6,0)),100,VLOOKUP($A130,'Race 4-Men'!$N$35:$S$100,6,0))","v":100},{"$f":"SMALL(D130:G130,{1,2,3})","v":100},100,100,300,39]
["Andrew Terrell","HRC","V40",{"$f":"IF(ISNA(VLOOKUP($A131,'Race 1-Men'!$N$33:$S$51,6,0)),100,VLOOKUP($A131,'Race 1-Men'!$N$33:$S$51,6,0))","v":12},{"$f":"IF(ISNA(VLOOKUP($A131,'Race 2-Men'!$N$32:$S$53,6,0)),100,VLOOKUP($A131,'Race 2-Men'!$N$32:$S$53,6,0))","v":100},{"$f":"IF(ISNA(VLOOKUP($A131,'Race 3-Men'!$N$40:$S$61,6,0)),100,VLOOKUP($A131,'Race 3-Men'!$N$40:$S$61,6,0))","v":100},{"$f":"IF(ISNA(VLOOKUP($A131,'Race 4-Men'!$N$35:$S$100,6,0)),100,VLOOKUP($A131,'Race 4-Men'!$N$35:$S$100,6,0))","v":11},{"$f":"SMALL(D131:G131,{1,2,3})","v":11},12,100,123,19]
["Andy Watkins","SS","V40",{"$f":"IF(ISNA(VLOOKUP($A132,'Race 1-Men'!$N$33:$S$51,6,0)),100,VLOOKUP($A132,'Race 1-Men'!$N$33:$S$51,6,0))","v":100},{"$f":"IF(ISNA(VLOOKUP($A132,'Race 2-Men'!$N$32:$S$53,6,0)),100,VLOOKUP($A132,'Race 2-Men'!$N$32:$S$53,6,0))","v":100},{"$f":"IF(ISNA(VLOOKUP($A132,'Race 3-Men'!$N$40:$S$61,6,0)),100,VLOOKUP($A132,'Race 3-Men'!$N$40:$S$61,6,0))","v":100},{"$f":"IF(ISNA(VLOOKUP($A132,'Race 4-Men'!$N$35:$S$100,6,0)),100,VLOOKUP($A132,'Race 4-Men'!$N$35:$S$100,6,0))","v":100},{"$f":"SMALL(D132:G132,{1,2,3})","v":100},100,100,{"$f":"SUM(H132:J132)","v":300},39]
["Anthony Kirby","BS","V40",{"$f":"IF(ISNA(VLOOKUP($A133,'Race 1-Men'!$N$33:$S$51,6,0)),100,VLOOKUP($A133,'Race 1-Men'!$N$33:$S$51,6,0))","v":100},{"$f":"IF(ISNA(VLOOKUP($A133,'Race 2-Men'!$N$32:$S$53,6,0)),100,VLOOKUP($A133,'Race 2-Men'!$N$32:$S$53,6,0))","v":100},{"$f":"IF(ISNA(VLOOKUP($A133,'Race 3-Men'!$N$40:$S$61,6,0)),100,VLOOKUP($A133,'Race 3-Men'!$N$40:$S$61,6,0))","v":100},{"$f":"IF(ISNA(VLOOKUP($A133,'Race 4-Men'!$N$35:$S$100,6,0)),100,VLOOKUP($A133,'Race 4-Men'!$N$35:$S$100,6,0))","v":100},{"$f":"SMALL(D133:G133,{1,2,3})","v":100},100,100,300,39]
["Archie Ruggles-Brise","SS","V40",{"$f":"IF(ISNA(VLOOKUP($A134,'Race 1-Men'!$N$33:$S$51,6,0)),100,VLOOKUP($A134,'Race 1-Men'!$N$33:$S$51,6,0))","v":100},{"$f":"IF(ISNA(VLOOKUP($A134,'Race 2-Men'!$N$32:$S$53,6,0)),100,VLOOKUP($A134,'Race 2-Men'!$N$32:$S$53,6,0))","v":100},{"$f":"IF(ISNA(VLOOKUP($A134,'Race 3-Men'!$N$40:$S$61,6,0)),100,VLOOKUP($A134,'Race 3-Men'!$N$40:$S$61,6,0))","v":100},{"$f":"IF(ISNA(VLOOKUP($A134,'Race 4-Men'!$N$35:$S$100,6,0)),100,VLOOKUP($A134,'Race 4-Men'!$N$35:$S$100,6,0))","v":100},{"$f":"SMALL(D134:G134,{1,2,3})","v":100},100,100,300,39]
["Arnold Sienerth","SS","V40",{"$f":"IF(ISNA(VLOOKUP($A135,'Race 1-Men'!$N$33:$S$51,6,0)),100,VLOOKUP($A135,'Race 1-Men'!$N$33:$S$51,6,0))","v":100},{"$f":"IF(ISNA(VLOOKUP($A135,'Race 2-Men'!$N$32:$S$53,6,0)),100,VLOOKUP($A135,'Race 2-Men'!$N$32:$S$53,6,0))","v":100},{"$f":"IF(ISNA(VLOOKUP($A135,'Race 3-Men'!$N$40:$S$61,6,0)),100,VLOOKUP($A135,'Race 3-Men'!$N$40:$S$61,6,0))","v":100},{"$f":"IF(ISNA(VLOOKUP($A135,'Race 4-Men'!$N$35:$S$100,6,0)),100,VLOOKUP($A135,'Race 4-Men'!$N$35:$S$100,6,0))","v":100},{"$f":"SMALL(D135:G135,{1,2,3})","v":100},100,100,300,39]
["Barry Taylor","SS","V40",{"$f":"IF(ISNA(VLOOKUP($A136,'Race 1-Men'!$N$33:$S$51,6,0)),100,VLOOKUP($A136,'Race 1-Men'!$N$33:$S$51,6,0))","v":100},{"$f":"IF(ISNA(VLOOKUP($A136,'Race 2-Men'!$N$32:$S$53,6,0)),100,VLOOKUP($A136,'Race 2-Men'!$N$32:$S$53,6,0))","v":100},{"$f":"IF(ISNA(VLOOKUP($A136,'Race 3-Men'!$N$40:$S$61,6,0)),100,VLOOKUP($A136,'Race 3-Men'!$N$40:$S$61,6,0))","v":100},{"$f":"IF(ISNA(VLOOKUP($A136,'Race 4-Men'!$N$35:$S$100,6,0)),100,VLOOKUP($A136,'Race 4-Men'!$N$35:$S$100,6,0))","v":100},{"$f":"SMALL(D136:G136,{1,2,3})","v":100},100,100,300,39]
["Ben Dean","BS","V40",{"$f":"IF(ISNA(VLOOKUP($A137,'Race 1-Men'!$N$33:$S$51,6,0)),100,VLOOKUP($A137,'Race 1-Men'!$N$33:$S$51,6,0))","v":100},{"$f":"IF(ISNA(VLOOKUP($A137,'Race 2-Men'!$N$32:$S$53,6,0)),100,VLOOKUP($A137,'Race 2-Men'!$N$32:$S$53,6,0))","v":100},{"$f":"IF(ISNA(VLOOKUP($A137,'Race 3-Men'!$N$40:$S$61,6,0)),100,VLOOKUP($A137,'Race 3-Men'!$N$40:$S$61,6,0))","v":100},{"$f":"IF(ISNA(VLOOKUP($A137,'Race 4-Men'!$N$35:$S$100,6,0)),100,VLOOKUP($A137,'Race 4-Men'!$N$35:$S$100,6,0))","v":100},{"$f":"SMALL(D137:G137,{1,2,3})","v":100},100,100,300,39]
["Ben Fowler","HRC","V40",{"$f":"IF(ISNA(VLOOKUP($A138,'Race 1-Men'!$N$33:$S$51,6,0)),100,VLOOKUP($A138,'Race 1-Men'!$N$33:$S$51,6,0))","v":100},{"$f":"IF(ISNA(VLOOKUP($A138,'Race 2-Men'!$N$32:$S$53,6,0)),100,VLOOKUP($A138,'Race 2-Men'!$N$32:$S$53,6,0))","v":100},{"$f":"IF(ISNA(VLOOKUP($A138,'Race 3-Men'!$N$40:$S$61,6,0)),100,VLOOKUP($A138,'Race 3-Men'!$N$40:$S$61,6,0))","v":100},{"$f":"IF(ISNA(VLOOKUP($A138,'Race 4-Men'!$N$35:$S$100,6,0)),100,VLOOKUP($A138,'Race 4-Men'!$N$35:$S$100,6,0))","v":100},{"$f":"SMALL(D138:G138,{1,2,3})","v":100},100,100,300,39]
["Ben Pickford","BS","V40",{"$f":"IF(ISNA(VLOOKUP($A139,'Race 1-Men'!$N$33:$S$51,6,0)),100,VLOOKUP($A139,'Race 1-Men'!$N$33:$S$51,6,0))","v":6},{"$f":"IF(ISNA(VLOOKUP($A139,'Race 2-Men'!$N$32:$S$53,6,0)),100,VLOOKUP($A139,'Race 2-Men'!$N$32:$S$53,6,0))","v":100},{"$f":"IF(ISNA(VLOOKUP($A139,'Race 3-Men'!$N$40:$S$61,6,0)),100,VLOOKUP($A139,'Race 3-Men'!$N$40:$S$61,6,0))","v":100},{"$f":"IF(ISNA(VLOOKUP($A139,'Race 4-Men'!$N$35:$S$100,6,0)),100,VLOOKUP($A139,'Race 4-Men'!$N$35:$S$100,6,0))","v":100},{"$f":"SMALL(D139:G139,{1,2,3})","v":6},100,100,206,26]
["Calum Ewing","SS","V40",{"$f":"IF(ISNA(VLOOKUP($A140,'Race 1-Men'!$N$33:$S$51,6,0)),100,VLOOKUP($A140,'Race 1-Men'!$N$33:$S$51,6,0))","v":100},{"$f":"IF(ISNA(VLOOKUP($A140,'Race 2-Men'!$N$32:$S$53,6,0)),100,VLOOKUP($A140,'Race 2-Men'!$N$32:$S$53,6,0))","v":100},{"$f":"IF(ISNA(VLOOKUP($A140,'Race 3-Men'!$N$40:$S$61,6,0)),100,VLOOKUP($A140,'Race 3-Men'!$N$40:$S$61,6,0))","v":100},{"$f":"IF(ISNA(VLOOKUP($A140,'Race 4-Men'!$N$35:$S$100,6,0)),100,VLOOKUP($A140,'Race 4-Men'!$N$35:$S$100,6,0))","v":100},{"$f":"SMALL(D140:G140,{1,2,3})","v":100},100,100,300,39]
["Chris Arnell","HRC","V40",{"$f":"IF(ISNA(VLOOKUP($A141,'Race 1-Men'!$N$33:$S$51,6,0)),100,VLOOKUP($A141,'Race 1-Men'!$N$33:$S$51,6,0))","v":13},{"$f":"IF(ISNA(VLOOKUP($A141,'Race 2-Men'!$N$32:$S$53,6,0)),100,VLOOKUP($A141,'Race 2-Men'!$N$32:$S$53,6,0))","v":100},{"$f":"IF(ISNA(VLOOKUP($A141,'Race 3-Men'!$N$40:$S$61,6,0)),100,VLOOKUP($A141,'Race 3-Men'!$N$40:$S$61,6,0))","v":100},{"$f":"IF(ISNA(VLOOKUP($A141,'Race 4-Men'!$N$35:$S$100,6,0)),100,VLOOKUP($A141,'Race 4-Men'!$N$35:$S$100,6,0))","v":15},{"$f":"SMALL(D141:G141,{1,2,3})","v":13},15,100,128,20]
["Christopher Donnelly","HRC","V40",{"$f":"IF(ISNA(VLOOKUP($A142,'Race 1-Men'!$N$33:$S$51,6,0)),100,VLOOKUP($A142,'Race 1-Men'!$N$33:$S$51,6,0))","v":100},{"$f":"IF(ISNA(VLOOKUP($A142,'Race 2-Men'!$N$32:$S$53,6,0)),100,VLOOKUP($A142,'Race 2-Men'!$N$32:$S$53,6,0))","v":100},{"$f":"IF(ISNA(VLOOKUP($A142,'Race 3-Men'!$N$40:$S$61,6,0)),100,VLOOKUP($A142,'Race 3-Men'!$N$40:$S$61,6,0))","v":100},{"$f":"IF(ISNA(VLOOKUP($A142,'Race 4-Men'!$N$35:$S$100,6,0)),100,VLOOKUP($A142,'Race 4-Men'!$N$35:$S$100,6,0))","v":100},{"$f":"SMALL(D142:G142,{1,2,3})","v":100},100,100,300,39]
["Christopher Ganney","WJ","V40",{"$f":"IF(ISNA(VLOOKUP($A143,'Race 1-Men'!$N$33:$S$51,6,0)),100,VLOOKUP($A143,'Race 1-Men'!$N$33:$S$51,6,0))","v":100},{"$f":"IF(ISNA(VLOOKUP($A143,'Race 2-Men'!$N$32:$S$53,6,0)),100,VLOOKUP($A143,'Race 2-Men'!$N$32:$S$53,6,0))","v":100},{"$f":"IF(ISNA(VLOOKUP($A143,'Race 3-Men'!$N$40:$S$61,6,0)),100,VLOOKUP($A143,'Race 3-Men'!$N$40:$S$61,6,0))","v":100},{"$f":"IF(ISNA(VLOOKUP($A143,'Race 4-Men'!$N$35:$S$100,6,0)),100,VLOOKUP($A143,'Race 4-Men'!$N$35:$S$100,6,0))","v":100},{"$f":"SMALL(D143:G143,{1,2,3})","v":100},100,100,300,39]
["Colin Baker","HRC","V40",{"$f":"IF(ISNA(VLOOKUP($A144,'Race 1-Men'!$N$33:$S$51,6,0)),100,VLOOKUP($A144,'Race 1-Men'!$N$33:$S$51,6,0))","v":100},{"$f":"IF(ISNA(VLOOKUP($A144,'Race 2-Men'!$N$32:$S$53,6,0)),100,VLOOKUP($A144,'Race 2-Men'!$N$32:$S$53,6,0))","v":100},{"$f":"IF(ISNA(VLOOKUP($A144,'Race 3-Men'!$N$40:$S$61,6,0)),100,VLOOKUP($A144,'Race 3-Men'!$N$40:$S$61,6,0))","v":8},{"$f":"IF(ISNA(VLOOKUP($A144,'Race 4-Men'!$N$35:$S$100,6,0)),100,VLOOKUP($A144,'Race 4-Men'!$N$35:$S$100,6,0))","v":7},{"$f":"SMALL(D144:G144,{1,2,3})","v":7},8,100,115,16]
["Dan Winter","HRC","V40",{"$f":"IF(ISNA(VLOOKUP($A145,'Race 1-Men'!$N$33:$S$51,6,0)),100,VLOOKUP($A145,'Race 1-Men'!$N$33:$S$51,6,0))","v":100},{"$f":"IF(ISNA(VLOOKUP($A145,'Race 2-Men'!$N$32:$S$53,6,0)),100,VLOOKUP($A145,'Race 2-Men'!$N$32:$S$53,6,0))","v":100},{"$f":"IF(ISNA(VLOOKUP($A145,'Race 3-Men'!$N$40:$S$61,6,0)),100,VLOOKUP($A145,'Race 3-Men'!$N$40:$S$61,6,0))","v":100},{"$f":"IF(ISNA(VLOOKUP($A145,'Race 4-Men'!$N$35:$S$100,6,0)),100,VLOOKUP($A145,'Race 4-Men'!$N$35:$S$100,6,0))","v":100},{"$f":"SMALL(D145:G145,{1,2,3})","v":100},100,100,300,39]
["Daniel Beazley","BS","V40",{"$f":"IF(ISNA(VLOOKUP($A146,'Race 1-Men'!$N$33:$S$51,6,0)),100,VLOOKUP($A146,'Race 1-Men'!$N$33:$S$51,6,0))","v":100},{"$f":"IF(ISNA(VLOOKUP($A146,'Race 2-Men'!$N$32:$S$53,6,0)),100,VLOOKUP($A146,'Race 2-Men'!$N$32:$S$53,6,0))","v":100},{"$f":"IF(ISNA(VLOOKUP($A146,'Race 3-Men'!$N$40:$S$61,6,0)),100,VLOOKUP($A146,'Race 3-Men'!$N$40:$S$61,6,0))","v":100},{"$f":"IF(ISNA(VLOOKUP($A146,'Race 4-Men'!$N$35:$S$100,6,0)),100,VLOOKUP($A146,'Race 4-Men'!$N$35:$S$100,6,0))","v":100},{"$f":"SMALL(D146:G146,{1,2,3})","v":100},100,100,300,39]
["Daniel Brayshaw","BS","V40",{"$f":"IF(ISNA(VLOOKUP($A147,'Race 1-Men'!$N$33:$S$51,6,0)),100,VLOOKUP($A147,'Race 1-Men'!$N$33:$S$51,6,0))","v":100},{"$f":"IF(ISNA(VLOOKUP($A147,'Race 2-Men'!$N$32:$S$53,6,0)),100,VLOOKUP($A147,'Race 2-Men'!$N$32:$S$53,6,0))","v":100},{"$f":"IF(ISNA(VLOOKUP($A147,'Race 3-Men'!$N$40:$S$61,6,0)),100,VLOOKUP($A147,'Race 3-Men'!$N$40:$S$61,6,0))","v":100},{"$f":"IF(ISNA(VLOOKUP($A147,'Race 4-Men'!$N$35:$S$100,6,0)),100,VLOOKUP($A147,'Race 4-Men'!$N$35:$S$100,6,0))","v":100},{"$f":"SMALL(D147:G147,{1,2,3})","v":100},100,100,300,39]
["Daniel Hume","BS","V40",{"$f":"IF(ISNA(VLOOKUP($A148,'Race 1-Men'!$N$33:$S$51,6,0)),100,VLOOKUP($A148,'Race 1-Men'!$N$33:$S$51,6,0))","v":100},{"$f":"IF(ISNA(VLOOKUP($A148,'Race 2-Men'!$N$32:$S$53,6,0)),100,VLOOKUP($A148,'Race 2-Men'!$N$32:$S$53,6,0))","v":100},{"$f":"IF(ISNA(VLOOKUP($A148,'Race 3-Men'!$N$40:$S$61,6,0)),100,VLOOKUP($A148,'Race 3-Men'!$N$40:$S$61,6,0))","v":100},{"$f":"IF(ISNA(VLOOKUP($A148,'Race 4-Men'!$N$35:$S$100,6,0)),100,VLOOKUP($A148,'Race 4-Men'!$N$35:$S$100,6,0))","v":100},{"$f":"SMALL(D148:G148,{1,2,3})","v":100},100,100,300,39]
["Daniel Vaughan","SS","V40",{"$f":"IF(ISNA(VLOOKUP($A149,'Race 1-Men'!$N$33:$S$51,6,0)),100,VLOOKUP($A149,'Race 1-Men'!$N$33:$S$51,6,0))","v":100},{"$f":"IF(ISNA(VLOOKUP($A149,'Race 2-Men'!$N$32:$S$53,6,0)),100,VLOOKUP($A149,'Race 2-Men'!$N$32:$S$53,6,0))","v":100},{"$f":"IF(ISNA(VLOOKUP($A149,'Race 3-Men'!$N$40:$S$61,6,0)),100,VLOOKUP($A149,'Race 3-Men'!$N$40:$S$61,6,0))","v":100},{"$f":"IF(ISNA(VLOOKUP($A149,'Race 4-Men'!$N$35:$S$100,6,0)),100,VLOOKUP($A149,'Race 4-Men'!$N$35:$S$100,6,0))","v":100},{"$f":"SMALL(D149:G149,{1,2,3})","v":100},100,100,300,39]
["Darren Barnes","SS","V40",{"$f":"IF(ISNA(VLOOKUP($A150,'Race 1-Men'!$N$33:$S$51,6,0)),100,VLOOKUP($A150,'Race 1-Men'!$N$33:$S$51,6,0))","v":100},{"$f":"IF(ISNA(VLOOKUP($A150,'Race 2-Men'!$N$32:$S$53,6,0)),100,VLOOKUP($A150,'Race 2-Men'!$N$32:$S$53,6,0))","v":100},{"$f":"IF(ISNA(VLOOKUP($A150,'Race 3-Men'!$N$40:$S$61,6,0)),100,VLOOKUP($A150,'Race 3-Men'!$N$40:$S$61,6,0))","v":100},{"$f":"IF(ISNA(VLOOKUP($A150,'Race 4-Men'!$N$35:$S$100,6,0)),100,VLOOKUP($A150,'Race 4-Men'!$N$35:$S$100,6,0))","v":100},{"$f":"SMALL(D150:G150,{1,2,3})","v":100},100,100,300,39]
["Dave Smith","HRC","V40",{"$f":"IF(ISNA(VLOOKUP($A151,'Race 1-Men'!$N$33:$S$51,6,0)),100,VLOOKUP($A151,'Race 1-Men'!$N$33:$S$51,6,0))","v":100},{"$f":"IF(ISNA(VLOOKUP($A151,'Race 2-Men'!$N$32:$S$53,6,0)),100,VLOOKUP($A151,'Race 2-Men'!$N$32:$S$53,6,0))","v":100},{"$f":"IF(ISNA(VLOOKUP($A151,'Race 3-Men'!$N$40:$S$61,6,0)),100,VLOOKUP($A151,'Race 3-Men'!$N$40:$S$61,6,0))","v":100},{"$f":"IF(ISNA(VLOOKUP($A151,'Race 4-Men'!$N$35:$S$100,6,0)),100,VLOOKUP($A151,'Race 4-Men'!$N$35:$S$100,6,0))","v":100},{"$f":"SMALL(D151:G151,{1,2,3})","v":100},100,100,300,39]
["David Bulmer","SS","V40",{"$f":"IF(ISNA(VLOOKUP($A152,'Race 1-Men'!$N$33:$S$51,6,0)),100,VLOOKUP($A152,'Race 1-Men'!$N$33:$S$51,6,0))","v":100},{"$f":"IF(ISNA(VLOOKUP($A152,'Race 2-Men'!$N$32:$S$53,6,0)),100,VLOOKUP($A152,'Race 2-Men'!$N$32:$S$53,6,0))","v":100},{"$f":"IF(ISNA(VLOOKUP($A152,'Race 3-Men'!$N$40:$S$61,6,0)),100,VLOOKUP($A152,'Race 3-Men'!$N$40:$S$61,6,0))","v":100},{"$f":"IF(ISNA(VLOOKUP($A152,'Race 4-Men'!$N$35:$S$100,6,0)),100,VLOOKUP($A152,'Race 4-Men'!$N$35:$S$100,6,0))","v":100},{"$f":"SMALL(D152:G152,{1,2,3})","v":100},100,100,300,39]
["David Goosetree","HRC","V40",{"$f":"IF(ISNA(VLOOKUP($A153,'Race 1-Men'!$N$33:$S$51,6,0)),100,VLOOKUP($A153,'Race 1-Men'!$N$33:$S$51,6,0))","v":100},{"$f":"IF(ISNA(VLOOKUP($A153,'Race 2-Men'!$N$32:$S$53,6,0)),100,VLOOKUP($A153,'Race 2-Men'!$N$32:$S$53,6,0))","v":100},{"$f":"IF(ISNA(VLOOKUP($A153,'Race 3-Men'!$N$40:$S$61,6,0)),100,VLOOKUP($A153,'Race 3-Men'!$N$40:$S$61,6,0))","v":100},{"$f":"IF(ISNA(VLOOKUP($A153,'Race 4-Men'!$N$35:$S$100,6,0)),100,VLOOKUP($A153,'Race 4-Men'!$N$35:$S$100,6,0))","v":100},{"$f":"SMALL(D153:G153,{1,2,3})","v":100},100,100,300,39]
["David Raimondo","SS","V40",{"$f":"IF(ISNA(VLOOKUP($A154,'Race 1-Men'!$N$33:$S$51,6,0)),100,VLOOKUP($A154,'Race 1-Men'!$N$33:$S$51,6,0))","v":14},{"$f":"IF(ISNA(VLOOKUP($A154,'Race 2-Men'!$N$32:$S$53,6,0)),100,VLOOKUP($A154,'Race 2-Men'!$N$32:$S$53,6,0))","v":7},{"$f":"IF(ISNA(VLOOKUP($A154,'Race 3-Men'!$N$40:$S$61,6,0)),100,VLOOKUP($A154,'Race 3-Men'!$N$40:$S$61,6,0))","v":100},{"$f":"IF(ISNA(VLOOKUP($A154,'Race 4-Men'!$N$35:$S$100,6,0)),100,VLOOKUP($A154,'Race 4-Men'!$N$35:$S$100,6,0))","v":100},{"$f":"SMALL(D154:G154,{1,2,3})","v":7},14,100,121,18]
["David Sinnet","SS","V40",{"$f":"IF(ISNA(VLOOKUP($A155,'Race 1-Men'!$N$33:$S$51,6,0)),100,VLOOKUP($A155,'Race 1-Men'!$N$33:$S$51,6,0))","v":100},{"$f":"IF(ISNA(VLOOKUP($A155,'Race 2-Men'!$N$32:$S$53,6,0)),100,VLOOKUP($A155,'Race 2-Men'!$N$32:$S$53,6,0))","v":100},{"$f":"IF(ISNA(VLOOKUP($A155,'Race 3-Men'!$N$40:$S$61,6,0)),100,VLOOKUP($A155,'Race 3-Men'!$N$40:$S$61,6,0))","v":100},{"$f":"IF(ISNA(VLOOKUP($A155,'Race 4-Men'!$N$35:$S$100,6,0)),100,VLOOKUP($A155,'Race 4-Men'!$N$35:$S$100,6,0))","v":100},{"$f":"SMALL(D155:G155,{1,2,3})","v":100},100,100,300,39]
["Edward Benyon","SS","V40",{"$f":"IF(ISNA(VLOOKUP($A156,'Race 1-Men'!$N$33:$S$51,6,0)),100,VLOOKUP($A156,'Race 1-Men'!$N$33:$S$51,6,0))","v":100},{"$f":"IF(ISNA(VLOOKUP($A156,'Race 2-Men'!$N$32:$S$53,6,0)),100,VLOOKUP($A156,'Race 2-Men'!$N$32:$S$53,6,0))","v":100},{"$f":"IF(ISNA(VLOOKUP($A156,'Race 3-Men'!$N$40:$S$61,6,0)),100,VLOOKUP($A156,'Race 3-Men'!$N$40:$S$61,6,0))","v":100},{"$f":"IF(ISNA(VLOOKUP($A156,'Race 4-Men'!$N$35:$S$100,6,0)),100,VLOOKUP($A156,'Race 4-Men'!$N$35:$S$100,6,0))","v":100},{"$f":"SMALL(D156:G156,{1,2,3})","v":100},100,100,300,39]
["Etienne Faure","BS","V40",{"$f":"IF(ISNA(VLOOKUP($A157,'Race 1-Men'!$N$33:$S$51,6,0)),100,VLOOKUP($A157,'Race 1-Men'!$N$33:$S$51,6,0))","v":100},{"$f":"IF(ISNA(VLOOKUP($A157,'Race 2-Men'!$N$32:$S$53,6,0)),100,VLOOKUP($A157,'Race 2-Men'!$N$32:$S$53,6,0))","v":100},{"$f":"IF(ISNA(VLOOKUP($A157,'Race 3-Men'!$N$40:$S$61,6,0)),100,VLOOKUP($A157,'Race 3-Men'!$N$40:$S$61,6,0))","v":100},{"$f":"IF(ISNA(VLOOKUP($A157,'Race 4-Men'!$N$35:$S$100,6,0)),100,VLOOKUP($A157,'Race 4-Men'!$N$35:$S$100,6,0))","v":13},{"$f":"SMALL(D157:G157,{1,2,3})","v":13},100,100,213,29]
["Glen Wilson","HRC","V40",{"$f":"IF(ISNA(VLOOKUP($A158,'Race 1-Men'!$N$33:$S$51,6,0)),100,VLOOKUP($A158,'Race 1-Men'!$N$33:$S$51,6,0))","v":100},{"$f":"IF(ISNA(VLOOKUP($A158,'Race 2-Men'!$N$32:$S$53,6,0)),100,VLOOKUP($A158,'Race 2-Men'!$N$32:$S$53,6,0))","v":100},{"$f":"IF(ISNA(VLOOKUP($A158,'Race 3-Men'!$N$40:$S$61,6,0)),100,VLOOKUP($A158,'Race 3-Men'!$N$40:$S$61,6,0))","v":100},{"$f":"IF(ISNA(VLOOKUP($A158,'Race 4-Men'!$N$35:$S$100,6,0)),100,VLOOKUP($A158,'Race 4-Men'!$N$35:$S$100,6,0))","v":100},{"$f":"SMALL(D158:G158,{1,2,3})","v":100},100,100,300,39]
["Iain Bulloch","HRC","V40",{"$f":"IF(ISNA(VLOOKUP($A159,'Race 1-Men'!$N$33:$S$51,6,0)),100,VLOOKUP($A159,'Race 1-Men'!$N$33:$S$51,6,0))","v":100},{"$f":"IF(ISNA(VLOOKUP($A159,'Race 2-Men'!$N$32:$S$53,6,0)),100,VLOOKUP($A159,'Race 2-Men'!$N$32:$S$53,6,0))","v":100},{"$f":"IF(ISNA(VLOOKUP($A159,'Race 3-Men'!$N$40:$S$61,6,0)),100,VLOOKUP($A159,'Race 3-Men'!$N$40:$S$61,6,0))","v":100},{"$f":"IF(ISNA(VLOOKUP($A159,'Race 4-Men'!$N$35:$S$100,6,0)),100,VLOOKUP($A159,'Race 4-Men'!$N$35:$S$100,6,0))","v":100},{"$f":"SMALL(D159:G159,{1,2,3})","v":100},100,100,300,39]
["Iain Henley","SS","V40",{"$f":"IF(ISNA(VLOOKUP($A160,'Race 1-Men'!$N$33:$S$51,6,0)),100,VLOOKUP($A160,'Race 1-Men'!$N$33:$S$51,6,0))","v":100},{"$f":"IF(ISNA(VLOOKUP($A160,'Race 2-Men'!$N$32:$S$53,6,0)),100,VLOOKUP($A160,'Race 2-Men'!$N$32:$S$53,6,0))","v":4},{"$f":"IF(ISNA(VLOOKUP($A160,'Race 3-Men'!$N$40:$S$61,6,0)),100,VLOOKUP($A160,'Race 3-Men'!$N$40:$S$61,6,0))","v":5},{"$f":"IF(ISNA(VLOOKUP($A160,'Race 4-Men'!$N$35:$S$100,6,0)),100,VLOOKUP($A160,'Race 4-Men'!$N$35:$S$100,6,0))","v":100},{"$f":"SMALL(D160:G160,{1,2,3})","v":4},5,100,109,15]
["Ian Griffiths","BS","V40",{"$f":"IF(ISNA(VLOOKUP($A161,'Race 1-Men'!$N$33:$S$51,6,0)),100,VLOOKUP($A161,'Race 1-Men'!$N$33:$S$51,6,0))","v":100},{"$f":"IF(ISNA(VLOOKUP($A161,'Race 2-Men'!$N$32:$S$53,6,0)),100,VLOOKUP($A161,'Race 2-Men'!$N$32:$S$53,6,0))","v":100},{"$f":"IF(ISNA(VLOOKUP($A161,'Race 3-Men'!$N$40:$S$61,6,0)),100,VLOOKUP($A161,'Race 3-Men'!$N$40:$S$61,6,0))","v":100},{"$f":"IF(ISNA(VLOOKUP($A161,'Race 4-Men'!$N$35:$S$100,6,0)),100,VLOOKUP($A161,'Race 4-Men'!$N$35:$S$100,6,0))","v":100},{"$f":"SMALL(D161:G161,{1,2,3})","v":100},100,100,300,39]
["Jack Oliver","WJ","V40",{"$f":"IF(ISNA(VLOOKUP($A162,'Race 1-Men'!$N$33:$S$51,6,0)),100,VLOOKUP($A162,'Race 1-Men'!$N$33:$S$51,6,0))","v":100},{"$f":"IF(ISNA(VLOOKUP($A162,'Race 2-Men'!$N$32:$S$53,6,0)),100,VLOOKUP($A162,'Race 2-Men'!$N$32:$S$53,6,0))","v":100},{"$f":"IF(ISNA(VLOOKUP($A162,'Race 3-Men'!$N$40:$S$61,6,0)),100,VLOOKUP($A162,'Race 3-Men'!$N$40:$S$61,6,0))","v":100},{"$f":"IF(ISNA(VLOOKUP($A162,'Race 4-Men'!$N$35:$S$100,6,0)),100,VLOOKUP($A162,'Race 4-Men'!$N$35:$S$100,6,0))","v":100},{"$f":"SMALL(D162:G162,{1,2,3})","v":100},100,100,300,39]
["James Delve","BS","V40",{"$f":"IF(ISNA(VLOOKUP($A163,'Race 1-Men'!$N$33:$S$51,6,0)),100,VLOOKUP($A163,'Race 1-Men'!$N$33:$S$51,6,0))","v":8},{"$f":"IF(ISNA(VLOOKUP($A163,'Race 2-Men'!$N$32:$S$53,6,0)),100,VLOOKUP($A163,'Race 2-Men'!$N$32:$S$53,6,0))","v":17},{"$f":"IF(ISNA(VLOOKUP($A163,'Race 3-Men'!$N$40:$S$61,6,0)),100,VLOOKUP($A163,'Race 3-Men'!$N$40:$S$61,6,0))","v":14},{"$f":"IF(ISNA(VLOOKUP($A163,'Race 4-Men'!$N$35:$S$100,6,0)),100,VLOOKUP($A163,'Race 4-Men'!$N$35:$S$100,6,0))","v":9},{"$f":"SMALL(D163:G163,{1,2,3})","v":8},9,14,31,9]
["James Dowsett","HRC","V40",{"$f":"IF(ISNA(VLOOKUP($A164,'Race 1-Men'!$N$33:$S$51,6,0)),100,VLOOKUP($A164,'Race 1-Men'!$N$33:$S$51,6,0))","v":100},{"$f":"IF(ISNA(VLOOKUP($A164,'Race 2-Men'!$N$32:$S$53,6,0)),100,VLOOKUP($A164,'Race 2-Men'!$N$32:$S$53,6,0))","v":18},{"$f":"IF(ISNA(VLOOKUP($A164,'Race 3-Men'!$N$40:$S$61,6,0)),100,VLOOKUP($A164,'Race 3-Men'!$N$40:$S$61,6,0))","v":13},{"$f":"IF(ISNA(VLOOKUP($A164,'Race 4-Men'!$N$35:$S$100,6,0)),100,VLOOKUP($A164,'Race 4-Men'!$N$35:$S$100,6,0))","v":12},{"$f":"SMALL(D164:G164,{1,2,3})","v":12},13,18,43,12]
["James Northrop","HRC","V40",{"$f":"IF(ISNA(VLOOKUP($A165,'Race 1-Men'!$N$33:$S$51,6,0)),100,VLOOKUP($A165,'Race 1-Men'!$N$33:$S$51,6,0))","v":100},{"$f":"IF(ISNA(VLOOKUP($A165,'Race 2-Men'!$N$32:$S$53,6,0)),100,VLOOKUP($A165,'Race 2-Men'!$N$32:$S$53,6,0))","v":100},{"$f":"IF(ISNA(VLOOKUP($A165,'Race 3-Men'!$N$40:$S$61,6,0)),100,VLOOKUP($A165,'Race 3-Men'!$N$40:$S$61,6,0))","v":100},{"$f":"IF(ISNA(VLOOKUP($A165,'Race 4-Men'!$N$35:$S$100,6,0)),100,VLOOKUP($A165,'Race 4-Men'!$N$35:$S$100,6,0))","v":100},{"$f":"SMALL(D165:G165,{1,2,3})","v":100},100,100,300,39]
["James Reed","WJ","V40",{"$f":"IF(ISNA(VLOOKUP($A166,'Race 1-Men'!$N$33:$S$51,6,0)),100,VLOOKUP($A166,'Race 1-Men'!$N$33:$S$51,6,0))","v":100},{"$f":"IF(ISNA(VLOOKUP($A166,'Race 2-Men'!$N$32:$S$53,6,0)),100,VLOOKUP($A166,'Race 2-Men'!$N$32:$S$53,6,0))","v":100},{"$f":"IF(ISNA(VLOOKUP($A166,'Race 3-Men'!$N$40:$S$61,6,0)),100,VLOOKUP($A166,'Race 3-Men'!$N$40:$S$61,6,0))","v":100},{"$f":"IF(ISNA(VLOOKUP($A166,'Race 4-Men'!$N$35:$S$100,6,0)),100,VLOOKUP($A166,'Race 4-Men'!$N$35:$S$100,6,0))","v":100},{"$f":"SMALL(D166:G166,{1,2,3})","v":100},100,100,300,39]
["Jamie Higgs","WJ","V40",{"$f":"IF(ISNA(VLOOKUP($A167,'Race 1-Men'!$N$33:$S$51,6,0)),100,VLOOKUP($A167,'Race 1-Men'!$N$33:$S$51,6,0))","v":7},{"$f":"IF(ISNA(VLOOKUP($A167,'Race 2-Men'!$N$32:$S$53,6,0)),100,VLOOKUP($A167,'Race 2-Men'!$N$32:$S$53,6,0))","v":9},{"$f":"IF(ISNA(VLOOKUP($A167,'Race 3-Men'!$N$40:$S$61,6,0)),100,VLOOKUP($A167,'Race 3-Men'!$N$40:$S$61,6,0))","v":9},{"$f":"IF(ISNA(VLOOKUP($A167,'Race 4-Men'!$N$35:$S$100,6,0)),100,VLOOKUP($A167,'Race 4-Men'!$N$35:$S$100,6,0))","v":6},{"$f":"SMALL(D167:G167,{1,2,3})","v":6},7,9,22,6]
["Jamie Olsen Ferreira","HRC","V40",{"$f":"IF(ISNA(VLOOKUP($A168,'Race 1-Men'!$N$33:$S$51,6,0)),100,VLOOKUP($A168,'Race 1-Men'!$N$33:$S$51,6,0))","v":100},{"$f":"IF(ISNA(VLOOKUP($A168,'Race 2-Men'!$N$32:$S$53,6,0)),100,VLOOKUP($A168,'Race 2-Men'!$N$32:$S$53,6,0))","v":100},{"$f":"IF(ISNA(VLOOKUP($A168,'Race 3-Men'!$N$40:$S$61,6,0)),100,VLOOKUP($A168,'Race 3-Men'!$N$40:$S$61,6,0))","v":20},{"$f":"IF(ISNA(VLOOKUP($A168,'Race 4-Men'!$N$35:$S$100,6,0)),100,VLOOKUP($A168,'Race 4-Men'!$N$35:$S$100,6,0))","v":18},{"$f":"SMALL(D168:G168,{1,2,3})","v":18},20,100,138,23]
["Jamie Smith","BS","V40",{"$f":"IF(ISNA(VLOOKUP($A169,'Race 1-Men'!$N$33:$S$51,6,0)),100,VLOOKUP($A169,'Race 1-Men'!$N$33:$S$51,6,0))","v":15},{"$f":"IF(ISNA(VLOOKUP($A169,'Race 2-Men'!$N$32:$S$53,6,0)),100,VLOOKUP($A169,'Race 2-Men'!$N$32:$S$53,6,0))","v":100},{"$f":"IF(ISNA(VLOOKUP($A169,'Race 3-Men'!$N$40:$S$61,6,0)),100,VLOOKUP($A169,'Race 3-Men'!$N$40:$S$61,6,0))","v":19},{"$f":"IF(ISNA(VLOOKUP($A169,'Race 4-Men'!$N$35:$S$100,6,0)),100,VLOOKUP($A169,'Race 4-Men'!$N$35:$S$100,6,0))","v":17},{"$f":"SMALL(D169:G169,{1,2,3})","v":15},17,19,51,13]
["Jason Champion","WJ","V40",{"$f":"IF(ISNA(VLOOKUP($A170,'Race 1-Men'!$N$33:$S$51,6,0)),100,VLOOKUP($A170,'Race 1-Men'!$N$33:$S$51,6,0))","v":100},{"$f":"IF(ISNA(VLOOKUP($A170,'Race 2-Men'!$N$32:$S$53,6,0)),100,VLOOKUP($A170,'Race 2-Men'!$N$32:$S$53,6,0))","v":100},{"$f":"IF(ISNA(VLOOKUP($A170,'Race 3-Men'!$N$40:$S$61,6,0)),100,VLOOKUP($A170,'Race 3-Men'!$N$40:$S$61,6,0))","v":100},{"$f":"IF(ISNA(VLOOKUP($A170,'Race 4-Men'!$N$35:$S$100,6,0)),100,VLOOKUP($A170,'Race 4-Men'!$N$35:$S$100,6,0))","v":100},{"$f":"SMALL(D170:G170,{1,2,3})","v":100},100,100,300,39]
["Jeff Mace","HRC","V40",{"$f":"IF(ISNA(VLOOKUP($A171,'Race 1-Men'!$N$33:$S$51,6,0)),100,VLOOKUP($A171,'Race 1-Men'!$N$33:$S$51,6,0))","v":100},{"$f":"IF(ISNA(VLOOKUP($A171,'Race 2-Men'!$N$32:$S$53,6,0)),100,VLOOKUP($A171,'Race 2-Men'!$N$32:$S$53,6,0))","v":100},{"$f":"IF(ISNA(VLOOKUP($A171,'Race 3-Men'!$N$40:$S$61,6,0)),100,VLOOKUP($A171,'Race 3-Men'!$N$40:$S$61,6,0))","v":100},{"$f":"IF(ISNA(VLOOKUP($A171,'Race 4-Men'!$N$35:$S$100,6,0)),100,VLOOKUP($A171,'Race 4-Men'!$N$35:$S$100,6,0))","v":100},{"$f":"SMALL(D171:G171,{1,2,3})","v":100},100,100,300,39]
["Jess Melville","BS","V40",{"$f":"IF(ISNA(VLOOKUP($A172,'Race 1-Men'!$N$33:$S$51,6,0)),100,VLOOKUP($A172,'Race 1-Men'!$N$33:$S$51,6,0))","v":100},{"$f":"IF(ISNA(VLOOKUP($A172,'Race 2-Men'!$N$32:$S$53,6,0)),100,VLOOKUP($A172,'Race 2-Men'!$N$32:$S$53,6,0))","v":100},{"$f":"IF(ISNA(VLOOKUP($A172,'Race 3-Men'!$N$40:$S$61,6,0)),100,VLOOKUP($A172,'Race 3-Men'!$N$40:$S$61,6,0))","v":100},{"$f":"IF(ISNA(VLOOKUP($A172,'Race 4-Men'!$N$35:$S$100,6,0)),100,VLOOKUP($A172,'Race 4-Men'!$N$35:$S$100,6,0))","v":100},{"$f":"SMALL(D172:G172,{1,2,3})","v":100},100,100,300,39]
["John Edwards","HRC","V40",{"$f":"IF(ISNA(VLOOKUP($A173,'Race 1-Men'!$N$33:$S$51,6,0)),100,VLOOKUP($A173,'Race 1-Men'!$N$33:$S$51,6,0))","v":100},{"$f":"IF(ISNA(VLOOKUP($A173,'Race 2-Men'!$N$32:$S$53,6,0)),100,VLOOKUP($A173,'Race 2-Men'!$N$32:$S$53,6,0))","v":100},{"$f":"IF(ISNA(VLOOKUP($A173,'Race 3-Men'!$N$40:$S$61,6,0)),100,VLOOKUP($A173,'Race 3-Men'!$N$40:$S$61,6,0))","v":100},{"$f":"IF(ISNA(VLOOKUP($A173,'Race 4-Men'!$N$35:$S$100,6,0)),100,VLOOKUP($A173,'Race 4-Men'!$N$35:$S$100,6,0))","v":100},{"$f":"SMALL(D173:G173,{1,2,3})","v":100},100,100,300,39]
["John Heanley","SS","V40",{"$f":"IF(ISNA(VLOOKUP($A174,'Race 1-Men'!$N$33:$S$51,6,0)),100,VLOOKUP($A174,'Race 1-Men'!$N$33:$S$51,6,0))","v":100},{"$f":"IF(ISNA(VLOOKUP($A174,'Race 2-Men'!$N$32:$S$53,6,0)),100,VLOOKUP($A174,'Race 2-Men'!$N$32:$S$53,6,0))","v":100},{"$f":"IF(ISNA(VLOOKUP($A174,'Race 3-Men'!$N$40:$S$61,6,0)),100,VLOOKUP($A174,'Race 3-Men'!$N$40:$S$61,6,0))","v":100},{"$f":"IF(ISNA(VLOOKUP($A174,'Race 4-Men'!$N$35:$S$100,6,0)),100,VLOOKUP($A174,'Race 4-Men'!$N$35:$S$100,6,0))","v":100},{"$f":"SMALL(D174:G174,{1,2,3})","v":100},100,100,300,39]
["John McCarthy","HRC","V40",{"$f":"IF(ISNA(VLOOKUP($A175,'Race 1-Men'!$N$33:$S$51,6,0)),100,VLOOKUP($A175,'Race 1-Men'!$N$33:$S$51,6,0))","v":100},{"$f":"IF(ISNA(VLOOKUP($A175,'Race 2-Men'!$N$32:$S$53,6,0)),100,VLOOKUP($A175,'Race 2-Men'!$N$32:$S$53,6,0))","v":100},{"$f":"IF(ISNA(VLOOKUP($A175,'Race 3-Men'!$N$40:$S$61,6,0)),100,VLOOKUP($A175,'Race 3-Men'!$N$40:$S$61,6,0))","v":100},{"$f":"IF(ISNA(VLOOKUP($A175,'Race 4-Men'!$N$35:$S$100,6,0)),100,VLOOKUP($A175,'Race 4-Men'!$N$35:$S$100,6,0))","v":100},{"$f":"SMALL(D175:G175,{1,2,3})","v":100},100,100,300,39]
["John Wright","BS","V40",{"$f":"IF(ISNA(VLOOKUP($A176,'Race 1-Men'!$N$33:$S$51,6,0)),100,VLOOKUP($A176,'Race 1-Men'!$N$33:$S$51,6,0))","v":100},{"$f":"IF(ISNA(VLOOKUP($A176,'Race 2-Men'!$N$32:$S$53,6,0)),100,VLOOKUP($A176,'Race 2-Men'!$N$32:$S$53,6,0))","v":100},{"$f":"IF(ISNA(VLOOKUP($A176,'Race 3-Men'!$N$40:$S$61,6,0)),100,VLOOKUP($A176,'Race 3-Men'!$N$40:$S$61,6,0))","v":100},{"$f":"IF(ISNA(VLOOKUP($A176,'Race 4-Men'!$N$35:$S$100,6,0)),100,VLOOKUP($A176,'Race 4-Men'!$N$35:$S$100,6,0))","v":100},{"$f":"SMALL(D176:G176,{1,2,3})","v":100},100,100,300,39]
["Jon Steadman","HRC","V40",{"$f":"IF(ISNA(VLOOKUP($A177,'Race 1-Men'!$N$33:$S$51,6,0)),100,VLOOKUP($A177,'Race 1-Men'!$N$33:$S$51,6,0))","v":100},{"$f":"IF(ISNA(VLOOKUP($A177,'Race 2-Men'!$N$32:$S$53,6,0)),100,VLOOKUP($A177,'Race 2-Men'!$N$32:$S$53,6,0))","v":100},{"$f":"IF(ISNA(VLOOKUP($A177,'Race 3-Men'!$N$40:$S$61,6,0)),100,VLOOKUP($A177,'Race 3-Men'!$N$40:$S$61,6,0))","v":100},{"$f":"IF(ISNA(VLOOKUP($A177,'Race 4-Men'!$N$35:$S$100,6,0)),100,VLOOKUP($A177,'Race 4-Men'!$N$35:$S$100,6,0))","v":14},{"$f":"SMALL(D177:G177,{1,2,3})","v":14},100,100,214,31]
["Jon Williams","WJ","V40",{"$f":"IF(ISNA(VLOOKUP($A178,'Race 1-Men'!$N$33:$S$51,6,0)),100,VLOOKUP($A178,'Race 1-Men'!$N$33:$S$51,6,0))","v":100},{"$f":"IF(ISNA(VLOOKUP($A178,'Race 2-Men'!$N$32:$S$53,6,0)),100,VLOOKUP($A178,'Race 2-Men'!$N$32:$S$53,6,0))","v":6},{"$f":"IF(ISNA(VLOOKUP($A178,'Race 3-Men'!$N$40:$S$61,6,0)),100,VLOOKUP($A178,'Race 3-Men'!$N$40:$S$61,6,0))","v":6},{"$f":"IF(ISNA(VLOOKUP($A178,'Race 4-Men'!$N$35:$S$100,6,0)),100,VLOOKUP($A178,'Race 4-Men'!$N$35:$S$100,6,0))","v":5},{"$f":"SMALL(D178:G178,{1,2,3})","v":5},6,6,17,5]
["Jonathan Bristowe","HRC","V40",{"$f":"IF(ISNA(VLOOKUP($A179,'Race 1-Men'!$N$33:$S$51,6,0)),100,VLOOKUP($A179,'Race 1-Men'!$N$33:$S$51,6,0))","v":100},{"$f":"IF(ISNA(VLOOKUP($A179,'Race 2-Men'!$N$32:$S$53,6,0)),100,VLOOKUP($A179,'Race 2-Men'!$N$32:$S$53,6,0))","v":100},{"$f":"IF(ISNA(VLOOKUP($A179,'Race 3-Men'!$N$40:$S$61,6,0)),100,VLOOKUP($A179,'Race 3-Men'!$N$40:$S$61,6,0))","v":100},{"$f":"IF(ISNA(VLOOKUP($A179,'Race 4-Men'!$N$35:$S$100,6,0)),100,VLOOKUP($A179,'Race 4-Men'!$N$35:$S$100,6,0))","v":100},{"$f":"SMALL(D179:G179,{1,2,3})","v":100},100,100,300,39]
["Jonathan Hall","WJ","V40",{"$f":"IF(ISNA(VLOOKUP($A180,'Race 1-Men'!$N$33:$S$51,6,0)),100,VLOOKUP($A180,'Race 1-Men'!$N$33:$S$51,6,0))","v":100},{"$f":"IF(ISNA(VLOOKUP($A180,'Race 2-Men'!$N$32:$S$53,6,0)),100,VLOOKUP($A180,'Race 2-Men'!$N$32:$S$53,6,0))","v":100},{"$f":"IF(ISNA(VLOOKUP($A180,'Race 3-Men'!$N$40:$S$61,6,0)),100,VLOOKUP($A180,'Race 3-Men'!$N$40:$S$61,6,0))","v":100},{"$f":"IF(ISNA(VLOOKUP($A180,'Race 4-Men'!$N$35:$S$100,6,0)),100,VLOOKUP($A180,'Race 4-Men'!$N$35:$S$100,6,0))","v":100},{"$f":"SMALL(D180:G180,{1,2,3})","v":100},100,100,300,39]
["Justin Attelsey","SS","V40",{"$f":"IF(ISNA(VLOOKUP($A181,'Race 1-Men'!$N$33:$S$51,6,0)),100,VLOOKUP($A181,'Race 1-Men'!$N$33:$S$51,6,0))","v":100},{"$f":"IF(ISNA(VLOOKUP($A181,'Race 2-Men'!$N$32:$S$53,6,0)),100,VLOOKUP($A181,'Race 2-Men'!$N$32:$S$53,6,0))","v":100},{"$f":"IF(ISNA(VLOOKUP($A181,'Race 3-Men'!$N$40:$S$61,6,0)),100,VLOOKUP($A181,'Race 3-Men'!$N$40:$S$61,6,0))","v":100},{"$f":"IF(ISNA(VLOOKUP($A181,'Race 4-Men'!$N$35:$S$100,6,0)),100,VLOOKUP($A181,'Race 4-Men'!$N$35:$S$100,6,0))","v":100},{"$f":"SMALL(D181:G181,{1,2,3})","v":100},100,100,300,39]
["Keir Mann","BS","V40",{"$f":"IF(ISNA(VLOOKUP($A182,'Race 1-Men'!$N$33:$S$51,6,0)),100,VLOOKUP($A182,'Race 1-Men'!$N$33:$S$51,6,0))","v":100},{"$f":"IF(ISNA(VLOOKUP($A182,'Race 2-Men'!$N$32:$S$53,6,0)),100,VLOOKUP($A182,'Race 2-Men'!$N$32:$S$53,6,0))","v":100},{"$f":"IF(ISNA(VLOOKUP($A182,'Race 3-Men'!$N$40:$S$61,6,0)),100,VLOOKUP($A182,'Race 3-Men'!$N$40:$S$61,6,0))","v":100},{"$f":"IF(ISNA(VLOOKUP($A182,'Race 4-Men'!$N$35:$S$100,6,0)),100,VLOOKUP($A182,'Race 4-Men'!$N$35:$S$100,6,0))","v":100},{"$f":"SMALL(D182:G182,{1,2,3})","v":100},100,100,300,39]
["Kevin Francis","WJ","V40",{"$f":"IF(ISNA(VLOOKUP($A183,'Race 1-Men'!$N$33:$S$51,6,0)),100,VLOOKUP($A183,'Race 1-Men'!$N$33:$S$51,6,0))","v":2},{"$f":"IF(ISNA(VLOOKUP($A183,'Race 2-Men'!$N$32:$S$53,6,0)),100,VLOOKUP($A183,'Race 2-Men'!$N$32:$S$53,6,0))","v":2},{"$f":"IF(ISNA(VLOOKUP($A183,'Race 3-Men'!$N$40:$S$61,6,0)),100,VLOOKUP($A183,'Race 3-Men'!$N$40:$S$61,6,0))","v":2},{"$f":"IF(ISNA(VLOOKUP($A183,'Race 4-Men'!$N$35:$S$100,6,0)),100,VLOOKUP($A183,'Race 4-Men'!$N$35:$S$100,6,0))","v":1},{"$f":"SMALL(D183:G183,{1,2,3})","v":1},2,2,5,2]
["Kevin Mully","BS","V40",{"$f":"IF(ISNA(VLOOKUP($A184,'Race 1-Men'!$N$33:$S$51,6,0)),100,VLOOKUP($A184,'Race 1-Men'!$N$33:$S$51,6,0))","v":100},{"$f":"IF(ISNA(VLOOKUP($A184,'Race 2-Men'!$N$32:$S$53,6,0)),100,VLOOKUP($A184,'Race 2-Men'!$N$32:$S$53,6,0))","v":100},{"$f":"IF(ISNA(VLOOKUP($A184,'Race 3-Men'!$N$40:$S$61,6,0)),100,VLOOKUP($A184,'Race 3-Men'!$N$40:$S$61,6,0))","v":100},{"$f":"IF(ISNA(VLOOKUP($A184,'Race 4-Men'!$N$35:$S$100,6,0)),100,VLOOKUP($A184,'Race 4-Men'!$N$35:$S$100,6,0))","v":3},{"$f":"SMALL(D184:G184,{1,2,3})","v":3},100,100,203,{"$f":"RANK(K184,$K$119:$K$270,1)","v":25}]
["Kevin Peacock","HRC","V40",{"$f":"IF(ISNA(VLOOKUP($A185,'Race 1-Men'!$N$33:$S$51,6,0)),100,VLOOKUP($A185,'Race 1-Men'!$N$33:$S$51,6,0))","v":100},{"$f":"IF(ISNA(VLOOKUP($A185,'Race 2-Men'!$N$32:$S$53,6,0)),100,VLOOKUP($A185,'Race 2-Men'!$N$32:$S$53,6,0))","v":100},{"$f":"IF(ISNA(VLOOKUP($A185,'Race 3-Men'!$N$40:$S$61,6,0)),100,VLOOKUP($A185,'Race 3-Men'!$N$40:$S$61,6,0))","v":100},{"$f":"IF(ISNA(VLOOKUP($A185,'Race 4-Men'!$N$35:$S$100,6,0)),100,VLOOKUP($A185,'Race 4-Men'!$N$35:$S$100,6,0))","v":100},{"$f":"SMALL(D185:G185,{1,2,3})","v":100},100,100,300,39]
["Kirk Crudgington","HRC","V40",{"$f":"IF(ISNA(VLOOKUP($A186,'Race 1-Men'!$N$33:$S$51,6,0)),100,VLOOKUP($A186,'Race 1-Men'!$N$33:$S$51,6,0))","v":100},{"$f":"IF(ISNA(VLOOKUP($A186,'Race 2-Men'!$N$32:$S$53,6,0)),100,VLOOKUP($A186,'Race 2-Men'!$N$32:$S$53,6,0))","v":100},{"$f":"IF(ISNA(VLOOKUP($A186,'Race 3-Men'!$N$40:$S$61,6,0)),100,VLOOKUP($A186,'Race 3-Men'!$N$40:$S$61,6,0))","v":100},{"$f":"IF(ISNA(VLOOKUP($A186,'Race 4-Men'!$N$35:$S$100,6,0)),100,VLOOKUP($A186,'Race 4-Men'!$N$35:$S$100,6,0))","v":100},{"$f":"SMALL(D186:G186,{1,2,3})","v":100},100,100,300,39]
["Laurence Foote","BS","V40",{"$f":"IF(ISNA(VLOOKUP($A187,'Race 1-Men'!$N$33:$S$51,6,0)),100,VLOOKUP($A187,'Race 1-Men'!$N$33:$S$51,6,0))","v":100},{"$f":"IF(ISNA(VLOOKUP($A187,'Race 2-Men'!$N$32:$S$53,6,0)),100,VLOOKUP($A187,'Race 2-Men'!$N$32:$S$53,6,0))","v":100},{"$f":"IF(ISNA(VLOOKUP($A187,'Race 3-Men'!$N$40:$S$61,6,0)),100,VLOOKUP($A187,'Race 3-Men'!$N$40:$S$61,6,0))","v":100},{"$f":"IF(ISNA(VLOOKUP($A187,'Race 4-Men'!$N$35:$S$100,6,0)),100,VLOOKUP($A187,'Race 4-Men'!$N$35:$S$100,6,0))","v":100},{"$f":"SMALL(D187:G187,{1,2,3})","v":100},100,100,300,39]
["Lee Gamble","SS","V40",{"$f":"IF(ISNA(VLOOKUP($A188,'Race 1-Men'!$N$33:$S$51,6,0)),100,VLOOKUP($A188,'Race 1-Men'!$N$33:$S$51,6,0))","v":100},{"$f":"IF(ISNA(VLOOKUP($A188,'Race 2-Men'!$N$32:$S$53,6,0)),100,VLOOKUP($A188,'Race 2-Men'!$N$32:$S$53,6,0))","v":100},{"$f":"IF(ISNA(VLOOKUP($A188,'Race 3-Men'!$N$40:$S$61,6,0)),100,VLOOKUP($A188,'Race 3-Men'!$N$40:$S$61,6,0))","v":100},{"$f":"IF(ISNA(VLOOKUP($A188,'Race 4-Men'!$N$35:$S$100,6,0)),100,VLOOKUP($A188,'Race 4-Men'!$N$35:$S$100,6,0))","v":100},{"$f":"SMALL(D188:G188,{1,2,3})","v":100},100,100,300,39]
["Lee Kirby","BS","V40",{"$f":"IF(ISNA(VLOOKUP($A189,'Race 1-Men'!$N$33:$S$51,6,0)),100,VLOOKUP($A189,'Race 1-Men'!$N$33:$S$51,6,0))","v":100},{"$f":"IF(ISNA(VLOOKUP($A189,'Race 2-Men'!$N$32:$S$53,6,0)),100,VLOOKUP($A189,'Race 2-Men'!$N$32:$S$53,6,0))","v":100},{"$f":"IF(ISNA(VLOOKUP($A189,'Race 3-Men'!$N$40:$S$61,6,0)),100,VLOOKUP($A189,'Race 3-Men'!$N$40:$S$61,6,0))","v":100},{"$f":"IF(ISNA(VLOOKUP($A189,'Race 4-Men'!$N$35:$S$100,6,0)),100,VLOOKUP($A189,'Race 4-Men'!$N$35:$S$100,6,0))","v":100},{"$f":"SMALL(D189:G189,{1,2,3})","v":100},100,100,300,39]
["Lee Rhodes","BS","V40",{"$f":"IF(ISNA(VLOOKUP($A190,'Race 1-Men'!$N$33:$S$51,6,0)),100,VLOOKUP($A190,'Race 1-Men'!$N$33:$S$51,6,0))","v":100},{"$f":"IF(ISNA(VLOOKUP($A190,'Race 2-Men'!$N$32:$S$53,6,0)),100,VLOOKUP($A190,'Race 2-Men'!$N$32:$S$53,6,0))","v":100},{"$f":"IF(ISNA(VLOOKUP($A190,'Race 3-Men'!$N$40:$S$61,6,0)),100,VLOOKUP($A190,'Race 3-Men'!$N$40:$S$61,6,0))","v":100},{"$f":"IF(ISNA(VLOOKUP($A190,'Race 4-Men'!$N$35:$S$100,6,0)),100,VLOOKUP($A190,'Race 4-Men'!$N$35:$S$100,6,0))","v":100},{"$f":"SMALL(D190:G190,{1,2,3})","v":100},100,100,300,39]
["Lee Vass","BS","V40",{"$f":"IF(ISNA(VLOOKUP($A191,'Race 1-Men'!$N$33:$S$51,6,0)),100,VLOOKUP($A191,'Race 1-Men'!$N$33:$S$51,6,0))","v":100},{"$f":"IF(ISNA(VLOOKUP($A191,'Race 2-Men'!$N$32:$S$53,6,0)),100,VLOOKUP($A191,'Race 2-Men'!$N$32:$S$53,6,0))","v":100},{"$f":"IF(ISNA(VLOOKUP($A191,'Race 3-Men'!$N$40:$S$61,6,0)),100,VLOOKUP($A191,'Race 3-Men'!$N$40:$S$61,6,0))","v":100},{"$f":"IF(ISNA(VLOOKUP($A191,'Race 4-Men'!$N$35:$S$100,6,0)),100,VLOOKUP($A191,'Race 4-Men'!$N$35:$S$100,6,0))","v":100},{"$f":"SMALL(D191:G191,{1,2,3})","v":100},100,100,300,39]
["Lee Webber","HRC","V40",{"$f":"IF(ISNA(VLOOKUP($A192,'Race 1-Men'!$N$33:$S$51,6,0)),100,VLOOKUP($A192,'Race 1-Men'!$N$33:$S$51,6,0))","v":9},{"$f":"IF(ISNA(VLOOKUP($A192,'Race 2-Men'!$N$32:$S$53,6,0)),100,VLOOKUP($A192,'Race 2-Men'!$N$32:$S$53,6,0))","v":21},{"$f":"IF(ISNA(VLOOKUP($A192,'Race 3-Men'!$N$40:$S$61,6,0)),100,VLOOKUP($A192,'Race 3-Men'!$N$40:$S$61,6,0))","v":11},{"$f":"IF(ISNA(VLOOKUP($A192,'Race 4-Men'!$N$35:$S$100,6,0)),100,VLOOKUP($A192,'Race 4-Men'!$N$35:$S$100,6,0))","v":8},{"$f":"SMALL(D192:G192,{1,2,3})","v":8},9,11,28,8]
["Leigh Brown","HRC","V40",{"$f":"IF(ISNA(VLOOKUP($A193,'Race 1-Men'!$N$33:$S$51,6,0)),100,VLOOKUP($A193,'Race 1-Men'!$N$33:$S$51,6,0))","v":100},{"$f":"IF(ISNA(VLOOKUP($A193,'Race 2-Men'!$N$32:$S$53,6,0)),100,VLOOKUP($A193,'Race 2-Men'!$N$32:$S$53,6,0))","v":100},{"$f":"IF(ISNA(VLOOKUP($A193,'Race 3-Men'!$N$40:$S$61,6,0)),100,VLOOKUP($A193,'Race 3-Men'!$N$40:$S$61,6,0))","v":100},{"$f":"IF(ISNA(VLOOKUP($A193,'Race 4-Men'!$N$35:$S$100,6,0)),100,VLOOKUP($A193,'Race 4-Men'!$N$35:$S$100,6,0))","v":100},{"$f":"SMALL(D193:G193,{1,2,3})","v":100},100,100,300,39]
["Liam Dillon","BS","V40",{"$f":"IF(ISNA(VLOOKUP($A194,'Race 1-Men'!$N$33:$S$51,6,0)),100,VLOOKUP($A194,'Race 1-Men'!$N$33:$S$51,6,0))","v":100},{"$f":"IF(ISNA(VLOOKUP($A194,'Race 2-Men'!$N$32:$S$53,6,0)),100,VLOOKUP($A194,'Race 2-Men'!$N$32:$S$53,6,0))","v":100},{"$f":"IF(ISNA(VLOOKUP($A194,'Race 3-Men'!$N$40:$S$61,6,0)),100,VLOOKUP($A194,'Race 3-Men'!$N$40:$S$61,6,0))","v":100},{"$f":"IF(ISNA(VLOOKUP($A194,'Race 4-Men'!$N$35:$S$100,6,0)),100,VLOOKUP($A194,'Race 4-Men'!$N$35:$S$100,6,0))","v":100},{"$f":"SMALL(D194:G194,{1,2,3})","v":100},100,100,300,39]
["Liam Sheils","BS","V40",{"$f":"IF(ISNA(VLOOKUP($A195,'Race 1-Men'!$N$33:$S$51,6,0)),100,VLOOKUP($A195,'Race 1-Men'!$N$33:$S$51,6,0))","v":100},{"$f":"IF(ISNA(VLOOKUP($A195,'Race 2-Men'!$N$32:$S$53,6,0)),100,VLOOKUP($A195,'Race 2-Men'!$N$32:$S$53,6,0))","v":100},{"$f":"IF(ISNA(VLOOKUP($A195,'Race 3-Men'!$N$40:$S$61,6,0)),100,VLOOKUP($A195,'Race 3-Men'!$N$40:$S$61,6,0))","v":100},{"$f":"IF(ISNA(VLOOKUP($A195,'Race 4-Men'!$N$35:$S$100,6,0)),100,VLOOKUP($A195,'Race 4-Men'!$N$35:$S$100,6,0))","v":100},{"$f":"SMALL(D195:G195,{1,2,3})","v":100},100,100,300,39]
["Marc Witham","HRC","V40",{"$f":"IF(ISNA(VLOOKUP($A196,'Race 1-Men'!$N$33:$S$51,6,0)),100,VLOOKUP($A196,'Race 1-Men'!$N$33:$S$51,6,0))","v":100},{"$f":"IF(ISNA(VLOOKUP($A196,'Race 2-Men'!$N$32:$S$53,6,0)),100,VLOOKUP($A196,'Race 2-Men'!$N$32:$S$53,6,0))","v":100},{"$f":"IF(ISNA(VLOOKUP($A196,'Race 3-Men'!$N$40:$S$61,6,0)),100,VLOOKUP($A196,'Race 3-Men'!$N$40:$S$61,6,0))","v":100},{"$f":"IF(ISNA(VLOOKUP($A196,'Race 4-Men'!$N$35:$S$100,6,0)),100,VLOOKUP($A196,'Race 4-Men'!$N$35:$S$100,6,0))","v":100},{"$f":"SMALL(D196:G196,{1,2,3})","v":100},100,100,{"$f":"SUM(H196:J196)","v":300},39]
["Mark Anderton","SS","V40",{"$f":"IF(ISNA(VLOOKUP($A197,'Race 1-Men'!$N$33:$S$51,6,0)),100,VLOOKUP($A197,'Race 1-Men'!$N$33:$S$51,6,0))","v":100},{"$f":"IF(ISNA(VLOOKUP($A197,'Race 2-Men'!$N$32:$S$53,6,0)),100,VLOOKUP($A197,'Race 2-Men'!$N$32:$S$53,6,0))","v":100},{"$f":"IF(ISNA(VLOOKUP($A197,'Race 3-Men'!$N$40:$S$61,6,0)),100,VLOOKUP($A197,'Race 3-Men'!$N$40:$S$61,6,0))","v":100},{"$f":"IF(ISNA(VLOOKUP($A197,'Race 4-Men'!$N$35:$S$100,6,0)),100,VLOOKUP($A197,'Race 4-Men'!$N$35:$S$100,6,0))","v":100},{"$f":"SMALL(D197:G197,{1,2,3})","v":100},100,100,300,39]
["Mark Coutts","SS","V40",{"$f":"IF(ISNA(VLOOKUP($A198,'Race 1-Men'!$N$33:$S$51,6,0)),100,VLOOKUP($A198,'Race 1-Men'!$N$33:$S$51,6,0))","v":100},{"$f":"IF(ISNA(VLOOKUP($A198,'Race 2-Men'!$N$32:$S$53,6,0)),100,VLOOKUP($A198,'Race 2-Men'!$N$32:$S$53,6,0))","v":100},{"$f":"IF(ISNA(VLOOKUP($A198,'Race 3-Men'!$N$40:$S$61,6,0)),100,VLOOKUP($A198,'Race 3-Men'!$N$40:$S$61,6,0))","v":100},{"$f":"IF(ISNA(VLOOKUP($A198,'Race 4-Men'!$N$35:$S$100,6,0)),100,VLOOKUP($A198,'Race 4-Men'!$N$35:$S$100,6,0))","v":100},{"$f":"SMALL(D198:G198,{1,2,3})","v":100},100,100,300,39]
["Mark Palmer","BS","V40",{"$f":"IF(ISNA(VLOOKUP($A199,'Race 1-Men'!$N$33:$S$51,6,0)),100,VLOOKUP($A199,'Race 1-Men'!$N$33:$S$51,6,0))","v":100},{"$f":"IF(ISNA(VLOOKUP($A199,'Race 2-Men'!$N$32:$S$53,6,0)),100,VLOOKUP($A199,'Race 2-Men'!$N$32:$S$53,6,0))","v":100},{"$f":"IF(ISNA(VLOOKUP($A199,'Race 3-Men'!$N$40:$S$61,6,0)),100,VLOOKUP($A199,'Race 3-Men'!$N$40:$S$61,6,0))","v":100},{"$f":"IF(ISNA(VLOOKUP($A199,'Race 4-Men'!$N$35:$S$100,6,0)),100,VLOOKUP($A199,'Race 4-Men'!$N$35:$S$100,6,0))","v":100},{"$f":"SMALL(D199:G199,{1,2,3})","v":100},100,100,300,39]
["Mark Unwin","HRC","V40",{"$f":"IF(ISNA(VLOOKUP($A200,'Race 1-Men'!$N$33:$S$51,6,0)),100,VLOOKUP($A200,'Race 1-Men'!$N$33:$S$51,6,0))","v":16},{"$f":"IF(ISNA(VLOOKUP($A200,'Race 2-Men'!$N$32:$S$53,6,0)),100,VLOOKUP($A200,'Race 2-Men'!$N$32:$S$53,6,0))","v":100},{"$f":"IF(ISNA(VLOOKUP($A200,'Race 3-Men'!$N$40:$S$61,6,0)),100,VLOOKUP($A200,'Race 3-Men'!$N$40:$S$61,6,0))","v":100},{"$f":"IF(ISNA(VLOOKUP($A200,'Race 4-Men'!$N$35:$S$100,6,0)),100,VLOOKUP($A200,'Race 4-Men'!$N$35:$S$100,6,0))","v":100},{"$f":"SMALL(D200:G200,{1,2,3})","v":16},100,100,216,34]
["Martin Cockerell","BS","V40",{"$f":"IF(ISNA(VLOOKUP($A201,'Race 1-Men'!$N$33:$S$51,6,0)),100,VLOOKUP($A201,'Race 1-Men'!$N$33:$S$51,6,0))","v":100},{"$f":"IF(ISNA(VLOOKUP($A201,'Race 2-Men'!$N$32:$S$53,6,0)),100,VLOOKUP($A201,'Race 2-Men'!$N$32:$S$53,6,0))","v":100},{"$f":"IF(ISNA(VLOOKUP($A201,'Race 3-Men'!$N$40:$S$61,6,0)),100,VLOOKUP($A201,'Race 3-Men'!$N$40:$S$61,6,0))","v":100},{"$f":"IF(ISNA(VLOOKUP($A201,'Race 4-Men'!$N$35:$S$100,6,0)),100,VLOOKUP($A201,'Race 4-Men'!$N$35:$S$100,6,0))","v":100},{"$f":"SMALL(D201:G201,{1,2,3})","v":100},100,100,300,39]
["Matt Earl","WJ","V40",{"$f":"IF(ISNA(VLOOKUP($A202,'Race 1-Men'!$N$33:$S$51,6,0)),100,VLOOKUP($A202,'Race 1-Men'!$N$33:$S$51,6,0))","v":100},{"$f":"IF(ISNA(VLOOKUP($A202,'Race 2-Men'!$N$32:$S$53,6,0)),100,VLOOKUP($A202,'Race 2-Men'!$N$32:$S$53,6,0))","v":100},{"$f":"IF(ISNA(VLOOKUP($A202,'Race 3-Men'!$N$40:$S$61,6,0)),100,VLOOKUP($A202,'Race 3-Men'!$N$40:$S$61,6,0))","v":18},{"$f":"IF(ISNA(VLOOKUP($A202,'Race 4-Men'!$N$35:$S$100,6,0)),100,VLOOKUP($A202,'Race 4-Men'!$N$35:$S$100,6,0))","v":16},{"$f":"SMALL(D202:G202,{1,2,3})","v":16},18,100,134,21]
["Matthew Billis","SS","V40",{"$f":"IF(ISNA(VLOOKUP($A203,'Race 1-Men'!$N$33:$S$51,6,0)),100,VLOOKUP($A203,'Race 1-Men'!$N$33:$S$51,6,0))","v":100},{"$f":"IF(ISNA(VLOOKUP($A203,'Race 2-Men'!$N$32:$S$53,6,0)),100,VLOOKUP($A203,'Race 2-Men'!$N$32:$S$53,6,0))","v":13},{"$f":"IF(ISNA(VLOOKUP($A203,'Race 3-Men'!$N$40:$S$61,6,0)),100,VLOOKUP($A203,'Race 3-Men'!$N$40:$S$61,6,0))","v":100},{"$f":"IF(ISNA(VLOOKUP($A203,'Race 4-Men'!$N$35:$S$100,6,0)),100,VLOOKUP($A203,'Race 4-Men'!$N$35:$S$100,6,0))","v":100},{"$f":"SMALL(D203:G203,{1,2,3})","v":13},100,100,213,29]
["Matthew Coaker","BS","V40",{"$f":"IF(ISNA(VLOOKUP($A204,'Race 1-Men'!$N$33:$S$51,6,0)),100,VLOOKUP($A204,'Race 1-Men'!$N$33:$S$51,6,0))","v":100},{"$f":"IF(ISNA(VLOOKUP($A204,'Race 2-Men'!$N$32:$S$53,6,0)),100,VLOOKUP($A204,'Race 2-Men'!$N$32:$S$53,6,0))","v":100},{"$f":"IF(ISNA(VLOOKUP($A204,'Race 3-Men'!$N$40:$S$61,6,0)),100,VLOOKUP($A204,'Race 3-Men'!$N$40:$S$61,6,0))","v":100},{"$f":"IF(ISNA(VLOOKUP($A204,'Race 4-Men'!$N$35:$S$100,6,0)),100,VLOOKUP($A204,'Race 4-Men'!$N$35:$S$100,6,0))","v":100},{"$f":"SMALL(D204:G204,{1,2,3})","v":100},100,100,300,39]
["Matthew Cole","BS","V40",{"$f":"IF(ISNA(VLOOKUP($A205,'Race 1-Men'!$N$33:$S$51,6,0)),100,VLOOKUP($A205,'Race 1-Men'!$N$33:$S$51,6,0))","v":100},{"$f":"IF(ISNA(VLOOKUP($A205,'Race 2-Men'!$N$32:$S$53,6,0)),100,VLOOKUP($A205,'Race 2-Men'!$N$32:$S$53,6,0))","v":15},{"$f":"IF(ISNA(VLOOKUP($A205,'Race 3-Men'!$N$40:$S$61,6,0)),100,VLOOKUP($A205,'Race 3-Men'!$N$40:$S$61,6,0))","v":100},{"$f":"IF(ISNA(VLOOKUP($A205,'Race 4-Men'!$N$35:$S$100,6,0)),100,VLOOKUP($A205,'Race 4-Men'!$N$35:$S$100,6,0))","v":100},{"$f":"SMALL(D205:G205,{1,2,3})","v":15},100,100,215,33]
["Matthew Cummings","WJ","V40",{"$f":"IF(ISNA(VLOOKUP($A206,'Race 1-Men'!$N$33:$S$51,6,0)),100,VLOOKUP($A206,'Race 1-Men'!$N$33:$S$51,6,0))","v":100},{"$f":"IF(ISNA(VLOOKUP($A206,'Race 2-Men'!$N$32:$S$53,6,0)),100,VLOOKUP($A206,'Race 2-Men'!$N$32:$S$53,6,0))","v":100},{"$f":"IF(ISNA(VLOOKUP($A206,'Race 3-Men'!$N$40:$S$61,6,0)),100,VLOOKUP($A206,'Race 3-Men'!$N$40:$S$61,6,0))","v":100},{"$f":"IF(ISNA(VLOOKUP($A206,'Race 4-Men'!$N$35:$S$100,6,0)),100,VLOOKUP($A206,'Race 4-Men'!$N$35:$S$100,6,0))","v":100},{"$f":"SMALL(D206:G206,{1,2,3})","v":100},100,100,300,39]
["Matthew Spires","HRC","V40",{"$f":"IF(ISNA(VLOOKUP($A207,'Race 1-Men'!$N$33:$S$51,6,0)),100,VLOOKUP($A207,'Race 1-Men'!$N$33:$S$51,6,0))","v":17},{"$f":"IF(ISNA(VLOOKUP($A207,'Race 2-Men'!$N$32:$S$53,6,0)),100,VLOOKUP($A207,'Race 2-Men'!$N$32:$S$53,6,0))","v":100},{"$f":"IF(ISNA(VLOOKUP($A207,'Race 3-Men'!$N$40:$S$61,6,0)),100,VLOOKUP($A207,'Race 3-Men'!$N$40:$S$61,6,0))","v":100},{"$f":"IF(ISNA(VLOOKUP($A207,'Race 4-Men'!$N$35:$S$100,6,0)),100,VLOOKUP($A207,'Race 4-Men'!$N$35:$S$100,6,0))","v":100},{"$f":"SMALL(D207:G207,{1,2,3})","v":17},100,100,217,35]
["Matthew Switzer","SS","V40",{"$f":"IF(ISNA(VLOOKUP($A208,'Race 1-Men'!$N$33:$S$51,6,0)),100,VLOOKUP($A208,'Race 1-Men'!$N$33:$S$51,6,0))","v":100},{"$f":"IF(ISNA(VLOOKUP($A208,'Race 2-Men'!$N$32:$S$53,6,0)),100,VLOOKUP($A208,'Race 2-Men'!$N$32:$S$53,6,0))","v":100},{"$f":"IF(ISNA(VLOOKUP($A208,'Race 3-Men'!$N$40:$S$61,6,0)),100,VLOOKUP($A208,'Race 3-Men'!$N$40:$S$61,6,0))","v":100},{"$f":"IF(ISNA(VLOOKUP($A208,'Race 4-Men'!$N$35:$S$100,6,0)),100,VLOOKUP($A208,'Race 4-Men'!$N$35:$S$100,6,0))","v":100},{"$f":"SMALL(D208:G208,{1,2,3})","v":100},100,100,300,39]
["Matthieu Militon","BS","V40",{"$f":"IF(ISNA(VLOOKUP($A209,'Race 1-Men'!$N$33:$S$51,6,0)),100,VLOOKUP($A209,'Race 1-Men'!$N$33:$S$51,6,0))","v":100},{"$f":"IF(ISNA(VLOOKUP($A209,'Race 2-Men'!$N$32:$S$53,6,0)),100,VLOOKUP($A209,'Race 2-Men'!$N$32:$S$53,6,0))","v":100},{"$f":"IF(ISNA(VLOOKUP($A209,'Race 3-Men'!$N$40:$S$61,6,0)),100,VLOOKUP($A209,'Race 3-Men'!$N$40:$S$61,6,0))","v":100},{"$f":"IF(ISNA(VLOOKUP($A209,'Race 4-Men'!$N$35:$S$100,6,0)),100,VLOOKUP($A209,'Race 4-Men'!$N$35:$S$100,6,0))","v":100},{"$f":"SMALL(D209:G209,{1,2,3})","v":100},100,100,300,39]
["Mayank Seth","SS","V40",{"$f":"IF(ISNA(VLOOKUP($A210,'Race 1-Men'!$N$33:$S$51,6,0)),100,VLOOKUP($A210,'Race 1-Men'!$N$33:$S$51,6,0))","v":100},{"$f":"IF(ISNA(VLOOKUP($A210,'Race 2-Men'!$N$32:$S$53,6,0)),100,VLOOKUP($A210,'Race 2-Men'!$N$32:$S$53,6,0))","v":100},{"$f":"IF(ISNA(VLOOKUP($A210,'Race 3-Men'!$N$40:$S$61,6,0)),100,VLOOKUP($A210,'Race 3-Men'!$N$40:$S$61,6,0))","v":100},{"$f":"IF(ISNA(VLOOKUP($A210,'Race 4-Men'!$N$35:$S$100,6,0)),100,VLOOKUP($A210,'Race 4-Men'!$N$35:$S$100,6,0))","v":100},{"$f":"SMALL(D210:G210,{1,2,3})","v":100},100,100,300,39]
["Melvyn Grimwood","BS","V40",{"$f":"IF(ISNA(VLOOKUP($A211,'Race 1-Men'!$N$33:$S$51,6,0)),100,VLOOKUP($A211,'Race 1-Men'!$N$33:$S$51,6,0))","v":100},{"$f":"IF(ISNA(VLOOKUP($A211,'Race 2-Men'!$N$32:$S$53,6,0)),100,VLOOKUP($A211,'Race 2-Men'!$N$32:$S$53,6,0))","v":100},{"$f":"IF(ISNA(VLOOKUP($A211,'Race 3-Men'!$N$40:$S$61,6,0)),100,VLOOKUP($A211,'Race 3-Men'!$N$40:$S$61,6,0))","v":100},{"$f":"IF(ISNA(VLOOKUP($A211,'Race 4-Men'!$N$35:$S$100,6,0)),100,VLOOKUP($A211,'Race 4-Men'!$N$35:$S$100,6,0))","v":100},{"$f":"SMALL(D211:G211,{1,2,3})","v":100},100,100,300,39]
["Michael Robey","HRC","V40",{"$f":"IF(ISNA(VLOOKUP($A212,'Race 1-Men'!$N$33:$S$51,6,0)),100,VLOOKUP($A212,'Race 1-Men'!$N$33:$S$51,6,0))","v":18},{"$f":"IF(ISNA(VLOOKUP($A212,'Race 2-Men'!$N$32:$S$53,6,0)),100,VLOOKUP($A212,'Race 2-Men'!$N$32:$S$53,6,0))","v":100},{"$f":"IF(ISNA(VLOOKUP($A212,'Race 3-Men'!$N$40:$S$61,6,0)),100,VLOOKUP($A212,'Race 3-Men'!$N$40:$S$61,6,0))","v":100},{"$f":"IF(ISNA(VLOOKUP($A212,'Race 4-Men'!$N$35:$S$100,6,0)),100,VLOOKUP($A212,'Race 4-Men'!$N$35:$S$100,6,0))","v":100},{"$f":"SMALL(D212:G212,{1,2,3})","v":18},100,100,218,37]
["Neil Bull","WJ","V40",{"$f":"IF(ISNA(VLOOKUP($A213,'Race 1-Men'!$N$33:$S$51,6,0)),100,VLOOKUP($A213,'Race 1-Men'!$N$33:$S$51,6,0))","v":100},{"$f":"IF(ISNA(VLOOKUP($A213,'Race 2-Men'!$N$32:$S$53,6,0)),100,VLOOKUP($A213,'Race 2-Men'!$N$32:$S$53,6,0))","v":8},{"$f":"IF(ISNA(VLOOKUP($A213,'Race 3-Men'!$N$40:$S$61,6,0)),100,VLOOKUP($A213,'Race 3-Men'!$N$40:$S$61,6,0))","v":10},{"$f":"IF(ISNA(VLOOKUP($A213,'Race 4-Men'!$N$35:$S$100,6,0)),100,VLOOKUP($A213,'Race 4-Men'!$N$35:$S$100,6,0))","v":4},{"$f":"SMALL(D213:G213,{1,2,3})","v":4},8,10,22,6]
["NEIL GAGE","BS","V40",{"$f":"IF(ISNA(VLOOKUP($A214,'Race 1-Men'!$N$33:$S$51,6,0)),100,VLOOKUP($A214,'Race 1-Men'!$N$33:$S$51,6,0))","v":100},{"$f":"IF(ISNA(VLOOKUP($A214,'Race 2-Men'!$N$32:$S$53,6,0)),100,VLOOKUP($A214,'Race 2-Men'!$N$32:$S$53,6,0))","v":100},{"$f":"IF(ISNA(VLOOKUP($A214,'Race 3-Men'!$N$40:$S$61,6,0)),100,VLOOKUP($A214,'Race 3-Men'!$N$40:$S$61,6,0))","v":17},{"$f":"IF(ISNA(VLOOKUP($A214,'Race 4-Men'!$N$35:$S$100,6,0)),100,VLOOKUP($A214,'Race 4-Men'!$N$35:$S$100,6,0))","v":100},{"$f":"SMALL(D214:G214,{1,2,3})","v":17},100,100,217,35]
["Neil Goodgame","HRC","V40",{"$f":"IF(ISNA(VLOOKUP($A215,'Race 1-Men'!$N$33:$S$51,6,0)),100,VLOOKUP($A215,'Race 1-Men'!$N$33:$S$51,6,0))","v":100},{"$f":"IF(ISNA(VLOOKUP($A215,'Race 2-Men'!$N$32:$S$53,6,0)),100,VLOOKUP($A215,'Race 2-Men'!$N$32:$S$53,6,0))","v":100},{"$f":"IF(ISNA(VLOOKUP($A215,'Race 3-Men'!$N$40:$S$61,6,0)),100,VLOOKUP($A215,'Race 3-Men'!$N$40:$S$61,6,0))","v":100},{"$f":"IF(ISNA(VLOOKUP($A215,'Race 4-Men'!$N$35:$S$100,6,0)),100,VLOOKUP($A215,'Race 4-Men'!$N$35:$S$100,6,0))","v":100},{"$f":"SMALL(D215:G215,{1,2,3})","v":100},100,100,300,39]
["Niall Sullivan","SS","V40",{"$f":"IF(ISNA(VLOOKUP($A216,'Race 1-Men'!$N$33:$S$51,6,0)),100,VLOOKUP($A216,'Race 1-Men'!$N$33:$S$51,6,0))","v":100},{"$f":"IF(ISNA(VLOOKUP($A216,'Race 2-Men'!$N$32:$S$53,6,0)),100,VLOOKUP($A216,'Race 2-Men'!$N$32:$S$53,6,0))","v":100},{"$f":"IF(ISNA(VLOOKUP($A216,'Race 3-Men'!$N$40:$S$61,6,0)),100,VLOOKUP($A216,'Race 3-Men'!$N$40:$S$61,6,0))","v":100},{"$f":"IF(ISNA(VLOOKUP($A216,'Race 4-Men'!$N$35:$S$100,6,0)),100,VLOOKUP($A216,'Race 4-Men'!$N$35:$S$100,6,0))","v":100},{"$f":"SMALL(D216:G216,{1,2,3})","v":100},100,100,300,39]
["Nicholas Egginton","WJ","V40",{"$f":"IF(ISNA(VLOOKUP($A217,'Race 1-Men'!$N$33:$S$51,6,0)),100,VLOOKUP($A217,'Race 1-Men'!$N$33:$S$51,6,0))","v":100},{"$f":"IF(ISNA(VLOOKUP($A217,'Race 2-Men'!$N$32:$S$53,6,0)),100,VLOOKUP($A217,'Race 2-Men'!$N$32:$S$53,6,0))","v":11},{"$f":"IF(ISNA(VLOOKUP($A217,'Race 3-Men'!$N$40:$S$61,6,0)),100,VLOOKUP($A217,'Race 3-Men'!$N$40:$S$61,6,0))","v":7},{"$f":"IF(ISNA(VLOOKUP($A217,'Race 4-Men'!$N$35:$S$100,6,0)),100,VLOOKUP($A217,'Race 4-Men'!$N$35:$S$100,6,0))","v":100},{"$f":"SMALL(D217:G217,{1,2,3})","v":7},11,100,118,17]
["Nick Davis","HRC","V40",{"$f":"IF(ISNA(VLOOKUP($A218,'Race 1-Men'!$N$33:$S$51,6,0)),100,VLOOKUP($A218,'Race 1-Men'!$N$33:$S$51,6,0))","v":100},{"$f":"IF(ISNA(VLOOKUP($A218,'Race 2-Men'!$N$32:$S$53,6,0)),100,VLOOKUP($A218,'Race 2-Men'!$N$32:$S$53,6,0))","v":100},{"$f":"IF(ISNA(VLOOKUP($A218,'Race 3-Men'!$N$40:$S$61,6,0)),100,VLOOKUP($A218,'Race 3-Men'!$N$40:$S$61,6,0))","v":100},{"$f":"IF(ISNA(VLOOKUP($A218,'Race 4-Men'!$N$35:$S$100,6,0)),100,VLOOKUP($A218,'Race 4-Men'!$N$35:$S$100,6,0))","v":100},{"$f":"SMALL(D218:G218,{1,2,3})","v":100},100,100,300,39]
["Nick Sansom","WJ","V40",{"$f":"IF(ISNA(VLOOKUP($A219,'Race 1-Men'!$N$33:$S$51,6,0)),100,VLOOKUP($A219,'Race 1-Men'!$N$33:$S$51,6,0))","v":100},{"$f":"IF(ISNA(VLOOKUP($A219,'Race 2-Men'!$N$32:$S$53,6,0)),100,VLOOKUP($A219,'Race 2-Men'!$N$32:$S$53,6,0))","v":20},{"$f":"IF(ISNA(VLOOKUP($A219,'Race 3-Men'!$N$40:$S$61,6,0)),100,VLOOKUP($A219,'Race 3-Men'!$N$40:$S$61,6,0))","v":16},{"$f":"IF(ISNA(VLOOKUP($A219,'Race 4-Men'!$N$35:$S$100,6,0)),100,VLOOKUP($A219,'Race 4-Men'!$N$35:$S$100,6,0))","v":100},{"$f":"SMALL(D219:G219,{1,2,3})","v":16},20,100,136,22]
["Nick White","SS","V40",{"$f":"IF(ISNA(VLOOKUP($A220,'Race 1-Men'!$N$33:$S$51,6,0)),100,VLOOKUP($A220,'Race 1-Men'!$N$33:$S$51,6,0))","v":100},{"$f":"IF(ISNA(VLOOKUP($A220,'Race 2-Men'!$N$32:$S$53,6,0)),100,VLOOKUP($A220,'Race 2-Men'!$N$32:$S$53,6,0))","v":100},{"$f":"IF(ISNA(VLOOKUP($A220,'Race 3-Men'!$N$40:$S$61,6,0)),100,VLOOKUP($A220,'Race 3-Men'!$N$40:$S$61,6,0))","v":100},{"$f":"IF(ISNA(VLOOKUP($A220,'Race 4-Men'!$N$35:$S$100,6,0)),100,VLOOKUP($A220,'Race 4-Men'!$N$35:$S$100,6,0))","v":100},{"$f":"SMALL(D220:G220,{1,2,3})","v":100},100,100,300,39]
["Nigel Barton","HRC","V40",{"$f":"IF(ISNA(VLOOKUP($A221,'Race 1-Men'!$N$33:$S$51,6,0)),100,VLOOKUP($A221,'Race 1-Men'!$N$33:$S$51,6,0))","v":100},{"$f":"IF(ISNA(VLOOKUP($A221,'Race 2-Men'!$N$32:$S$53,6,0)),100,VLOOKUP($A221,'Race 2-Men'!$N$32:$S$53,6,0))","v":100},{"$f":"IF(ISNA(VLOOKUP($A221,'Race 3-Men'!$N$40:$S$61,6,0)),100,VLOOKUP($A221,'Race 3-Men'!$N$40:$S$61,6,0))","v":100},{"$f":"IF(ISNA(VLOOKUP($A221,'Race 4-Men'!$N$35:$S$100,6,0)),100,VLOOKUP($A221,'Race 4-Men'!$N$35:$S$100,6,0))","v":100},{"$f":"SMALL(D221:G221,{1,2,3})","v":100},100,100,300,39]
["Oliver Diggins","SS","V40",{"$f":"IF(ISNA(VLOOKUP($A222,'Race 1-Men'!$N$33:$S$51,6,0)),100,VLOOKUP($A222,'Race 1-Men'!$N$33:$S$51,6,0))","v":100},{"$f":"IF(ISNA(VLOOKUP($A222,'Race 2-Men'!$N$32:$S$53,6,0)),100,VLOOKUP($A222,'Race 2-Men'!$N$32:$S$53,6,0))","v":100},{"$f":"IF(ISNA(VLOOKUP($A222,'Race 3-Men'!$N$40:$S$61,6,0)),100,VLOOKUP($A222,'Race 3-Men'!$N$40:$S$61,6,0))","v":100},{"$f":"IF(ISNA(VLOOKUP($A222,'Race 4-Men'!$N$35:$S$100,6,0)),100,VLOOKUP($A222,'Race 4-Men'!$N$35:$S$100,6,0))","v":100},{"$f":"SMALL(D222:G222,{1,2,3})","v":100},100,100,300,39]
["Owen Bailey","BS","V40",{"$f":"IF(ISNA(VLOOKUP($A223,'Race 1-Men'!$N$33:$S$51,6,0)),100,VLOOKUP($A223,'Race 1-Men'!$N$33:$S$51,6,0))","v":100},{"$f":"IF(ISNA(VLOOKUP($A223,'Race 2-Men'!$N$32:$S$53,6,0)),100,VLOOKUP($A223,'Race 2-Men'!$N$32:$S$53,6,0))","v":100},{"$f":"IF(ISNA(VLOOKUP($A223,'Race 3-Men'!$N$40:$S$61,6,0)),100,VLOOKUP($A223,'Race 3-Men'!$N$40:$S$61,6,0))","v":100},{"$f":"IF(ISNA(VLOOKUP($A223,'Race 4-Men'!$N$35:$S$100,6,0)),100,VLOOKUP($A223,'Race 4-Men'!$N$35:$S$100,6,0))","v":100},{"$f":"SMALL(D223:G223,{1,2,3})","v":100},100,100,300,39]
["Paskell Blackwell","HRC","V40",{"$f":"IF(ISNA(VLOOKUP($A224,'Race 1-Men'!$N$33:$S$51,6,0)),100,VLOOKUP($A224,'Race 1-Men'!$N$33:$S$51,6,0))","v":4},{"$f":"IF(ISNA(VLOOKUP($A224,'Race 2-Men'!$N$32:$S$53,6,0)),100,VLOOKUP($A224,'Race 2-Men'!$N$32:$S$53,6,0))","v":3},{"$f":"IF(ISNA(VLOOKUP($A224,'Race 3-Men'!$N$40:$S$61,6,0)),100,VLOOKUP($A224,'Race 3-Men'!$N$40:$S$61,6,0))","v":3},{"$f":"IF(ISNA(VLOOKUP($A224,'Race 4-Men'!$N$35:$S$100,6,0)),100,VLOOKUP($A224,'Race 4-Men'!$N$35:$S$100,6,0))","v":100},{"$f":"SMALL(D224:G224,{1,2,3})","v":3},3,4,10,3]
["Patrick Bickerton","SS","V40",{"$f":"IF(ISNA(VLOOKUP($A225,'Race 1-Men'!$N$33:$S$51,6,0)),100,VLOOKUP($A225,'Race 1-Men'!$N$33:$S$51,6,0))","v":100},{"$f":"IF(ISNA(VLOOKUP($A225,'Race 2-Men'!$N$32:$S$53,6,0)),100,VLOOKUP($A225,'Race 2-Men'!$N$32:$S$53,6,0))","v":100},{"$f":"IF(ISNA(VLOOKUP($A225,'Race 3-Men'!$N$40:$S$61,6,0)),100,VLOOKUP($A225,'Race 3-Men'!$N$40:$S$61,6,0))","v":100},{"$f":"IF(ISNA(VLOOKUP($A225,'Race 4-Men'!$N$35:$S$100,6,0)),100,VLOOKUP($A225,'Race 4-Men'!$N$35:$S$100,6,0))","v":100},{"$f":"SMALL(D225:G225,{1,2,3})","v":100},100,100,300,39]
["Paul Heuvelmans","WJ","V40",{"$f":"IF(ISNA(VLOOKUP($A226,'Race 1-Men'!$N$33:$S$51,6,0)),100,VLOOKUP($A226,'Race 1-Men'!$N$33:$S$51,6,0))","v":100},{"$f":"IF(ISNA(VLOOKUP($A226,'Race 2-Men'!$N$32:$S$53,6,0)),100,VLOOKUP($A226,'Race 2-Men'!$N$32:$S$53,6,0))","v":100},{"$f":"IF(ISNA(VLOOKUP($A226,'Race 3-Men'!$N$40:$S$61,6,0)),100,VLOOKUP($A226,'Race 3-Men'!$N$40:$S$61,6,0))","v":100},{"$f":"IF(ISNA(VLOOKUP($A226,'Race 4-Men'!$N$35:$S$100,6,0)),100,VLOOKUP($A226,'Race 4-Men'!$N$35:$S$100,6,0))","v":100},{"$f":"SMALL(D226:G226,{1,2,3})","v":100},100,100,300,39]
["Paul Johnstone","SS","V40",{"$f":"IF(ISNA(VLOOKUP($A227,'Race 1-Men'!$N$33:$S$51,6,0)),100,VLOOKUP($A227,'Race 1-Men'!$N$33:$S$51,6,0))","v":100},{"$f":"IF(ISNA(VLOOKUP($A227,'Race 2-Men'!$N$32:$S$53,6,0)),100,VLOOKUP($A227,'Race 2-Men'!$N$32:$S$53,6,0))","v":100},{"$f":"IF(ISNA(VLOOKUP($A227,'Race 3-Men'!$N$40:$S$61,6,0)),100,VLOOKUP($A227,'Race 3-Men'!$N$40:$S$61,6,0))","v":100},{"$f":"IF(ISNA(VLOOKUP($A227,'Race 4-Men'!$N$35:$S$100,6,0)),100,VLOOKUP($A227,'Race 4-Men'!$N$35:$S$100,6,0))","v":100},{"$f":"SMALL(D227:G227,{1,2,3})","v":100},100,100,300,39]
["Paul Malone","BS","V40",{"$f":"IF(ISNA(VLOOKUP($A228,'Race 1-Men'!$N$33:$S$51,6,0)),100,VLOOKUP($A228,'Race 1-Men'!$N$33:$S$51,6,0))","v":100},{"$f":"IF(ISNA(VLOOKUP($A228,'Race 2-Men'!$N$32:$S$53,6,0)),100,VLOOKUP($A228,'Race 2-Men'!$N$32:$S$53,6,0))","v":100},{"$f":"IF(ISNA(VLOOKUP($A228,'Race 3-Men'!$N$40:$S$61,6,0)),100,VLOOKUP($A228,'Race 3-Men'!$N$40:$S$61,6,0))","v":100},{"$f":"IF(ISNA(VLOOKUP($A228,'Race 4-Men'!$N$35:$S$100,6,0)),100,VLOOKUP($A228,'Race 4-Men'!$N$35:$S$100,6,0))","v":100},{"$f":"SMALL(D228:G228,{1,2,3})","v":100},100,100,300,39]
["Paul Scofield","BS","V40",{"$f":"IF(ISNA(VLOOKUP($A229,'Race 1-Men'!$N$33:$S$51,6,0)),100,VLOOKUP($A229,'Race 1-Men'!$N$33:$S$51,6,0))","v":100},{"$f":"IF(ISNA(VLOOKUP($A229,'Race 2-Men'!$N$32:$S$53,6,0)),100,VLOOKUP($A229,'Race 2-Men'!$N$32:$S$53,6,0))","v":100},{"$f":"IF(ISNA(VLOOKUP($A229,'Race 3-Men'!$N$40:$S$61,6,0)),100,VLOOKUP($A229,'Race 3-Men'!$N$40:$S$61,6,0))","v":100},{"$f":"IF(ISNA(VLOOKUP($A229,'Race 4-Men'!$N$35:$S$100,6,0)),100,VLOOKUP($A229,'Race 4-Men'!$N$35:$S$100,6,0))","v":100},{"$f":"SMALL(D229:G229,{1,2,3})","v":100},100,100,300,39]
["Pekka Aalto","BS","V40",{"$f":"IF(ISNA(VLOOKUP($A230,'Race 1-Men'!$N$33:$S$51,6,0)),100,VLOOKUP($A230,'Race 1-Men'!$N$33:$S$51,6,0))","v":100},{"$f":"IF(ISNA(VLOOKUP($A230,'Race 2-Men'!$N$32:$S$53,6,0)),100,VLOOKUP($A230,'Race 2-Men'!$N$32:$S$53,6,0))","v":100},{"$f":"IF(ISNA(VLOOKUP($A230,'Race 3-Men'!$N$40:$S$61,6,0)),100,VLOOKUP($A230,'Race 3-Men'!$N$40:$S$61,6,0))","v":100},{"$f":"IF(ISNA(VLOOKUP($A230,'Race 4-Men'!$N$35:$S$100,6,0)),100,VLOOKUP($A230,'Race 4-Men'!$N$35:$S$100,6,0))","v":100},{"$f":"SMALL(D230:G230,{1,2,3})","v":100},100,100,300,39]
["Peter Berry","HRC","V40",{"$f":"IF(ISNA(VLOOKUP($A231,'Race 1-Men'!$N$33:$S$51,6,0)),100,VLOOKUP($A231,'Race 1-Men'!$N$33:$S$51,6,0))","v":100},{"$f":"IF(ISNA(VLOOKUP($A231,'Race 2-Men'!$N$32:$S$53,6,0)),100,VLOOKUP($A231,'Race 2-Men'!$N$32:$S$53,6,0))","v":100},{"$f":"IF(ISNA(VLOOKUP($A231,'Race 3-Men'!$N$40:$S$61,6,0)),100,VLOOKUP($A231,'Race 3-Men'!$N$40:$S$61,6,0))","v":100},{"$f":"IF(ISNA(VLOOKUP($A231,'Race 4-Men'!$N$35:$S$100,6,0)),100,VLOOKUP($A231,'Race 4-Men'!$N$35:$S$100,6,0))","v":100},{"$f":"SMALL(D231:G231,{1,2,3})","v":100},100,100,300,39]
["Peter Forsey","BS","V40",{"$f":"IF(ISNA(VLOOKUP($A232,'Race 1-Men'!$N$33:$S$51,6,0)),100,VLOOKUP($A232,'Race 1-Men'!$N$33:$S$51,6,0))","v":100},{"$f":"IF(ISNA(VLOOKUP($A232,'Race 2-Men'!$N$32:$S$53,6,0)),100,VLOOKUP($A232,'Race 2-Men'!$N$32:$S$53,6,0))","v":100},{"$f":"IF(ISNA(VLOOKUP($A232,'Race 3-Men'!$N$40:$S$61,6,0)),100,VLOOKUP($A232,'Race 3-Men'!$N$40:$S$61,6,0))","v":100},{"$f":"IF(ISNA(VLOOKUP($A232,'Race 4-Men'!$N$35:$S$100,6,0)),100,VLOOKUP($A232,'Race 4-Men'!$N$35:$S$100,6,0))","v":100},{"$f":"SMALL(D232:G232,{1,2,3})","v":100},100,100,300,39]
["Peter Jurd","BS","V40",{"$f":"IF(ISNA(VLOOKUP($A233,'Race 1-Men'!$N$33:$S$51,6,0)),100,VLOOKUP($A233,'Race 1-Men'!$N$33:$S$51,6,0))","v":5},{"$f":"IF(ISNA(VLOOKUP($A233,'Race 2-Men'!$N$32:$S$53,6,0)),100,VLOOKUP($A233,'Race 2-Men'!$N$32:$S$53,6,0))","v":5},{"$f":"IF(ISNA(VLOOKUP($A233,'Race 3-Men'!$N$40:$S$61,6,0)),100,VLOOKUP($A233,'Race 3-Men'!$N$40:$S$61,6,0))","v":4},{"$f":"IF(ISNA(VLOOKUP($A233,'Race 4-Men'!$N$35:$S$100,6,0)),100,VLOOKUP($A233,'Race 4-Men'!$N$35:$S$100,6,0))","v":100},{"$f":"SMALL(D233:G233,{1,2,3})","v":4},5,5,14,4]
["Phil Middleton","HRC","V40",{"$f":"IF(ISNA(VLOOKUP($A234,'Race 1-Men'!$N$33:$S$51,6,0)),100,VLOOKUP($A234,'Race 1-Men'!$N$33:$S$51,6,0))","v":100},{"$f":"IF(ISNA(VLOOKUP($A234,'Race 2-Men'!$N$32:$S$53,6,0)),100,VLOOKUP($A234,'Race 2-Men'!$N$32:$S$53,6,0))","v":100},{"$f":"IF(ISNA(VLOOKUP($A234,'Race 3-Men'!$N$40:$S$61,6,0)),100,VLOOKUP($A234,'Race 3-Men'!$N$40:$S$61,6,0))","v":100},{"$f":"IF(ISNA(VLOOKUP($A234,'Race 4-Men'!$N$35:$S$100,6,0)),100,VLOOKUP($A234,'Race 4-Men'!$N$35:$S$100,6,0))","v":100},{"$f":"SMALL(D234:G234,{1,2,3})","v":100},100,100,300,39]
["Richard Auty","SS","V40",{"$f":"IF(ISNA(VLOOKUP($A235,'Race 1-Men'!$N$33:$S$51,6,0)),100,VLOOKUP($A235,'Race 1-Men'!$N$33:$S$51,6,0))","v":100},{"$f":"IF(ISNA(VLOOKUP($A235,'Race 2-Men'!$N$32:$S$53,6,0)),100,VLOOKUP($A235,'Race 2-Men'!$N$32:$S$53,6,0))","v":100},{"$f":"IF(ISNA(VLOOKUP($A235,'Race 3-Men'!$N$40:$S$61,6,0)),100,VLOOKUP($A235,'Race 3-Men'!$N$40:$S$61,6,0))","v":100},{"$f":"IF(ISNA(VLOOKUP($A235,'Race 4-Men'!$N$35:$S$100,6,0)),100,VLOOKUP($A235,'Race 4-Men'!$N$35:$S$100,6,0))","v":100},{"$f":"SMALL(D235:G235,{1,2,3})","v":100},100,100,300,39]
["Richard Hearne","WJ","V40",{"$f":"IF(ISNA(VLOOKUP($A236,'Race 1-Men'!$N$33:$S$51,6,0)),100,VLOOKUP($A236,'Race 1-Men'!$N$33:$S$51,6,0))","v":100},{"$f":"IF(ISNA(VLOOKUP($A236,'Race 2-Men'!$N$32:$S$53,6,0)),100,VLOOKUP($A236,'Race 2-Men'!$N$32:$S$53,6,0))","v":100},{"$f":"IF(ISNA(VLOOKUP($A236,'Race 3-Men'!$N$40:$S$61,6,0)),100,VLOOKUP($A236,'Race 3-Men'!$N$40:$S$61,6,0))","v":100},{"$f":"IF(ISNA(VLOOKUP($A236,'Race 4-Men'!$N$35:$S$100,6,0)),100,VLOOKUP($A236,'Race 4-Men'!$N$35:$S$100,6,0))","v":100},{"$f":"SMALL(D236:G236,{1,2,3})","v":100},100,100,300,39]
["Richard Payne","BS","V40",{"$f":"IF(ISNA(VLOOKUP($A237,'Race 1-Men'!$N$33:$S$51,6,0)),100,VLOOKUP($A237,'Race 1-Men'!$N$33:$S$51,6,0))","v":100},{"$f":"IF(ISNA(VLOOKUP($A237,'Race 2-Men'!$N$32:$S$53,6,0)),100,VLOOKUP($A237,'Race 2-Men'!$N$32:$S$53,6,0))","v":100},{"$f":"IF(ISNA(VLOOKUP($A237,'Race 3-Men'!$N$40:$S$61,6,0)),100,VLOOKUP($A237,'Race 3-Men'!$N$40:$S$61,6,0))","v":100},{"$f":"IF(ISNA(VLOOKUP($A237,'Race 4-Men'!$N$35:$S$100,6,0)),100,VLOOKUP($A237,'Race 4-Men'!$N$35:$S$100,6,0))","v":100},{"$f":"SMALL(D237:G237,{1,2,3})","v":100},100,100,300,39]
["Robert Foxley","HRC","V40",{"$f":"IF(ISNA(VLOOKUP($A238,'Race 1-Men'!$N$33:$S$51,6,0)),100,VLOOKUP($A238,'Race 1-Men'!$N$33:$S$51,6,0))","v":100},{"$f":"IF(ISNA(VLOOKUP($A238,'Race 2-Men'!$N$32:$S$53,6,0)),100,VLOOKUP($A238,'Race 2-Men'!$N$32:$S$53,6,0))","v":100},{"$f":"IF(ISNA(VLOOKUP($A238,'Race 3-Men'!$N$40:$S$61,6,0)),100,VLOOKUP($A238,'Race 3-Men'!$N$40:$S$61,6,0))","v":100},{"$f":"IF(ISNA(VLOOKUP($A238,'Race 4-Men'!$N$35:$S$100,6,0)),100,VLOOKUP($A238,'Race 4-Men'!$N$35:$S$100,6,0))","v":100},{"$f":"SMALL(D238:G238,{1,2,3})","v":100},100,100,300,39]
["Robin Newman","BS","V40",{"$f":"IF(ISNA(VLOOKUP($A239,'Race 1-Men'!$N$33:$S$51,6,0)),100,VLOOKUP($A239,'Race 1-Men'!$N$33:$S$51,6,0))","v":100},{"$f":"IF(ISNA(VLOOKUP($A239,'Race 2-Men'!$N$32:$S$53,6,0)),100,VLOOKUP($A239,'Race 2-Men'!$N$32:$S$53,6,0))","v":100},{"$f":"IF(ISNA(VLOOKUP($A239,'Race 3-Men'!$N$40:$S$61,6,0)),100,VLOOKUP($A239,'Race 3-Men'!$N$40:$S$61,6,0))","v":100},{"$f":"IF(ISNA(VLOOKUP($A239,'Race 4-Men'!$N$35:$S$100,6,0)),100,VLOOKUP($A239,'Race 4-Men'!$N$35:$S$100,6,0))","v":100},{"$f":"SMALL(D239:G239,{1,2,3})","v":100},100,100,300,39]
["Roger Berry","BS","V40",{"$f":"IF(ISNA(VLOOKUP($A240,'Race 1-Men'!$N$33:$S$51,6,0)),100,VLOOKUP($A240,'Race 1-Men'!$N$33:$S$51,6,0))","v":100},{"$f":"IF(ISNA(VLOOKUP($A240,'Race 2-Men'!$N$32:$S$53,6,0)),100,VLOOKUP($A240,'Race 2-Men'!$N$32:$S$53,6,0))","v":100},{"$f":"IF(ISNA(VLOOKUP($A240,'Race 3-Men'!$N$40:$S$61,6,0)),100,VLOOKUP($A240,'Race 3-Men'!$N$40:$S$61,6,0))","v":100},{"$f":"IF(ISNA(VLOOKUP($A240,'Race 4-Men'!$N$35:$S$100,6,0)),100,VLOOKUP($A240,'Race 4-Men'!$N$35:$S$100,6,0))","v":100},{"$f":"SMALL(D240:G240,{1,2,3})","v":100},100,100,300,39]
["Rohit Dayama","BS","V40",{"$f":"IF(ISNA(VLOOKUP($A241,'Race 1-Men'!$N$33:$S$51,6,0)),100,VLOOKUP($A241,'Race 1-Men'!$N$33:$S$51,6,0))","v":100},{"$f":"IF(ISNA(VLOOKUP($A241,'Race 2-Men'!$N$32:$S$53,6,0)),100,VLOOKUP($A241,'Race 2-Men'!$N$32:$S$53,6,0))","v":100},{"$f":"IF(ISNA(VLOOKUP($A241,'Race 3-Men'!$N$40:$S$61,6,0)),100,VLOOKUP($A241,'Race 3-Men'!$N$40:$S$61,6,0))","v":100},{"$f":"IF(ISNA(VLOOKUP($A241,'Race 4-Men'!$N$35:$S$100,6,0)),100,VLOOKUP($A241,'Race 4-Men'!$N$35:$S$100,6,0))","v":100},{"$f":"SMALL(D241:G241,{1,2,3})","v":100},100,100,300,39]
["Russell Sanford","SS","V40",{"$f":"IF(ISNA(VLOOKUP($A242,'Race 1-Men'!$N$33:$S$51,6,0)),100,VLOOKUP($A242,'Race 1-Men'!$N$33:$S$51,6,0))","v":100},{"$f":"IF(ISNA(VLOOKUP($A242,'Race 2-Men'!$N$32:$S$53,6,0)),100,VLOOKUP($A242,'Race 2-Men'!$N$32:$S$53,6,0))","v":100},{"$f":"IF(ISNA(VLOOKUP($A242,'Race 3-Men'!$N$40:$S$61,6,0)),100,VLOOKUP($A242,'Race 3-Men'!$N$40:$S$61,6,0))","v":100},{"$f":"IF(ISNA(VLOOKUP($A242,'Race 4-Men'!$N$35:$S$100,6,0)),100,VLOOKUP($A242,'Race 4-Men'!$N$35:$S$100,6,0))","v":100},{"$f":"SMALL(D242:G242,{1,2,3})","v":100},100,100,300,39]
["Ryan Kaye","HRC","V40",{"$f":"IF(ISNA(VLOOKUP($A243,'Race 1-Men'!$N$33:$S$51,6,0)),100,VLOOKUP($A243,'Race 1-Men'!$N$33:$S$51,6,0))","v":100},{"$f":"IF(ISNA(VLOOKUP($A243,'Race 2-Men'!$N$32:$S$53,6,0)),100,VLOOKUP($A243,'Race 2-Men'!$N$32:$S$53,6,0))","v":100},{"$f":"IF(ISNA(VLOOKUP($A243,'Race 3-Men'!$N$40:$S$61,6,0)),100,VLOOKUP($A243,'Race 3-Men'!$N$40:$S$61,6,0))","v":100},{"$f":"IF(ISNA(VLOOKUP($A243,'Race 4-Men'!$N$35:$S$100,6,0)),100,VLOOKUP($A243,'Race 4-Men'!$N$35:$S$100,6,0))","v":100},{"$f":"SMALL(D243:G243,{1,2,3})","v":100},100,100,300,39]
["Ryan Smith","HRC","V40",{"$f":"IF(ISNA(VLOOKUP($A244,'Race 1-Men'!$N$33:$S$51,6,0)),100,VLOOKUP($A244,'Race 1-Men'!$N$33:$S$51,6,0))","v":100},{"$f":"IF(ISNA(VLOOKUP($A244,'Race 2-Men'!$N$32:$S$53,6,0)),100,VLOOKUP($A244,'Race 2-Men'!$N$32:$S$53,6,0))","v":12},{"$f":"IF(ISNA(VLOOKUP($A244,'Race 3-Men'!$N$40:$S$61,6,0)),100,VLOOKUP($A244,'Race 3-Men'!$N$40:$S$61,6,0))","v":100},{"$f":"IF(ISNA(VLOOKUP($A244,'Race 4-Men'!$N$35:$S$100,6,0)),100,VLOOKUP($A244,'Race 4-Men'!$N$35:$S$100,6,0))","v":100},{"$f":"SMALL(D244:G244,{1,2,3})","v":12},100,100,212,28]
["Sam Carter","HRC","V40",{"$f":"IF(ISNA(VLOOKUP($A245,'Race 1-Men'!$N$33:$S$51,6,0)),100,VLOOKUP($A245,'Race 1-Men'!$N$33:$S$51,6,0))","v":100},{"$f":"IF(ISNA(VLOOKUP($A245,'Race 2-Men'!$N$32:$S$53,6,0)),100,VLOOKUP($A245,'Race 2-Men'!$N$32:$S$53,6,0))","v":100},{"$f":"IF(ISNA(VLOOKUP($A245,'Race 3-Men'!$N$40:$S$61,6,0)),100,VLOOKUP($A245,'Race 3-Men'!$N$40:$S$61,6,0))","v":100},{"$f":"IF(ISNA(VLOOKUP($A245,'Race 4-Men'!$N$35:$S$100,6,0)),100,VLOOKUP($A245,'Race 4-Men'!$N$35:$S$100,6,0))","v":100},{"$f":"SMALL(D245:G245,{1,2,3})","v":100},100,100,300,39]
["Shane Tomlinson","BS","V40",{"$f":"IF(ISNA(VLOOKUP($A246,'Race 1-Men'!$N$33:$S$51,6,0)),100,VLOOKUP($A246,'Race 1-Men'!$N$33:$S$51,6,0))","v":100},{"$f":"IF(ISNA(VLOOKUP($A246,'Race 2-Men'!$N$32:$S$53,6,0)),100,VLOOKUP($A246,'Race 2-Men'!$N$32:$S$53,6,0))","v":100},{"$f":"IF(ISNA(VLOOKUP($A246,'Race 3-Men'!$N$40:$S$61,6,0)),100,VLOOKUP($A246,'Race 3-Men'!$N$40:$S$61,6,0))","v":100},{"$f":"IF(ISNA(VLOOKUP($A246,'Race 4-Men'!$N$35:$S$100,6,0)),100,VLOOKUP($A246,'Race 4-Men'!$N$35:$S$100,6,0))","v":100},{"$f":"SMALL(D246:G246,{1,2,3})","v":100},100,100,300,39]
["Simon Barker","WJ","V40",{"$f":"IF(ISNA(VLOOKUP($A247,'Race 1-Men'!$N$33:$S$51,6,0)),100,VLOOKUP($A247,'Race 1-Men'!$N$33:$S$51,6,0))","v":100},{"$f":"IF(ISNA(VLOOKUP($A247,'Race 2-Men'!$N$32:$S$53,6,0)),100,VLOOKUP($A247,'Race 2-Men'!$N$32:$S$53,6,0))","v":100},{"$f":"IF(ISNA(VLOOKUP($A247,'Race 3-Men'!$N$40:$S$61,6,0)),100,VLOOKUP($A247,'Race 3-Men'!$N$40:$S$61,6,0))","v":100},{"$f":"IF(ISNA(VLOOKUP($A247,'Race 4-Men'!$N$35:$S$100,6,0)),100,VLOOKUP($A247,'Race 4-Men'!$N$35:$S$100,6,0))","v":100},{"$f":"SMALL(D247:G247,{1,2,3})","v":100},100,100,300,39]
["Simon Ede","SS","V40",{"$f":"IF(ISNA(VLOOKUP($A248,'Race 1-Men'!$N$33:$S$51,6,0)),100,VLOOKUP($A248,'Race 1-Men'!$N$33:$S$51,6,0))","v":100},{"$f":"IF(ISNA(VLOOKUP($A248,'Race 2-Men'!$N$32:$S$53,6,0)),100,VLOOKUP($A248,'Race 2-Men'!$N$32:$S$53,6,0))","v":100},{"$f":"IF(ISNA(VLOOKUP($A248,'Race 3-Men'!$N$40:$S$61,6,0)),100,VLOOKUP($A248,'Race 3-Men'!$N$40:$S$61,6,0))","v":100},{"$f":"IF(ISNA(VLOOKUP($A248,'Race 4-Men'!$N$35:$S$100,6,0)),100,VLOOKUP($A248,'Race 4-Men'!$N$35:$S$100,6,0))","v":100},{"$f":"SMALL(D248:G248,{1,2,3})","v":100},100,100,300,{"$f":"RANK(K248,$K$119:$K$270,1)","v":39}]
["Simon Judkins","BS","V40",{"$f":"IF(ISNA(VLOOKUP($A249,'Race 1-Men'!$N$33:$S$51,6,0)),100,VLOOKUP($A249,'Race 1-Men'!$N$33:$S$51,6,0))","v":100},{"$f":"IF(ISNA(VLOOKUP($A249,'Race 2-Men'!$N$32:$S$53,6,0)),100,VLOOKUP($A249,'Race 2-Men'!$N$32:$S$53,6,0))","v":100},{"$f":"IF(ISNA(VLOOKUP($A249,'Race 3-Men'!$N$40:$S$61,6,0)),100,VLOOKUP($A249,'Race 3-Men'!$N$40:$S$61,6,0))","v":100},{"$f":"IF(ISNA(VLOOKUP($A249,'Race 4-Men'!$N$35:$S$100,6,0)),100,VLOOKUP($A249,'Race 4-Men'!$N$35:$S$100,6,0))","v":100},{"$f":"SMALL(D249:G249,{1,2,3})","v":100},100,100,300,39]
["Simon Morgans","HRC","V40",{"$f":"IF(ISNA(VLOOKUP($A250,'Race 1-Men'!$N$33:$S$51,6,0)),100,VLOOKUP($A250,'Race 1-Men'!$N$33:$S$51,6,0))","v":100},{"$f":"IF(ISNA(VLOOKUP($A250,'Race 2-Men'!$N$32:$S$53,6,0)),100,VLOOKUP($A250,'Race 2-Men'!$N$32:$S$53,6,0))","v":100},{"$f":"IF(ISNA(VLOOKUP($A250,'Race 3-Men'!$N$40:$S$61,6,0)),100,VLOOKUP($A250,'Race 3-Men'!$N$40:$S$61,6,0))","v":100},{"$f":"IF(ISNA(VLOOKUP($A250,'Race 4-Men'!$N$35:$S$100,6,0)),100,VLOOKUP($A250,'Race 4-Men'!$N$35:$S$100,6,0))","v":100},{"$f":"SMALL(D250:G250,{1,2,3})","v":100},100,100,300,39]
["Stephen Berry","BS","V40",{"$f":"IF(ISNA(VLOOKUP($A251,'Race 1-Men'!$N$33:$S$51,6,0)),100,VLOOKUP($A251,'Race 1-Men'!$N$33:$S$51,6,0))","v":100},{"$f":"IF(ISNA(VLOOKUP($A251,'Race 2-Men'!$N$32:$S$53,6,0)),100,VLOOKUP($A251,'Race 2-Men'!$N$32:$S$53,6,0))","v":100},{"$f":"IF(ISNA(VLOOKUP($A251,'Race 3-Men'!$N$40:$S$61,6,0)),100,VLOOKUP($A251,'Race 3-Men'!$N$40:$S$61,6,0))","v":100},{"$f":"IF(ISNA(VLOOKUP($A251,'Race 4-Men'!$N$35:$S$100,6,0)),100,VLOOKUP($A251,'Race 4-Men'!$N$35:$S$100,6,0))","v":100},{"$f":"SMALL(D251:G251,{1,2,3})","v":100},100,100,300,39]
["Stephen Mayo","HRC","V40",{"$f":"IF(ISNA(VLOOKUP($A252,'Race 1-Men'!$N$33:$S$51,6,0)),100,VLOOKUP($A252,'Race 1-Men'!$N$33:$S$51,6,0))","v":100},{"$f":"IF(ISNA(VLOOKUP($A252,'Race 2-Men'!$N$32:$S$53,6,0)),100,VLOOKUP($A252,'Race 2-Men'!$N$32:$S$53,6,0))","v":100},{"$f":"IF(ISNA(VLOOKUP($A252,'Race 3-Men'!$N$40:$S$61,6,0)),100,VLOOKUP($A252,'Race 3-Men'!$N$40:$S$61,6,0))","v":100},{"$f":"IF(ISNA(VLOOKUP($A252,'Race 4-Men'!$N$35:$S$100,6,0)),100,VLOOKUP($A252,'Race 4-Men'!$N$35:$S$100,6,0))","v":100},{"$f":"SMALL(D252:G252,{1,2,3})","v":100},100,100,300,39]
["Steve Cozens","HRC","V40",{"$f":"IF(ISNA(VLOOKUP($A253,'Race 1-Men'!$N$33:$S$51,6,0)),100,VLOOKUP($A253,'Race 1-Men'!$N$33:$S$51,6,0))","v":100},{"$f":"IF(ISNA(VLOOKUP($A253,'Race 2-Men'!$N$32:$S$53,6,0)),100,VLOOKUP($A253,'Race 2-Men'!$N$32:$S$53,6,0))","v":100},{"$f":"IF(ISNA(VLOOKUP($A253,'Race 3-Men'!$N$40:$S$61,6,0)),100,VLOOKUP($A253,'Race 3-Men'!$N$40:$S$61,6,0))","v":100},{"$f":"IF(ISNA(VLOOKUP($A253,'Race 4-Men'!$N$35:$S$100,6,0)),100,VLOOKUP($A253,'Race 4-Men'!$N$35:$S$100,6,0))","v":100},{"$f":"SMALL(D253:G253,{1,2,3})","v":100},100,100,300,39]
["Steve Hennessy","HRC","V40",{"$f":"IF(ISNA(VLOOKUP($A254,'Race 1-Men'!$N$33:$S$51,6,0)),100,VLOOKUP($A254,'Race 1-Men'!$N$33:$S$51,6,0))","v":100},{"$f":"IF(ISNA(VLOOKUP($A254,'Race 2-Men'!$N$32:$S$53,6,0)),100,VLOOKUP($A254,'Race 2-Men'!$N$32:$S$53,6,0))","v":100},{"$f":"IF(ISNA(VLOOKUP($A254,'Race 3-Men'!$N$40:$S$61,6,0)),100,VLOOKUP($A254,'Race 3-Men'!$N$40:$S$61,6,0))","v":100},{"$f":"IF(ISNA(VLOOKUP($A254,'Race 4-Men'!$N$35:$S$100,6,0)),100,VLOOKUP($A254,'Race 4-Men'!$N$35:$S$100,6,0))","v":100},{"$f":"SMALL(D254:G254,{1,2,3})","v":100},100,100,300,39]
["Steven Prosser","BS","V40",{"$f":"IF(ISNA(VLOOKUP($A255,'Race 1-Men'!$N$33:$S$51,6,0)),100,VLOOKUP($A255,'Race 1-Men'!$N$33:$S$51,6,0))","v":100},{"$f":"IF(ISNA(VLOOKUP($A255,'Race 2-Men'!$N$32:$S$53,6,0)),100,VLOOKUP($A255,'Race 2-Men'!$N$32:$S$53,6,0))","v":100},{"$f":"IF(ISNA(VLOOKUP($A255,'Race 3-Men'!$N$40:$S$61,6,0)),100,VLOOKUP($A255,'Race 3-Men'!$N$40:$S$61,6,0))","v":100},{"$f":"IF(ISNA(VLOOKUP($A255,'Race 4-Men'!$N$35:$S$100,6,0)),100,VLOOKUP($A255,'Race 4-Men'!$N$35:$S$100,6,0))","v":100},{"$f":"SMALL(D255:G255,{1,2,3})","v":100},100,100,300,39]
["Stuart Chandler","WJ","V40",{"$f":"IF(ISNA(VLOOKUP($A256,'Race 1-Men'!$N$33:$S$51,6,0)),100,VLOOKUP($A256,'Race 1-Men'!$N$33:$S$51,6,0))","v":100},{"$f":"IF(ISNA(VLOOKUP($A256,'Race 2-Men'!$N$32:$S$53,6,0)),100,VLOOKUP($A256,'Race 2-Men'!$N$32:$S$53,6,0))","v":100},{"$f":"IF(ISNA(VLOOKUP($A256,'Race 3-Men'!$N$40:$S$61,6,0)),100,VLOOKUP($A256,'Race 3-Men'!$N$40:$S$61,6,0))","v":100},{"$f":"IF(ISNA(VLOOKUP($A256,'Race 4-Men'!$N$35:$S$100,6,0)),100,VLOOKUP($A256,'Race 4-Men'!$N$35:$S$100,6,0))","v":100},{"$f":"SMALL(D256:G256,{1,2,3})","v":100},100,100,300,39]
["Themi Petridis","BS","V40",{"$f":"IF(ISNA(VLOOKUP($A257,'Race 1-Men'!$N$33:$S$51,6,0)),100,VLOOKUP($A257,'Race 1-Men'!$N$33:$S$51,6,0))","v":100},{"$f":"IF(ISNA(VLOOKUP($A257,'Race 2-Men'!$N$32:$S$53,6,0)),100,VLOOKUP($A257,'Race 2-Men'!$N$32:$S$53,6,0))","v":100},{"$f":"IF(ISNA(VLOOKUP($A257,'Race 3-Men'!$N$40:$S$61,6,0)),100,VLOOKUP($A257,'Race 3-Men'!$N$40:$S$61,6,0))","v":100},{"$f":"IF(ISNA(VLOOKUP($A257,'Race 4-Men'!$N$35:$S$100,6,0)),100,VLOOKUP($A257,'Race 4-Men'!$N$35:$S$100,6,0))","v":100},{"$f":"SMALL(D257:G257,{1,2,3})","v":100},100,100,300,39]
["Thomas Beales","HRC","V40",{"$f":"IF(ISNA(VLOOKUP($A258,'Race 1-Men'!$N$33:$S$51,6,0)),100,VLOOKUP($A258,'Race 1-Men'!$N$33:$S$51,6,0))","v":10},{"$f":"IF(ISNA(VLOOKUP($A258,'Race 2-Men'!$N$32:$S$53,6,0)),100,VLOOKUP($A258,'Race 2-Men'!$N$32:$S$53,6,0))","v":16},{"$f":"IF(ISNA(VLOOKUP($A258,'Race 3-Men'!$N$40:$S$61,6,0)),100,VLOOKUP($A258,'Race 3-Men'!$N$40:$S$61,6,0))","v":12},{"$f":"IF(ISNA(VLOOKUP($A258,'Race 4-Men'!$N$35:$S$100,6,0)),100,VLOOKUP($A258,'Race 4-Men'!$N$35:$S$100,6,0))","v":100},{"$f":"SMALL(D258:G258,{1,2,3})","v":10},12,16,38,11]
["Thomas Castle","BS","V40",{"$f":"IF(ISNA(VLOOKUP($A259,'Race 1-Men'!$N$33:$S$51,6,0)),100,VLOOKUP($A259,'Race 1-Men'!$N$33:$S$51,6,0))","v":100},{"$f":"IF(ISNA(VLOOKUP($A259,'Race 2-Men'!$N$32:$S$53,6,0)),100,VLOOKUP($A259,'Race 2-Men'!$N$32:$S$53,6,0))","v":100},{"$f":"IF(ISNA(VLOOKUP($A259,'Race 3-Men'!$N$40:$S$61,6,0)),100,VLOOKUP($A259,'Race 3-Men'!$N$40:$S$61,6,0))","v":100},{"$f":"IF(ISNA(VLOOKUP($A259,'Race 4-Men'!$N$35:$S$100,6,0)),100,VLOOKUP($A259,'Race 4-Men'!$N$35:$S$100,6,0))","v":100},{"$f":"SMALL(D259:G259,{1,2,3})","v":100},100,100,300,39]
["Tim McMahon","SS","V40",{"$f":"IF(ISNA(VLOOKUP($A260,'Race 1-Men'!$N$33:$S$51,6,0)),100,VLOOKUP($A260,'Race 1-Men'!$N$33:$S$51,6,0))","v":100},{"$f":"IF(ISNA(VLOOKUP($A260,'Race 2-Men'!$N$32:$S$53,6,0)),100,VLOOKUP($A260,'Race 2-Men'!$N$32:$S$53,6,0))","v":10},{"$f":"IF(ISNA(VLOOKUP($A260,'Race 3-Men'!$N$40:$S$61,6,0)),100,VLOOKUP($A260,'Race 3-Men'!$N$40:$S$61,6,0))","v":100},{"$f":"IF(ISNA(VLOOKUP($A260,'Race 4-Men'!$N$35:$S$100,6,0)),100,VLOOKUP($A260,'Race 4-Men'!$N$35:$S$100,6,0))","v":100},{"$f":"SMALL(D260:G260,{1,2,3})","v":10},100,100,{"$f":"SUM(H260:J260)","v":210},27]
["Tim Tait","SS","V40",{"$f":"IF(ISNA(VLOOKUP($A261,'Race 1-Men'!$N$33:$S$51,6,0)),100,VLOOKUP($A261,'Race 1-Men'!$N$33:$S$51,6,0))","v":100},{"$f":"IF(ISNA(VLOOKUP($A261,'Race 2-Men'!$N$32:$S$53,6,0)),100,VLOOKUP($A261,'Race 2-Men'!$N$32:$S$53,6,0))","v":14},{"$f":"IF(ISNA(VLOOKUP($A261,'Race 3-Men'!$N$40:$S$61,6,0)),100,VLOOKUP($A261,'Race 3-Men'!$N$40:$S$61,6,0))","v":100},{"$f":"IF(ISNA(VLOOKUP($A261,'Race 4-Men'!$N$35:$S$100,6,0)),100,VLOOKUP($A261,'Race 4-Men'!$N$35:$S$100,6,0))","v":100},{"$f":"SMALL(D261:G261,{1,2,3})","v":14},100,100,214,31]
["Tim Wilkinson","SS","V40",{"$f":"IF(ISNA(VLOOKUP($A262,'Race 1-Men'!$N$33:$S$51,6,0)),100,VLOOKUP($A262,'Race 1-Men'!$N$33:$S$51,6,0))","v":100},{"$f":"IF(ISNA(VLOOKUP($A262,'Race 2-Men'!$N$32:$S$53,6,0)),100,VLOOKUP($A262,'Race 2-Men'!$N$32:$S$53,6,0))","v":100},{"$f":"IF(ISNA(VLOOKUP($A262,'Race 3-Men'!$N$40:$S$61,6,0)),100,VLOOKUP($A262,'Race 3-Men'!$N$40:$S$61,6,0))","v":100},{"$f":"IF(ISNA(VLOOKUP($A262,'Race 4-Men'!$N$35:$S$100,6,0)),100,VLOOKUP($A262,'Race 4-Men'!$N$35:$S$100,6,0))","v":100},{"$f":"SMALL(D262:G262,{1,2,3})","v":100},100,100,300,39]
["Toby Allanson","BS","V40",{"$f":"IF(ISNA(VLOOKUP($A263,'Race 1-Men'!$N$33:$S$51,6,0)),100,VLOOKUP($A263,'Race 1-Men'!$N$33:$S$51,6,0))","v":100},{"$f":"IF(ISNA(VLOOKUP($A263,'Race 2-Men'!$N$32:$S$53,6,0)),100,VLOOKUP($A263,'Race 2-Men'!$N$32:$S$53,6,0))","v":100},{"$f":"IF(ISNA(VLOOKUP($A263,'Race 3-Men'!$N$40:$S$61,6,0)),100,VLOOKUP($A263,'Race 3-Men'!$N$40:$S$61,6,0))","v":100},{"$f":"IF(ISNA(VLOOKUP($A263,'Race 4-Men'!$N$35:$S$100,6,0)),100,VLOOKUP($A263,'Race 4-Men'!$N$35:$S$100,6,0))","v":100},{"$f":"SMALL(D263:G263,{1,2,3})","v":100},100,100,300,39]
["Tommy Fanton","BS","V40",{"$f":"IF(ISNA(VLOOKUP($A264,'Race 1-Men'!$N$33:$S$51,6,0)),100,VLOOKUP($A264,'Race 1-Men'!$N$33:$S$51,6,0))","v":100},{"$f":"IF(ISNA(VLOOKUP($A264,'Race 2-Men'!$N$32:$S$53,6,0)),100,VLOOKUP($A264,'Race 2-Men'!$N$32:$S$53,6,0))","v":100},{"$f":"IF(ISNA(VLOOKUP($A264,'Race 3-Men'!$N$40:$S$61,6,0)),100,VLOOKUP($A264,'Race 3-Men'!$N$40:$S$61,6,0))","v":100},{"$f":"IF(ISNA(VLOOKUP($A264,'Race 4-Men'!$N$35:$S$100,6,0)),100,VLOOKUP($A264,'Race 4-Men'!$N$35:$S$100,6,0))","v":100},{"$f":"SMALL(D264:G264,{1,2,3})","v":100},100,100,300,39]
["Tyrone Mustafa","HRC","V40",{"$f":"IF(ISNA(VLOOKUP($A265,'Race 1-Men'!$N$33:$S$51,6,0)),100,VLOOKUP($A265,'Race 1-Men'!$N$33:$S$51,6,0))","v":100},{"$f":"IF(ISNA(VLOOKUP($A265,'Race 2-Men'!$N$32:$S$53,6,0)),100,VLOOKUP($A265,'Race 2-Men'!$N$32:$S$53,6,0))","v":100},{"$f":"IF(ISNA(VLOOKUP($A265,'Race 3-Men'!$N$40:$S$61,6,0)),100,VLOOKUP($A265,'Race 3-Men'!$N$40:$S$61,6,0))","v":100},{"$f":"IF(ISNA(VLOOKUP($A265,'Race 4-Men'!$N$35:$S$100,6,0)),100,VLOOKUP($A265,'Race 4-Men'!$N$35:$S$100,6,0))","v":100},{"$f":"SMALL(D265:G265,{1,2,3})","v":100},100,100,300,39]
["Vincent Riviere","WJ","V40",{"$f":"IF(ISNA(VLOOKUP($A266,'Race 1-Men'!$N$33:$S$51,6,0)),100,VLOOKUP($A266,'Race 1-Men'!$N$33:$S$51,6,0))","v":3},{"$f":"IF(ISNA(VLOOKUP($A266,'Race 2-Men'!$N$32:$S$53,6,0)),100,VLOOKUP($A266,'Race 2-Men'!$N$32:$S$53,6,0))","v":100},{"$f":"IF(ISNA(VLOOKUP($A266,'Race 3-Men'!$N$40:$S$61,6,0)),100,VLOOKUP($A266,'Race 3-Men'!$N$40:$S$61,6,0))","v":100},{"$f":"IF(ISNA(VLOOKUP($A266,'Race 4-Men'!$N$35:$S$100,6,0)),100,VLOOKUP($A266,'Race 4-Men'!$N$35:$S$100,6,0))","v":2},{"$f":"SMALL(D266:G266,{1,2,3})","v":2},3,100,105,14]
["Wayne Baxter","WJ","V40",{"$f":"IF(ISNA(VLOOKUP($A267,'Race 1-Men'!$N$33:$S$51,6,0)),100,VLOOKUP($A267,'Race 1-Men'!$N$33:$S$51,6,0))","v":100},{"$f":"IF(ISNA(VLOOKUP($A267,'Race 2-Men'!$N$32:$S$53,6,0)),100,VLOOKUP($A267,'Race 2-Men'!$N$32:$S$53,6,0))","v":100},{"$f":"IF(ISNA(VLOOKUP($A267,'Race 3-Men'!$N$40:$S$61,6,0)),100,VLOOKUP($A267,'Race 3-Men'!$N$40:$S$61,6,0))","v":100},{"$f":"IF(ISNA(VLOOKUP($A267,'Race 4-Men'!$N$35:$S$100,6,0)),100,VLOOKUP($A267,'Race 4-Men'!$N$35:$S$100,6,0))","v":100},{"$f":"SMALL(D267:G267,{1,2,3})","v":100},100,100,300,39]
["Cyril Cornmillet","HRC","V40",{"$f":"IF(ISNA(VLOOKUP($A268,'Race 1-Men'!$N$33:$S$51,6,0)),100,VLOOKUP($A268,'Race 1-Men'!$N$33:$S$51,6,0))","v":100},{"$f":"IF(ISNA(VLOOKUP($A268,'Race 2-Men'!$N$32:$S$53,6,0)),100,VLOOKUP($A268,'Race 2-Men'!$N$32:$S$53,6,0))","v":100},{"$f":"IF(ISNA(VLOOKUP($A268,'Race 3-Men'!$N$40:$S$61,6,0)),100,VLOOKUP($A268,'Race 3-Men'!$N$40:$S$61,6,0))","v":100},{"$f":"IF(ISNA(VLOOKUP($A268,'Race 4-Men'!$N$35:$S$100,6,0)),100,VLOOKUP($A268,'Race 4-Men'!$N$35:$S$100,6,0))","v":100},{"$f":"SMALL(D268:G268,{1,2,3})","v":100},100,100,300,39]
["Matt Cooker","BS","V40",{"$f":"IF(ISNA(VLOOKUP($A269,'Race 1-Men'!$N$33:$S$51,6,0)),100,VLOOKUP($A269,'Race 1-Men'!$N$33:$S$51,6,0))","v":100},{"$f":"IF(ISNA(VLOOKUP($A269,'Race 2-Men'!$N$32:$S$53,6,0)),100,VLOOKUP($A269,'Race 2-Men'!$N$32:$S$53,6,0))","v":19},{"$f":"IF(ISNA(VLOOKUP($A269,'Race 3-Men'!$N$40:$S$61,6,0)),100,VLOOKUP($A269,'Race 3-Men'!$N$40:$S$61,6,0))","v":100},{"$f":"IF(ISNA(VLOOKUP($A269,'Race 4-Men'!$N$35:$S$100,6,0)),100,VLOOKUP($A269,'Race 4-Men'!$N$35:$S$100,6,0))","v":100},{"$f":"SMALL(D269:G269,{1,2,3})","v":19},100,100,219,38]
["Richard Faverker","BS","V40",{"$f":"IF(ISNA(VLOOKUP($A270,'Race 1-Men'!$N$33:$S$51,6,0)),100,VLOOKUP($A270,'Race 1-Men'!$N$33:$S$51,6,0))","v":100},{"$f":"IF(ISNA(VLOOKUP($A270,'Race 2-Men'!$N$32:$S$53,6,0)),100,VLOOKUP($A270,'Race 2-Men'!$N$32:$S$53,6,0))","v":100},{"$f":"IF(ISNA(VLOOKUP($A270,'Race 3-Men'!$N$40:$S$61,6,0)),100,VLOOKUP($A270,'Race 3-Men'!$N$40:$S$61,6,0))","v":21},{"$f":"IF(ISNA(VLOOKUP($A270,'Race 4-Men'!$N$35:$S$100,6,0)),100,VLOOKUP($A270,'Race 4-Men'!$N$35:$S$100,6,0))","v":19},{"$f":"SMALL(D270:G270,{1,2,3})","v":19},21,100,140,24]
["adrian hampstead","BS","V50",{"$f":"IF(ISNA(VLOOKUP($A271,'Race 1-Men'!$U$33:$Z$51,6,0)),100,VLOOKUP($A271,'Race 1-Men'!$U$33:$Z$51,6,0))","v":100},{"$f":"IF(ISNA(VLOOKUP($A271,'Race 2-Men'!$U$32:$Z$53,6,0)),100,VLOOKUP($A271,'Race 2-Men'!$U$32:$Z$53,6,0))","v":100},{"$f":"IF(ISNA(VLOOKUP($A271,'Race 3-Men'!$U$40:$Z$61,6,0)),100,VLOOKUP($A271,'Race 3-Men'!$U$40:$Z$61,6,0))","v":100},{"$f":"IF(ISNA(VLOOKUP($A271,'Race 4-Men'!$U$35:$Z$100,6,0)),100,VLOOKUP($A271,'Race 4-Men'!$U$35:$Z$100,6,0))","v":100},{"$f":"SMALL(D271:G271,{1,2,3})","v":100},100,100,300,{"$f":"RANK(K271,$K$271:$K$406,1)","v":38}]
["Alan Godbold","HRC","V50",{"$f":"IF(ISNA(VLOOKUP($A272,'Race 1-Men'!$U$33:$Z$51,6,0)),100,VLOOKUP($A272,'Race 1-Men'!$U$33:$Z$51,6,0))","v":18},{"$f":"IF(ISNA(VLOOKUP($A272,'Race 2-Men'!$U$32:$Z$53,6,0)),100,VLOOKUP($A272,'Race 2-Men'!$U$32:$Z$53,6,0))","v":100},{"$f":"IF(ISNA(VLOOKUP($A272,'Race 3-Men'!$U$40:$Z$61,6,0)),100,VLOOKUP($A272,'Race 3-Men'!$U$40:$Z$61,6,0))","v":100},{"$f":"IF(ISNA(VLOOKUP($A272,'Race 4-Men'!$U$35:$Z$100,6,0)),100,VLOOKUP($A272,'Race 4-Men'!$U$35:$Z$100,6,0))","v":100},{"$f":"SMALL(D272:G272,{1,2,3})","v":18},100,100,218,{"$f":"RANK(K272,$K$271:$K$406,1)","v":35}]
["Alan Jones","SS","V50",{"$f":"IF(ISNA(VLOOKUP($A273,'Race 1-Men'!$U$33:$Z$51,6,0)),100,VLOOKUP($A273,'Race 1-Men'!$U$33:$Z$51,6,0))","v":5},{"$f":"IF(ISNA(VLOOKUP($A273,'Race 2-Men'!$U$32:$Z$53,6,0)),100,VLOOKUP($A273,'Race 2-Men'!$U$32:$Z$53,6,0))","v":6},{"$f":"IF(ISNA(VLOOKUP($A273,'Race 3-Men'!$U$40:$Z$61,6,0)),100,VLOOKUP($A273,'Race 3-Men'!$U$40:$Z$61,6,0))","v":3},{"$f":"IF(ISNA(VLOOKUP($A273,'Race 4-Men'!$U$35:$Z$100,6,0)),100,VLOOKUP($A273,'Race 4-Men'!$U$35:$Z$100,6,0))","v":4},{"$f":"SMALL(D273:G273,{1,2,3})","v":3},4,5,12,3]
["Alan Knightley","HRC","V50",{"$f":"IF(ISNA(VLOOKUP($A274,'Race 1-Men'!$U$33:$Z$51,6,0)),100,VLOOKUP($A274,'Race 1-Men'!$U$33:$Z$51,6,0))","v":100},{"$f":"IF(ISNA(VLOOKUP($A274,'Race 2-Men'!$U$32:$Z$53,6,0)),100,VLOOKUP($A274,'Race 2-Men'!$U$32:$Z$53,6,0))","v":100},{"$f":"IF(ISNA(VLOOKUP($A274,'Race 3-Men'!$U$40:$Z$61,6,0)),100,VLOOKUP($A274,'Race 3-Men'!$U$40:$Z$61,6,0))","v":100},{"$f":"IF(ISNA(VLOOKUP($A274,'Race 4-Men'!$U$35:$Z$100,6,0)),100,VLOOKUP($A274,'Race 4-Men'!$U$35:$Z$100,6,0))","v":100},{"$f":"SMALL(D274:G274,{1,2,3})","v":100},100,100,300,38]
["Alan Taylor","WJ","V50",{"$f":"IF(ISNA(VLOOKUP($A275,'Race 1-Men'!$U$33:$Z$51,6,0)),100,VLOOKUP($A275,'Race 1-Men'!$U$33:$Z$51,6,0))","v":10},{"$f":"IF(ISNA(VLOOKUP($A275,'Race 2-Men'!$U$32:$Z$53,6,0)),100,VLOOKUP($A275,'Race 2-Men'!$U$32:$Z$53,6,0))","v":13},{"$f":"IF(ISNA(VLOOKUP($A275,'Race 3-Men'!$U$40:$Z$61,6,0)),100,VLOOKUP($A275,'Race 3-Men'!$U$40:$Z$61,6,0))","v":11},{"$f":"IF(ISNA(VLOOKUP($A275,'Race 4-Men'!$U$35:$Z$100,6,0)),100,VLOOKUP($A275,'Race 4-Men'!$U$35:$Z$100,6,0))","v":8},{"$f":"SMALL(D275:G275,{1,2,3})","v":8},10,11,29,8]
["Alan Taylor","SS","V50",{"$f":"IF(ISNA(VLOOKUP($A276,'Race 1-Men'!$U$33:$Z$51,6,0)),100,VLOOKUP($A276,'Race 1-Men'!$U$33:$Z$51,6,0))","v":10},{"$f":"IF(ISNA(VLOOKUP($A276,'Race 2-Men'!$U$32:$Z$53,6,0)),100,VLOOKUP($A276,'Race 2-Men'!$U$32:$Z$53,6,0))","v":13},{"$f":"IF(ISNA(VLOOKUP($A276,'Race 3-Men'!$U$40:$Z$61,6,0)),100,VLOOKUP($A276,'Race 3-Men'!$U$40:$Z$61,6,0))","v":11},{"$f":"IF(ISNA(VLOOKUP($A276,'Race 4-Men'!$U$35:$Z$100,6,0)),100,VLOOKUP($A276,'Race 4-Men'!$U$35:$Z$100,6,0))","v":8},{"$f":"SMALL(D276:G276,{1,2,3})","v":8},10,11,29,8]
["Alasdair Bruce","BS","V50",{"$f":"IF(ISNA(VLOOKUP($A277,'Race 1-Men'!$U$33:$Z$51,6,0)),100,VLOOKUP($A277,'Race 1-Men'!$U$33:$Z$51,6,0))","v":100},{"$f":"IF(ISNA(VLOOKUP($A277,'Race 2-Men'!$U$32:$Z$53,6,0)),100,VLOOKUP($A277,'Race 2-Men'!$U$32:$Z$53,6,0))","v":100},{"$f":"IF(ISNA(VLOOKUP($A277,'Race 3-Men'!$U$40:$Z$61,6,0)),100,VLOOKUP($A277,'Race 3-Men'!$U$40:$Z$61,6,0))","v":100},{"$f":"IF(ISNA(VLOOKUP($A277,'Race 4-Men'!$U$35:$Z$100,6,0)),100,VLOOKUP($A277,'Race 4-Men'!$U$35:$Z$100,6,0))","v":100},{"$f":"SMALL(D277:G277,{1,2,3})","v":100},100,100,300,38]
["Alexandre Ros","SS","V50",{"$f":"IF(ISNA(VLOOKUP($A278,'Race 1-Men'!$U$33:$Z$51,6,0)),100,VLOOKUP($A278,'Race 1-Men'!$U$33:$Z$51,6,0))","v":100},{"$f":"IF(ISNA(VLOOKUP($A278,'Race 2-Men'!$U$32:$Z$53,6,0)),100,VLOOKUP($A278,'Race 2-Men'!$U$32:$Z$53,6,0))","v":100},{"$f":"IF(ISNA(VLOOKUP($A278,'Race 3-Men'!$U$40:$Z$61,6,0)),100,VLOOKUP($A278,'Race 3-Men'!$U$40:$Z$61,6,0))","v":100},{"$f":"IF(ISNA(VLOOKUP($A278,'Race 4-Men'!$U$35:$Z$100,6,0)),100,VLOOKUP($A278,'Race 4-Men'!$U$35:$Z$100,6,0))","v":100},{"$f":"SMALL(D278:G278,{1,2,3})","v":100},100,100,300,38]
["Alexis Ellington","HRC","V50",{"$f":"IF(ISNA(VLOOKUP($A279,'Race 1-Men'!$U$33:$Z$51,6,0)),100,VLOOKUP($A279,'Race 1-Men'!$U$33:$Z$51,6,0))","v":100},{"$f":"IF(ISNA(VLOOKUP($A279,'Race 2-Men'!$U$32:$Z$53,6,0)),100,VLOOKUP($A279,'Race 2-Men'!$U$32:$Z$53,6,0))","v":100},{"$f":"IF(ISNA(VLOOKUP($A279,'Race 3-Men'!$U$40:$Z$61,6,0)),100,VLOOKUP($A279,'Race 3-Men'!$U$40:$Z$61,6,0))","v":100},{"$f":"IF(ISNA(VLOOKUP($A279,'Race 4-Men'!$U$35:$Z$100,6,0)),100,VLOOKUP($A279,'Race 4-Men'!$U$35:$Z$100,6,0))","v":100},{"$f":"SMALL(D279:G279,{1,2,3})","v":100},100,100,300,38]
["Andrew Cook","BS","V50",{"$f":"IF(ISNA(VLOOKUP($A280,'Race 1-Men'!$U$33:$Z$51,6,0)),100,VLOOKUP($A280,'Race 1-Men'!$U$33:$Z$51,6,0))","v":100},{"$f":"IF(ISNA(VLOOKUP($A280,'Race 2-Men'!$U$32:$Z$53,6,0)),100,VLOOKUP($A280,'Race 2-Men'!$U$32:$Z$53,6,0))","v":100},{"$f":"IF(ISNA(VLOOKUP($A280,'Race 3-Men'!$U$40:$Z$61,6,0)),100,VLOOKUP($A280,'Race 3-Men'!$U$40:$Z$61,6,0))","v":100},{"$f":"IF(ISNA(VLOOKUP($A280,'Race 4-Men'!$U$35:$Z$100,6,0)),100,VLOOKUP($A280,'Race 4-Men'!$U$35:$Z$100,6,0))","v":100},{"$f":"SMALL(D280:G280,{1,2,3})","v":100},100,100,300,38]
["Andrew Flind","SS","V50",{"$f":"IF(ISNA(VLOOKUP($A281,'Race 1-Men'!$U$33:$Z$51,6,0)),100,VLOOKUP($A281,'Race 1-Men'!$U$33:$Z$51,6,0))","v":100},{"$f":"IF(ISNA(VLOOKUP($A281,'Race 2-Men'!$U$32:$Z$53,6,0)),100,VLOOKUP($A281,'Race 2-Men'!$U$32:$Z$53,6,0))","v":100},{"$f":"IF(ISNA(VLOOKUP($A281,'Race 3-Men'!$U$40:$Z$61,6,0)),100,VLOOKUP($A281,'Race 3-Men'!$U$40:$Z$61,6,0))","v":100},{"$f":"IF(ISNA(VLOOKUP($A281,'Race 4-Men'!$U$35:$Z$100,6,0)),100,VLOOKUP($A281,'Race 4-Men'!$U$35:$Z$100,6,0))","v":100},{"$f":"SMALL(D281:G281,{1,2,3})","v":100},100,100,300,38]
["Andrew Kinney","HRC","V50",{"$f":"IF(ISNA(VLOOKUP($A282,'Race 1-Men'!$U$33:$Z$51,6,0)),100,VLOOKUP($A282,'Race 1-Men'!$U$33:$Z$51,6,0))","v":100},{"$f":"IF(ISNA(VLOOKUP($A282,'Race 2-Men'!$U$32:$Z$53,6,0)),100,VLOOKUP($A282,'Race 2-Men'!$U$32:$Z$53,6,0))","v":100},{"$f":"IF(ISNA(VLOOKUP($A282,'Race 3-Men'!$U$40:$Z$61,6,0)),100,VLOOKUP($A282,'Race 3-Men'!$U$40:$Z$61,6,0))","v":100},{"$f":"IF(ISNA(VLOOKUP($A282,'Race 4-Men'!$U$35:$Z$100,6,0)),100,VLOOKUP($A282,'Race 4-Men'!$U$35:$Z$100,6,0))","v":100},{"$f":"SMALL(D282:G282,{1,2,3})","v":100},100,100,300,38]
["Andrew Smith","HRC","V50",{"$f":"IF(ISNA(VLOOKUP($A283,'Race 1-Men'!$U$33:$Z$51,6,0)),100,VLOOKUP($A283,'Race 1-Men'!$U$33:$Z$51,6,0))","v":17},{"$f":"IF(ISNA(VLOOKUP($A283,'Race 2-Men'!$U$32:$Z$53,6,0)),100,VLOOKUP($A283,'Race 2-Men'!$U$32:$Z$53,6,0))","v":19},{"$f":"IF(ISNA(VLOOKUP($A283,'Race 3-Men'!$U$40:$Z$61,6,0)),100,VLOOKUP($A283,'Race 3-Men'!$U$40:$Z$61,6,0))","v":100},{"$f":"IF(ISNA(VLOOKUP($A283,'Race 4-Men'!$U$35:$Z$100,6,0)),100,VLOOKUP($A283,'Race 4-Men'!$U$35:$Z$100,6,0))","v":16},{"$f":"SMALL(D283:G283,{1,2,3})","v":16},17,19,52,14]
["Andrew Wilson","BS","V50",{"$f":"IF(ISNA(VLOOKUP($A284,'Race 1-Men'!$U$33:$Z$51,6,0)),100,VLOOKUP($A284,'Race 1-Men'!$U$33:$Z$51,6,0))","v":16},{"$f":"IF(ISNA(VLOOKUP($A284,'Race 2-Men'!$U$32:$Z$53,6,0)),100,VLOOKUP($A284,'Race 2-Men'!$U$32:$Z$53,6,0))","v":100},{"$f":"IF(ISNA(VLOOKUP($A284,'Race 3-Men'!$U$40:$Z$61,6,0)),100,VLOOKUP($A284,'Race 3-Men'!$U$40:$Z$61,6,0))","v":100},{"$f":"IF(ISNA(VLOOKUP($A284,'Race 4-Men'!$U$35:$Z$100,6,0)),100,VLOOKUP($A284,'Race 4-Men'!$U$35:$Z$100,6,0))","v":100},{"$f":"SMALL(D284:G284,{1,2,3})","v":16},100,100,216,33]
["Andy Issitt","WJ","V50",{"$f":"IF(ISNA(VLOOKUP($A285,'Race 1-Men'!$U$33:$Z$51,6,0)),100,VLOOKUP($A285,'Race 1-Men'!$U$33:$Z$51,6,0))","v":100},{"$f":"IF(ISNA(VLOOKUP($A285,'Race 2-Men'!$U$32:$Z$53,6,0)),100,VLOOKUP($A285,'Race 2-Men'!$U$32:$Z$53,6,0))","v":100},{"$f":"IF(ISNA(VLOOKUP($A285,'Race 3-Men'!$U$40:$Z$61,6,0)),100,VLOOKUP($A285,'Race 3-Men'!$U$40:$Z$61,6,0))","v":100},{"$f":"IF(ISNA(VLOOKUP($A285,'Race 4-Men'!$U$35:$Z$100,6,0)),100,VLOOKUP($A285,'Race 4-Men'!$U$35:$Z$100,6,0))","v":100},{"$f":"SMALL(D285:G285,{1,2,3})","v":100},100,100,300,38]
["Antony Welden","BS","V50",{"$f":"IF(ISNA(VLOOKUP($A286,'Race 1-Men'!$U$33:$Z$51,6,0)),100,VLOOKUP($A286,'Race 1-Men'!$U$33:$Z$51,6,0))","v":100},{"$f":"IF(ISNA(VLOOKUP($A286,'Race 2-Men'!$U$32:$Z$53,6,0)),100,VLOOKUP($A286,'Race 2-Men'!$U$32:$Z$53,6,0))","v":100},{"$f":"IF(ISNA(VLOOKUP($A286,'Race 3-Men'!$U$40:$Z$61,6,0)),100,VLOOKUP($A286,'Race 3-Men'!$U$40:$Z$61,6,0))","v":100},{"$f":"IF(ISNA(VLOOKUP($A286,'Race 4-Men'!$U$35:$Z$100,6,0)),100,VLOOKUP($A286,'Race 4-Men'!$U$35:$Z$100,6,0))","v":100},{"$f":"SMALL(D286:G286,{1,2,3})","v":100},100,100,300,38]
["Brian Sullivan","BS","V50",{"$f":"IF(ISNA(VLOOKUP($A287,'Race 1-Men'!$U$33:$Z$51,6,0)),100,VLOOKUP($A287,'Race 1-Men'!$U$33:$Z$51,6,0))","v":100},{"$f":"IF(ISNA(VLOOKUP($A287,'Race 2-Men'!$U$32:$Z$53,6,0)),100,VLOOKUP($A287,'Race 2-Men'!$U$32:$Z$53,6,0))","v":100},{"$f":"IF(ISNA(VLOOKUP($A287,'Race 3-Men'!$U$40:$Z$61,6,0)),100,VLOOKUP($A287,'Race 3-Men'!$U$40:$Z$61,6,0))","v":100},{"$f":"IF(ISNA(VLOOKUP($A287,'Race 4-Men'!$U$35:$Z$100,6,0)),100,VLOOKUP($A287,'Race 4-Men'!$U$35:$Z$100,6,0))","v":100},{"$f":"SMALL(D287:G287,{1,2,3})","v":100},100,100,300,38]
["Chris Allan","BS","V50",{"$f":"IF(ISNA(VLOOKUP($A288,'Race 1-Men'!$U$33:$Z$51,6,0)),100,VLOOKUP($A288,'Race 1-Men'!$U$33:$Z$51,6,0))","v":100},{"$f":"IF(ISNA(VLOOKUP($A288,'Race 2-Men'!$U$32:$Z$53,6,0)),100,VLOOKUP($A288,'Race 2-Men'!$U$32:$Z$53,6,0))","v":100},{"$f":"IF(ISNA(VLOOKUP($A288,'Race 3-Men'!$U$40:$Z$61,6,0)),100,VLOOKUP($A288,'Race 3-Men'!$U$40:$Z$61,6,0))","v":100},{"$f":"IF(ISNA(VLOOKUP($A288,'Race 4-Men'!$U$35:$Z$100,6,0)),100,VLOOKUP($A288,'Race 4-Men'!$U$35:$Z$100,6,0))","v":100},{"$f":"SMALL(D288:G288,{1,2,3})","v":100},100,100,300,38]
["Chris Chew","BS","V50",{"$f":"IF(ISNA(VLOOKUP($A289,'Race 1-Men'!$U$33:$Z$51,6,0)),100,VLOOKUP($A289,'Race 1-Men'!$U$33:$Z$51,6,0))","v":100},{"$f":"IF(ISNA(VLOOKUP($A289,'Race 2-Men'!$U$32:$Z$53,6,0)),100,VLOOKUP($A289,'Race 2-Men'!$U$32:$Z$53,6,0))","v":9},{"$f":"IF(ISNA(VLOOKUP($A289,'Race 3-Men'!$U$40:$Z$61,6,0)),100,VLOOKUP($A289,'Race 3-Men'!$U$40:$Z$61,6,0))","v":7},{"$f":"IF(ISNA(VLOOKUP($A289,'Race 4-Men'!$U$35:$Z$100,6,0)),100,VLOOKUP($A289,'Race 4-Men'!$U$35:$Z$100,6,0))","v":6},{"$f":"SMALL(D289:G289,{1,2,3})","v":6},7,9,22,6]
["Chris Dodge","SS","V50",{"$f":"IF(ISNA(VLOOKUP($A290,'Race 1-Men'!$U$33:$Z$51,6,0)),100,VLOOKUP($A290,'Race 1-Men'!$U$33:$Z$51,6,0))","v":100},{"$f":"IF(ISNA(VLOOKUP($A290,'Race 2-Men'!$U$32:$Z$53,6,0)),100,VLOOKUP($A290,'Race 2-Men'!$U$32:$Z$53,6,0))","v":100},{"$f":"IF(ISNA(VLOOKUP($A290,'Race 3-Men'!$U$40:$Z$61,6,0)),100,VLOOKUP($A290,'Race 3-Men'!$U$40:$Z$61,6,0))","v":100},{"$f":"IF(ISNA(VLOOKUP($A290,'Race 4-Men'!$U$35:$Z$100,6,0)),100,VLOOKUP($A290,'Race 4-Men'!$U$35:$Z$100,6,0))","v":100},{"$f":"SMALL(D290:G290,{1,2,3})","v":100},100,100,300,38]
["Chris Haws","WJ","V50",{"$f":"IF(ISNA(VLOOKUP($A291,'Race 1-Men'!$U$33:$Z$51,6,0)),100,VLOOKUP($A291,'Race 1-Men'!$U$33:$Z$51,6,0))","v":100},{"$f":"IF(ISNA(VLOOKUP($A291,'Race 2-Men'!$U$32:$Z$53,6,0)),100,VLOOKUP($A291,'Race 2-Men'!$U$32:$Z$53,6,0))","v":100},{"$f":"IF(ISNA(VLOOKUP($A291,'Race 3-Men'!$U$40:$Z$61,6,0)),100,VLOOKUP($A291,'Race 3-Men'!$U$40:$Z$61,6,0))","v":100},{"$f":"IF(ISNA(VLOOKUP($A291,'Race 4-Men'!$U$35:$Z$100,6,0)),100,VLOOKUP($A291,'Race 4-Men'!$U$35:$Z$100,6,0))","v":100},{"$f":"SMALL(D291:G291,{1,2,3})","v":100},100,100,300,38]
["Craig Dyce","SS","V50",{"$f":"IF(ISNA(VLOOKUP($A292,'Race 1-Men'!$U$33:$Z$51,6,0)),100,VLOOKUP($A292,'Race 1-Men'!$U$33:$Z$51,6,0))","v":2},{"$f":"IF(ISNA(VLOOKUP($A292,'Race 2-Men'!$U$32:$Z$53,6,0)),100,VLOOKUP($A292,'Race 2-Men'!$U$32:$Z$53,6,0))","v":100},{"$f":"IF(ISNA(VLOOKUP($A292,'Race 3-Men'!$U$40:$Z$61,6,0)),100,VLOOKUP($A292,'Race 3-Men'!$U$40:$Z$61,6,0))","v":2},{"$f":"IF(ISNA(VLOOKUP($A292,'Race 4-Men'!$U$35:$Z$100,6,0)),100,VLOOKUP($A292,'Race 4-Men'!$U$35:$Z$100,6,0))","v":2},{"$f":"SMALL(D292:G292,{1,2,3})","v":2},2,2,6,2]
["Darren Coates","HRC","V50",{"$f":"IF(ISNA(VLOOKUP($A293,'Race 1-Men'!$U$33:$Z$51,6,0)),100,VLOOKUP($A293,'Race 1-Men'!$U$33:$Z$51,6,0))","v":100},{"$f":"IF(ISNA(VLOOKUP($A293,'Race 2-Men'!$U$32:$Z$53,6,0)),100,VLOOKUP($A293,'Race 2-Men'!$U$32:$Z$53,6,0))","v":100},{"$f":"IF(ISNA(VLOOKUP($A293,'Race 3-Men'!$U$40:$Z$61,6,0)),100,VLOOKUP($A293,'Race 3-Men'!$U$40:$Z$61,6,0))","v":100},{"$f":"IF(ISNA(VLOOKUP($A293,'Race 4-Men'!$U$35:$Z$100,6,0)),100,VLOOKUP($A293,'Race 4-Men'!$U$35:$Z$100,6,0))","v":100},{"$f":"SMALL(D293:G293,{1,2,3})","v":100},100,100,300,38]
["Darren Tiley","HRC","V50",{"$f":"IF(ISNA(VLOOKUP($A294,'Race 1-Men'!$U$33:$Z$51,6,0)),100,VLOOKUP($A294,'Race 1-Men'!$U$33:$Z$51,6,0))","v":100},{"$f":"IF(ISNA(VLOOKUP($A294,'Race 2-Men'!$U$32:$Z$53,6,0)),100,VLOOKUP($A294,'Race 2-Men'!$U$32:$Z$53,6,0))","v":100},{"$f":"IF(ISNA(VLOOKUP($A294,'Race 3-Men'!$U$40:$Z$61,6,0)),100,VLOOKUP($A294,'Race 3-Men'!$U$40:$Z$61,6,0))","v":15},{"$f":"IF(ISNA(VLOOKUP($A294,'Race 4-Men'!$U$35:$Z$100,6,0)),100,VLOOKUP($A294,'Race 4-Men'!$U$35:$Z$100,6,0))","v":100},{"$f":"SMALL(D294:G294,{1,2,3})","v":15},100,100,215,31]
["David Broughton","BS","V50",{"$f":"IF(ISNA(VLOOKUP($A295,'Race 1-Men'!$U$33:$Z$51,6,0)),100,VLOOKUP($A295,'Race 1-Men'!$U$33:$Z$51,6,0))","v":100},{"$f":"IF(ISNA(VLOOKUP($A295,'Race 2-Men'!$U$32:$Z$53,6,0)),100,VLOOKUP($A295,'Race 2-Men'!$U$32:$Z$53,6,0))","v":100},{"$f":"IF(ISNA(VLOOKUP($A295,'Race 3-Men'!$U$40:$Z$61,6,0)),100,VLOOKUP($A295,'Race 3-Men'!$U$40:$Z$61,6,0))","v":100},{"$f":"IF(ISNA(VLOOKUP($A295,'Race 4-Men'!$U$35:$Z$100,6,0)),100,VLOOKUP($A295,'Race 4-Men'!$U$35:$Z$100,6,0))","v":100},{"$f":"SMALL(D295:G295,{1,2,3})","v":100},100,100,300,38]
["David Johnson","HRC","V50",{"$f":"IF(ISNA(VLOOKUP($A296,'Race 1-Men'!$U$33:$Z$51,6,0)),100,VLOOKUP($A296,'Race 1-Men'!$U$33:$Z$51,6,0))","v":100},{"$f":"IF(ISNA(VLOOKUP($A296,'Race 2-Men'!$U$32:$Z$53,6,0)),100,VLOOKUP($A296,'Race 2-Men'!$U$32:$Z$53,6,0))","v":100},{"$f":"IF(ISNA(VLOOKUP($A296,'Race 3-Men'!$U$40:$Z$61,6,0)),100,VLOOKUP($A296,'Race 3-Men'!$U$40:$Z$61,6,0))","v":100},{"$f":"IF(ISNA(VLOOKUP($A296,'Race 4-Men'!$U$35:$Z$100,6,0)),100,VLOOKUP($A296,'Race 4-Men'!$U$35:$Z$100,6,0))","v":100},{"$f":"SMALL(D296:G296,{1,2,3})","v":100},100,100,300,38]
["David Martin","SS","V50",{"$f":"IF(ISNA(VLOOKUP($A297,'Race 1-Men'!$U$33:$Z$51,6,0)),100,VLOOKUP($A297,'Race 1-Men'!$U$33:$Z$51,6,0))","v":7},{"$f":"IF(ISNA(VLOOKUP($A297,'Race 2-Men'!$U$32:$Z$53,6,0)),100,VLOOKUP($A297,'Race 2-Men'!$U$32:$Z$53,6,0))","v":100},{"$f":"IF(ISNA(VLOOKUP($A297,'Race 3-Men'!$U$40:$Z$61,6,0)),100,VLOOKUP($A297,'Race 3-Men'!$U$40:$Z$61,6,0))","v":5},{"$f":"IF(ISNA(VLOOKUP($A297,'Race 4-Men'!$U$35:$Z$100,6,0)),100,VLOOKUP($A297,'Race 4-Men'!$U$35:$Z$100,6,0))","v":9},{"$f":"SMALL(D297:G297,{1,2,3})","v":5},7,9,21,5]
["David McMillan","BS","V50",{"$f":"IF(ISNA(VLOOKUP($A298,'Race 1-Men'!$U$33:$Z$51,6,0)),100,VLOOKUP($A298,'Race 1-Men'!$U$33:$Z$51,6,0))","v":100},{"$f":"IF(ISNA(VLOOKUP($A298,'Race 2-Men'!$U$32:$Z$53,6,0)),100,VLOOKUP($A298,'Race 2-Men'!$U$32:$Z$53,6,0))","v":100},{"$f":"IF(ISNA(VLOOKUP($A298,'Race 3-Men'!$U$40:$Z$61,6,0)),100,VLOOKUP($A298,'Race 3-Men'!$U$40:$Z$61,6,0))","v":100},{"$f":"IF(ISNA(VLOOKUP($A298,'Race 4-Men'!$U$35:$Z$100,6,0)),100,VLOOKUP($A298,'Race 4-Men'!$U$35:$Z$100,6,0))","v":100},{"$f":"SMALL(D298:G298,{1,2,3})","v":100},100,100,300,38]
["David Rutter","BS","V50",{"$f":"IF(ISNA(VLOOKUP($A299,'Race 1-Men'!$U$33:$Z$51,6,0)),100,VLOOKUP($A299,'Race 1-Men'!$U$33:$Z$51,6,0))","v":100},{"$f":"IF(ISNA(VLOOKUP($A299,'Race 2-Men'!$U$32:$Z$53,6,0)),100,VLOOKUP($A299,'Race 2-Men'!$U$32:$Z$53,6,0))","v":100},{"$f":"IF(ISNA(VLOOKUP($A299,'Race 3-Men'!$U$40:$Z$61,6,0)),100,VLOOKUP($A299,'Race 3-Men'!$U$40:$Z$61,6,0))","v":100},{"$f":"IF(ISNA(VLOOKUP($A299,'Race 4-Men'!$U$35:$Z$100,6,0)),100,VLOOKUP($A299,'Race 4-Men'!$U$35:$Z$100,6,0))","v":100},{"$f":"SMALL(D299:G299,{1,2,3})","v":100},100,100,300,38]
["Daz Red","HRC","V50",{"$f":"IF(ISNA(VLOOKUP($A300,'Race 1-Men'!$U$33:$Z$51,6,0)),100,VLOOKUP($A300,'Race 1-Men'!$U$33:$Z$51,6,0))","v":100},{"$f":"IF(ISNA(VLOOKUP($A300,'Race 2-Men'!$U$32:$Z$53,6,0)),100,VLOOKUP($A300,'Race 2-Men'!$U$32:$Z$53,6,0))","v":100},{"$f":"IF(ISNA(VLOOKUP($A300,'Race 3-Men'!$U$40:$Z$61,6,0)),100,VLOOKUP($A300,'Race 3-Men'!$U$40:$Z$61,6,0))","v":100},{"$f":"IF(ISNA(VLOOKUP($A300,'Race 4-Men'!$U$35:$Z$100,6,0)),100,VLOOKUP($A300,'Race 4-Men'!$U$35:$Z$100,6,0))","v":100},{"$f":"SMALL(D300:G300,{1,2,3})","v":100},100,100,300,38]
["Dean Moore","HRC","V50",{"$f":"IF(ISNA(VLOOKUP($A301,'Race 1-Men'!$U$33:$Z$51,6,0)),100,VLOOKUP($A301,'Race 1-Men'!$U$33:$Z$51,6,0))","v":100},{"$f":"IF(ISNA(VLOOKUP($A301,'Race 2-Men'!$U$32:$Z$53,6,0)),100,VLOOKUP($A301,'Race 2-Men'!$U$32:$Z$53,6,0))","v":100},{"$f":"IF(ISNA(VLOOKUP($A301,'Race 3-Men'!$U$40:$Z$61,6,0)),100,VLOOKUP($A301,'Race 3-Men'!$U$40:$Z$61,6,0))","v":100},{"$f":"IF(ISNA(VLOOKUP($A301,'Race 4-Men'!$U$35:$Z$100,6,0)),100,VLOOKUP($A301,'Race 4-Men'!$U$35:$Z$100,6,0))","v":100},{"$f":"SMALL(D301:G301,{1,2,3})","v":100},100,100,300,38]
["Dominic Emery","HRC","V50",{"$f":"IF(ISNA(VLOOKUP($A302,'Race 1-Men'!$U$33:$Z$51,6,0)),100,VLOOKUP($A302,'Race 1-Men'!$U$33:$Z$51,6,0))","v":100},{"$f":"IF(ISNA(VLOOKUP($A302,'Race 2-Men'!$U$32:$Z$53,6,0)),100,VLOOKUP($A302,'Race 2-Men'!$U$32:$Z$53,6,0))","v":100},{"$f":"IF(ISNA(VLOOKUP($A302,'Race 3-Men'!$U$40:$Z$61,6,0)),100,VLOOKUP($A302,'Race 3-Men'!$U$40:$Z$61,6,0))","v":100},{"$f":"IF(ISNA(VLOOKUP($A302,'Race 4-Men'!$U$35:$Z$100,6,0)),100,VLOOKUP($A302,'Race 4-Men'!$U$35:$Z$100,6,0))","v":100},{"$f":"SMALL(D302:G302,{1,2,3})","v":100},100,100,300,38]
["Dominic Mason","BS","V50",{"$f":"IF(ISNA(VLOOKUP($A303,'Race 1-Men'!$U$33:$Z$51,6,0)),100,VLOOKUP($A303,'Race 1-Men'!$U$33:$Z$51,6,0))","v":100},{"$f":"IF(ISNA(VLOOKUP($A303,'Race 2-Men'!$U$32:$Z$53,6,0)),100,VLOOKUP($A303,'Race 2-Men'!$U$32:$Z$53,6,0))","v":100},{"$f":"IF(ISNA(VLOOKUP($A303,'Race 3-Men'!$U$40:$Z$61,6,0)),100,VLOOKUP($A303,'Race 3-Men'!$U$40:$Z$61,6,0))","v":100},{"$f":"IF(ISNA(VLOOKUP($A303,'Race 4-Men'!$U$35:$Z$100,6,0)),100,VLOOKUP($A303,'Race 4-Men'!$U$35:$Z$100,6,0))","v":100},{"$f":"SMALL(D303:G303,{1,2,3})","v":100},100,100,300,38]
["Feridun Kadir","BS","V50",{"$f":"IF(ISNA(VLOOKUP($A304,'Race 1-Men'!$U$33:$Z$51,6,0)),100,VLOOKUP($A304,'Race 1-Men'!$U$33:$Z$51,6,0))","v":100},{"$f":"IF(ISNA(VLOOKUP($A304,'Race 2-Men'!$U$32:$Z$53,6,0)),100,VLOOKUP($A304,'Race 2-Men'!$U$32:$Z$53,6,0))","v":100},{"$f":"IF(ISNA(VLOOKUP($A304,'Race 3-Men'!$U$40:$Z$61,6,0)),100,VLOOKUP($A304,'Race 3-Men'!$U$40:$Z$61,6,0))","v":100},{"$f":"IF(ISNA(VLOOKUP($A304,'Race 4-Men'!$U$35:$Z$100,6,0)),100,VLOOKUP($A304,'Race 4-Men'!$U$35:$Z$100,6,0))","v":100},{"$f":"SMALL(D304:G304,{1,2,3})","v":100},100,100,300,38]
["Garry Stuart","BS","V50",{"$f":"IF(ISNA(VLOOKUP($A305,'Race 1-Men'!$U$33:$Z$51,6,0)),100,VLOOKUP($A305,'Race 1-Men'!$U$33:$Z$51,6,0))","v":100},{"$f":"IF(ISNA(VLOOKUP($A305,'Race 2-Men'!$U$32:$Z$53,6,0)),100,VLOOKUP($A305,'Race 2-Men'!$U$32:$Z$53,6,0))","v":100},{"$f":"IF(ISNA(VLOOKUP($A305,'Race 3-Men'!$U$40:$Z$61,6,0)),100,VLOOKUP($A305,'Race 3-Men'!$U$40:$Z$61,6,0))","v":100},{"$f":"IF(ISNA(VLOOKUP($A305,'Race 4-Men'!$U$35:$Z$100,6,0)),100,VLOOKUP($A305,'Race 4-Men'!$U$35:$Z$100,6,0))","v":100},{"$f":"SMALL(D305:G305,{1,2,3})","v":100},100,100,300,38]
["Gary Jones","BS","V50",{"$f":"IF(ISNA(VLOOKUP($A306,'Race 1-Men'!$U$33:$Z$51,6,0)),100,VLOOKUP($A306,'Race 1-Men'!$U$33:$Z$51,6,0))","v":100},{"$f":"IF(ISNA(VLOOKUP($A306,'Race 2-Men'!$U$32:$Z$53,6,0)),100,VLOOKUP($A306,'Race 2-Men'!$U$32:$Z$53,6,0))","v":7},{"$f":"IF(ISNA(VLOOKUP($A306,'Race 3-Men'!$U$40:$Z$61,6,0)),100,VLOOKUP($A306,'Race 3-Men'!$U$40:$Z$61,6,0))","v":100},{"$f":"IF(ISNA(VLOOKUP($A306,'Race 4-Men'!$U$35:$Z$100,6,0)),100,VLOOKUP($A306,'Race 4-Men'!$U$35:$Z$100,6,0))","v":100},{"$f":"SMALL(D306:G306,{1,2,3})","v":7},100,100,207,27]
["Gary Mead","HRC","V50",{"$f":"IF(ISNA(VLOOKUP($A307,'Race 1-Men'!$U$33:$Z$51,6,0)),100,VLOOKUP($A307,'Race 1-Men'!$U$33:$Z$51,6,0))","v":100},{"$f":"IF(ISNA(VLOOKUP($A307,'Race 2-Men'!$U$32:$Z$53,6,0)),100,VLOOKUP($A307,'Race 2-Men'!$U$32:$Z$53,6,0))","v":17},{"$f":"IF(ISNA(VLOOKUP($A307,'Race 3-Men'!$U$40:$Z$61,6,0)),100,VLOOKUP($A307,'Race 3-Men'!$U$40:$Z$61,6,0))","v":100},{"$f":"IF(ISNA(VLOOKUP($A307,'Race 4-Men'!$U$35:$Z$100,6,0)),100,VLOOKUP($A307,'Race 4-Men'!$U$35:$Z$100,6,0))","v":12},{"$f":"SMALL(D307:G307,{1,2,3})","v":12},17,100,129,20]
["Gavin Moulton","BS","V50",{"$f":"IF(ISNA(VLOOKUP($A308,'Race 1-Men'!$U$33:$Z$51,6,0)),100,VLOOKUP($A308,'Race 1-Men'!$U$33:$Z$51,6,0))","v":100},{"$f":"IF(ISNA(VLOOKUP($A308,'Race 2-Men'!$U$32:$Z$53,6,0)),100,VLOOKUP($A308,'Race 2-Men'!$U$32:$Z$53,6,0))","v":100},{"$f":"IF(ISNA(VLOOKUP($A308,'Race 3-Men'!$U$40:$Z$61,6,0)),100,VLOOKUP($A308,'Race 3-Men'!$U$40:$Z$61,6,0))","v":100},{"$f":"IF(ISNA(VLOOKUP($A308,'Race 4-Men'!$U$35:$Z$100,6,0)),100,VLOOKUP($A308,'Race 4-Men'!$U$35:$Z$100,6,0))","v":100},{"$f":"SMALL(D308:G308,{1,2,3})","v":100},100,100,300,38]
["Glen Malcolm","BS","V50",{"$f":"IF(ISNA(VLOOKUP($A309,'Race 1-Men'!$U$33:$Z$51,6,0)),100,VLOOKUP($A309,'Race 1-Men'!$U$33:$Z$51,6,0))","v":100},{"$f":"IF(ISNA(VLOOKUP($A309,'Race 2-Men'!$U$32:$Z$53,6,0)),100,VLOOKUP($A309,'Race 2-Men'!$U$32:$Z$53,6,0))","v":100},{"$f":"IF(ISNA(VLOOKUP($A309,'Race 3-Men'!$U$40:$Z$61,6,0)),100,VLOOKUP($A309,'Race 3-Men'!$U$40:$Z$61,6,0))","v":100},{"$f":"IF(ISNA(VLOOKUP($A309,'Race 4-Men'!$U$35:$Z$100,6,0)),100,VLOOKUP($A309,'Race 4-Men'!$U$35:$Z$100,6,0))","v":100},{"$f":"SMALL(D309:G309,{1,2,3})","v":100},100,100,300,38]
["Graham Willson","BS","V50",{"$f":"IF(ISNA(VLOOKUP($A310,'Race 1-Men'!$U$33:$Z$51,6,0)),100,VLOOKUP($A310,'Race 1-Men'!$U$33:$Z$51,6,0))","v":100},{"$f":"IF(ISNA(VLOOKUP($A310,'Race 2-Men'!$U$32:$Z$53,6,0)),100,VLOOKUP($A310,'Race 2-Men'!$U$32:$Z$53,6,0))","v":100},{"$f":"IF(ISNA(VLOOKUP($A310,'Race 3-Men'!$U$40:$Z$61,6,0)),100,VLOOKUP($A310,'Race 3-Men'!$U$40:$Z$61,6,0))","v":100},{"$f":"IF(ISNA(VLOOKUP($A310,'Race 4-Men'!$U$35:$Z$100,6,0)),100,VLOOKUP($A310,'Race 4-Men'!$U$35:$Z$100,6,0))","v":100},{"$f":"SMALL(D310:G310,{1,2,3})","v":100},100,100,300,38]
["Iain Rogers","SS","V50",{"$f":"IF(ISNA(VLOOKUP($A311,'Race 1-Men'!$U$33:$Z$51,6,0)),100,VLOOKUP($A311,'Race 1-Men'!$U$33:$Z$51,6,0))","v":100},{"$f":"IF(ISNA(VLOOKUP($A311,'Race 2-Men'!$U$32:$Z$53,6,0)),100,VLOOKUP($A311,'Race 2-Men'!$U$32:$Z$53,6,0))","v":100},{"$f":"IF(ISNA(VLOOKUP($A311,'Race 3-Men'!$U$40:$Z$61,6,0)),100,VLOOKUP($A311,'Race 3-Men'!$U$40:$Z$61,6,0))","v":100},{"$f":"IF(ISNA(VLOOKUP($A311,'Race 4-Men'!$U$35:$Z$100,6,0)),100,VLOOKUP($A311,'Race 4-Men'!$U$35:$Z$100,6,0))","v":15},{"$f":"SMALL(D311:G311,{1,2,3})","v":15},100,100,215,31]
["Ian Christopher Scott","SS","V50",{"$f":"IF(ISNA(VLOOKUP($A312,'Race 1-Men'!$U$33:$Z$51,6,0)),100,VLOOKUP($A312,'Race 1-Men'!$U$33:$Z$51,6,0))","v":100},{"$f":"IF(ISNA(VLOOKUP($A312,'Race 2-Men'!$U$32:$Z$53,6,0)),100,VLOOKUP($A312,'Race 2-Men'!$U$32:$Z$53,6,0))","v":100},{"$f":"IF(ISNA(VLOOKUP($A312,'Race 3-Men'!$U$40:$Z$61,6,0)),100,VLOOKUP($A312,'Race 3-Men'!$U$40:$Z$61,6,0))","v":100},{"$f":"IF(ISNA(VLOOKUP($A312,'Race 4-Men'!$U$35:$Z$100,6,0)),100,VLOOKUP($A312,'Race 4-Men'!$U$35:$Z$100,6,0))","v":100},{"$f":"SMALL(D312:G312,{1,2,3})","v":100},100,100,300,38]
["James Martin","HRC","V50",{"$f":"IF(ISNA(VLOOKUP($A313,'Race 1-Men'!$U$33:$Z$51,6,0)),100,VLOOKUP($A313,'Race 1-Men'!$U$33:$Z$51,6,0))","v":100},{"$f":"IF(ISNA(VLOOKUP($A313,'Race 2-Men'!$U$32:$Z$53,6,0)),100,VLOOKUP($A313,'Race 2-Men'!$U$32:$Z$53,6,0))","v":100},{"$f":"IF(ISNA(VLOOKUP($A313,'Race 3-Men'!$U$40:$Z$61,6,0)),100,VLOOKUP($A313,'Race 3-Men'!$U$40:$Z$61,6,0))","v":100},{"$f":"IF(ISNA(VLOOKUP($A313,'Race 4-Men'!$U$35:$Z$100,6,0)),100,VLOOKUP($A313,'Race 4-Men'!$U$35:$Z$100,6,0))","v":100},{"$f":"SMALL(D313:G313,{1,2,3})","v":100},100,100,300,38]
["Jason Coles","SS","V50",{"$f":"IF(ISNA(VLOOKUP($A314,'Race 1-Men'!$U$33:$Z$51,6,0)),100,VLOOKUP($A314,'Race 1-Men'!$U$33:$Z$51,6,0))","v":100},{"$f":"IF(ISNA(VLOOKUP($A314,'Race 2-Men'!$U$32:$Z$53,6,0)),100,VLOOKUP($A314,'Race 2-Men'!$U$32:$Z$53,6,0))","v":100},{"$f":"IF(ISNA(VLOOKUP($A314,'Race 3-Men'!$U$40:$Z$61,6,0)),100,VLOOKUP($A314,'Race 3-Men'!$U$40:$Z$61,6,0))","v":100},{"$f":"IF(ISNA(VLOOKUP($A314,'Race 4-Men'!$U$35:$Z$100,6,0)),100,VLOOKUP($A314,'Race 4-Men'!$U$35:$Z$100,6,0))","v":100},{"$f":"SMALL(D314:G314,{1,2,3})","v":100},100,100,300,38]
["Jason Fox","HRC","V50",{"$f":"IF(ISNA(VLOOKUP($A315,'Race 1-Men'!$U$33:$Z$51,6,0)),100,VLOOKUP($A315,'Race 1-Men'!$U$33:$Z$51,6,0))","v":100},{"$f":"IF(ISNA(VLOOKUP($A315,'Race 2-Men'!$U$32:$Z$53,6,0)),100,VLOOKUP($A315,'Race 2-Men'!$U$32:$Z$53,6,0))","v":100},{"$f":"IF(ISNA(VLOOKUP($A315,'Race 3-Men'!$U$40:$Z$61,6,0)),100,VLOOKUP($A315,'Race 3-Men'!$U$40:$Z$61,6,0))","v":100},{"$f":"IF(ISNA(VLOOKUP($A315,'Race 4-Men'!$U$35:$Z$100,6,0)),100,VLOOKUP($A315,'Race 4-Men'!$U$35:$Z$100,6,0))","v":100},{"$f":"SMALL(D315:G315,{1,2,3})","v":100},100,100,300,38]
["Jason Fryer","HRC","V50",{"$f":"IF(ISNA(VLOOKUP($A316,'Race 1-Men'!$U$33:$Z$51,6,0)),100,VLOOKUP($A316,'Race 1-Men'!$U$33:$Z$51,6,0))","v":100},{"$f":"IF(ISNA(VLOOKUP($A316,'Race 2-Men'!$U$32:$Z$53,6,0)),100,VLOOKUP($A316,'Race 2-Men'!$U$32:$Z$53,6,0))","v":100},{"$f":"IF(ISNA(VLOOKUP($A316,'Race 3-Men'!$U$40:$Z$61,6,0)),100,VLOOKUP($A316,'Race 3-Men'!$U$40:$Z$61,6,0))","v":100},{"$f":"IF(ISNA(VLOOKUP($A316,'Race 4-Men'!$U$35:$Z$100,6,0)),100,VLOOKUP($A316,'Race 4-Men'!$U$35:$Z$100,6,0))","v":100},{"$f":"SMALL(D316:G316,{1,2,3})","v":100},100,100,300,38]
["Jason Haigh","BS","V50",{"$f":"IF(ISNA(VLOOKUP($A317,'Race 1-Men'!$U$33:$Z$51,6,0)),100,VLOOKUP($A317,'Race 1-Men'!$U$33:$Z$51,6,0))","v":100},{"$f":"IF(ISNA(VLOOKUP($A317,'Race 2-Men'!$U$32:$Z$53,6,0)),100,VLOOKUP($A317,'Race 2-Men'!$U$32:$Z$53,6,0))","v":100},{"$f":"IF(ISNA(VLOOKUP($A317,'Race 3-Men'!$U$40:$Z$61,6,0)),100,VLOOKUP($A317,'Race 3-Men'!$U$40:$Z$61,6,0))","v":100},{"$f":"IF(ISNA(VLOOKUP($A317,'Race 4-Men'!$U$35:$Z$100,6,0)),100,VLOOKUP($A317,'Race 4-Men'!$U$35:$Z$100,6,0))","v":100},{"$f":"SMALL(D317:G317,{1,2,3})","v":100},100,100,300,38]
["Jason Hasty","BS","V50",{"$f":"IF(ISNA(VLOOKUP($A318,'Race 1-Men'!$U$33:$Z$51,6,0)),100,VLOOKUP($A318,'Race 1-Men'!$U$33:$Z$51,6,0))","v":100},{"$f":"IF(ISNA(VLOOKUP($A318,'Race 2-Men'!$U$32:$Z$53,6,0)),100,VLOOKUP($A318,'Race 2-Men'!$U$32:$Z$53,6,0))","v":100},{"$f":"IF(ISNA(VLOOKUP($A318,'Race 3-Men'!$U$40:$Z$61,6,0)),100,VLOOKUP($A318,'Race 3-Men'!$U$40:$Z$61,6,0))","v":100},{"$f":"IF(ISNA(VLOOKUP($A318,'Race 4-Men'!$U$35:$Z$100,6,0)),100,VLOOKUP($A318,'Race 4-Men'!$U$35:$Z$100,6,0))","v":100},{"$f":"SMALL(D318:G318,{1,2,3})","v":100},100,100,300,38]
["Jason Mentern","WJ","V50",{"$f":"IF(ISNA(VLOOKUP($A319,'Race 1-Men'!$U$33:$Z$51,6,0)),100,VLOOKUP($A319,'Race 1-Men'!$U$33:$Z$51,6,0))","v":100},{"$f":"IF(ISNA(VLOOKUP($A319,'Race 2-Men'!$U$32:$Z$53,6,0)),100,VLOOKUP($A319,'Race 2-Men'!$U$32:$Z$53,6,0))","v":100},{"$f":"IF(ISNA(VLOOKUP($A319,'Race 3-Men'!$U$40:$Z$61,6,0)),100,VLOOKUP($A319,'Race 3-Men'!$U$40:$Z$61,6,0))","v":100},{"$f":"IF(ISNA(VLOOKUP($A319,'Race 4-Men'!$U$35:$Z$100,6,0)),100,VLOOKUP($A319,'Race 4-Men'!$U$35:$Z$100,6,0))","v":100},{"$f":"SMALL(D319:G319,{1,2,3})","v":100},100,100,300,38]
["Joe Costley","BS","V50",{"$f":"IF(ISNA(VLOOKUP($A320,'Race 1-Men'!$U$33:$Z$51,6,0)),100,VLOOKUP($A320,'Race 1-Men'!$U$33:$Z$51,6,0))","v":100},{"$f":"IF(ISNA(VLOOKUP($A320,'Race 2-Men'!$U$32:$Z$53,6,0)),100,VLOOKUP($A320,'Race 2-Men'!$U$32:$Z$53,6,0))","v":100},{"$f":"IF(ISNA(VLOOKUP($A320,'Race 3-Men'!$U$40:$Z$61,6,0)),100,VLOOKUP($A320,'Race 3-Men'!$U$40:$Z$61,6,0))","v":100},{"$f":"IF(ISNA(VLOOKUP($A320,'Race 4-Men'!$U$35:$Z$100,6,0)),100,VLOOKUP($A320,'Race 4-Men'!$U$35:$Z$100,6,0))","v":100},{"$f":"SMALL(D320:G320,{1,2,3})","v":100},100,100,300,38]
["Joe Dainty","HRC","V50",{"$f":"IF(ISNA(VLOOKUP($A321,'Race 1-Men'!$U$33:$Z$51,6,0)),100,VLOOKUP($A321,'Race 1-Men'!$U$33:$Z$51,6,0))","v":100},{"$f":"IF(ISNA(VLOOKUP($A321,'Race 2-Men'!$U$32:$Z$53,6,0)),100,VLOOKUP($A321,'Race 2-Men'!$U$32:$Z$53,6,0))","v":100},{"$f":"IF(ISNA(VLOOKUP($A321,'Race 3-Men'!$U$40:$Z$61,6,0)),100,VLOOKUP($A321,'Race 3-Men'!$U$40:$Z$61,6,0))","v":100},{"$f":"IF(ISNA(VLOOKUP($A321,'Race 4-Men'!$U$35:$Z$100,6,0)),100,VLOOKUP($A321,'Race 4-Men'!$U$35:$Z$100,6,0))","v":100},{"$f":"SMALL(D321:G321,{1,2,3})","v":100},100,100,300,38]
["Joe Hall","SS","V50",{"$f":"IF(ISNA(VLOOKUP($A322,'Race 1-Men'!$U$33:$Z$51,6,0)),100,VLOOKUP($A322,'Race 1-Men'!$U$33:$Z$51,6,0))","v":100},{"$f":"IF(ISNA(VLOOKUP($A322,'Race 2-Men'!$U$32:$Z$53,6,0)),100,VLOOKUP($A322,'Race 2-Men'!$U$32:$Z$53,6,0))","v":100},{"$f":"IF(ISNA(VLOOKUP($A322,'Race 3-Men'!$U$40:$Z$61,6,0)),100,VLOOKUP($A322,'Race 3-Men'!$U$40:$Z$61,6,0))","v":100},{"$f":"IF(ISNA(VLOOKUP($A322,'Race 4-Men'!$U$35:$Z$100,6,0)),100,VLOOKUP($A322,'Race 4-Men'!$U$35:$Z$100,6,0))","v":100},{"$f":"SMALL(D322:G322,{1,2,3})","v":100},100,100,300,38]
["John Appleby","BS","V50",{"$f":"IF(ISNA(VLOOKUP($A323,'Race 1-Men'!$U$33:$Z$51,6,0)),100,VLOOKUP($A323,'Race 1-Men'!$U$33:$Z$51,6,0))","v":100},{"$f":"IF(ISNA(VLOOKUP($A323,'Race 2-Men'!$U$32:$Z$53,6,0)),100,VLOOKUP($A323,'Race 2-Men'!$U$32:$Z$53,6,0))","v":100},{"$f":"IF(ISNA(VLOOKUP($A323,'Race 3-Men'!$U$40:$Z$61,6,0)),100,VLOOKUP($A323,'Race 3-Men'!$U$40:$Z$61,6,0))","v":100},{"$f":"IF(ISNA(VLOOKUP($A323,'Race 4-Men'!$U$35:$Z$100,6,0)),100,VLOOKUP($A323,'Race 4-Men'!$U$35:$Z$100,6,0))","v":100},{"$f":"SMALL(D323:G323,{1,2,3})","v":100},100,100,300,38]
["John Bull","HRC","V50",{"$f":"IF(ISNA(VLOOKUP($A324,'Race 1-Men'!$U$33:$Z$51,6,0)),100,VLOOKUP($A324,'Race 1-Men'!$U$33:$Z$51,6,0))","v":100},{"$f":"IF(ISNA(VLOOKUP($A324,'Race 2-Men'!$U$32:$Z$53,6,0)),100,VLOOKUP($A324,'Race 2-Men'!$U$32:$Z$53,6,0))","v":14},{"$f":"IF(ISNA(VLOOKUP($A324,'Race 3-Men'!$U$40:$Z$61,6,0)),100,VLOOKUP($A324,'Race 3-Men'!$U$40:$Z$61,6,0))","v":100},{"$f":"IF(ISNA(VLOOKUP($A324,'Race 4-Men'!$U$35:$Z$100,6,0)),100,VLOOKUP($A324,'Race 4-Men'!$U$35:$Z$100,6,0))","v":11},{"$f":"SMALL(D324:G324,{1,2,3})","v":11},14,100,{"$f":"SUM(H324:J324)","v":125},19]
["John Dodsworth","BS","V50",{"$f":"IF(ISNA(VLOOKUP($A325,'Race 1-Men'!$U$33:$Z$51,6,0)),100,VLOOKUP($A325,'Race 1-Men'!$U$33:$Z$51,6,0))","v":100},{"$f":"IF(ISNA(VLOOKUP($A325,'Race 2-Men'!$U$32:$Z$53,6,0)),100,VLOOKUP($A325,'Race 2-Men'!$U$32:$Z$53,6,0))","v":100},{"$f":"IF(ISNA(VLOOKUP($A325,'Race 3-Men'!$U$40:$Z$61,6,0)),100,VLOOKUP($A325,'Race 3-Men'!$U$40:$Z$61,6,0))","v":100},{"$f":"IF(ISNA(VLOOKUP($A325,'Race 4-Men'!$U$35:$Z$100,6,0)),100,VLOOKUP($A325,'Race 4-Men'!$U$35:$Z$100,6,0))","v":100},{"$f":"SMALL(D325:G325,{1,2,3})","v":100},100,100,300,38]
["John Earley","BS","V50",{"$f":"IF(ISNA(VLOOKUP($A326,'Race 1-Men'!$U$33:$Z$51,6,0)),100,VLOOKUP($A326,'Race 1-Men'!$U$33:$Z$51,6,0))","v":100},{"$f":"IF(ISNA(VLOOKUP($A326,'Race 2-Men'!$U$32:$Z$53,6,0)),100,VLOOKUP($A326,'Race 2-Men'!$U$32:$Z$53,6,0))","v":100},{"$f":"IF(ISNA(VLOOKUP($A326,'Race 3-Men'!$U$40:$Z$61,6,0)),100,VLOOKUP($A326,'Race 3-Men'!$U$40:$Z$61,6,0))","v":100},{"$f":"IF(ISNA(VLOOKUP($A326,'Race 4-Men'!$U$35:$Z$100,6,0)),100,VLOOKUP($A326,'Race 4-Men'!$U$35:$Z$100,6,0))","v":100},{"$f":"SMALL(D326:G326,{1,2,3})","v":100},100,100,300,38]
["John Hair","WJ","V50",{"$f":"IF(ISNA(VLOOKUP($A327,'Race 1-Men'!$U$33:$Z$51,6,0)),100,VLOOKUP($A327,'Race 1-Men'!$U$33:$Z$51,6,0))","v":100},{"$f":"IF(ISNA(VLOOKUP($A327,'Race 2-Men'!$U$32:$Z$53,6,0)),100,VLOOKUP($A327,'Race 2-Men'!$U$32:$Z$53,6,0))","v":100},{"$f":"IF(ISNA(VLOOKUP($A327,'Race 3-Men'!$U$40:$Z$61,6,0)),100,VLOOKUP($A327,'Race 3-Men'!$U$40:$Z$61,6,0))","v":100},{"$f":"IF(ISNA(VLOOKUP($A327,'Race 4-Men'!$U$35:$Z$100,6,0)),100,VLOOKUP($A327,'Race 4-Men'!$U$35:$Z$100,6,0))","v":100},{"$f":"SMALL(D327:G327,{1,2,3})","v":100},100,100,300,38]
["John Kennedy","BS","V50",{"$f":"IF(ISNA(VLOOKUP($A328,'Race 1-Men'!$U$33:$Z$51,6,0)),100,VLOOKUP($A328,'Race 1-Men'!$U$33:$Z$51,6,0))","v":100},{"$f":"IF(ISNA(VLOOKUP($A328,'Race 2-Men'!$U$32:$Z$53,6,0)),100,VLOOKUP($A328,'Race 2-Men'!$U$32:$Z$53,6,0))","v":10},{"$f":"IF(ISNA(VLOOKUP($A328,'Race 3-Men'!$U$40:$Z$61,6,0)),100,VLOOKUP($A328,'Race 3-Men'!$U$40:$Z$61,6,0))","v":100},{"$f":"IF(ISNA(VLOOKUP($A328,'Race 4-Men'!$U$35:$Z$100,6,0)),100,VLOOKUP($A328,'Race 4-Men'!$U$35:$Z$100,6,0))","v":100},{"$f":"SMALL(D328:G328,{1,2,3})","v":10},100,100,210,28]
["John Nichol","BS","V50",{"$f":"IF(ISNA(VLOOKUP($A329,'Race 1-Men'!$U$33:$Z$51,6,0)),100,VLOOKUP($A329,'Race 1-Men'!$U$33:$Z$51,6,0))","v":100},{"$f":"IF(ISNA(VLOOKUP($A329,'Race 2-Men'!$U$32:$Z$53,6,0)),100,VLOOKUP($A329,'Race 2-Men'!$U$32:$Z$53,6,0))","v":100},{"$f":"IF(ISNA(VLOOKUP($A329,'Race 3-Men'!$U$40:$Z$61,6,0)),100,VLOOKUP($A329,'Race 3-Men'!$U$40:$Z$61,6,0))","v":100},{"$f":"IF(ISNA(VLOOKUP($A329,'Race 4-Men'!$U$35:$Z$100,6,0)),100,VLOOKUP($A329,'Race 4-Men'!$U$35:$Z$100,6,0))","v":100},{"$f":"SMALL(D329:G329,{1,2,3})","v":100},100,100,300,38]
["Jon Cooke","SS","V50",{"$f":"IF(ISNA(VLOOKUP($A330,'Race 1-Men'!$U$33:$Z$51,6,0)),100,VLOOKUP($A330,'Race 1-Men'!$U$33:$Z$51,6,0))","v":100},{"$f":"IF(ISNA(VLOOKUP($A330,'Race 2-Men'!$U$32:$Z$53,6,0)),100,VLOOKUP($A330,'Race 2-Men'!$U$32:$Z$53,6,0))","v":100},{"$f":"IF(ISNA(VLOOKUP($A330,'Race 3-Men'!$U$40:$Z$61,6,0)),100,VLOOKUP($A330,'Race 3-Men'!$U$40:$Z$61,6,0))","v":100},{"$f":"IF(ISNA(VLOOKUP($A330,'Race 4-Men'!$U$35:$Z$100,6,0)),100,VLOOKUP($A330,'Race 4-Men'!$U$35:$Z$100,6,0))","v":100},{"$f":"SMALL(D330:G330,{1,2,3})","v":100},100,100,300,38]
["Jon Waight","HRC","V50",{"$f":"IF(ISNA(VLOOKUP($A331,'Race 1-Men'!$U$33:$Z$51,6,0)),100,VLOOKUP($A331,'Race 1-Men'!$U$33:$Z$51,6,0))","v":100},{"$f":"IF(ISNA(VLOOKUP($A331,'Race 2-Men'!$U$32:$Z$53,6,0)),100,VLOOKUP($A331,'Race 2-Men'!$U$32:$Z$53,6,0))","v":100},{"$f":"IF(ISNA(VLOOKUP($A331,'Race 3-Men'!$U$40:$Z$61,6,0)),100,VLOOKUP($A331,'Race 3-Men'!$U$40:$Z$61,6,0))","v":100},{"$f":"IF(ISNA(VLOOKUP($A331,'Race 4-Men'!$U$35:$Z$100,6,0)),100,VLOOKUP($A331,'Race 4-Men'!$U$35:$Z$100,6,0))","v":100},{"$f":"SMALL(D331:G331,{1,2,3})","v":100},100,100,300,38]
["Justin James","SS","V50",{"$f":"IF(ISNA(VLOOKUP($A332,'Race 1-Men'!$U$33:$Z$51,6,0)),100,VLOOKUP($A332,'Race 1-Men'!$U$33:$Z$51,6,0))","v":100},{"$f":"IF(ISNA(VLOOKUP($A332,'Race 2-Men'!$U$32:$Z$53,6,0)),100,VLOOKUP($A332,'Race 2-Men'!$U$32:$Z$53,6,0))","v":2},{"$f":"IF(ISNA(VLOOKUP($A332,'Race 3-Men'!$U$40:$Z$61,6,0)),100,VLOOKUP($A332,'Race 3-Men'!$U$40:$Z$61,6,0))","v":100},{"$f":"IF(ISNA(VLOOKUP($A332,'Race 4-Men'!$U$35:$Z$100,6,0)),100,VLOOKUP($A332,'Race 4-Men'!$U$35:$Z$100,6,0))","v":100},{"$f":"SMALL(D332:G332,{1,2,3})","v":2},100,100,202,23]
["Justin Patten","BS","V50",{"$f":"IF(ISNA(VLOOKUP($A333,'Race 1-Men'!$U$33:$Z$51,6,0)),100,VLOOKUP($A333,'Race 1-Men'!$U$33:$Z$51,6,0))","v":100},{"$f":"IF(ISNA(VLOOKUP($A333,'Race 2-Men'!$U$32:$Z$53,6,0)),100,VLOOKUP($A333,'Race 2-Men'!$U$32:$Z$53,6,0))","v":100},{"$f":"IF(ISNA(VLOOKUP($A333,'Race 3-Men'!$U$40:$Z$61,6,0)),100,VLOOKUP($A333,'Race 3-Men'!$U$40:$Z$61,6,0))","v":100},{"$f":"IF(ISNA(VLOOKUP($A333,'Race 4-Men'!$U$35:$Z$100,6,0)),100,VLOOKUP($A333,'Race 4-Men'!$U$35:$Z$100,6,0))","v":100},{"$f":"SMALL(D333:G333,{1,2,3})","v":100},100,100,300,38]
["Keith Streeter","HRC","V50",{"$f":"IF(ISNA(VLOOKUP($A334,'Race 1-Men'!$U$33:$Z$51,6,0)),100,VLOOKUP($A334,'Race 1-Men'!$U$33:$Z$51,6,0))","v":100},{"$f":"IF(ISNA(VLOOKUP($A334,'Race 2-Men'!$U$32:$Z$53,6,0)),100,VLOOKUP($A334,'Race 2-Men'!$U$32:$Z$53,6,0))","v":100},{"$f":"IF(ISNA(VLOOKUP($A334,'Race 3-Men'!$U$40:$Z$61,6,0)),100,VLOOKUP($A334,'Race 3-Men'!$U$40:$Z$61,6,0))","v":100},{"$f":"IF(ISNA(VLOOKUP($A334,'Race 4-Men'!$U$35:$Z$100,6,0)),100,VLOOKUP($A334,'Race 4-Men'!$U$35:$Z$100,6,0))","v":100},{"$f":"SMALL(D334:G334,{1,2,3})","v":100},100,100,300,38]
["Kevin Gillespie","BS","V50",{"$f":"IF(ISNA(VLOOKUP($A335,'Race 1-Men'!$U$33:$Z$51,6,0)),100,VLOOKUP($A335,'Race 1-Men'!$U$33:$Z$51,6,0))","v":100},{"$f":"IF(ISNA(VLOOKUP($A335,'Race 2-Men'!$U$32:$Z$53,6,0)),100,VLOOKUP($A335,'Race 2-Men'!$U$32:$Z$53,6,0))","v":12},{"$f":"IF(ISNA(VLOOKUP($A335,'Race 3-Men'!$U$40:$Z$61,6,0)),100,VLOOKUP($A335,'Race 3-Men'!$U$40:$Z$61,6,0))","v":8},{"$f":"IF(ISNA(VLOOKUP($A335,'Race 4-Men'!$U$35:$Z$100,6,0)),100,VLOOKUP($A335,'Race 4-Men'!$U$35:$Z$100,6,0))","v":100},{"$f":"SMALL(D335:G335,{1,2,3})","v":8},12,100,120,18]
["Kevin Marshall","BS","V50",{"$f":"IF(ISNA(VLOOKUP($A336,'Race 1-Men'!$U$33:$Z$51,6,0)),100,VLOOKUP($A336,'Race 1-Men'!$U$33:$Z$51,6,0))","v":6},{"$f":"IF(ISNA(VLOOKUP($A336,'Race 2-Men'!$U$32:$Z$53,6,0)),100,VLOOKUP($A336,'Race 2-Men'!$U$32:$Z$53,6,0))","v":100},{"$f":"IF(ISNA(VLOOKUP($A336,'Race 3-Men'!$U$40:$Z$61,6,0)),100,VLOOKUP($A336,'Race 3-Men'!$U$40:$Z$61,6,0))","v":100},{"$f":"IF(ISNA(VLOOKUP($A336,'Race 4-Men'!$U$35:$Z$100,6,0)),100,VLOOKUP($A336,'Race 4-Men'!$U$35:$Z$100,6,0))","v":100},{"$f":"SMALL(D336:G336,{1,2,3})","v":6},100,100,206,{"$f":"RANK(K336,$K$271:$K$406,1)","v":26}]
["Kevin Sambridge","WJ","V50",{"$f":"IF(ISNA(VLOOKUP($A337,'Race 1-Men'!$U$33:$Z$51,6,0)),100,VLOOKUP($A337,'Race 1-Men'!$U$33:$Z$51,6,0))","v":100},{"$f":"IF(ISNA(VLOOKUP($A337,'Race 2-Men'!$U$32:$Z$53,6,0)),100,VLOOKUP($A337,'Race 2-Men'!$U$32:$Z$53,6,0))","v":100},{"$f":"IF(ISNA(VLOOKUP($A337,'Race 3-Men'!$U$40:$Z$61,6,0)),100,VLOOKUP($A337,'Race 3-Men'!$U$40:$Z$61,6,0))","v":100},{"$f":"IF(ISNA(VLOOKUP($A337,'Race 4-Men'!$U$35:$Z$100,6,0)),100,VLOOKUP($A337,'Race 4-Men'!$U$35:$Z$100,6,0))","v":100},{"$f":"SMALL(D337:G337,{1,2,3})","v":100},100,100,300,38]
["Laurence Lee","BS","V50",{"$f":"IF(ISNA(VLOOKUP($A338,'Race 1-Men'!$U$33:$Z$51,6,0)),100,VLOOKUP($A338,'Race 1-Men'!$U$33:$Z$51,6,0))","v":100},{"$f":"IF(ISNA(VLOOKUP($A338,'Race 2-Men'!$U$32:$Z$53,6,0)),100,VLOOKUP($A338,'Race 2-Men'!$U$32:$Z$53,6,0))","v":100},{"$f":"IF(ISNA(VLOOKUP($A338,'Race 3-Men'!$U$40:$Z$61,6,0)),100,VLOOKUP($A338,'Race 3-Men'!$U$40:$Z$61,6,0))","v":100},{"$f":"IF(ISNA(VLOOKUP($A338,'Race 4-Men'!$U$35:$Z$100,6,0)),100,VLOOKUP($A338,'Race 4-Men'!$U$35:$Z$100,6,0))","v":100},{"$f":"SMALL(D338:G338,{1,2,3})","v":100},100,100,300,38]
["Lee Pickering","BS","V50",{"$f":"IF(ISNA(VLOOKUP($A339,'Race 1-Men'!$U$33:$Z$51,6,0)),100,VLOOKUP($A339,'Race 1-Men'!$U$33:$Z$51,6,0))","v":100},{"$f":"IF(ISNA(VLOOKUP($A339,'Race 2-Men'!$U$32:$Z$53,6,0)),100,VLOOKUP($A339,'Race 2-Men'!$U$32:$Z$53,6,0))","v":18},{"$f":"IF(ISNA(VLOOKUP($A339,'Race 3-Men'!$U$40:$Z$61,6,0)),100,VLOOKUP($A339,'Race 3-Men'!$U$40:$Z$61,6,0))","v":100},{"$f":"IF(ISNA(VLOOKUP($A339,'Race 4-Men'!$U$35:$Z$100,6,0)),100,VLOOKUP($A339,'Race 4-Men'!$U$35:$Z$100,6,0))","v":100},{"$f":"SMALL(D339:G339,{1,2,3})","v":18},100,100,218,35]
["Marco Arcidiacono","SS","V50",{"$f":"IF(ISNA(VLOOKUP($A340,'Race 1-Men'!$U$33:$Z$51,6,0)),100,VLOOKUP($A340,'Race 1-Men'!$U$33:$Z$51,6,0))","v":100},{"$f":"IF(ISNA(VLOOKUP($A340,'Race 2-Men'!$U$32:$Z$53,6,0)),100,VLOOKUP($A340,'Race 2-Men'!$U$32:$Z$53,6,0))","v":4},{"$f":"IF(ISNA(VLOOKUP($A340,'Race 3-Men'!$U$40:$Z$61,6,0)),100,VLOOKUP($A340,'Race 3-Men'!$U$40:$Z$61,6,0))","v":4},{"$f":"IF(ISNA(VLOOKUP($A340,'Race 4-Men'!$U$35:$Z$100,6,0)),100,VLOOKUP($A340,'Race 4-Men'!$U$35:$Z$100,6,0))","v":100},{"$f":"SMALL(D340:G340,{1,2,3})","v":4},4,100,108,16]
["Mark Bentley","HRC","V50",{"$f":"IF(ISNA(VLOOKUP($A341,'Race 1-Men'!$U$33:$Z$51,6,0)),100,VLOOKUP($A341,'Race 1-Men'!$U$33:$Z$51,6,0))","v":100},{"$f":"IF(ISNA(VLOOKUP($A341,'Race 2-Men'!$U$32:$Z$53,6,0)),100,VLOOKUP($A341,'Race 2-Men'!$U$32:$Z$53,6,0))","v":100},{"$f":"IF(ISNA(VLOOKUP($A341,'Race 3-Men'!$U$40:$Z$61,6,0)),100,VLOOKUP($A341,'Race 3-Men'!$U$40:$Z$61,6,0))","v":100},{"$f":"IF(ISNA(VLOOKUP($A341,'Race 4-Men'!$U$35:$Z$100,6,0)),100,VLOOKUP($A341,'Race 4-Men'!$U$35:$Z$100,6,0))","v":100},{"$f":"SMALL(D341:G341,{1,2,3})","v":100},100,100,300,38]
["Mark Booker","BS","V50",{"$f":"IF(ISNA(VLOOKUP($A342,'Race 1-Men'!$U$33:$Z$51,6,0)),100,VLOOKUP($A342,'Race 1-Men'!$U$33:$Z$51,6,0))","v":100},{"$f":"IF(ISNA(VLOOKUP($A342,'Race 2-Men'!$U$32:$Z$53,6,0)),100,VLOOKUP($A342,'Race 2-Men'!$U$32:$Z$53,6,0))","v":100},{"$f":"IF(ISNA(VLOOKUP($A342,'Race 3-Men'!$U$40:$Z$61,6,0)),100,VLOOKUP($A342,'Race 3-Men'!$U$40:$Z$61,6,0))","v":100},{"$f":"IF(ISNA(VLOOKUP($A342,'Race 4-Men'!$U$35:$Z$100,6,0)),100,VLOOKUP($A342,'Race 4-Men'!$U$35:$Z$100,6,0))","v":100},{"$f":"SMALL(D342:G342,{1,2,3})","v":100},100,100,300,38]
["Mark Burkett","BS","V50",{"$f":"IF(ISNA(VLOOKUP($A343,'Race 1-Men'!$U$33:$Z$51,6,0)),100,VLOOKUP($A343,'Race 1-Men'!$U$33:$Z$51,6,0))","v":100},{"$f":"IF(ISNA(VLOOKUP($A343,'Race 2-Men'!$U$32:$Z$53,6,0)),100,VLOOKUP($A343,'Race 2-Men'!$U$32:$Z$53,6,0))","v":100},{"$f":"IF(ISNA(VLOOKUP($A343,'Race 3-Men'!$U$40:$Z$61,6,0)),100,VLOOKUP($A343,'Race 3-Men'!$U$40:$Z$61,6,0))","v":100},{"$f":"IF(ISNA(VLOOKUP($A343,'Race 4-Men'!$U$35:$Z$100,6,0)),100,VLOOKUP($A343,'Race 4-Men'!$U$35:$Z$100,6,0))","v":100},{"$f":"SMALL(D343:G343,{1,2,3})","v":100},100,100,300,38]
["Mark Cyl","WJ","V50",{"$f":"IF(ISNA(VLOOKUP($A344,'Race 1-Men'!$U$33:$Z$51,6,0)),100,VLOOKUP($A344,'Race 1-Men'!$U$33:$Z$51,6,0))","v":100},{"$f":"IF(ISNA(VLOOKUP($A344,'Race 2-Men'!$U$32:$Z$53,6,0)),100,VLOOKUP($A344,'Race 2-Men'!$U$32:$Z$53,6,0))","v":100},{"$f":"IF(ISNA(VLOOKUP($A344,'Race 3-Men'!$U$40:$Z$61,6,0)),100,VLOOKUP($A344,'Race 3-Men'!$U$40:$Z$61,6,0))","v":100},{"$f":"IF(ISNA(VLOOKUP($A344,'Race 4-Men'!$U$35:$Z$100,6,0)),100,VLOOKUP($A344,'Race 4-Men'!$U$35:$Z$100,6,0))","v":100},{"$f":"SMALL(D344:G344,{1,2,3})","v":100},100,100,300,38]
["Mark Grant","HRC","V50",{"$f":"IF(ISNA(VLOOKUP($A345,'Race 1-Men'!$U$33:$Z$51,6,0)),100,VLOOKUP($A345,'Race 1-Men'!$U$33:$Z$51,6,0))","v":100},{"$f":"IF(ISNA(VLOOKUP($A345,'Race 2-Men'!$U$32:$Z$53,6,0)),100,VLOOKUP($A345,'Race 2-Men'!$U$32:$Z$53,6,0))","v":100},{"$f":"IF(ISNA(VLOOKUP($A345,'Race 3-Men'!$U$40:$Z$61,6,0)),100,VLOOKUP($A345,'Race 3-Men'!$U$40:$Z$61,6,0))","v":100},{"$f":"IF(ISNA(VLOOKUP($A345,'Race 4-Men'!$U$35:$Z$100,6,0)),100,VLOOKUP($A345,'Race 4-Men'!$U$35:$Z$100,6,0))","v":100},{"$f":"SMALL(D345:G345,{1,2,3})","v":100},100,100,300,38]
["Mark Sanz","WJ","V50",{"$f":"IF(ISNA(VLOOKUP($A346,'Race 1-Men'!$U$33:$Z$51,6,0)),100,VLOOKUP($A346,'Race 1-Men'!$U$33:$Z$51,6,0))","v":9},{"$f":"IF(ISNA(VLOOKUP($A346,'Race 2-Men'!$U$32:$Z$53,6,0)),100,VLOOKUP($A346,'Race 2-Men'!$U$32:$Z$53,6,0))","v":5},{"$f":"IF(ISNA(VLOOKUP($A346,'Race 3-Men'!$U$40:$Z$61,6,0)),100,VLOOKUP($A346,'Race 3-Men'!$U$40:$Z$61,6,0))","v":6},{"$f":"IF(ISNA(VLOOKUP($A346,'Race 4-Men'!$U$35:$Z$100,6,0)),100,VLOOKUP($A346,'Race 4-Men'!$U$35:$Z$100,6,0))","v":5},{"$f":"SMALL(D346:G346,{1,2,3})","v":5},5,6,16,4]
["Mark Thackstone","SS","V50",{"$f":"IF(ISNA(VLOOKUP($A347,'Race 1-Men'!$U$33:$Z$51,6,0)),100,VLOOKUP($A347,'Race 1-Men'!$U$33:$Z$51,6,0))","v":8},{"$f":"IF(ISNA(VLOOKUP($A347,'Race 2-Men'!$U$32:$Z$53,6,0)),100,VLOOKUP($A347,'Race 2-Men'!$U$32:$Z$53,6,0))","v":100},{"$f":"IF(ISNA(VLOOKUP($A347,'Race 3-Men'!$U$40:$Z$61,6,0)),100,VLOOKUP($A347,'Race 3-Men'!$U$40:$Z$61,6,0))","v":10},{"$f":"IF(ISNA(VLOOKUP($A347,'Race 4-Men'!$U$35:$Z$100,6,0)),100,VLOOKUP($A347,'Race 4-Men'!$U$35:$Z$100,6,0))","v":7},{"$f":"SMALL(D347:G347,{1,2,3})","v":7},8,10,25,7]
["Mark Wilds","BS","V50",{"$f":"IF(ISNA(VLOOKUP($A348,'Race 1-Men'!$U$33:$Z$51,6,0)),100,VLOOKUP($A348,'Race 1-Men'!$U$33:$Z$51,6,0))","v":100},{"$f":"IF(ISNA(VLOOKUP($A348,'Race 2-Men'!$U$32:$Z$53,6,0)),100,VLOOKUP($A348,'Race 2-Men'!$U$32:$Z$53,6,0))","v":21},{"$f":"IF(ISNA(VLOOKUP($A348,'Race 3-Men'!$U$40:$Z$61,6,0)),100,VLOOKUP($A348,'Race 3-Men'!$U$40:$Z$61,6,0))","v":17},{"$f":"IF(ISNA(VLOOKUP($A348,'Race 4-Men'!$U$35:$Z$100,6,0)),100,VLOOKUP($A348,'Race 4-Men'!$U$35:$Z$100,6,0))","v":100},{"$f":"SMALL(D348:G348,{1,2,3})","v":17},21,100,138,21]
["Martin Collier-Smith","BS","V50",{"$f":"IF(ISNA(VLOOKUP($A349,'Race 1-Men'!$U$33:$Z$51,6,0)),100,VLOOKUP($A349,'Race 1-Men'!$U$33:$Z$51,6,0))","v":100},{"$f":"IF(ISNA(VLOOKUP($A349,'Race 2-Men'!$U$32:$Z$53,6,0)),100,VLOOKUP($A349,'Race 2-Men'!$U$32:$Z$53,6,0))","v":100},{"$f":"IF(ISNA(VLOOKUP($A349,'Race 3-Men'!$U$40:$Z$61,6,0)),100,VLOOKUP($A349,'Race 3-Men'!$U$40:$Z$61,6,0))","v":100},{"$f":"IF(ISNA(VLOOKUP($A349,'Race 4-Men'!$U$35:$Z$100,6,0)),100,VLOOKUP($A349,'Race 4-Men'!$U$35:$Z$100,6,0))","v":100},{"$f":"SMALL(D349:G349,{1,2,3})","v":100},100,100,300,38]
["Matthew Crook","WJ","V50",{"$f":"IF(ISNA(VLOOKUP($A350,'Race 1-Men'!$U$33:$Z$51,6,0)),100,VLOOKUP($A350,'Race 1-Men'!$U$33:$Z$51,6,0))","v":100},{"$f":"IF(ISNA(VLOOKUP($A350,'Race 2-Men'!$U$32:$Z$53,6,0)),100,VLOOKUP($A350,'Race 2-Men'!$U$32:$Z$53,6,0))","v":100},{"$f":"IF(ISNA(VLOOKUP($A350,'Race 3-Men'!$U$40:$Z$61,6,0)),100,VLOOKUP($A350,'Race 3-Men'!$U$40:$Z$61,6,0))","v":100},{"$f":"IF(ISNA(VLOOKUP($A350,'Race 4-Men'!$U$35:$Z$100,6,0)),100,VLOOKUP($A350,'Race 4-Men'!$U$35:$Z$100,6,0))","v":100},{"$f":"SMALL(D350:G350,{1,2,3})","v":100},100,100,300,38]
["Michael Bradley","SS","V50",{"$f":"IF(ISNA(VLOOKUP($A351,'Race 1-Men'!$U$33:$Z$51,6,0)),100,VLOOKUP($A351,'Race 1-Men'!$U$33:$Z$51,6,0))","v":100},{"$f":"IF(ISNA(VLOOKUP($A351,'Race 2-Men'!$U$32:$Z$53,6,0)),100,VLOOKUP($A351,'Race 2-Men'!$U$32:$Z$53,6,0))","v":3},{"$f":"IF(ISNA(VLOOKUP($A351,'Race 3-Men'!$U$40:$Z$61,6,0)),100,VLOOKUP($A351,'Race 3-Men'!$U$40:$Z$61,6,0))","v":100},{"$f":"IF(ISNA(VLOOKUP($A351,'Race 4-Men'!$U$35:$Z$100,6,0)),100,VLOOKUP($A351,'Race 4-Men'!$U$35:$Z$100,6,0))","v":100},{"$f":"SMALL(D351:G351,{1,2,3})","v":3},100,100,203,24]
["Michael Gleeson","HRC","V50",{"$f":"IF(ISNA(VLOOKUP($A352,'Race 1-Men'!$U$33:$Z$51,6,0)),100,VLOOKUP($A352,'Race 1-Men'!$U$33:$Z$51,6,0))","v":100},{"$f":"IF(ISNA(VLOOKUP($A352,'Race 2-Men'!$U$32:$Z$53,6,0)),100,VLOOKUP($A352,'Race 2-Men'!$U$32:$Z$53,6,0))","v":100},{"$f":"IF(ISNA(VLOOKUP($A352,'Race 3-Men'!$U$40:$Z$61,6,0)),100,VLOOKUP($A352,'Race 3-Men'!$U$40:$Z$61,6,0))","v":100},{"$f":"IF(ISNA(VLOOKUP($A352,'Race 4-Men'!$U$35:$Z$100,6,0)),100,VLOOKUP($A352,'Race 4-Men'!$U$35:$Z$100,6,0))","v":17},{"$f":"SMALL(D352:G352,{1,2,3})","v":17},100,100,217,34]
["Michael Houlihan","HRC","V50",{"$f":"IF(ISNA(VLOOKUP($A353,'Race 1-Men'!$U$33:$Z$51,6,0)),100,VLOOKUP($A353,'Race 1-Men'!$U$33:$Z$51,6,0))","v":100},{"$f":"IF(ISNA(VLOOKUP($A353,'Race 2-Men'!$U$32:$Z$53,6,0)),100,VLOOKUP($A353,'Race 2-Men'!$U$32:$Z$53,6,0))","v":100},{"$f":"IF(ISNA(VLOOKUP($A353,'Race 3-Men'!$U$40:$Z$61,6,0)),100,VLOOKUP($A353,'Race 3-Men'!$U$40:$Z$61,6,0))","v":100},{"$f":"IF(ISNA(VLOOKUP($A353,'Race 4-Men'!$U$35:$Z$100,6,0)),100,VLOOKUP($A353,'Race 4-Men'!$U$35:$Z$100,6,0))","v":100},{"$f":"SMALL(D353:G353,{1,2,3})","v":100},100,100,300,38]
["Michael Woodruff","HRC","V50",{"$f":"IF(ISNA(VLOOKUP($A354,'Race 1-Men'!$U$33:$Z$51,6,0)),100,VLOOKUP($A354,'Race 1-Men'!$U$33:$Z$51,6,0))","v":100},{"$f":"IF(ISNA(VLOOKUP($A354,'Race 2-Men'!$U$32:$Z$53,6,0)),100,VLOOKUP($A354,'Race 2-Men'!$U$32:$Z$53,6,0))","v":100},{"$f":"IF(ISNA(VLOOKUP($A354,'Race 3-Men'!$U$40:$Z$61,6,0)),100,VLOOKUP($A354,'Race 3-Men'!$U$40:$Z$61,6,0))","v":100},{"$f":"IF(ISNA(VLOOKUP($A354,'Race 4-Men'!$U$35:$Z$100,6,0)),100,VLOOKUP($A354,'Race 4-Men'!$U$35:$Z$100,6,0))","v":100},{"$f":"SMALL(D354:G354,{1,2,3})","v":100},100,100,300,38]
["Miguel Luque","HRC","V50",{"$f":"IF(ISNA(VLOOKUP($A355,'Race 1-Men'!$U$33:$Z$51,6,0)),100,VLOOKUP($A355,'Race 1-Men'!$U$33:$Z$51,6,0))","v":12},{"$f":"IF(ISNA(VLOOKUP($A355,'Race 2-Men'!$U$32:$Z$53,6,0)),100,VLOOKUP($A355,'Race 2-Men'!$U$32:$Z$53,6,0))","v":16},{"$f":"IF(ISNA(VLOOKUP($A355,'Race 3-Men'!$U$40:$Z$61,6,0)),100,VLOOKUP($A355,'Race 3-Men'!$U$40:$Z$61,6,0))","v":13},{"$f":"IF(ISNA(VLOOKUP($A355,'Race 4-Men'!$U$35:$Z$100,6,0)),100,VLOOKUP($A355,'Race 4-Men'!$U$35:$Z$100,6,0))","v":100},{"$f":"SMALL(D355:G355,{1,2,3})","v":12},13,16,41,12]
["Mikey Ramnauth","WJ","V50",{"$f":"IF(ISNA(VLOOKUP($A356,'Race 1-Men'!$U$33:$Z$51,6,0)),100,VLOOKUP($A356,'Race 1-Men'!$U$33:$Z$51,6,0))","v":100},{"$f":"IF(ISNA(VLOOKUP($A356,'Race 2-Men'!$U$32:$Z$53,6,0)),100,VLOOKUP($A356,'Race 2-Men'!$U$32:$Z$53,6,0))","v":100},{"$f":"IF(ISNA(VLOOKUP($A356,'Race 3-Men'!$U$40:$Z$61,6,0)),100,VLOOKUP($A356,'Race 3-Men'!$U$40:$Z$61,6,0))","v":100},{"$f":"IF(ISNA(VLOOKUP($A356,'Race 4-Men'!$U$35:$Z$100,6,0)),100,VLOOKUP($A356,'Race 4-Men'!$U$35:$Z$100,6,0))","v":100},{"$f":"SMALL(D356:G356,{1,2,3})","v":100},100,100,300,38]
["Neil Halls","SS","V50",{"$f":"IF(ISNA(VLOOKUP($A357,'Race 1-Men'!$U$33:$Z$51,6,0)),100,VLOOKUP($A357,'Race 1-Men'!$U$33:$Z$51,6,0))","v":11},{"$f":"IF(ISNA(VLOOKUP($A357,'Race 2-Men'!$U$32:$Z$53,6,0)),100,VLOOKUP($A357,'Race 2-Men'!$U$32:$Z$53,6,0))","v":15},{"$f":"IF(ISNA(VLOOKUP($A357,'Race 3-Men'!$U$40:$Z$61,6,0)),100,VLOOKUP($A357,'Race 3-Men'!$U$40:$Z$61,6,0))","v":12},{"$f":"IF(ISNA(VLOOKUP($A357,'Race 4-Men'!$U$35:$Z$100,6,0)),100,VLOOKUP($A357,'Race 4-Men'!$U$35:$Z$100,6,0))","v":10},{"$f":"SMALL(D357:G357,{1,2,3})","v":10},11,12,33,10]
["Nick Burnage","HRC","V50",{"$f":"IF(ISNA(VLOOKUP($A358,'Race 1-Men'!$U$33:$Z$51,6,0)),100,VLOOKUP($A358,'Race 1-Men'!$U$33:$Z$51,6,0))","v":100},{"$f":"IF(ISNA(VLOOKUP($A358,'Race 2-Men'!$U$32:$Z$53,6,0)),100,VLOOKUP($A358,'Race 2-Men'!$U$32:$Z$53,6,0))","v":100},{"$f":"IF(ISNA(VLOOKUP($A358,'Race 3-Men'!$U$40:$Z$61,6,0)),100,VLOOKUP($A358,'Race 3-Men'!$U$40:$Z$61,6,0))","v":100},{"$f":"IF(ISNA(VLOOKUP($A358,'Race 4-Men'!$U$35:$Z$100,6,0)),100,VLOOKUP($A358,'Race 4-Men'!$U$35:$Z$100,6,0))","v":100},{"$f":"SMALL(D358:G358,{1,2,3})","v":100},100,100,300,38]
["Nick D'Alton","HRC","V50",{"$f":"IF(ISNA(VLOOKUP($A359,'Race 1-Men'!$U$33:$Z$51,6,0)),100,VLOOKUP($A359,'Race 1-Men'!$U$33:$Z$51,6,0))","v":100},{"$f":"IF(ISNA(VLOOKUP($A359,'Race 2-Men'!$U$32:$Z$53,6,0)),100,VLOOKUP($A359,'Race 2-Men'!$U$32:$Z$53,6,0))","v":100},{"$f":"IF(ISNA(VLOOKUP($A359,'Race 3-Men'!$U$40:$Z$61,6,0)),100,VLOOKUP($A359,'Race 3-Men'!$U$40:$Z$61,6,0))","v":100},{"$f":"IF(ISNA(VLOOKUP($A359,'Race 4-Men'!$U$35:$Z$100,6,0)),100,VLOOKUP($A359,'Race 4-Men'!$U$35:$Z$100,6,0))","v":100},{"$f":"SMALL(D359:G359,{1,2,3})","v":100},100,100,300,38]
["Nick Kenyon-Muir","WJ","V50",{"$f":"IF(ISNA(VLOOKUP($A360,'Race 1-Men'!$U$33:$Z$51,6,0)),100,VLOOKUP($A360,'Race 1-Men'!$U$33:$Z$51,6,0))","v":4},{"$f":"IF(ISNA(VLOOKUP($A360,'Race 2-Men'!$U$32:$Z$53,6,0)),100,VLOOKUP($A360,'Race 2-Men'!$U$32:$Z$53,6,0))","v":100},{"$f":"IF(ISNA(VLOOKUP($A360,'Race 3-Men'!$U$40:$Z$61,6,0)),100,VLOOKUP($A360,'Race 3-Men'!$U$40:$Z$61,6,0))","v":100},{"$f":"IF(ISNA(VLOOKUP($A360,'Race 4-Men'!$U$35:$Z$100,6,0)),100,VLOOKUP($A360,'Race 4-Men'!$U$35:$Z$100,6,0))","v":3},{"$f":"SMALL(D360:G360,{1,2,3})","v":3},4,100,107,15]
["Nick Wilkinson","SS","V50",{"$f":"IF(ISNA(VLOOKUP($A361,'Race 1-Men'!$U$33:$Z$51,6,0)),100,VLOOKUP($A361,'Race 1-Men'!$U$33:$Z$51,6,0))","v":100},{"$f":"IF(ISNA(VLOOKUP($A361,'Race 2-Men'!$U$32:$Z$53,6,0)),100,VLOOKUP($A361,'Race 2-Men'!$U$32:$Z$53,6,0))","v":100},{"$f":"IF(ISNA(VLOOKUP($A361,'Race 3-Men'!$U$40:$Z$61,6,0)),100,VLOOKUP($A361,'Race 3-Men'!$U$40:$Z$61,6,0))","v":100},{"$f":"IF(ISNA(VLOOKUP($A361,'Race 4-Men'!$U$35:$Z$100,6,0)),100,VLOOKUP($A361,'Race 4-Men'!$U$35:$Z$100,6,0))","v":100},{"$f":"SMALL(D361:G361,{1,2,3})","v":100},100,100,300,38]
["Nick Yeadon","BS","V50",{"$f":"IF(ISNA(VLOOKUP($A362,'Race 1-Men'!$U$33:$Z$51,6,0)),100,VLOOKUP($A362,'Race 1-Men'!$U$33:$Z$51,6,0))","v":100},{"$f":"IF(ISNA(VLOOKUP($A362,'Race 2-Men'!$U$32:$Z$53,6,0)),100,VLOOKUP($A362,'Race 2-Men'!$U$32:$Z$53,6,0))","v":100},{"$f":"IF(ISNA(VLOOKUP($A362,'Race 3-Men'!$U$40:$Z$61,6,0)),100,VLOOKUP($A362,'Race 3-Men'!$U$40:$Z$61,6,0))","v":100},{"$f":"IF(ISNA(VLOOKUP($A362,'Race 4-Men'!$U$35:$Z$100,6,0)),100,VLOOKUP($A362,'Race 4-Men'!$U$35:$Z$100,6,0))","v":100},{"$f":"SMALL(D362:G362,{1,2,3})","v":100},100,100,300,38]
["Nigel Poad","SS","V50",{"$f":"IF(ISNA(VLOOKUP($A363,'Race 1-Men'!$U$33:$Z$51,6,0)),100,VLOOKUP($A363,'Race 1-Men'!$U$33:$Z$51,6,0))","v":100},{"$f":"IF(ISNA(VLOOKUP($A363,'Race 2-Men'!$U$32:$Z$53,6,0)),100,VLOOKUP($A363,'Race 2-Men'!$U$32:$Z$53,6,0))","v":100},{"$f":"IF(ISNA(VLOOKUP($A363,'Race 3-Men'!$U$40:$Z$61,6,0)),100,VLOOKUP($A363,'Race 3-Men'!$U$40:$Z$61,6,0))","v":100},{"$f":"IF(ISNA(VLOOKUP($A363,'Race 4-Men'!$U$35:$Z$100,6,0)),100,VLOOKUP($A363,'Race 4-Men'!$U$35:$Z$100,6,0))","v":100},{"$f":"SMALL(D363:G363,{1,2,3})","v":100},100,100,300,38]
["Noel Thatcher","HRC","V50",{"$f":"IF(ISNA(VLOOKUP($A364,'Race 1-Men'!$U$33:$Z$51,6,0)),100,VLOOKUP($A364,'Race 1-Men'!$U$33:$Z$51,6,0))","v":100},{"$f":"IF(ISNA(VLOOKUP($A364,'Race 2-Men'!$U$32:$Z$53,6,0)),100,VLOOKUP($A364,'Race 2-Men'!$U$32:$Z$53,6,0))","v":100},{"$f":"IF(ISNA(VLOOKUP($A364,'Race 3-Men'!$U$40:$Z$61,6,0)),100,VLOOKUP($A364,'Race 3-Men'!$U$40:$Z$61,6,0))","v":100},{"$f":"IF(ISNA(VLOOKUP($A364,'Race 4-Men'!$U$35:$Z$100,6,0)),100,VLOOKUP($A364,'Race 4-Men'!$U$35:$Z$100,6,0))","v":100},{"$f":"SMALL(D364:G364,{1,2,3})","v":100},100,100,300,38]
["Paul Brennan","WJ","V50",{"$f":"IF(ISNA(VLOOKUP($A365,'Race 1-Men'!$U$33:$Z$51,6,0)),100,VLOOKUP($A365,'Race 1-Men'!$U$33:$Z$51,6,0))","v":100},{"$f":"IF(ISNA(VLOOKUP($A365,'Race 2-Men'!$U$32:$Z$53,6,0)),100,VLOOKUP($A365,'Race 2-Men'!$U$32:$Z$53,6,0))","v":8},{"$f":"IF(ISNA(VLOOKUP($A365,'Race 3-Men'!$U$40:$Z$61,6,0)),100,VLOOKUP($A365,'Race 3-Men'!$U$40:$Z$61,6,0))","v":9},{"$f":"IF(ISNA(VLOOKUP($A365,'Race 4-Men'!$U$35:$Z$100,6,0)),100,VLOOKUP($A365,'Race 4-Men'!$U$35:$Z$100,6,0))","v":100},{"$f":"SMALL(D365:G365,{1,2,3})","v":8},9,100,117,17]
["Paul Dearlove","BS","V50",{"$f":"IF(ISNA(VLOOKUP($A366,'Race 1-Men'!$U$33:$Z$51,6,0)),100,VLOOKUP($A366,'Race 1-Men'!$U$33:$Z$51,6,0))","v":14},{"$f":"IF(ISNA(VLOOKUP($A366,'Race 2-Men'!$U$32:$Z$53,6,0)),100,VLOOKUP($A366,'Race 2-Men'!$U$32:$Z$53,6,0))","v":100},{"$f":"IF(ISNA(VLOOKUP($A366,'Race 3-Men'!$U$40:$Z$61,6,0)),100,VLOOKUP($A366,'Race 3-Men'!$U$40:$Z$61,6,0))","v":100},{"$f":"IF(ISNA(VLOOKUP($A366,'Race 4-Men'!$U$35:$Z$100,6,0)),100,VLOOKUP($A366,'Race 4-Men'!$U$35:$Z$100,6,0))","v":100},{"$f":"SMALL(D366:G366,{1,2,3})","v":14},100,100,214,30]
["Paul Dixon","HRC","V50",{"$f":"IF(ISNA(VLOOKUP($A367,'Race 1-Men'!$U$33:$Z$51,6,0)),100,VLOOKUP($A367,'Race 1-Men'!$U$33:$Z$51,6,0))","v":100},{"$f":"IF(ISNA(VLOOKUP($A367,'Race 2-Men'!$U$32:$Z$53,6,0)),100,VLOOKUP($A367,'Race 2-Men'!$U$32:$Z$53,6,0))","v":100},{"$f":"IF(ISNA(VLOOKUP($A367,'Race 3-Men'!$U$40:$Z$61,6,0)),100,VLOOKUP($A367,'Race 3-Men'!$U$40:$Z$61,6,0))","v":100},{"$f":"IF(ISNA(VLOOKUP($A367,'Race 4-Men'!$U$35:$Z$100,6,0)),100,VLOOKUP($A367,'Race 4-Men'!$U$35:$Z$100,6,0))","v":100},{"$f":"SMALL(D367:G367,{1,2,3})","v":100},100,100,300,38]
["Paul Kerins","BS","V50",{"$f":"IF(ISNA(VLOOKUP($A368,'Race 1-Men'!$U$33:$Z$51,6,0)),100,VLOOKUP($A368,'Race 1-Men'!$U$33:$Z$51,6,0))","v":100},{"$f":"IF(ISNA(VLOOKUP($A368,'Race 2-Men'!$U$32:$Z$53,6,0)),100,VLOOKUP($A368,'Race 2-Men'!$U$32:$Z$53,6,0))","v":100},{"$f":"IF(ISNA(VLOOKUP($A368,'Race 3-Men'!$U$40:$Z$61,6,0)),100,VLOOKUP($A368,'Race 3-Men'!$U$40:$Z$61,6,0))","v":100},{"$f":"IF(ISNA(VLOOKUP($A368,'Race 4-Men'!$U$35:$Z$100,6,0)),100,VLOOKUP($A368,'Race 4-Men'!$U$35:$Z$100,6,0))","v":100},{"$f":"SMALL(D368:G368,{1,2,3})","v":100},100,100,300,38]
["Paul Lawes","HRC","V50",{"$f":"IF(ISNA(VLOOKUP($A369,'Race 1-Men'!$U$33:$Z$51,6,0)),100,VLOOKUP($A369,'Race 1-Men'!$U$33:$Z$51,6,0))","v":100},{"$f":"IF(ISNA(VLOOKUP($A369,'Race 2-Men'!$U$32:$Z$53,6,0)),100,VLOOKUP($A369,'Race 2-Men'!$U$32:$Z$53,6,0))","v":100},{"$f":"IF(ISNA(VLOOKUP($A369,'Race 3-Men'!$U$40:$Z$61,6,0)),100,VLOOKUP($A369,'Race 3-Men'!$U$40:$Z$61,6,0))","v":100},{"$f":"IF(ISNA(VLOOKUP($A369,'Race 4-Men'!$U$35:$Z$100,6,0)),100,VLOOKUP($A369,'Race 4-Men'!$U$35:$Z$100,6,0))","v":100},{"$f":"SMALL(D369:G369,{1,2,3})","v":100},100,100,300,38]
["Paul Long","SS","V50",{"$f":"IF(ISNA(VLOOKUP($A370,'Race 1-Men'!$U$33:$Z$51,6,0)),100,VLOOKUP($A370,'Race 1-Men'!$U$33:$Z$51,6,0))","v":100},{"$f":"IF(ISNA(VLOOKUP($A370,'Race 2-Men'!$U$32:$Z$53,6,0)),100,VLOOKUP($A370,'Race 2-Men'!$U$32:$Z$53,6,0))","v":100},{"$f":"IF(ISNA(VLOOKUP($A370,'Race 3-Men'!$U$40:$Z$61,6,0)),100,VLOOKUP($A370,'Race 3-Men'!$U$40:$Z$61,6,0))","v":100},{"$f":"IF(ISNA(VLOOKUP($A370,'Race 4-Men'!$U$35:$Z$100,6,0)),100,VLOOKUP($A370,'Race 4-Men'!$U$35:$Z$100,6,0))","v":100},{"$f":"SMALL(D370:G370,{1,2,3})","v":100},100,100,300,38]
["Paul Smith","HRC","V50",{"$f":"IF(ISNA(VLOOKUP($A371,'Race 1-Men'!$U$33:$Z$51,6,0)),100,VLOOKUP($A371,'Race 1-Men'!$U$33:$Z$51,6,0))","v":100},{"$f":"IF(ISNA(VLOOKUP($A371,'Race 2-Men'!$U$32:$Z$53,6,0)),100,VLOOKUP($A371,'Race 2-Men'!$U$32:$Z$53,6,0))","v":100},{"$f":"IF(ISNA(VLOOKUP($A371,'Race 3-Men'!$U$40:$Z$61,6,0)),100,VLOOKUP($A371,'Race 3-Men'!$U$40:$Z$61,6,0))","v":100},{"$f":"IF(ISNA(VLOOKUP($A371,'Race 4-Men'!$U$35:$Z$100,6,0)),100,VLOOKUP($A371,'Race 4-Men'!$U$35:$Z$100,6,0))","v":100},{"$f":"SMALL(D371:G371,{1,2,3})","v":100},100,100,300,38]
["Paul Walker","BS","V50",{"$f":"IF(ISNA(VLOOKUP($A372,'Race 1-Men'!$U$33:$Z$51,6,0)),100,VLOOKUP($A372,'Race 1-Men'!$U$33:$Z$51,6,0))","v":100},{"$f":"IF(ISNA(VLOOKUP($A372,'Race 2-Men'!$U$32:$Z$53,6,0)),100,VLOOKUP($A372,'Race 2-Men'!$U$32:$Z$53,6,0))","v":100},{"$f":"IF(ISNA(VLOOKUP($A372,'Race 3-Men'!$U$40:$Z$61,6,0)),100,VLOOKUP($A372,'Race 3-Men'!$U$40:$Z$61,6,0))","v":100},{"$f":"IF(ISNA(VLOOKUP($A372,'Race 4-Men'!$U$35:$Z$100,6,0)),100,VLOOKUP($A372,'Race 4-Men'!$U$35:$Z$100,6,0))","v":100},{"$f":"SMALL(D372:G372,{1,2,3})","v":100},100,100,300,38]
["Paul Watts","HRC","V50",{"$f":"IF(ISNA(VLOOKUP($A373,'Race 1-Men'!$U$33:$Z$51,6,0)),100,VLOOKUP($A373,'Race 1-Men'!$U$33:$Z$51,6,0))","v":100},{"$f":"IF(ISNA(VLOOKUP($A373,'Race 2-Men'!$U$32:$Z$53,6,0)),100,VLOOKUP($A373,'Race 2-Men'!$U$32:$Z$53,6,0))","v":100},{"$f":"IF(ISNA(VLOOKUP($A373,'Race 3-Men'!$U$40:$Z$61,6,0)),100,VLOOKUP($A373,'Race 3-Men'!$U$40:$Z$61,6,0))","v":100},{"$f":"IF(ISNA(VLOOKUP($A373,'Race 4-Men'!$U$35:$Z$100,6,0)),100,VLOOKUP($A373,'Race 4-Men'!$U$35:$Z$100,6,0))","v":100},{"$f":"SMALL(D373:G373,{1,2,3})","v":100},100,100,300,38]
["Peter Rowe","BS","V50",{"$f":"IF(ISNA(VLOOKUP($A374,'Race 1-Men'!$U$33:$Z$51,6,0)),100,VLOOKUP($A374,'Race 1-Men'!$U$33:$Z$51,6,0))","v":100},{"$f":"IF(ISNA(VLOOKUP($A374,'Race 2-Men'!$U$32:$Z$53,6,0)),100,VLOOKUP($A374,'Race 2-Men'!$U$32:$Z$53,6,0))","v":100},{"$f":"IF(ISNA(VLOOKUP($A374,'Race 3-Men'!$U$40:$Z$61,6,0)),100,VLOOKUP($A374,'Race 3-Men'!$U$40:$Z$61,6,0))","v":100},{"$f":"IF(ISNA(VLOOKUP($A374,'Race 4-Men'!$U$35:$Z$100,6,0)),100,VLOOKUP($A374,'Race 4-Men'!$U$35:$Z$100,6,0))","v":100},{"$f":"SMALL(D374:G374,{1,2,3})","v":100},100,100,300,38]
["Philip Butson","BS","V50",{"$f":"IF(ISNA(VLOOKUP($A375,'Race 1-Men'!$U$33:$Z$51,6,0)),100,VLOOKUP($A375,'Race 1-Men'!$U$33:$Z$51,6,0))","v":100},{"$f":"IF(ISNA(VLOOKUP($A375,'Race 2-Men'!$U$32:$Z$53,6,0)),100,VLOOKUP($A375,'Race 2-Men'!$U$32:$Z$53,6,0))","v":100},{"$f":"IF(ISNA(VLOOKUP($A375,'Race 3-Men'!$U$40:$Z$61,6,0)),100,VLOOKUP($A375,'Race 3-Men'!$U$40:$Z$61,6,0))","v":100},{"$f":"IF(ISNA(VLOOKUP($A375,'Race 4-Men'!$U$35:$Z$100,6,0)),100,VLOOKUP($A375,'Race 4-Men'!$U$35:$Z$100,6,0))","v":100},{"$f":"SMALL(D375:G375,{1,2,3})","v":100},100,100,300,38]
["Philip Chaplin","BS","V50",{"$f":"IF(ISNA(VLOOKUP($A376,'Race 1-Men'!$U$33:$Z$51,6,0)),100,VLOOKUP($A376,'Race 1-Men'!$U$33:$Z$51,6,0))","v":100},{"$f":"IF(ISNA(VLOOKUP($A376,'Race 2-Men'!$U$32:$Z$53,6,0)),100,VLOOKUP($A376,'Race 2-Men'!$U$32:$Z$53,6,0))","v":100},{"$f":"IF(ISNA(VLOOKUP($A376,'Race 3-Men'!$U$40:$Z$61,6,0)),100,VLOOKUP($A376,'Race 3-Men'!$U$40:$Z$61,6,0))","v":100},{"$f":"IF(ISNA(VLOOKUP($A376,'Race 4-Men'!$U$35:$Z$100,6,0)),100,VLOOKUP($A376,'Race 4-Men'!$U$35:$Z$100,6,0))","v":100},{"$f":"SMALL(D376:G376,{1,2,3})","v":100},100,100,300,38]
["Philip Gibsone","BS","V50",{"$f":"IF(ISNA(VLOOKUP($A377,'Race 1-Men'!$U$33:$Z$51,6,0)),100,VLOOKUP($A377,'Race 1-Men'!$U$33:$Z$51,6,0))","v":100},{"$f":"IF(ISNA(VLOOKUP($A377,'Race 2-Men'!$U$32:$Z$53,6,0)),100,VLOOKUP($A377,'Race 2-Men'!$U$32:$Z$53,6,0))","v":100},{"$f":"IF(ISNA(VLOOKUP($A377,'Race 3-Men'!$U$40:$Z$61,6,0)),100,VLOOKUP($A377,'Race 3-Men'!$U$40:$Z$61,6,0))","v":100},{"$f":"IF(ISNA(VLOOKUP($A377,'Race 4-Men'!$U$35:$Z$100,6,0)),100,VLOOKUP($A377,'Race 4-Men'!$U$35:$Z$100,6,0))","v":100},{"$f":"SMALL(D377:G377,{1,2,3})","v":100},100,100,300,38]
["Phillip Mansfield","BS","V50",{"$f":"IF(ISNA(VLOOKUP($A378,'Race 1-Men'!$U$33:$Z$51,6,0)),100,VLOOKUP($A378,'Race 1-Men'!$U$33:$Z$51,6,0))","v":100},{"$f":"IF(ISNA(VLOOKUP($A378,'Race 2-Men'!$U$32:$Z$53,6,0)),100,VLOOKUP($A378,'Race 2-Men'!$U$32:$Z$53,6,0))","v":100},{"$f":"IF(ISNA(VLOOKUP($A378,'Race 3-Men'!$U$40:$Z$61,6,0)),100,VLOOKUP($A378,'Race 3-Men'!$U$40:$Z$61,6,0))","v":100},{"$f":"IF(ISNA(VLOOKUP($A378,'Race 4-Men'!$U$35:$Z$100,6,0)),100,VLOOKUP($A378,'Race 4-Men'!$U$35:$Z$100,6,0))","v":100},{"$f":"SMALL(D378:G378,{1,2,3})","v":100},100,100,300,38]
["Pieter de Koning","SS","V50",{"$f":"IF(ISNA(VLOOKUP($A379,'Race 1-Men'!$U$33:$Z$51,6,0)),100,VLOOKUP($A379,'Race 1-Men'!$U$33:$Z$51,6,0))","v":100},{"$f":"IF(ISNA(VLOOKUP($A379,'Race 2-Men'!$U$32:$Z$53,6,0)),100,VLOOKUP($A379,'Race 2-Men'!$U$32:$Z$53,6,0))","v":100},{"$f":"IF(ISNA(VLOOKUP($A379,'Race 3-Men'!$U$40:$Z$61,6,0)),100,VLOOKUP($A379,'Race 3-Men'!$U$40:$Z$61,6,0))","v":100},{"$f":"IF(ISNA(VLOOKUP($A379,'Race 4-Men'!$U$35:$Z$100,6,0)),100,VLOOKUP($A379,'Race 4-Men'!$U$35:$Z$100,6,0))","v":100},{"$f":"SMALL(D379:G379,{1,2,3})","v":100},100,100,300,38]
["Richard Coffey","WJ","V50",{"$f":"IF(ISNA(VLOOKUP($A380,'Race 1-Men'!$U$33:$Z$51,6,0)),100,VLOOKUP($A380,'Race 1-Men'!$U$33:$Z$51,6,0))","v":13},{"$f":"IF(ISNA(VLOOKUP($A380,'Race 2-Men'!$U$32:$Z$53,6,0)),100,VLOOKUP($A380,'Race 2-Men'!$U$32:$Z$53,6,0))","v":100},{"$f":"IF(ISNA(VLOOKUP($A380,'Race 3-Men'!$U$40:$Z$61,6,0)),100,VLOOKUP($A380,'Race 3-Men'!$U$40:$Z$61,6,0))","v":14},{"$f":"IF(ISNA(VLOOKUP($A380,'Race 4-Men'!$U$35:$Z$100,6,0)),100,VLOOKUP($A380,'Race 4-Men'!$U$35:$Z$100,6,0))","v":13},{"$f":"SMALL(D380:G380,{1,2,3})","v":13},13,14,40,11]
["Richard Fryer","HRC","V50",{"$f":"IF(ISNA(VLOOKUP($A381,'Race 1-Men'!$U$33:$Z$51,6,0)),100,VLOOKUP($A381,'Race 1-Men'!$U$33:$Z$51,6,0))","v":100},{"$f":"IF(ISNA(VLOOKUP($A381,'Race 2-Men'!$U$32:$Z$53,6,0)),100,VLOOKUP($A381,'Race 2-Men'!$U$32:$Z$53,6,0))","v":100},{"$f":"IF(ISNA(VLOOKUP($A381,'Race 3-Men'!$U$40:$Z$61,6,0)),100,VLOOKUP($A381,'Race 3-Men'!$U$40:$Z$61,6,0))","v":100},{"$f":"IF(ISNA(VLOOKUP($A381,'Race 4-Men'!$U$35:$Z$100,6,0)),100,VLOOKUP($A381,'Race 4-Men'!$U$35:$Z$100,6,0))","v":100},{"$f":"SMALL(D381:G381,{1,2,3})","v":100},100,100,300,38]
["Richard Ricketts","HRC","V50",{"$f":"IF(ISNA(VLOOKUP($A382,'Race 1-Men'!$U$33:$Z$51,6,0)),100,VLOOKUP($A382,'Race 1-Men'!$U$33:$Z$51,6,0))","v":100},{"$f":"IF(ISNA(VLOOKUP($A382,'Race 2-Men'!$U$32:$Z$53,6,0)),100,VLOOKUP($A382,'Race 2-Men'!$U$32:$Z$53,6,0))","v":100},{"$f":"IF(ISNA(VLOOKUP($A382,'Race 3-Men'!$U$40:$Z$61,6,0)),100,VLOOKUP($A382,'Race 3-Men'!$U$40:$Z$61,6,0))","v":100},{"$f":"IF(ISNA(VLOOKUP($A382,'Race 4-Men'!$U$35:$Z$100,6,0)),100,VLOOKUP($A382,'Race 4-Men'!$U$35:$Z$100,6,0))","v":100},{"$f":"SMALL(D382:G382,{1,2,3})","v":100},100,100,300,38]
["Richard Taylor","HRC","V50",{"$f":"IF(ISNA(VLOOKUP($A383,'Race 1-Men'!$U$33:$Z$51,6,0)),100,VLOOKUP($A383,'Race 1-Men'!$U$33:$Z$51,6,0))","v":100},{"$f":"IF(ISNA(VLOOKUP($A383,'Race 2-Men'!$U$32:$Z$53,6,0)),100,VLOOKUP($A383,'Race 2-Men'!$U$32:$Z$53,6,0))","v":100},{"$f":"IF(ISNA(VLOOKUP($A383,'Race 3-Men'!$U$40:$Z$61,6,0)),100,VLOOKUP($A383,'Race 3-Men'!$U$40:$Z$61,6,0))","v":100},{"$f":"IF(ISNA(VLOOKUP($A383,'Race 4-Men'!$U$35:$Z$100,6,0)),100,VLOOKUP($A383,'Race 4-Men'!$U$35:$Z$100,6,0))","v":100},{"$f":"SMALL(D383:G383,{1,2,3})","v":100},100,100,300,38]
["Richard van Maanenberg","WJ","V50",{"$f":"IF(ISNA(VLOOKUP($A384,'Race 1-Men'!$U$33:$Z$51,6,0)),100,VLOOKUP($A384,'Race 1-Men'!$U$33:$Z$51,6,0))","v":100},{"$f":"IF(ISNA(VLOOKUP($A384,'Race 2-Men'!$U$32:$Z$53,6,0)),100,VLOOKUP($A384,'Race 2-Men'!$U$32:$Z$53,6,0))","v":100},{"$f":"IF(ISNA(VLOOKUP($A384,'Race 3-Men'!$U$40:$Z$61,6,0)),100,VLOOKUP($A384,'Race 3-Men'!$U$40:$Z$61,6,0))","v":100},{"$f":"IF(ISNA(VLOOKUP($A384,'Race 4-Men'!$U$35:$Z$100,6,0)),100,VLOOKUP($A384,'Race 4-Men'!$U$35:$Z$100,6,0))","v":100},{"$f":"SMALL(D384:G384,{1,2,3})","v":100},100,100,300,38]
["Richard Viney","SS","V50",{"$f":"IF(ISNA(VLOOKUP($A385,'Race 1-Men'!$U$33:$Z$51,6,0)),100,VLOOKUP($A385,'Race 1-Men'!$U$33:$Z$51,6,0))","v":100},{"$f":"IF(ISNA(VLOOKUP($A385,'Race 2-Men'!$U$32:$Z$53,6,0)),100,VLOOKUP($A385,'Race 2-Men'!$U$32:$Z$53,6,0))","v":100},{"$f":"IF(ISNA(VLOOKUP($A385,'Race 3-Men'!$U$40:$Z$61,6,0)),100,VLOOKUP($A385,'Race 3-Men'!$U$40:$Z$61,6,0))","v":100},{"$f":"IF(ISNA(VLOOKUP($A385,'Race 4-Men'!$U$35:$Z$100,6,0)),100,VLOOKUP($A385,'Race 4-Men'!$U$35:$Z$100,6,0))","v":100},{"$f":"SMALL(D385:G385,{1,2,3})","v":100},100,100,300,38]
["Rob Lowe","HRC","V50",{"$f":"IF(ISNA(VLOOKUP($A386,'Race 1-Men'!$U$33:$Z$51,6,0)),100,VLOOKUP($A386,'Race 1-Men'!$U$33:$Z$51,6,0))","v":100},{"$f":"IF(ISNA(VLOOKUP($A386,'Race 2-Men'!$U$32:$Z$53,6,0)),100,VLOOKUP($A386,'Race 2-Men'!$U$32:$Z$53,6,0))","v":1},{"$f":"IF(ISNA(VLOOKUP($A386,'Race 3-Men'!$U$40:$Z$61,6,0)),100,VLOOKUP($A386,'Race 3-Men'!$U$40:$Z$61,6,0))","v":1},{"$f":"IF(ISNA(VLOOKUP($A386,'Race 4-Men'!$U$35:$Z$100,6,0)),100,VLOOKUP($A386,'Race 4-Men'!$U$35:$Z$100,6,0))","v":1},{"$f":"SMALL(D386:G386,{1,2,3})","v":1},1,1,3,1]
["Rob Peters","HRC","V50",{"$f":"IF(ISNA(VLOOKUP($A387,'Race 1-Men'!$U$33:$Z$51,6,0)),100,VLOOKUP($A387,'Race 1-Men'!$U$33:$Z$51,6,0))","v":100},{"$f":"IF(ISNA(VLOOKUP($A387,'Race 2-Men'!$U$32:$Z$53,6,0)),100,VLOOKUP($A387,'Race 2-Men'!$U$32:$Z$53,6,0))","v":100},{"$f":"IF(ISNA(VLOOKUP($A387,'Race 3-Men'!$U$40:$Z$61,6,0)),100,VLOOKUP($A387,'Race 3-Men'!$U$40:$Z$61,6,0))","v":100},{"$f":"IF(ISNA(VLOOKUP($A387,'Race 4-Men'!$U$35:$Z$100,6,0)),100,VLOOKUP($A387,'Race 4-Men'!$U$35:$Z$100,6,0))","v":100},{"$f":"SMALL(D387:G387,{1,2,3})","v":100},100,100,300,38]
["Robert Thorpe","BS","V50",{"$f":"IF(ISNA(VLOOKUP($A388,'Race 1-Men'!$U$33:$Z$51,6,0)),100,VLOOKUP($A388,'Race 1-Men'!$U$33:$Z$51,6,0))","v":3},{"$f":"IF(ISNA(VLOOKUP($A388,'Race 2-Men'!$U$32:$Z$53,6,0)),100,VLOOKUP($A388,'Race 2-Men'!$U$32:$Z$53,6,0))","v":100},{"$f":"IF(ISNA(VLOOKUP($A388,'Race 3-Men'!$U$40:$Z$61,6,0)),100,VLOOKUP($A388,'Race 3-Men'!$U$40:$Z$61,6,0))","v":100},{"$f":"IF(ISNA(VLOOKUP($A388,'Race 4-Men'!$U$35:$Z$100,6,0)),100,VLOOKUP($A388,'Race 4-Men'!$U$35:$Z$100,6,0))","v":100},{"$f":"SMALL(D388:G388,{1,2,3})","v":3},100,100,{"$f":"SUM(H388:J388)","v":203},24]
["Simon Chambers","SS","V50",{"$f":"IF(ISNA(VLOOKUP($A389,'Race 1-Men'!$U$33:$Z$51,6,0)),100,VLOOKUP($A389,'Race 1-Men'!$U$33:$Z$51,6,0))","v":100},{"$f":"IF(ISNA(VLOOKUP($A389,'Race 2-Men'!$U$32:$Z$53,6,0)),100,VLOOKUP($A389,'Race 2-Men'!$U$32:$Z$53,6,0))","v":100},{"$f":"IF(ISNA(VLOOKUP($A389,'Race 3-Men'!$U$40:$Z$61,6,0)),100,VLOOKUP($A389,'Race 3-Men'!$U$40:$Z$61,6,0))","v":100},{"$f":"IF(ISNA(VLOOKUP($A389,'Race 4-Men'!$U$35:$Z$100,6,0)),100,VLOOKUP($A389,'Race 4-Men'!$U$35:$Z$100,6,0))","v":100},{"$f":"SMALL(D389:G389,{1,2,3})","v":100},100,100,300,38]
["Simon Joyce","WJ","V50",{"$f":"IF(ISNA(VLOOKUP($A390,'Race 1-Men'!$U$33:$Z$51,6,0)),100,VLOOKUP($A390,'Race 1-Men'!$U$33:$Z$51,6,0))","v":15},{"$f":"IF(ISNA(VLOOKUP($A390,'Race 2-Men'!$U$32:$Z$53,6,0)),100,VLOOKUP($A390,'Race 2-Men'!$U$32:$Z$53,6,0))","v":100},{"$f":"IF(ISNA(VLOOKUP($A390,'Race 3-Men'!$U$40:$Z$61,6,0)),100,VLOOKUP($A390,'Race 3-Men'!$U$40:$Z$61,6,0))","v":16},{"$f":"IF(ISNA(VLOOKUP($A390,'Race 4-Men'!$U$35:$Z$100,6,0)),100,VLOOKUP($A390,'Race 4-Men'!$U$35:$Z$100,6,0))","v":14},{"$f":"SMALL(D390:G390,{1,2,3})","v":14},15,16,45,13]
["Simon Ollerenshaw","SS","V50",{"$f":"IF(ISNA(VLOOKUP($A391,'Race 1-Men'!$U$33:$Z$51,6,0)),100,VLOOKUP($A391,'Race 1-Men'!$U$33:$Z$51,6,0))","v":100},{"$f":"IF(ISNA(VLOOKUP($A391,'Race 2-Men'!$U$32:$Z$53,6,0)),100,VLOOKUP($A391,'Race 2-Men'!$U$32:$Z$53,6,0))","v":100},{"$f":"IF(ISNA(VLOOKUP($A391,'Race 3-Men'!$U$40:$Z$61,6,0)),100,VLOOKUP($A391,'Race 3-Men'!$U$40:$Z$61,6,0))","v":100},{"$f":"IF(ISNA(VLOOKUP($A391,'Race 4-Men'!$U$35:$Z$100,6,0)),100,VLOOKUP($A391,'Race 4-Men'!$U$35:$Z$100,6,0))","v":100},{"$f":"SMALL(D391:G391,{1,2,3})","v":100},100,100,300,38]
["Stephen Crafford","BS","V50",{"$f":"IF(ISNA(VLOOKUP($A392,'Race 1-Men'!$U$33:$Z$51,6,0)),100,VLOOKUP($A392,'Race 1-Men'!$U$33:$Z$51,6,0))","v":100},{"$f":"IF(ISNA(VLOOKUP($A392,'Race 2-Men'!$U$32:$Z$53,6,0)),100,VLOOKUP($A392,'Race 2-Men'!$U$32:$Z$53,6,0))","v":100},{"$f":"IF(ISNA(VLOOKUP($A392,'Race 3-Men'!$U$40:$Z$61,6,0)),100,VLOOKUP($A392,'Race 3-Men'!$U$40:$Z$61,6,0))","v":100},{"$f":"IF(ISNA(VLOOKUP($A392,'Race 4-Men'!$U$35:$Z$100,6,0)),100,VLOOKUP($A392,'Race 4-Men'!$U$35:$Z$100,6,0))","v":100},{"$f":"SMALL(D392:G392,{1,2,3})","v":100},100,100,300,38]
["Stephen Hillyard","SS","V50",{"$f":"IF(ISNA(VLOOKUP($A393,'Race 1-Men'!$U$33:$Z$51,6,0)),100,VLOOKUP($A393,'Race 1-Men'!$U$33:$Z$51,6,0))","v":100},{"$f":"IF(ISNA(VLOOKUP($A393,'Race 2-Men'!$U$32:$Z$53,6,0)),100,VLOOKUP($A393,'Race 2-Men'!$U$32:$Z$53,6,0))","v":100},{"$f":"IF(ISNA(VLOOKUP($A393,'Race 3-Men'!$U$40:$Z$61,6,0)),100,VLOOKUP($A393,'Race 3-Men'!$U$40:$Z$61,6,0))","v":100},{"$f":"IF(ISNA(VLOOKUP($A393,'Race 4-Men'!$U$35:$Z$100,6,0)),100,VLOOKUP($A393,'Race 4-Men'!$U$35:$Z$100,6,0))","v":100},{"$f":"SMALL(D393:G393,{1,2,3})","v":100},100,100,300,38]
["Stephen Leahy","HRC","V50",{"$f":"IF(ISNA(VLOOKUP($A394,'Race 1-Men'!$U$33:$Z$51,6,0)),100,VLOOKUP($A394,'Race 1-Men'!$U$33:$Z$51,6,0))","v":100},{"$f":"IF(ISNA(VLOOKUP($A394,'Race 2-Men'!$U$32:$Z$53,6,0)),100,VLOOKUP($A394,'Race 2-Men'!$U$32:$Z$53,6,0))","v":100},{"$f":"IF(ISNA(VLOOKUP($A394,'Race 3-Men'!$U$40:$Z$61,6,0)),100,VLOOKUP($A394,'Race 3-Men'!$U$40:$Z$61,6,0))","v":100},{"$f":"IF(ISNA(VLOOKUP($A394,'Race 4-Men'!$U$35:$Z$100,6,0)),100,VLOOKUP($A394,'Race 4-Men'!$U$35:$Z$100,6,0))","v":100},{"$f":"SMALL(D394:G394,{1,2,3})","v":100},100,100,300,38]
["Stephen Wilkes","BS","V50",{"$f":"IF(ISNA(VLOOKUP($A395,'Race 1-Men'!$U$33:$Z$51,6,0)),100,VLOOKUP($A395,'Race 1-Men'!$U$33:$Z$51,6,0))","v":1},{"$f":"IF(ISNA(VLOOKUP($A395,'Race 2-Men'!$U$32:$Z$53,6,0)),100,VLOOKUP($A395,'Race 2-Men'!$U$32:$Z$53,6,0))","v":100},{"$f":"IF(ISNA(VLOOKUP($A395,'Race 3-Men'!$U$40:$Z$61,6,0)),100,VLOOKUP($A395,'Race 3-Men'!$U$40:$Z$61,6,0))","v":100},{"$f":"IF(ISNA(VLOOKUP($A395,'Race 4-Men'!$U$35:$Z$100,6,0)),100,VLOOKUP($A395,'Race 4-Men'!$U$35:$Z$100,6,0))","v":100},{"$f":"SMALL(D395:G395,{1,2,3})","v":1},100,100,201,22]
["Steve Wright","HRC","V50",{"$f":"IF(ISNA(VLOOKUP($A396,'Race 1-Men'!$U$33:$Z$51,6,0)),100,VLOOKUP($A396,'Race 1-Men'!$U$33:$Z$51,6,0))","v":100},{"$f":"IF(ISNA(VLOOKUP($A396,'Race 2-Men'!$U$32:$Z$53,6,0)),100,VLOOKUP($A396,'Race 2-Men'!$U$32:$Z$53,6,0))","v":100},{"$f":"IF(ISNA(VLOOKUP($A396,'Race 3-Men'!$U$40:$Z$61,6,0)),100,VLOOKUP($A396,'Race 3-Men'!$U$40:$Z$61,6,0))","v":100},{"$f":"IF(ISNA(VLOOKUP($A396,'Race 4-Men'!$U$35:$Z$100,6,0)),100,VLOOKUP($A396,'Race 4-Men'!$U$35:$Z$100,6,0))","v":100},{"$f":"SMALL(D396:G396,{1,2,3})","v":100},100,100,300,38]
["Steven Vale","BS","V50",{"$f":"IF(ISNA(VLOOKUP($A397,'Race 1-Men'!$U$33:$Z$51,6,0)),100,VLOOKUP($A397,'Race 1-Men'!$U$33:$Z$51,6,0))","v":100},{"$f":"IF(ISNA(VLOOKUP($A397,'Race 2-Men'!$U$32:$Z$53,6,0)),100,VLOOKUP($A397,'Race 2-Men'!$U$32:$Z$53,6,0))","v":100},{"$f":"IF(ISNA(VLOOKUP($A397,'Race 3-Men'!$U$40:$Z$61,6,0)),100,VLOOKUP($A397,'Race 3-Men'!$U$40:$Z$61,6,0))","v":100},{"$f":"IF(ISNA(VLOOKUP($A397,'Race 4-Men'!$U$35:$Z$100,6,0)),100,VLOOKUP($A397,'Race 4-Men'!$U$35:$Z$100,6,0))","v":100},{"$f":"SMALL(D397:G397,{1,2,3})","v":100},100,100,300,38]
["Stewart Grant","BS","V50",{"$f":"IF(ISNA(VLOOKUP($A398,'Race 1-Men'!$U$33:$Z$51,6,0)),100,VLOOKUP($A398,'Race 1-Men'!$U$33:$Z$51,6,0))","v":100},{"$f":"IF(ISNA(VLOOKUP($A398,'Race 2-Men'!$U$32:$Z$53,6,0)),100,VLOOKUP($A398,'Race 2-Men'!$U$32:$Z$53,6,0))","v":100},{"$f":"IF(ISNA(VLOOKUP($A398,'Race 3-Men'!$U$40:$Z$61,6,0)),100,VLOOKUP($A398,'Race 3-Men'!$U$40:$Z$61,6,0))","v":100},{"$f":"IF(ISNA(VLOOKUP($A398,'Race 4-Men'!$U$35:$Z$100,6,0)),100,VLOOKUP($A398,'Race 4-Men'!$U$35:$Z$100,6,0))","v":100},{"$f":"SMALL(D398:G398,{1,2,3})","v":100},100,100,300,38]
["Stuart Davenport","BS","V50",{"$f":"IF(ISNA(VLOOKUP($A399,'Race 1-Men'!$U$33:$Z$51,6,0)),100,VLOOKUP($A399,'Race 1-Men'!$U$33:$Z$51,6,0))","v":100},{"$f":"IF(ISNA(VLOOKUP($A399,'Race 2-Men'!$U$32:$Z$53,6,0)),100,VLOOKUP($A399,'Race 2-Men'!$U$32:$Z$53,6,0))","v":20},{"$f":"IF(ISNA(VLOOKUP($A399,'Race 3-Men'!$U$40:$Z$61,6,0)),100,VLOOKUP($A399,'Race 3-Men'!$U$40:$Z$61,6,0))","v":100},{"$f":"IF(ISNA(VLOOKUP($A399,'Race 4-Men'!$U$35:$Z$100,6,0)),100,VLOOKUP($A399,'Race 4-Men'!$U$35:$Z$100,6,0))","v":100},{"$f":"SMALL(D399:G399,{1,2,3})","v":20},100,100,220,37]
["Stuart Gibson","SS","V50",{"$f":"IF(ISNA(VLOOKUP($A400,'Race 1-Men'!$U$33:$Z$51,6,0)),100,VLOOKUP($A400,'Race 1-Men'!$U$33:$Z$51,6,0))","v":100},{"$f":"IF(ISNA(VLOOKUP($A400,'Race 2-Men'!$U$32:$Z$53,6,0)),100,VLOOKUP($A400,'Race 2-Men'!$U$32:$Z$53,6,0))","v":100},{"$f":"IF(ISNA(VLOOKUP($A400,'Race 3-Men'!$U$40:$Z$61,6,0)),100,VLOOKUP($A400,'Race 3-Men'!$U$40:$Z$61,6,0))","v":100},{"$f":"IF(ISNA(VLOOKUP($A400,'Race 4-Men'!$U$35:$Z$100,6,0)),100,VLOOKUP($A400,'Race 4-Men'!$U$35:$Z$100,6,0))","v":100},{"$f":"SMALL(D400:G400,{1,2,3})","v":100},100,100,300,{"$f":"RANK(K400,$K$271:$K$406,1)","v":38}]
["Thomas Roelleke","SS","V50",{"$f":"IF(ISNA(VLOOKUP($A401,'Race 1-Men'!$U$33:$Z$51,6,0)),100,VLOOKUP($A401,'Race 1-Men'!$U$33:$Z$51,6,0))","v":100},{"$f":"IF(ISNA(VLOOKUP($A401,'Race 2-Men'!$U$32:$Z$53,6,0)),100,VLOOKUP($A401,'Race 2-Men'!$U$32:$Z$53,6,0))","v":100},{"$f":"IF(ISNA(VLOOKUP($A401,'Race 3-Men'!$U$40:$Z$61,6,0)),100,VLOOKUP($A401,'Race 3-Men'!$U$40:$Z$61,6,0))","v":100},{"$f":"IF(ISNA(VLOOKUP($A401,'Race 4-Men'!$U$35:$Z$100,6,0)),100,VLOOKUP($A401,'Race 4-Men'!$U$35:$Z$100,6,0))","v":100},{"$f":"SMALL(D401:G401,{1,2,3})","v":100},100,100,300,38]
["Tony Chada","BS","V50",{"$f":"IF(ISNA(VLOOKUP($A402,'Race 1-Men'!$U$33:$Z$51,6,0)),100,VLOOKUP($A402,'Race 1-Men'!$U$33:$Z$51,6,0))","v":100},{"$f":"IF(ISNA(VLOOKUP($A402,'Race 2-Men'!$U$32:$Z$53,6,0)),100,VLOOKUP($A402,'Race 2-Men'!$U$32:$Z$53,6,0))","v":100},{"$f":"IF(ISNA(VLOOKUP($A402,'Race 3-Men'!$U$40:$Z$61,6,0)),100,VLOOKUP($A402,'Race 3-Men'!$U$40:$Z$61,6,0))","v":100},{"$f":"IF(ISNA(VLOOKUP($A402,'Race 4-Men'!$U$35:$Z$100,6,0)),100,VLOOKUP($A402,'Race 4-Men'!$U$35:$Z$100,6,0))","v":100},{"$f":"SMALL(D402:G402,{1,2,3})","v":100},100,100,300,38]
["W Bloomfield","WJ","V50",{"$f":"IF(ISNA(VLOOKUP($A403,'Race 1-Men'!$U$33:$Z$51,6,0)),100,VLOOKUP($A403,'Race 1-Men'!$U$33:$Z$51,6,0))","v":100},{"$f":"IF(ISNA(VLOOKUP($A403,'Race 2-Men'!$U$32:$Z$53,6,0)),100,VLOOKUP($A403,'Race 2-Men'!$U$32:$Z$53,6,0))","v":100},{"$f":"IF(ISNA(VLOOKUP($A403,'Race 3-Men'!$U$40:$Z$61,6,0)),100,VLOOKUP($A403,'Race 3-Men'!$U$40:$Z$61,6,0))","v":100},{"$f":"IF(ISNA(VLOOKUP($A403,'Race 4-Men'!$U$35:$Z$100,6,0)),100,VLOOKUP($A403,'Race 4-Men'!$U$35:$Z$100,6,0))","v":100},{"$f":"SMALL(D403:G403,{1,2,3})","v":100},100,100,300,38]
["Wayne Greet","BS","V50",{"$f":"IF(ISNA(VLOOKUP($A404,'Race 1-Men'!$U$33:$Z$51,6,0)),100,VLOOKUP($A404,'Race 1-Men'!$U$33:$Z$51,6,0))","v":100},{"$f":"IF(ISNA(VLOOKUP($A404,'Race 2-Men'!$U$32:$Z$53,6,0)),100,VLOOKUP($A404,'Race 2-Men'!$U$32:$Z$53,6,0))","v":11},{"$f":"IF(ISNA(VLOOKUP($A404,'Race 3-Men'!$U$40:$Z$61,6,0)),100,VLOOKUP($A404,'Race 3-Men'!$U$40:$Z$61,6,0))","v":100},{"$f":"IF(ISNA(VLOOKUP($A404,'Race 4-Men'!$U$35:$Z$100,6,0)),100,VLOOKUP($A404,'Race 4-Men'!$U$35:$Z$100,6,0))","v":100},{"$f":"SMALL(D404:G404,{1,2,3})","v":11},100,100,211,29]
["Will Hunt Vincent","BS","V50",{"$f":"IF(ISNA(VLOOKUP($A405,'Race 1-Men'!$U$33:$Z$51,6,0)),100,VLOOKUP($A405,'Race 1-Men'!$U$33:$Z$51,6,0))","v":100},{"$f":"IF(ISNA(VLOOKUP($A405,'Race 2-Men'!$U$32:$Z$53,6,0)),100,VLOOKUP($A405,'Race 2-Men'!$U$32:$Z$53,6,0))","v":100},{"$f":"IF(ISNA(VLOOKUP($A405,'Race 3-Men'!$U$40:$Z$61,6,0)),100,VLOOKUP($A405,'Race 3-Men'!$U$40:$Z$61,6,0))","v":100},{"$f":"IF(ISNA(VLOOKUP($A405,'Race 4-Men'!$U$35:$Z$100,6,0)),100,VLOOKUP($A405,'Race 4-Men'!$U$35:$Z$100,6,0))","v":100},{"$f":"SMALL(D405:G405,{1,2,3})","v":100},100,100,300,38]
["Yusuf Firat","SS","V50",{"$f":"IF(ISNA(VLOOKUP($A406,'Race 1-Men'!$U$33:$Z$51,6,0)),100,VLOOKUP($A406,'Race 1-Men'!$U$33:$Z$51,6,0))","v":100},{"$f":"IF(ISNA(VLOOKUP($A406,'Race 2-Men'!$U$32:$Z$53,6,0)),100,VLOOKUP($A406,'Race 2-Men'!$U$32:$Z$53,6,0))","v":100},{"$f":"IF(ISNA(VLOOKUP($A406,'Race 3-Men'!$U$40:$Z$61,6,0)),100,VLOOKUP($A406,'Race 3-Men'!$U$40:$Z$61,6,0))","v":100},{"$f":"IF(ISNA(VLOOKUP($A406,'Race 4-Men'!$U$35:$Z$100,6,0)),100,VLOOKUP($A406,'Race 4-Men'!$U$35:$Z$100,6,0))","v":100},{"$f":"SMALL(D406:G406,{1,2,3})","v":100},100,100,300,38]
["Alan Cootes","HRC","V60",{"$f":"IF(ISNA(VLOOKUP($A407,'Race 1-Men'!$AB$33:$AG$100,6,0)),100,VLOOKUP($A407,'Race 1-Men'!$AB$33:$AG$100,6,0))","v":100},{"$f":"IF(ISNA(VLOOKUP($A407,'Race 2-Men'!$AB$32:$AG$53,6,0)),100,VLOOKUP($A407,'Race 2-Men'!$AB$32:$AG$53,6,0))","v":10},{"$f":"IF(ISNA(VLOOKUP($A407,'Race 3-Men'!$AB$40:$AG$61,6,0)),100,VLOOKUP($A407,'Race 3-Men'!$AB$40:$AG$61,6,0))","v":100},{"$f":"IF(ISNA(VLOOKUP($A407,'Race 4-Men'!$AB$35:$AG$100,6,0)),100,VLOOKUP($A407,'Race 4-Men'!$AB$35:$AG$100,6,0))","v":100},{"$f":"SMALL(D407:G407,{1,2,3})","v":10},100,100,210,{"$f":"RANK(K407,$K$406:$K$475,1)","v":21}]
["Alan Rafferty","WJ","V60",{"$f":"IF(ISNA(VLOOKUP($A408,'Race 1-Men'!$AB$33:$AG$100,6,0)),100,VLOOKUP($A408,'Race 1-Men'!$AB$33:$AG$100,6,0))","v":100},{"$f":"IF(ISNA(VLOOKUP($A408,'Race 2-Men'!$AB$32:$AG$53,6,0)),100,VLOOKUP($A408,'Race 2-Men'!$AB$32:$AG$53,6,0))","v":11},{"$f":"IF(ISNA(VLOOKUP($A408,'Race 3-Men'!$AB$40:$AG$61,6,0)),100,VLOOKUP($A408,'Race 3-Men'!$AB$40:$AG$61,6,0))","v":11},{"$f":"IF(ISNA(VLOOKUP($A408,'Race 4-Men'!$AB$35:$AG$100,6,0)),100,VLOOKUP($A408,'Race 4-Men'!$AB$35:$AG$100,6,0))","v":100},{"$f":"SMALL(D408:G408,{1,2,3})","v":11},11,100,122,{"$f":"RANK(K408,$K$406:$K$475,1)","v":15}]
["Alan Randall","WJ","V60",{"$f":"IF(ISNA(VLOOKUP($A409,'Race 1-Men'!$AB$33:$AG$100,6,0)),100,VLOOKUP($A409,'Race 1-Men'!$AB$33:$AG$100,6,0))","v":100},{"$f":"IF(ISNA(VLOOKUP($A409,'Race 2-Men'!$AB$32:$AG$53,6,0)),100,VLOOKUP($A409,'Race 2-Men'!$AB$32:$AG$53,6,0))","v":100},{"$f":"IF(ISNA(VLOOKUP($A409,'Race 3-Men'!$AB$40:$AG$61,6,0)),100,VLOOKUP($A409,'Race 3-Men'!$AB$40:$AG$61,6,0))","v":100},{"$f":"IF(ISNA(VLOOKUP($A409,'Race 4-Men'!$AB$35:$AG$100,6,0)),100,VLOOKUP($A409,'Race 4-Men'!$AB$35:$AG$100,6,0))","v":8},{"$f":"SMALL(D409:G409,{1,2,3})","v":8},100,100,208,20]
["Alan Wellbelove","HRC","V60",{"$f":"IF(ISNA(VLOOKUP($A410,'Race 1-Men'!$AB$33:$AG$100,6,0)),100,VLOOKUP($A410,'Race 1-Men'!$AB$33:$AG$100,6,0))","v":100},{"$f":"IF(ISNA(VLOOKUP($A410,'Race 2-Men'!$AB$32:$AG$53,6,0)),100,VLOOKUP($A410,'Race 2-Men'!$AB$32:$AG$53,6,0))","v":100},{"$f":"IF(ISNA(VLOOKUP($A410,'Race 3-Men'!$AB$40:$AG$61,6,0)),100,VLOOKUP($A410,'Race 3-Men'!$AB$40:$AG$61,6,0))","v":100},{"$f":"IF(ISNA(VLOOKUP($A410,'Race 4-Men'!$AB$35:$AG$100,6,0)),100,VLOOKUP($A410,'Race 4-Men'!$AB$35:$AG$100,6,0))","v":100},{"$f":"SMALL(D410:G410,{1,2,3})","v":100},100,100,300,26]
["Arthur Oliva","SS","V60",{"$f":"IF(ISNA(VLOOKUP($A411,'Race 1-Men'!$AB$33:$AG$100,6,0)),100,VLOOKUP($A411,'Race 1-Men'!$AB$33:$AG$100,6,0))","v":8},{"$f":"IF(ISNA(VLOOKUP($A411,'Race 2-Men'!$AB$32:$AG$53,6,0)),100,VLOOKUP($A411,'Race 2-Men'!$AB$32:$AG$53,6,0))","v":4},{"$f":"IF(ISNA(VLOOKUP($A411,'Race 3-Men'!$AB$40:$AG$61,6,0)),100,VLOOKUP($A411,'Race 3-Men'!$AB$40:$AG$61,6,0))","v":8},{"$f":"IF(ISNA(VLOOKUP($A411,'Race 4-Men'!$AB$35:$AG$100,6,0)),100,VLOOKUP($A411,'Race 4-Men'!$AB$35:$AG$100,6,0))","v":10},{"$f":"SMALL(D411:G411,{1,2,3})","v":4},8,8,20,6]
["Austin Nyamande","HRC","V60",{"$f":"IF(ISNA(VLOOKUP($A412,'Race 1-Men'!$AB$33:$AG$100,6,0)),100,VLOOKUP($A412,'Race 1-Men'!$AB$33:$AG$100,6,0))","v":100},{"$f":"IF(ISNA(VLOOKUP($A412,'Race 2-Men'!$AB$32:$AG$53,6,0)),100,VLOOKUP($A412,'Race 2-Men'!$AB$32:$AG$53,6,0))","v":100},{"$f":"IF(ISNA(VLOOKUP($A412,'Race 3-Men'!$AB$40:$AG$61,6,0)),100,VLOOKUP($A412,'Race 3-Men'!$AB$40:$AG$61,6,0))","v":100},{"$f":"IF(ISNA(VLOOKUP($A412,'Race 4-Men'!$AB$35:$AG$100,6,0)),100,VLOOKUP($A412,'Race 4-Men'!$AB$35:$AG$100,6,0))","v":100},{"$f":"SMALL(D412:G412,{1,2,3})","v":100},100,100,300,26]
["Chris Brolly","BS","V60",{"$f":"IF(ISNA(VLOOKUP($A413,'Race 1-Men'!$AB$33:$AG$100,6,0)),100,VLOOKUP($A413,'Race 1-Men'!$AB$33:$AG$100,6,0))","v":100},{"$f":"IF(ISNA(VLOOKUP($A413,'Race 2-Men'!$AB$32:$AG$53,6,0)),100,VLOOKUP($A413,'Race 2-Men'!$AB$32:$AG$53,6,0))","v":13},{"$f":"IF(ISNA(VLOOKUP($A413,'Race 3-Men'!$AB$40:$AG$61,6,0)),100,VLOOKUP($A413,'Race 3-Men'!$AB$40:$AG$61,6,0))","v":100},{"$f":"IF(ISNA(VLOOKUP($A413,'Race 4-Men'!$AB$35:$AG$100,6,0)),100,VLOOKUP($A413,'Race 4-Men'!$AB$35:$AG$100,6,0))","v":100},{"$f":"SMALL(D413:G413,{1,2,3})","v":13},100,100,213,22]
["Clive Smith","WJ","V60",{"$f":"IF(ISNA(VLOOKUP($A414,'Race 1-Men'!$AB$33:$AG$100,6,0)),100,VLOOKUP($A414,'Race 1-Men'!$AB$33:$AG$100,6,0))","v":11},{"$f":"IF(ISNA(VLOOKUP($A414,'Race 2-Men'!$AB$32:$AG$53,6,0)),100,VLOOKUP($A414,'Race 2-Men'!$AB$32:$AG$53,6,0))","v":12},{"$f":"IF(ISNA(VLOOKUP($A414,'Race 3-Men'!$AB$40:$AG$61,6,0)),100,VLOOKUP($A414,'Race 3-Men'!$AB$40:$AG$61,6,0))","v":10},{"$f":"IF(ISNA(VLOOKUP($A414,'Race 4-Men'!$AB$35:$AG$100,6,0)),100,VLOOKUP($A414,'Race 4-Men'!$AB$35:$AG$100,6,0))","v":100},{"$f":"SMALL(D414:G414,{1,2,3})","v":10},11,12,33,10]
["Colin Beacon","WJ","V60",{"$f":"IF(ISNA(VLOOKUP($A415,'Race 1-Men'!$AB$33:$AG$100,6,0)),100,VLOOKUP($A415,'Race 1-Men'!$AB$33:$AG$100,6,0))","v":100},{"$f":"IF(ISNA(VLOOKUP($A415,'Race 2-Men'!$AB$32:$AG$53,6,0)),100,VLOOKUP($A415,'Race 2-Men'!$AB$32:$AG$53,6,0))","v":100},{"$f":"IF(ISNA(VLOOKUP($A415,'Race 3-Men'!$AB$40:$AG$61,6,0)),100,VLOOKUP($A415,'Race 3-Men'!$AB$40:$AG$61,6,0))","v":100},{"$f":"IF(ISNA(VLOOKUP($A415,'Race 4-Men'!$AB$35:$AG$100,6,0)),100,VLOOKUP($A415,'Race 4-Men'!$AB$35:$AG$100,6,0))","v":100},{"$f":"SMALL(D415:G415,{1,2,3})","v":100},100,100,300,26]
["Dave Lewis","SS","V60",{"$f":"IF(ISNA(VLOOKUP($A416,'Race 1-Men'!$AB$33:$AG$100,6,0)),100,VLOOKUP($A416,'Race 1-Men'!$AB$33:$AG$100,6,0))","v":100},{"$f":"IF(ISNA(VLOOKUP($A416,'Race 2-Men'!$AB$32:$AG$53,6,0)),100,VLOOKUP($A416,'Race 2-Men'!$AB$32:$AG$53,6,0))","v":100},{"$f":"IF(ISNA(VLOOKUP($A416,'Race 3-Men'!$AB$40:$AG$61,6,0)),100,VLOOKUP($A416,'Race 3-Men'!$AB$40:$AG$61,6,0))","v":100},{"$f":"IF(ISNA(VLOOKUP($A416,'Race 4-Men'!$AB$35:$AG$100,6,0)),100,VLOOKUP($A416,'Race 4-Men'!$AB$35:$AG$100,6,0))","v":100},{"$f":"SMALL(D416:G416,{1,2,3})","v":100},100,100,300,26]
["David Tew","SS","V60",{"$f":"IF(ISNA(VLOOKUP($A417,'Race 1-Men'!$AB$33:$AG$100,6,0)),100,VLOOKUP($A417,'Race 1-Men'!$AB$33:$AG$100,6,0))","v":100},{"$f":"IF(ISNA(VLOOKUP($A417,'Race 2-Men'!$AB$32:$AG$53,6,0)),100,VLOOKUP($A417,'Race 2-Men'!$AB$32:$AG$53,6,0))","v":100},{"$f":"IF(ISNA(VLOOKUP($A417,'Race 3-Men'!$AB$40:$AG$61,6,0)),100,VLOOKUP($A417,'Race 3-Men'!$AB$40:$AG$61,6,0))","v":100},{"$f":"IF(ISNA(VLOOKUP($A417,'Race 4-Men'!$AB$35:$AG$100,6,0)),100,VLOOKUP($A417,'Race 4-Men'!$AB$35:$AG$100,6,0))","v":100},{"$f":"SMALL(D417:G417,{1,2,3})","v":100},100,100,300,26]
["Ernesto Johnson","BS","V60",{"$f":"IF(ISNA(VLOOKUP($A418,'Race 1-Men'!$AB$33:$AG$100,6,0)),100,VLOOKUP($A418,'Race 1-Men'!$AB$33:$AG$100,6,0))","v":100},{"$f":"IF(ISNA(VLOOKUP($A418,'Race 2-Men'!$AB$32:$AG$53,6,0)),100,VLOOKUP($A418,'Race 2-Men'!$AB$32:$AG$53,6,0))","v":100},{"$f":"IF(ISNA(VLOOKUP($A418,'Race 3-Men'!$AB$40:$AG$61,6,0)),100,VLOOKUP($A418,'Race 3-Men'!$AB$40:$AG$61,6,0))","v":100},{"$f":"IF(ISNA(VLOOKUP($A418,'Race 4-Men'!$AB$35:$AG$100,6,0)),100,VLOOKUP($A418,'Race 4-Men'!$AB$35:$AG$100,6,0))","v":100},{"$f":"SMALL(D418:G418,{1,2,3})","v":100},100,100,300,26]
["Garth Morris","WJ","V60",{"$f":"IF(ISNA(VLOOKUP($A419,'Race 1-Men'!$AB$33:$AG$100,6,0)),100,VLOOKUP($A419,'Race 1-Men'!$AB$33:$AG$100,6,0))","v":1},{"$f":"IF(ISNA(VLOOKUP($A419,'Race 2-Men'!$AB$32:$AG$53,6,0)),100,VLOOKUP($A419,'Race 2-Men'!$AB$32:$AG$53,6,0))","v":100},{"$f":"IF(ISNA(VLOOKUP($A419,'Race 3-Men'!$AB$40:$AG$61,6,0)),100,VLOOKUP($A419,'Race 3-Men'!$AB$40:$AG$61,6,0))","v":1},{"$f":"IF(ISNA(VLOOKUP($A419,'Race 4-Men'!$AB$35:$AG$100,6,0)),100,VLOOKUP($A419,'Race 4-Men'!$AB$35:$AG$100,6,0))","v":1},{"$f":"SMALL(D419:G419,{1,2,3})","v":1},1,1,3,1]
["Gordon Wilson","BS","V60",{"$f":"IF(ISNA(VLOOKUP($A420,'Race 1-Men'!$AB$33:$AG$100,6,0)),100,VLOOKUP($A420,'Race 1-Men'!$AB$33:$AG$100,6,0))","v":100},{"$f":"IF(ISNA(VLOOKUP($A420,'Race 2-Men'!$AB$32:$AG$53,6,0)),100,VLOOKUP($A420,'Race 2-Men'!$AB$32:$AG$53,6,0))","v":100},{"$f":"IF(ISNA(VLOOKUP($A420,'Race 3-Men'!$AB$40:$AG$61,6,0)),100,VLOOKUP($A420,'Race 3-Men'!$AB$40:$AG$61,6,0))","v":100},{"$f":"IF(ISNA(VLOOKUP($A420,'Race 4-Men'!$AB$35:$AG$100,6,0)),100,VLOOKUP($A420,'Race 4-Men'!$AB$35:$AG$100,6,0))","v":100},{"$f":"SMALL(D420:G420,{1,2,3})","v":100},100,100,300,26]
["Graeme Loudain","SS","V60",{"$f":"IF(ISNA(VLOOKUP($A421,'Race 1-Men'!$AB$33:$AG$100,6,0)),100,VLOOKUP($A421,'Race 1-Men'!$AB$33:$AG$100,6,0))","v":6},{"$f":"IF(ISNA(VLOOKUP($A421,'Race 2-Men'!$AB$32:$AG$53,6,0)),100,VLOOKUP($A421,'Race 2-Men'!$AB$32:$AG$53,6,0))","v":100},{"$f":"IF(ISNA(VLOOKUP($A421,'Race 3-Men'!$AB$40:$AG$61,6,0)),100,VLOOKUP($A421,'Race 3-Men'!$AB$40:$AG$61,6,0))","v":100},{"$f":"IF(ISNA(VLOOKUP($A421,'Race 4-Men'!$AB$35:$AG$100,6,0)),100,VLOOKUP($A421,'Race 4-Men'!$AB$35:$AG$100,6,0))","v":100},{"$f":"SMALL(D421:G421,{1,2,3})","v":6},100,100,206,19]
["Graham O'Malley","BS","V60",{"$f":"IF(ISNA(VLOOKUP($A422,'Race 1-Men'!$AB$33:$AG$100,6,0)),100,VLOOKUP($A422,'Race 1-Men'!$AB$33:$AG$100,6,0))","v":100},{"$f":"IF(ISNA(VLOOKUP($A422,'Race 2-Men'!$AB$32:$AG$53,6,0)),100,VLOOKUP($A422,'Race 2-Men'!$AB$32:$AG$53,6,0))","v":100},{"$f":"IF(ISNA(VLOOKUP($A422,'Race 3-Men'!$AB$40:$AG$61,6,0)),100,VLOOKUP($A422,'Race 3-Men'!$AB$40:$AG$61,6,0))","v":100},{"$f":"IF(ISNA(VLOOKUP($A422,'Race 4-Men'!$AB$35:$AG$100,6,0)),100,VLOOKUP($A422,'Race 4-Men'!$AB$35:$AG$100,6,0))","v":100},{"$f":"SMALL(D422:G422,{1,2,3})","v":100},100,100,300,26]
["Graham Saville","HRC","V60",{"$f":"IF(ISNA(VLOOKUP($A423,'Race 1-Men'!$AB$33:$AG$100,6,0)),100,VLOOKUP($A423,'Race 1-Men'!$AB$33:$AG$100,6,0))","v":100},{"$f":"IF(ISNA(VLOOKUP($A423,'Race 2-Men'!$AB$32:$AG$53,6,0)),100,VLOOKUP($A423,'Race 2-Men'!$AB$32:$AG$53,6,0))","v":5},{"$f":"IF(ISNA(VLOOKUP($A423,'Race 3-Men'!$AB$40:$AG$61,6,0)),100,VLOOKUP($A423,'Race 3-Men'!$AB$40:$AG$61,6,0))","v":100},{"$f":"IF(ISNA(VLOOKUP($A423,'Race 4-Men'!$AB$35:$AG$100,6,0)),100,VLOOKUP($A423,'Race 4-Men'!$AB$35:$AG$100,6,0))","v":100},{"$f":"SMALL(D423:G423,{1,2,3})","v":5},100,100,205,18]
["Graham Statter","BS","V60",{"$f":"IF(ISNA(VLOOKUP($A424,'Race 1-Men'!$AB$33:$AG$100,6,0)),100,VLOOKUP($A424,'Race 1-Men'!$AB$33:$AG$100,6,0))","v":100},{"$f":"IF(ISNA(VLOOKUP($A424,'Race 2-Men'!$AB$32:$AG$53,6,0)),100,VLOOKUP($A424,'Race 2-Men'!$AB$32:$AG$53,6,0))","v":100},{"$f":"IF(ISNA(VLOOKUP($A424,'Race 3-Men'!$AB$40:$AG$61,6,0)),100,VLOOKUP($A424,'Race 3-Men'!$AB$40:$AG$61,6,0))","v":100},{"$f":"IF(ISNA(VLOOKUP($A424,'Race 4-Men'!$AB$35:$AG$100,6,0)),100,VLOOKUP($A424,'Race 4-Men'!$AB$35:$AG$100,6,0))","v":100},{"$f":"SMALL(D424:G424,{1,2,3})","v":100},100,100,300,26]
["Guy Tremayne","SS","V60",{"$f":"IF(ISNA(VLOOKUP($A425,'Race 1-Men'!$AB$33:$AG$100,6,0)),100,VLOOKUP($A425,'Race 1-Men'!$AB$33:$AG$100,6,0))","v":100},{"$f":"IF(ISNA(VLOOKUP($A425,'Race 2-Men'!$AB$32:$AG$53,6,0)),100,VLOOKUP($A425,'Race 2-Men'!$AB$32:$AG$53,6,0))","v":100},{"$f":"IF(ISNA(VLOOKUP($A425,'Race 3-Men'!$AB$40:$AG$61,6,0)),100,VLOOKUP($A425,'Race 3-Men'!$AB$40:$AG$61,6,0))","v":100},{"$f":"IF(ISNA(VLOOKUP($A425,'Race 4-Men'!$AB$35:$AG$100,6,0)),100,VLOOKUP($A425,'Race 4-Men'!$AB$35:$AG$100,6,0))","v":100},{"$f":"SMALL(D425:G425,{1,2,3})","v":100},100,100,300,26]
["Henry Rowe","SS","V60",{"$f":"IF(ISNA(VLOOKUP($A426,'Race 1-Men'!$AB$33:$AG$100,6,0)),100,VLOOKUP($A426,'Race 1-Men'!$AB$33:$AG$100,6,0))","v":100},{"$f":"IF(ISNA(VLOOKUP($A426,'Race 2-Men'!$AB$32:$AG$53,6,0)),100,VLOOKUP($A426,'Race 2-Men'!$AB$32:$AG$53,6,0))","v":100},{"$f":"IF(ISNA(VLOOKUP($A426,'Race 3-Men'!$AB$40:$AG$61,6,0)),100,VLOOKUP($A426,'Race 3-Men'!$AB$40:$AG$61,6,0))","v":100},{"$f":"IF(ISNA(VLOOKUP($A426,'Race 4-Men'!$AB$35:$AG$100,6,0)),100,VLOOKUP($A426,'Race 4-Men'!$AB$35:$AG$100,6,0))","v":100},{"$f":"SMALL(D426:G426,{1,2,3})","v":100},100,100,300,26]
["Ian MacDougall","SS","V60",{"$f":"IF(ISNA(VLOOKUP($A427,'Race 1-Men'!$AB$33:$AG$100,6,0)),100,VLOOKUP($A427,'Race 1-Men'!$AB$33:$AG$100,6,0))","v":100},{"$f":"IF(ISNA(VLOOKUP($A427,'Race 2-Men'!$AB$32:$AG$53,6,0)),100,VLOOKUP($A427,'Race 2-Men'!$AB$32:$AG$53,6,0))","v":100},{"$f":"IF(ISNA(VLOOKUP($A427,'Race 3-Men'!$AB$40:$AG$61,6,0)),100,VLOOKUP($A427,'Race 3-Men'!$AB$40:$AG$61,6,0))","v":100},{"$f":"IF(ISNA(VLOOKUP($A427,'Race 4-Men'!$AB$35:$AG$100,6,0)),100,VLOOKUP($A427,'Race 4-Men'!$AB$35:$AG$100,6,0))","v":100},{"$f":"SMALL(D427:G427,{1,2,3})","v":100},100,100,300,26]
["Ian Penson","BS","V60",{"$f":"IF(ISNA(VLOOKUP($A428,'Race 1-Men'!$AB$33:$AG$100,6,0)),100,VLOOKUP($A428,'Race 1-Men'!$AB$33:$AG$100,6,0))","v":10},{"$f":"IF(ISNA(VLOOKUP($A428,'Race 2-Men'!$AB$32:$AG$53,6,0)),100,VLOOKUP($A428,'Race 2-Men'!$AB$32:$AG$53,6,0))","v":9},{"$f":"IF(ISNA(VLOOKUP($A428,'Race 3-Men'!$AB$40:$AG$61,6,0)),100,VLOOKUP($A428,'Race 3-Men'!$AB$40:$AG$61,6,0))","v":12},{"$f":"IF(ISNA(VLOOKUP($A428,'Race 4-Men'!$AB$35:$AG$100,6,0)),100,VLOOKUP($A428,'Race 4-Men'!$AB$35:$AG$100,6,0))","v":11},{"$f":"SMALL(D428:G428,{1,2,3})","v":9},10,11,30,9]
["Jacobus van der Poel","HRC","V60",{"$f":"IF(ISNA(VLOOKUP($A429,'Race 1-Men'!$AB$33:$AG$100,6,0)),100,VLOOKUP($A429,'Race 1-Men'!$AB$33:$AG$100,6,0))","v":100},{"$f":"IF(ISNA(VLOOKUP($A429,'Race 2-Men'!$AB$32:$AG$53,6,0)),100,VLOOKUP($A429,'Race 2-Men'!$AB$32:$AG$53,6,0))","v":100},{"$f":"IF(ISNA(VLOOKUP($A429,'Race 3-Men'!$AB$40:$AG$61,6,0)),100,VLOOKUP($A429,'Race 3-Men'!$AB$40:$AG$61,6,0))","v":100},{"$f":"IF(ISNA(VLOOKUP($A429,'Race 4-Men'!$AB$35:$AG$100,6,0)),100,VLOOKUP($A429,'Race 4-Men'!$AB$35:$AG$100,6,0))","v":100},{"$f":"SMALL(D429:G429,{1,2,3})","v":100},100,100,300,26]
["Jerry Piron","BS","V60",{"$f":"IF(ISNA(VLOOKUP($A430,'Race 1-Men'!$AB$33:$AG$100,6,0)),100,VLOOKUP($A430,'Race 1-Men'!$AB$33:$AG$100,6,0))","v":100},{"$f":"IF(ISNA(VLOOKUP($A430,'Race 2-Men'!$AB$32:$AG$53,6,0)),100,VLOOKUP($A430,'Race 2-Men'!$AB$32:$AG$53,6,0))","v":100},{"$f":"IF(ISNA(VLOOKUP($A430,'Race 3-Men'!$AB$40:$AG$61,6,0)),100,VLOOKUP($A430,'Race 3-Men'!$AB$40:$AG$61,6,0))","v":100},{"$f":"IF(ISNA(VLOOKUP($A430,'Race 4-Men'!$AB$35:$AG$100,6,0)),100,VLOOKUP($A430,'Race 4-Men'!$AB$35:$AG$100,6,0))","v":100},{"$f":"SMALL(D430:G430,{1,2,3})","v":100},100,100,300,26]
["John Ivens","BS","V60",{"$f":"IF(ISNA(VLOOKUP($A431,'Race 1-Men'!$AB$33:$AG$100,6,0)),100,VLOOKUP($A431,'Race 1-Men'!$AB$33:$AG$100,6,0))","v":100},{"$f":"IF(ISNA(VLOOKUP($A431,'Race 2-Men'!$AB$32:$AG$53,6,0)),100,VLOOKUP($A431,'Race 2-Men'!$AB$32:$AG$53,6,0))","v":100},{"$f":"IF(ISNA(VLOOKUP($A431,'Race 3-Men'!$AB$40:$AG$61,6,0)),100,VLOOKUP($A431,'Race 3-Men'!$AB$40:$AG$61,6,0))","v":100},{"$f":"IF(ISNA(VLOOKUP($A431,'Race 4-Men'!$AB$35:$AG$100,6,0)),100,VLOOKUP($A431,'Race 4-Men'!$AB$35:$AG$100,6,0))","v":100},{"$f":"SMALL(D431:G431,{1,2,3})","v":100},100,100,300,26]
["John James","SS","V60",{"$f":"IF(ISNA(VLOOKUP($A432,'Race 1-Men'!$AB$33:$AG$100,6,0)),100,VLOOKUP($A432,'Race 1-Men'!$AB$33:$AG$100,6,0))","v":100},{"$f":"IF(ISNA(VLOOKUP($A432,'Race 2-Men'!$AB$32:$AG$53,6,0)),100,VLOOKUP($A432,'Race 2-Men'!$AB$32:$AG$53,6,0))","v":100},{"$f":"IF(ISNA(VLOOKUP($A432,'Race 3-Men'!$AB$40:$AG$61,6,0)),100,VLOOKUP($A432,'Race 3-Men'!$AB$40:$AG$61,6,0))","v":6},{"$f":"IF(ISNA(VLOOKUP($A432,'Race 4-Men'!$AB$35:$AG$100,6,0)),100,VLOOKUP($A432,'Race 4-Men'!$AB$35:$AG$100,6,0))","v":7},{"$f":"SMALL(D432:G432,{1,2,3})","v":6},7,100,113,13]
["John Neary","BS","V60",{"$f":"IF(ISNA(VLOOKUP($A433,'Race 1-Men'!$AB$33:$AG$100,6,0)),100,VLOOKUP($A433,'Race 1-Men'!$AB$33:$AG$100,6,0))","v":100},{"$f":"IF(ISNA(VLOOKUP($A433,'Race 2-Men'!$AB$32:$AG$53,6,0)),100,VLOOKUP($A433,'Race 2-Men'!$AB$32:$AG$53,6,0))","v":15},{"$f":"IF(ISNA(VLOOKUP($A433,'Race 3-Men'!$AB$40:$AG$61,6,0)),100,VLOOKUP($A433,'Race 3-Men'!$AB$40:$AG$61,6,0))","v":100},{"$f":"IF(ISNA(VLOOKUP($A433,'Race 4-Men'!$AB$35:$AG$100,6,0)),100,VLOOKUP($A433,'Race 4-Men'!$AB$35:$AG$100,6,0))","v":100},{"$f":"SMALL(D433:G433,{1,2,3})","v":15},100,100,215,25]
["Jonathan Haynes","BS","V60",{"$f":"IF(ISNA(VLOOKUP($A434,'Race 1-Men'!$AB$33:$AG$100,6,0)),100,VLOOKUP($A434,'Race 1-Men'!$AB$33:$AG$100,6,0))","v":100},{"$f":"IF(ISNA(VLOOKUP($A434,'Race 2-Men'!$AB$32:$AG$53,6,0)),100,VLOOKUP($A434,'Race 2-Men'!$AB$32:$AG$53,6,0))","v":100},{"$f":"IF(ISNA(VLOOKUP($A434,'Race 3-Men'!$AB$40:$AG$61,6,0)),100,VLOOKUP($A434,'Race 3-Men'!$AB$40:$AG$61,6,0))","v":100},{"$f":"IF(ISNA(VLOOKUP($A434,'Race 4-Men'!$AB$35:$AG$100,6,0)),100,VLOOKUP($A434,'Race 4-Men'!$AB$35:$AG$100,6,0))","v":100},{"$f":"SMALL(D434:G434,{1,2,3})","v":100},100,100,300,26]
["Keith House","BS","V60",{"$f":"IF(ISNA(VLOOKUP($A435,'Race 1-Men'!$AB$33:$AG$100,6,0)),100,VLOOKUP($A435,'Race 1-Men'!$AB$33:$AG$100,6,0))","v":100},{"$f":"IF(ISNA(VLOOKUP($A435,'Race 2-Men'!$AB$32:$AG$53,6,0)),100,VLOOKUP($A435,'Race 2-Men'!$AB$32:$AG$53,6,0))","v":100},{"$f":"IF(ISNA(VLOOKUP($A435,'Race 3-Men'!$AB$40:$AG$61,6,0)),100,VLOOKUP($A435,'Race 3-Men'!$AB$40:$AG$61,6,0))","v":100},{"$f":"IF(ISNA(VLOOKUP($A435,'Race 4-Men'!$AB$35:$AG$100,6,0)),100,VLOOKUP($A435,'Race 4-Men'!$AB$35:$AG$100,6,0))","v":100},{"$f":"SMALL(D435:G435,{1,2,3})","v":100},100,100,300,26]
["Keith Phillips","BS","V60",{"$f":"IF(ISNA(VLOOKUP($A436,'Race 1-Men'!$AB$33:$AG$100,6,0)),100,VLOOKUP($A436,'Race 1-Men'!$AB$33:$AG$100,6,0))","v":100},{"$f":"IF(ISNA(VLOOKUP($A436,'Race 2-Men'!$AB$32:$AG$53,6,0)),100,VLOOKUP($A436,'Race 2-Men'!$AB$32:$AG$53,6,0))","v":100},{"$f":"IF(ISNA(VLOOKUP($A436,'Race 3-Men'!$AB$40:$AG$61,6,0)),100,VLOOKUP($A436,'Race 3-Men'!$AB$40:$AG$61,6,0))","v":100},{"$f":"IF(ISNA(VLOOKUP($A436,'Race 4-Men'!$AB$35:$AG$100,6,0)),100,VLOOKUP($A436,'Race 4-Men'!$AB$35:$AG$100,6,0))","v":100},{"$f":"SMALL(D436:G436,{1,2,3})","v":100},100,100,300,26]
["Malcolm Dewhurst","BS","V60",{"$f":"IF(ISNA(VLOOKUP($A437,'Race 1-Men'!$AB$33:$AG$100,6,0)),100,VLOOKUP($A437,'Race 1-Men'!$AB$33:$AG$100,6,0))","v":100},{"$f":"IF(ISNA(VLOOKUP($A437,'Race 2-Men'!$AB$32:$AG$53,6,0)),100,VLOOKUP($A437,'Race 2-Men'!$AB$32:$AG$53,6,0))","v":100},{"$f":"IF(ISNA(VLOOKUP($A437,'Race 3-Men'!$AB$40:$AG$61,6,0)),100,VLOOKUP($A437,'Race 3-Men'!$AB$40:$AG$61,6,0))","v":100},{"$f":"IF(ISNA(VLOOKUP($A437,'Race 4-Men'!$AB$35:$AG$100,6,0)),100,VLOOKUP($A437,'Race 4-Men'!$AB$35:$AG$100,6,0))","v":100},{"$f":"SMALL(D437:G437,{1,2,3})","v":100},100,100,300,26]
["Mark Fitzhenry","SS","V60",{"$f":"IF(ISNA(VLOOKUP($A438,'Race 1-Men'!$AB$33:$AG$100,6,0)),100,VLOOKUP($A438,'Race 1-Men'!$AB$33:$AG$100,6,0))","v":100},{"$f":"IF(ISNA(VLOOKUP($A438,'Race 2-Men'!$AB$32:$AG$53,6,0)),100,VLOOKUP($A438,'Race 2-Men'!$AB$32:$AG$53,6,0))","v":100},{"$f":"IF(ISNA(VLOOKUP($A438,'Race 3-Men'!$AB$40:$AG$61,6,0)),100,VLOOKUP($A438,'Race 3-Men'!$AB$40:$AG$61,6,0))","v":100},{"$f":"IF(ISNA(VLOOKUP($A438,'Race 4-Men'!$AB$35:$AG$100,6,0)),100,VLOOKUP($A438,'Race 4-Men'!$AB$35:$AG$100,6,0))","v":100},{"$f":"SMALL(D438:G438,{1,2,3})","v":100},100,100,300,26]
["Martin Howe","BS","V60",{"$f":"IF(ISNA(VLOOKUP($A439,'Race 1-Men'!$AB$33:$AG$100,6,0)),100,VLOOKUP($A439,'Race 1-Men'!$AB$33:$AG$100,6,0))","v":9},{"$f":"IF(ISNA(VLOOKUP($A439,'Race 2-Men'!$AB$32:$AG$53,6,0)),100,VLOOKUP($A439,'Race 2-Men'!$AB$32:$AG$53,6,0))","v":7},{"$f":"IF(ISNA(VLOOKUP($A439,'Race 3-Men'!$AB$40:$AG$61,6,0)),100,VLOOKUP($A439,'Race 3-Men'!$AB$40:$AG$61,6,0))","v":9},{"$f":"IF(ISNA(VLOOKUP($A439,'Race 4-Men'!$AB$35:$AG$100,6,0)),100,VLOOKUP($A439,'Race 4-Men'!$AB$35:$AG$100,6,0))","v":100},{"$f":"SMALL(D439:G439,{1,2,3})","v":7},9,9,25,8]
["Martin Pettitt","BS","V60",{"$f":"IF(ISNA(VLOOKUP($A440,'Race 1-Men'!$AB$33:$AG$100,6,0)),100,VLOOKUP($A440,'Race 1-Men'!$AB$33:$AG$100,6,0))","v":100},{"$f":"IF(ISNA(VLOOKUP($A440,'Race 2-Men'!$AB$32:$AG$53,6,0)),100,VLOOKUP($A440,'Race 2-Men'!$AB$32:$AG$53,6,0))","v":100},{"$f":"IF(ISNA(VLOOKUP($A440,'Race 3-Men'!$AB$40:$AG$61,6,0)),100,VLOOKUP($A440,'Race 3-Men'!$AB$40:$AG$61,6,0))","v":100},{"$f":"IF(ISNA(VLOOKUP($A440,'Race 4-Men'!$AB$35:$AG$100,6,0)),100,VLOOKUP($A440,'Race 4-Men'!$AB$35:$AG$100,6,0))","v":100},{"$f":"SMALL(D440:G440,{1,2,3})","v":100},100,100,300,26]
["Martin Sillitto","WJ","V60",{"$f":"IF(ISNA(VLOOKUP($A441,'Race 1-Men'!$AB$33:$AG$100,6,0)),100,VLOOKUP($A441,'Race 1-Men'!$AB$33:$AG$100,6,0))","v":100},{"$f":"IF(ISNA(VLOOKUP($A441,'Race 2-Men'!$AB$32:$AG$53,6,0)),100,VLOOKUP($A441,'Race 2-Men'!$AB$32:$AG$53,6,0))","v":100},{"$f":"IF(ISNA(VLOOKUP($A441,'Race 3-Men'!$AB$40:$AG$61,6,0)),100,VLOOKUP($A441,'Race 3-Men'!$AB$40:$AG$61,6,0))","v":100},{"$f":"IF(ISNA(VLOOKUP($A441,'Race 4-Men'!$AB$35:$AG$100,6,0)),100,VLOOKUP($A441,'Race 4-Men'!$AB$35:$AG$100,6,0))","v":100},{"$f":"SMALL(D441:G441,{1,2,3})","v":100},100,100,300,26]
["Michael Casey","HRC","V60",{"$f":"IF(ISNA(VLOOKUP($A442,'Race 1-Men'!$AB$33:$AG$100,6,0)),100,VLOOKUP($A442,'Race 1-Men'!$AB$33:$AG$100,6,0))","v":100},{"$f":"IF(ISNA(VLOOKUP($A442,'Race 2-Men'!$AB$32:$AG$53,6,0)),100,VLOOKUP($A442,'Race 2-Men'!$AB$32:$AG$53,6,0))","v":100},{"$f":"IF(ISNA(VLOOKUP($A442,'Race 3-Men'!$AB$40:$AG$61,6,0)),100,VLOOKUP($A442,'Race 3-Men'!$AB$40:$AG$61,6,0))","v":100},{"$f":"IF(ISNA(VLOOKUP($A442,'Race 4-Men'!$AB$35:$AG$100,6,0)),100,VLOOKUP($A442,'Race 4-Men'!$AB$35:$AG$100,6,0))","v":100},{"$f":"SMALL(D442:G442,{1,2,3})","v":100},100,100,300,26]
["Michael Connolly","BS","V60",{"$f":"IF(ISNA(VLOOKUP($A443,'Race 1-Men'!$AB$33:$AG$100,6,0)),100,VLOOKUP($A443,'Race 1-Men'!$AB$33:$AG$100,6,0))","v":100},{"$f":"IF(ISNA(VLOOKUP($A443,'Race 2-Men'!$AB$32:$AG$53,6,0)),100,VLOOKUP($A443,'Race 2-Men'!$AB$32:$AG$53,6,0))","v":100},{"$f":"IF(ISNA(VLOOKUP($A443,'Race 3-Men'!$AB$40:$AG$61,6,0)),100,VLOOKUP($A443,'Race 3-Men'!$AB$40:$AG$61,6,0))","v":100},{"$f":"IF(ISNA(VLOOKUP($A443,'Race 4-Men'!$AB$35:$AG$100,6,0)),100,VLOOKUP($A443,'Race 4-Men'!$AB$35:$AG$100,6,0))","v":100},{"$f":"SMALL(D443:G443,{1,2,3})","v":100},100,100,300,26]
["Micky Warwick","HRC","V60",{"$f":"IF(ISNA(VLOOKUP($A444,'Race 1-Men'!$AB$33:$AG$100,6,0)),100,VLOOKUP($A444,'Race 1-Men'!$AB$33:$AG$100,6,0))","v":100},{"$f":"IF(ISNA(VLOOKUP($A444,'Race 2-Men'!$AB$32:$AG$53,6,0)),100,VLOOKUP($A444,'Race 2-Men'!$AB$32:$AG$53,6,0))","v":100},{"$f":"IF(ISNA(VLOOKUP($A444,'Race 3-Men'!$AB$40:$AG$61,6,0)),100,VLOOKUP($A444,'Race 3-Men'!$AB$40:$AG$61,6,0))","v":100},{"$f":"IF(ISNA(VLOOKUP($A444,'Race 4-Men'!$AB$35:$AG$100,6,0)),100,VLOOKUP($A444,'Race 4-Men'!$AB$35:$AG$100,6,0))","v":100},{"$f":"SMALL(D444:G444,{1,2,3})","v":100},100,100,300,26]
["Mike Grant","BS","V60",{"$f":"IF(ISNA(VLOOKUP($A445,'Race 1-Men'!$AB$33:$AG$100,6,0)),100,VLOOKUP($A445,'Race 1-Men'!$AB$33:$AG$100,6,0))","v":100},{"$f":"IF(ISNA(VLOOKUP($A445,'Race 2-Men'!$AB$32:$AG$53,6,0)),100,VLOOKUP($A445,'Race 2-Men'!$AB$32:$AG$53,6,0))","v":3},{"$f":"IF(ISNA(VLOOKUP($A445,'Race 3-Men'!$AB$40:$AG$61,6,0)),100,VLOOKUP($A445,'Race 3-Men'!$AB$40:$AG$61,6,0))","v":100},{"$f":"IF(ISNA(VLOOKUP($A445,'Race 4-Men'!$AB$35:$AG$100,6,0)),100,VLOOKUP($A445,'Race 4-Men'!$AB$35:$AG$100,6,0))","v":100},{"$f":"SMALL(D445:G445,{1,2,3})","v":3},100,100,203,17]
["Nick Cheal","WJ","V60",{"$f":"IF(ISNA(VLOOKUP($A446,'Race 1-Men'!$AB$33:$AG$100,6,0)),100,VLOOKUP($A446,'Race 1-Men'!$AB$33:$AG$100,6,0))","v":100},{"$f":"IF(ISNA(VLOOKUP($A446,'Race 2-Men'!$AB$32:$AG$53,6,0)),100,VLOOKUP($A446,'Race 2-Men'!$AB$32:$AG$53,6,0))","v":100},{"$f":"IF(ISNA(VLOOKUP($A446,'Race 3-Men'!$AB$40:$AG$61,6,0)),100,VLOOKUP($A446,'Race 3-Men'!$AB$40:$AG$61,6,0))","v":100},{"$f":"IF(ISNA(VLOOKUP($A446,'Race 4-Men'!$AB$35:$AG$100,6,0)),100,VLOOKUP($A446,'Race 4-Men'!$AB$35:$AG$100,6,0))","v":100},{"$f":"SMALL(D446:G446,{1,2,3})","v":100},100,100,300,26]
["Nigel Coates","SS","V60",{"$f":"IF(ISNA(VLOOKUP($A447,'Race 1-Men'!$AB$33:$AG$100,6,0)),100,VLOOKUP($A447,'Race 1-Men'!$AB$33:$AG$100,6,0))","v":4},{"$f":"IF(ISNA(VLOOKUP($A447,'Race 2-Men'!$AB$32:$AG$53,6,0)),100,VLOOKUP($A447,'Race 2-Men'!$AB$32:$AG$53,6,0))","v":100},{"$f":"IF(ISNA(VLOOKUP($A447,'Race 3-Men'!$AB$40:$AG$61,6,0)),100,VLOOKUP($A447,'Race 3-Men'!$AB$40:$AG$61,6,0))","v":5},{"$f":"IF(ISNA(VLOOKUP($A447,'Race 4-Men'!$AB$35:$AG$100,6,0)),100,VLOOKUP($A447,'Race 4-Men'!$AB$35:$AG$100,6,0))","v":6},{"$f":"SMALL(D447:G447,{1,2,3})","v":4},5,6,15,5]
["Pascal McManmon","WJ","V60",{"$f":"IF(ISNA(VLOOKUP($A448,'Race 1-Men'!$AB$33:$AG$100,6,0)),100,VLOOKUP($A448,'Race 1-Men'!$AB$33:$AG$100,6,0))","v":100},{"$f":"IF(ISNA(VLOOKUP($A448,'Race 2-Men'!$AB$32:$AG$53,6,0)),100,VLOOKUP($A448,'Race 2-Men'!$AB$32:$AG$53,6,0))","v":100},{"$f":"IF(ISNA(VLOOKUP($A448,'Race 3-Men'!$AB$40:$AG$61,6,0)),100,VLOOKUP($A448,'Race 3-Men'!$AB$40:$AG$61,6,0))","v":100},{"$f":"IF(ISNA(VLOOKUP($A448,'Race 4-Men'!$AB$35:$AG$100,6,0)),100,VLOOKUP($A448,'Race 4-Men'!$AB$35:$AG$100,6,0))","v":100},{"$f":"SMALL(D448:G448,{1,2,3})","v":100},100,100,300,26]
["Paul Cocklin","WJ","V60",{"$f":"IF(ISNA(VLOOKUP($A449,'Race 1-Men'!$AB$33:$AG$100,6,0)),100,VLOOKUP($A449,'Race 1-Men'!$AB$33:$AG$100,6,0))","v":13},{"$f":"IF(ISNA(VLOOKUP($A449,'Race 2-Men'!$AB$32:$AG$53,6,0)),100,VLOOKUP($A449,'Race 2-Men'!$AB$32:$AG$53,6,0))","v":100},{"$f":"IF(ISNA(VLOOKUP($A449,'Race 3-Men'!$AB$40:$AG$61,6,0)),100,VLOOKUP($A449,'Race 3-Men'!$AB$40:$AG$61,6,0))","v":100},{"$f":"IF(ISNA(VLOOKUP($A449,'Race 4-Men'!$AB$35:$AG$100,6,0)),100,VLOOKUP($A449,'Race 4-Men'!$AB$35:$AG$100,6,0))","v":100},{"$f":"SMALL(D449:G449,{1,2,3})","v":13},100,100,213,22]
["Paul Reddaway","WJ","V60",{"$f":"IF(ISNA(VLOOKUP($A450,'Race 1-Men'!$AB$33:$AG$100,6,0)),100,VLOOKUP($A450,'Race 1-Men'!$AB$33:$AG$100,6,0))","v":100},{"$f":"IF(ISNA(VLOOKUP($A450,'Race 2-Men'!$AB$32:$AG$53,6,0)),100,VLOOKUP($A450,'Race 2-Men'!$AB$32:$AG$53,6,0))","v":100},{"$f":"IF(ISNA(VLOOKUP($A450,'Race 3-Men'!$AB$40:$AG$61,6,0)),100,VLOOKUP($A450,'Race 3-Men'!$AB$40:$AG$61,6,0))","v":100},{"$f":"IF(ISNA(VLOOKUP($A450,'Race 4-Men'!$AB$35:$AG$100,6,0)),100,VLOOKUP($A450,'Race 4-Men'!$AB$35:$AG$100,6,0))","v":100},{"$f":"SMALL(D450:G450,{1,2,3})","v":100},100,100,300,26]
["Peter Allen","BS","V60",{"$f":"IF(ISNA(VLOOKUP($A451,'Race 1-Men'!$AB$33:$AG$100,6,0)),100,VLOOKUP($A451,'Race 1-Men'!$AB$33:$AG$100,6,0))","v":100},{"$f":"IF(ISNA(VLOOKUP($A451,'Race 2-Men'!$AB$32:$AG$53,6,0)),100,VLOOKUP($A451,'Race 2-Men'!$AB$32:$AG$53,6,0))","v":100},{"$f":"IF(ISNA(VLOOKUP($A451,'Race 3-Men'!$AB$40:$AG$61,6,0)),100,VLOOKUP($A451,'Race 3-Men'!$AB$40:$AG$61,6,0))","v":100},{"$f":"IF(ISNA(VLOOKUP($A451,'Race 4-Men'!$AB$35:$AG$100,6,0)),100,VLOOKUP($A451,'Race 4-Men'!$AB$35:$AG$100,6,0))","v":100},{"$f":"SMALL(D451:G451,{1,2,3})","v":100},100,100,300,26]
["Peter Baker","WJ","V60",{"$f":"IF(ISNA(VLOOKUP($A452,'Race 1-Men'!$AB$33:$AG$100,6,0)),100,VLOOKUP($A452,'Race 1-Men'!$AB$33:$AG$100,6,0))","v":5},{"$f":"IF(ISNA(VLOOKUP($A452,'Race 2-Men'!$AB$32:$AG$53,6,0)),100,VLOOKUP($A452,'Race 2-Men'!$AB$32:$AG$53,6,0))","v":2},{"$f":"IF(ISNA(VLOOKUP($A452,'Race 3-Men'!$AB$40:$AG$61,6,0)),100,VLOOKUP($A452,'Race 3-Men'!$AB$40:$AG$61,6,0))","v":100},{"$f":"IF(ISNA(VLOOKUP($A452,'Race 4-Men'!$AB$35:$AG$100,6,0)),100,VLOOKUP($A452,'Race 4-Men'!$AB$35:$AG$100,6,0))","v":5},{"$f":"SMALL(D452:G452,{1,2,3})","v":2},5,5,{"$f":"SUM(H452:J452)","v":12},4]
["Peter Beatty","BS","V60",{"$f":"IF(ISNA(VLOOKUP($A453,'Race 1-Men'!$AB$33:$AG$100,6,0)),100,VLOOKUP($A453,'Race 1-Men'!$AB$33:$AG$100,6,0))","v":100},{"$f":"IF(ISNA(VLOOKUP($A453,'Race 2-Men'!$AB$32:$AG$53,6,0)),100,VLOOKUP($A453,'Race 2-Men'!$AB$32:$AG$53,6,0))","v":100},{"$f":"IF(ISNA(VLOOKUP($A453,'Race 3-Men'!$AB$40:$AG$61,6,0)),100,VLOOKUP($A453,'Race 3-Men'!$AB$40:$AG$61,6,0))","v":100},{"$f":"IF(ISNA(VLOOKUP($A453,'Race 4-Men'!$AB$35:$AG$100,6,0)),100,VLOOKUP($A453,'Race 4-Men'!$AB$35:$AG$100,6,0))","v":100},{"$f":"SMALL(D453:G453,{1,2,3})","v":100},100,100,300,26]
["Peter Keats","WJ","V60",{"$f":"IF(ISNA(VLOOKUP($A454,'Race 1-Men'!$AB$33:$AG$100,6,0)),100,VLOOKUP($A454,'Race 1-Men'!$AB$33:$AG$100,6,0))","v":100},{"$f":"IF(ISNA(VLOOKUP($A454,'Race 2-Men'!$AB$32:$AG$53,6,0)),100,VLOOKUP($A454,'Race 2-Men'!$AB$32:$AG$53,6,0))","v":8},{"$f":"IF(ISNA(VLOOKUP($A454,'Race 3-Men'!$AB$40:$AG$61,6,0)),100,VLOOKUP($A454,'Race 3-Men'!$AB$40:$AG$61,6,0))","v":7},{"$f":"IF(ISNA(VLOOKUP($A454,'Race 4-Men'!$AB$35:$AG$100,6,0)),100,VLOOKUP($A454,'Race 4-Men'!$AB$35:$AG$100,6,0))","v":9},{"$f":"SMALL(D454:G454,{1,2,3})","v":7},8,9,24,7]
["Phil Hudson","WJ","V60",{"$f":"IF(ISNA(VLOOKUP($A455,'Race 1-Men'!$AB$33:$AG$100,6,0)),100,VLOOKUP($A455,'Race 1-Men'!$AB$33:$AG$100,6,0))","v":100},{"$f":"IF(ISNA(VLOOKUP($A455,'Race 2-Men'!$AB$32:$AG$53,6,0)),100,VLOOKUP($A455,'Race 2-Men'!$AB$32:$AG$53,6,0))","v":100},{"$f":"IF(ISNA(VLOOKUP($A455,'Race 3-Men'!$AB$40:$AG$61,6,0)),100,VLOOKUP($A455,'Race 3-Men'!$AB$40:$AG$61,6,0))","v":14},{"$f":"IF(ISNA(VLOOKUP($A455,'Race 4-Men'!$AB$35:$AG$100,6,0)),100,VLOOKUP($A455,'Race 4-Men'!$AB$35:$AG$100,6,0))","v":100},{"$f":"SMALL(D455:G455,{1,2,3})","v":14},100,100,214,24]
["Richard Balarkas","SS","V60",{"$f":"IF(ISNA(VLOOKUP($A456,'Race 1-Men'!$AB$33:$AG$100,6,0)),100,VLOOKUP($A456,'Race 1-Men'!$AB$33:$AG$100,6,0))","v":100},{"$f":"IF(ISNA(VLOOKUP($A456,'Race 2-Men'!$AB$32:$AG$53,6,0)),100,VLOOKUP($A456,'Race 2-Men'!$AB$32:$AG$53,6,0))","v":100},{"$f":"IF(ISNA(VLOOKUP($A456,'Race 3-Men'!$AB$40:$AG$61,6,0)),100,VLOOKUP($A456,'Race 3-Men'!$AB$40:$AG$61,6,0))","v":100},{"$f":"IF(ISNA(VLOOKUP($A456,'Race 4-Men'!$AB$35:$AG$100,6,0)),100,VLOOKUP($A456,'Race 4-Men'!$AB$35:$AG$100,6,0))","v":100},{"$f":"SMALL(D456:G456,{1,2,3})","v":100},100,100,300,26]
["Richard Eddershaw","BS","V60",{"$f":"IF(ISNA(VLOOKUP($A457,'Race 1-Men'!$AB$33:$AG$100,6,0)),100,VLOOKUP($A457,'Race 1-Men'!$AB$33:$AG$100,6,0))","v":2},{"$f":"IF(ISNA(VLOOKUP($A457,'Race 2-Men'!$AB$32:$AG$53,6,0)),100,VLOOKUP($A457,'Race 2-Men'!$AB$32:$AG$53,6,0))","v":1},{"$f":"IF(ISNA(VLOOKUP($A457,'Race 3-Men'!$AB$40:$AG$61,6,0)),100,VLOOKUP($A457,'Race 3-Men'!$AB$40:$AG$61,6,0))","v":3},{"$f":"IF(ISNA(VLOOKUP($A457,'Race 4-Men'!$AB$35:$AG$100,6,0)),100,VLOOKUP($A457,'Race 4-Men'!$AB$35:$AG$100,6,0))","v":2},{"$f":"SMALL(D457:G457,{1,2,3})","v":1},2,2,5,2]
["Robert Shaw","SS","V60",{"$f":"IF(ISNA(VLOOKUP($A458,'Race 1-Men'!$AB$33:$AG$100,6,0)),100,VLOOKUP($A458,'Race 1-Men'!$AB$33:$AG$100,6,0))","v":100},{"$f":"IF(ISNA(VLOOKUP($A458,'Race 2-Men'!$AB$32:$AG$53,6,0)),100,VLOOKUP($A458,'Race 2-Men'!$AB$32:$AG$53,6,0))","v":100},{"$f":"IF(ISNA(VLOOKUP($A458,'Race 3-Men'!$AB$40:$AG$61,6,0)),100,VLOOKUP($A458,'Race 3-Men'!$AB$40:$AG$61,6,0))","v":100},{"$f":"IF(ISNA(VLOOKUP($A458,'Race 4-Men'!$AB$35:$AG$100,6,0)),100,VLOOKUP($A458,'Race 4-Men'!$AB$35:$AG$100,6,0))","v":100},{"$f":"SMALL(D458:G458,{1,2,3})","v":100},100,100,300,26]
["Robert Waddingham","WJ","V60",{"$f":"IF(ISNA(VLOOKUP($A459,'Race 1-Men'!$AB$33:$AG$100,6,0)),100,VLOOKUP($A459,'Race 1-Men'!$AB$33:$AG$100,6,0))","v":100},{"$f":"IF(ISNA(VLOOKUP($A459,'Race 2-Men'!$AB$32:$AG$53,6,0)),100,VLOOKUP($A459,'Race 2-Men'!$AB$32:$AG$53,6,0))","v":100},{"$f":"IF(ISNA(VLOOKUP($A459,'Race 3-Men'!$AB$40:$AG$61,6,0)),100,VLOOKUP($A459,'Race 3-Men'!$AB$40:$AG$61,6,0))","v":100},{"$f":"IF(ISNA(VLOOKUP($A459,'Race 4-Men'!$AB$35:$AG$100,6,0)),100,VLOOKUP($A459,'Race 4-Men'!$AB$35:$AG$100,6,0))","v":100},{"$f":"SMALL(D459:G459,{1,2,3})","v":100},100,100,300,26]
["Robin Lozeau","HRC","V60",{"$f":"IF(ISNA(VLOOKUP($A460,'Race 1-Men'!$AB$33:$AG$100,6,0)),100,VLOOKUP($A460,'Race 1-Men'!$AB$33:$AG$100,6,0))","v":14},{"$f":"IF(ISNA(VLOOKUP($A460,'Race 2-Men'!$AB$32:$AG$53,6,0)),100,VLOOKUP($A460,'Race 2-Men'!$AB$32:$AG$53,6,0))","v":100},{"$f":"IF(ISNA(VLOOKUP($A460,'Race 3-Men'!$AB$40:$AG$61,6,0)),100,VLOOKUP($A460,'Race 3-Men'!$AB$40:$AG$61,6,0))","v":15},{"$f":"IF(ISNA(VLOOKUP($A460,'Race 4-Men'!$AB$35:$AG$100,6,0)),100,VLOOKUP($A460,'Race 4-Men'!$AB$35:$AG$100,6,0))","v":100},{"$f":"SMALL(D460:G460,{1,2,3})","v":14},15,100,129,16]
["Roger Partridge","WJ","V60",{"$f":"IF(ISNA(VLOOKUP($A461,'Race 1-Men'!$AB$33:$AG$100,6,0)),100,VLOOKUP($A461,'Race 1-Men'!$AB$33:$AG$100,6,0))","v":12},{"$f":"IF(ISNA(VLOOKUP($A461,'Race 2-Men'!$AB$32:$AG$53,6,0)),100,VLOOKUP($A461,'Race 2-Men'!$AB$32:$AG$53,6,0))","v":14},{"$f":"IF(ISNA(VLOOKUP($A461,'Race 3-Men'!$AB$40:$AG$61,6,0)),100,VLOOKUP($A461,'Race 3-Men'!$AB$40:$AG$61,6,0))","v":13},{"$f":"IF(ISNA(VLOOKUP($A461,'Race 4-Men'!$AB$35:$AG$100,6,0)),100,VLOOKUP($A461,'Race 4-Men'!$AB$35:$AG$100,6,0))","v":100},{"$f":"SMALL(D461:G461,{1,2,3})","v":12},13,14,39,11]
["Ron Newton","HRC","V60",{"$f":"IF(ISNA(VLOOKUP($A462,'Race 1-Men'!$AB$33:$AG$100,6,0)),100,VLOOKUP($A462,'Race 1-Men'!$AB$33:$AG$100,6,0))","v":100},{"$f":"IF(ISNA(VLOOKUP($A462,'Race 2-Men'!$AB$32:$AG$53,6,0)),100,VLOOKUP($A462,'Race 2-Men'!$AB$32:$AG$53,6,0))","v":100},{"$f":"IF(ISNA(VLOOKUP($A462,'Race 3-Men'!$AB$40:$AG$61,6,0)),100,VLOOKUP($A462,'Race 3-Men'!$AB$40:$AG$61,6,0))","v":100},{"$f":"IF(ISNA(VLOOKUP($A462,'Race 4-Men'!$AB$35:$AG$100,6,0)),100,VLOOKUP($A462,'Race 4-Men'!$AB$35:$AG$100,6,0))","v":100},{"$f":"SMALL(D462:G462,{1,2,3})","v":100},100,100,300,26]
["Salvatore Maggiulli","HRC","V60",{"$f":"IF(ISNA(VLOOKUP($A463,'Race 1-Men'!$AB$33:$AG$100,6,0)),100,VLOOKUP($A463,'Race 1-Men'!$AB$33:$AG$100,6,0))","v":100},{"$f":"IF(ISNA(VLOOKUP($A463,'Race 2-Men'!$AB$32:$AG$53,6,0)),100,VLOOKUP($A463,'Race 2-Men'!$AB$32:$AG$53,6,0))","v":100},{"$f":"IF(ISNA(VLOOKUP($A463,'Race 3-Men'!$AB$40:$AG$61,6,0)),100,VLOOKUP($A463,'Race 3-Men'!$AB$40:$AG$61,6,0))","v":100},{"$f":"IF(ISNA(VLOOKUP($A463,'Race 4-Men'!$AB$35:$AG$100,6,0)),100,VLOOKUP($A463,'Race 4-Men'!$AB$35:$AG$100,6,0))","v":100},{"$f":"SMALL(D463:G463,{1,2,3})","v":100},100,100,300,26]
["Sean Flynn","HRC","V60",{"$f":"IF(ISNA(VLOOKUP($A464,'Race 1-Men'!$AB$33:$AG$100,6,0)),100,VLOOKUP($A464,'Race 1-Men'!$AB$33:$AG$100,6,0))","v":7},{"$f":"IF(ISNA(VLOOKUP($A464,'Race 2-Men'!$AB$32:$AG$53,6,0)),100,VLOOKUP($A464,'Race 2-Men'!$AB$32:$AG$53,6,0))","v":6},{"$f":"IF(ISNA(VLOOKUP($A464,'Race 3-Men'!$AB$40:$AG$61,6,0)),100,VLOOKUP($A464,'Race 3-Men'!$AB$40:$AG$61,6,0))","v":100},{"$f":"IF(ISNA(VLOOKUP($A464,'Race 4-Men'!$AB$35:$AG$100,6,0)),100,VLOOKUP($A464,'Race 4-Men'!$AB$35:$AG$100,6,0))","v":100},{"$f":"SMALL(D464:G464,{1,2,3})","v":6},7,100,113,13]
["Stephen Argent","WJ","V60",{"$f":"IF(ISNA(VLOOKUP($A465,'Race 1-Men'!$AB$33:$AG$100,6,0)),100,VLOOKUP($A465,'Race 1-Men'!$AB$33:$AG$100,6,0))","v":3},{"$f":"IF(ISNA(VLOOKUP($A465,'Race 2-Men'!$AB$32:$AG$53,6,0)),100,VLOOKUP($A465,'Race 2-Men'!$AB$32:$AG$53,6,0))","v":100},{"$f":"IF(ISNA(VLOOKUP($A465,'Race 3-Men'!$AB$40:$AG$61,6,0)),100,VLOOKUP($A465,'Race 3-Men'!$AB$40:$AG$61,6,0))","v":2},{"$f":"IF(ISNA(VLOOKUP($A465,'Race 4-Men'!$AB$35:$AG$100,6,0)),100,VLOOKUP($A465,'Race 4-Men'!$AB$35:$AG$100,6,0))","v":3},{"$f":"SMALL(D465:G465,{1,2,3})","v":2},3,3,8,3]
["Stephen Ball","BS","V60",{"$f":"IF(ISNA(VLOOKUP($A466,'Race 1-Men'!$AB$33:$AG$100,6,0)),100,VLOOKUP($A466,'Race 1-Men'!$AB$33:$AG$100,6,0))","v":100},{"$f":"IF(ISNA(VLOOKUP($A466,'Race 2-Men'!$AB$32:$AG$53,6,0)),100,VLOOKUP($A466,'Race 2-Men'!$AB$32:$AG$53,6,0))","v":100},{"$f":"IF(ISNA(VLOOKUP($A466,'Race 3-Men'!$AB$40:$AG$61,6,0)),100,VLOOKUP($A466,'Race 3-Men'!$AB$40:$AG$61,6,0))","v":100},{"$f":"IF(ISNA(VLOOKUP($A466,'Race 4-Men'!$AB$35:$AG$100,6,0)),100,VLOOKUP($A466,'Race 4-Men'!$AB$35:$AG$100,6,0))","v":100},{"$f":"SMALL(D466:G466,{1,2,3})","v":100},100,100,300,26]
["Stephen Inkley","SS","V60",{"$f":"IF(ISNA(VLOOKUP($A467,'Race 1-Men'!$AB$33:$AG$100,6,0)),100,VLOOKUP($A467,'Race 1-Men'!$AB$33:$AG$100,6,0))","v":100},{"$f":"IF(ISNA(VLOOKUP($A467,'Race 2-Men'!$AB$32:$AG$53,6,0)),100,VLOOKUP($A467,'Race 2-Men'!$AB$32:$AG$53,6,0))","v":100},{"$f":"IF(ISNA(VLOOKUP($A467,'Race 3-Men'!$AB$40:$AG$61,6,0)),100,VLOOKUP($A467,'Race 3-Men'!$AB$40:$AG$61,6,0))","v":100},{"$f":"IF(ISNA(VLOOKUP($A467,'Race 4-Men'!$AB$35:$AG$100,6,0)),100,VLOOKUP($A467,'Race 4-Men'!$AB$35:$AG$100,6,0))","v":100},{"$f":"SMALL(D467:G467,{1,2,3})","v":100},100,100,300,26]
["Steve Page","BS","V60",{"$f":"IF(ISNA(VLOOKUP($A468,'Race 1-Men'!$AB$33:$AG$100,6,0)),100,VLOOKUP($A468,'Race 1-Men'!$AB$33:$AG$100,6,0))","v":100},{"$f":"IF(ISNA(VLOOKUP($A468,'Race 2-Men'!$AB$32:$AG$53,6,0)),100,VLOOKUP($A468,'Race 2-Men'!$AB$32:$AG$53,6,0))","v":100},{"$f":"IF(ISNA(VLOOKUP($A468,'Race 3-Men'!$AB$40:$AG$61,6,0)),100,VLOOKUP($A468,'Race 3-Men'!$AB$40:$AG$61,6,0))","v":100},{"$f":"IF(ISNA(VLOOKUP($A468,'Race 4-Men'!$AB$35:$AG$100,6,0)),100,VLOOKUP($A468,'Race 4-Men'!$AB$35:$AG$100,6,0))","v":100},{"$f":"SMALL(D468:G468,{1,2,3})","v":100},100,100,300,26]
["Steve Warren","HRC","V60",{"$f":"IF(ISNA(VLOOKUP($A469,'Race 1-Men'!$AB$33:$AG$100,6,0)),100,VLOOKUP($A469,'Race 1-Men'!$AB$33:$AG$100,6,0))","v":100},{"$f":"IF(ISNA(VLOOKUP($A469,'Race 2-Men'!$AB$32:$AG$53,6,0)),100,VLOOKUP($A469,'Race 2-Men'!$AB$32:$AG$53,6,0))","v":100},{"$f":"IF(ISNA(VLOOKUP($A469,'Race 3-Men'!$AB$40:$AG$61,6,0)),100,VLOOKUP($A469,'Race 3-Men'!$AB$40:$AG$61,6,0))","v":100},{"$f":"IF(ISNA(VLOOKUP($A469,'Race 4-Men'!$AB$35:$AG$100,6,0)),100,VLOOKUP($A469,'Race 4-Men'!$AB$35:$AG$100,6,0))","v":100},{"$f":"SMALL(D469:G469,{1,2,3})","v":100},100,100,300,26]
["Tim Kelly","BS","V60",{"$f":"IF(ISNA(VLOOKUP($A470,'Race 1-Men'!$AB$33:$AG$100,6,0)),100,VLOOKUP($A470,'Race 1-Men'!$AB$33:$AG$100,6,0))","v":100},{"$f":"IF(ISNA(VLOOKUP($A470,'Race 2-Men'!$AB$32:$AG$53,6,0)),100,VLOOKUP($A470,'Race 2-Men'!$AB$32:$AG$53,6,0))","v":100},{"$f":"IF(ISNA(VLOOKUP($A470,'Race 3-Men'!$AB$40:$AG$61,6,0)),100,VLOOKUP($A470,'Race 3-Men'!$AB$40:$AG$61,6,0))","v":100},{"$f":"IF(ISNA(VLOOKUP($A470,'Race 4-Men'!$AB$35:$AG$100,6,0)),100,VLOOKUP($A470,'Race 4-Men'!$AB$35:$AG$100,6,0))","v":100},{"$f":"SMALL(D470:G470,{1,2,3})","v":100},100,100,300,26]
["Toby Lumsden","SS","V60",{"$f":"IF(ISNA(VLOOKUP($A471,'Race 1-Men'!$AB$33:$AG$100,6,0)),100,VLOOKUP($A471,'Race 1-Men'!$AB$33:$AG$100,6,0))","v":100},{"$f":"IF(ISNA(VLOOKUP($A471,'Race 2-Men'!$AB$32:$AG$53,6,0)),100,VLOOKUP($A471,'Race 2-Men'!$AB$32:$AG$53,6,0))","v":100},{"$f":"IF(ISNA(VLOOKUP($A471,'Race 3-Men'!$AB$40:$AG$61,6,0)),100,VLOOKUP($A471,'Race 3-Men'!$AB$40:$AG$61,6,0))","v":4},{"$f":"IF(ISNA(VLOOKUP($A471,'Race 4-Men'!$AB$35:$AG$100,6,0)),100,VLOOKUP($A471,'Race 4-Men'!$AB$35:$AG$100,6,0))","v":4},{"$f":"SMALL(D471:G471,{1,2,3})","v":4},4,100,108,12]
["Tony Dawkins","BS","V60",{"$f":"IF(ISNA(VLOOKUP($A472,'Race 1-Men'!$AB$33:$AG$100,6,0)),100,VLOOKUP($A472,'Race 1-Men'!$AB$33:$AG$100,6,0))","v":100},{"$f":"IF(ISNA(VLOOKUP($A472,'Race 2-Men'!$AB$32:$AG$53,6,0)),100,VLOOKUP($A472,'Race 2-Men'!$AB$32:$AG$53,6,0))","v":100},{"$f":"IF(ISNA(VLOOKUP($A472,'Race 3-Men'!$AB$40:$AG$61,6,0)),100,VLOOKUP($A472,'Race 3-Men'!$AB$40:$AG$61,6,0))","v":100},{"$f":"IF(ISNA(VLOOKUP($A472,'Race 4-Men'!$AB$35:$AG$100,6,0)),100,VLOOKUP($A472,'Race 4-Men'!$AB$35:$AG$100,6,0))","v":100},{"$f":"SMALL(D472:G472,{1,2,3})","v":100},100,100,300,{"$f":"RANK(K472,$K$406:$K$475,1)","v":26}]
["Tony Harman","HRC","V60",{"$f":"IF(ISNA(VLOOKUP($A473,'Race 1-Men'!$AB$33:$AG$100,6,0)),100,VLOOKUP($A473,'Race 1-Men'!$AB$33:$AG$100,6,0))","v":100},{"$f":"IF(ISNA(VLOOKUP($A473,'Race 2-Men'!$AB$32:$AG$53,6,0)),100,VLOOKUP($A473,'Race 2-Men'!$AB$32:$AG$53,6,0))","v":100},{"$f":"IF(ISNA(VLOOKUP($A473,'Race 3-Men'!$AB$40:$AG$61,6,0)),100,VLOOKUP($A473,'Race 3-Men'!$AB$40:$AG$61,6,0))","v":100},{"$f":"IF(ISNA(VLOOKUP($A473,'Race 4-Men'!$AB$35:$AG$100,6,0)),100,VLOOKUP($A473,'Race 4-Men'!$AB$35:$AG$100,6,0))","v":100},{"$f":"SMALL(D473:G473,{1,2,3})","v":100},100,100,300,26]
["Tony Kelly","SS","V60",{"$f":"IF(ISNA(VLOOKUP($A474,'Race 1-Men'!$AB$33:$AG$100,6,0)),100,VLOOKUP($A474,'Race 1-Men'!$AB$33:$AG$100,6,0))","v":100},{"$f":"IF(ISNA(VLOOKUP($A474,'Race 2-Men'!$AB$32:$AG$53,6,0)),100,VLOOKUP($A474,'Race 2-Men'!$AB$32:$AG$53,6,0))","v":100},{"$f":"IF(ISNA(VLOOKUP($A474,'Race 3-Men'!$AB$40:$AG$61,6,0)),100,VLOOKUP($A474,'Race 3-Men'!$AB$40:$AG$61,6,0))","v":100},{"$f":"IF(ISNA(VLOOKUP($A474,'Race 4-Men'!$AB$35:$AG$100,6,0)),100,VLOOKUP($A474,'Race 4-Men'!$AB$35:$AG$100,6,0))","v":100},{"$f":"SMALL(D474:G474,{1,2,3})","v":100},100,100,300,26]
["Vincent Martin","HRC","V60",{"$f":"IF(ISNA(VLOOKUP($A475,'Race 1-Men'!$AB$33:$AG$100,6,0)),100,VLOOKUP($A475,'Race 1-Men'!$AB$33:$AG$100,6,0))","v":100},{"$f":"IF(ISNA(VLOOKUP($A475,'Race 2-Men'!$AB$32:$AG$53,6,0)),100,VLOOKUP($A475,'Race 2-Men'!$AB$32:$AG$53,6,0))","v":100},{"$f":"IF(ISNA(VLOOKUP($A475,'Race 3-Men'!$AB$40:$AG$61,6,0)),100,VLOOKUP($A475,'Race 3-Men'!$AB$40:$AG$61,6,0))","v":100},{"$f":"IF(ISNA(VLOOKUP($A475,'Race 4-Men'!$AB$35:$AG$100,6,0)),100,VLOOKUP($A475,'Race 4-Men'!$AB$35:$AG$100,6,0))","v":100},{"$f":"SMALL(D475:G475,{1,2,3})","v":100},100,100,300,26]
["Alec Felstead","BS","V70",{"$f":"IF(ISNA(VLOOKUP($A476,'Race 1-Men'!$AB$33:$AG$51,6,0)),100,VLOOKUP($A476,'Race 1-Men'!$AB$33:$AG$51,6,0))","v":100},{"$f":"IF(ISNA(VLOOKUP($A476,'Race 2-Men'!$AB$32:$AG$53,6,0)),100,VLOOKUP($A476,'Race 2-Men'!$AB$32:$AG$53,6,0))","v":100},{"$f":"IF(ISNA(VLOOKUP($A476,'Race 3-Men'!$AB$40:$AG$61,6,0)),100,VLOOKUP($A476,'Race 3-Men'!$AB$40:$AG$61,6,0))","v":100},{"$f":"IF(ISNA(VLOOKUP($A476,'Race 4-Men'!$AB$40:$AG$100,6,0)),100,VLOOKUP($A476,'Race 4-Men'!$AB$40:$AG$100,6,0))","v":100},{"$f":"SMALL(D476:G476,{1,2,3})","v":100},100,100,300,{"$f":"RANK(K476,$K$476:$K$500,1)","v":1}]
["Brian Smith","WJ","V70",{"$f":"IF(ISNA(VLOOKUP($A477,'Race 1-Men'!$AB$33:$AG$51,6,0)),100,VLOOKUP($A477,'Race 1-Men'!$AB$33:$AG$51,6,0))","v":100},{"$f":"IF(ISNA(VLOOKUP($A477,'Race 2-Men'!$AB$32:$AG$53,6,0)),100,VLOOKUP($A477,'Race 2-Men'!$AB$32:$AG$53,6,0))","v":100},{"$f":"IF(ISNA(VLOOKUP($A477,'Race 3-Men'!$AB$40:$AG$61,6,0)),100,VLOOKUP($A477,'Race 3-Men'!$AB$40:$AG$61,6,0))","v":100},{"$f":"IF(ISNA(VLOOKUP($A477,'Race 4-Men'!$AB$40:$AG$100,6,0)),100,VLOOKUP($A477,'Race 4-Men'!$AB$40:$AG$100,6,0))","v":100},{"$f":"SMALL(D477:G477,{1,2,3})","v":100},100,100,300,{"$f":"RANK(K477,$K$476:$K$500,1)","v":1}]
["Colin Moody","HRC","V70",{"$f":"IF(ISNA(VLOOKUP($A478,'Race 1-Men'!$AB$33:$AG$51,6,0)),100,VLOOKUP($A478,'Race 1-Men'!$AB$33:$AG$51,6,0))","v":100},{"$f":"IF(ISNA(VLOOKUP($A478,'Race 2-Men'!$AB$32:$AG$53,6,0)),100,VLOOKUP($A478,'Race 2-Men'!$AB$32:$AG$53,6,0))","v":100},{"$f":"IF(ISNA(VLOOKUP($A478,'Race 3-Men'!$AB$40:$AG$61,6,0)),100,VLOOKUP($A478,'Race 3-Men'!$AB$40:$AG$61,6,0))","v":100},{"$f":"IF(ISNA(VLOOKUP($A478,'Race 4-Men'!$AB$40:$AG$100,6,0)),100,VLOOKUP($A478,'Race 4-Men'!$AB$40:$AG$100,6,0))","v":100},{"$f":"SMALL(D478:G478,{1,2,3})","v":100},100,100,300,1]
["Colin Naman","WJ","V70",{"$f":"IF(ISNA(VLOOKUP($A479,'Race 1-Men'!$AB$33:$AG$51,6,0)),100,VLOOKUP($A479,'Race 1-Men'!$AB$33:$AG$51,6,0))","v":100},{"$f":"IF(ISNA(VLOOKUP($A479,'Race 2-Men'!$AB$32:$AG$53,6,0)),100,VLOOKUP($A479,'Race 2-Men'!$AB$32:$AG$53,6,0))","v":100},{"$f":"IF(ISNA(VLOOKUP($A479,'Race 3-Men'!$AB$40:$AG$61,6,0)),100,VLOOKUP($A479,'Race 3-Men'!$AB$40:$AG$61,6,0))","v":100},{"$f":"IF(ISNA(VLOOKUP($A479,'Race 4-Men'!$AB$40:$AG$100,6,0)),100,VLOOKUP($A479,'Race 4-Men'!$AB$40:$AG$100,6,0))","v":100},{"$f":"SMALL(D479:G479,{1,2,3})","v":100},100,100,300,1]
["George Thomas","BS","V70",{"$f":"IF(ISNA(VLOOKUP($A480,'Race 1-Men'!$AB$33:$AG$51,6,0)),100,VLOOKUP($A480,'Race 1-Men'!$AB$33:$AG$51,6,0))","v":100},{"$f":"IF(ISNA(VLOOKUP($A480,'Race 2-Men'!$AB$32:$AG$53,6,0)),100,VLOOKUP($A480,'Race 2-Men'!$AB$32:$AG$53,6,0))","v":100},{"$f":"IF(ISNA(VLOOKUP($A480,'Race 3-Men'!$AB$40:$AG$61,6,0)),100,VLOOKUP($A480,'Race 3-Men'!$AB$40:$AG$61,6,0))","v":100},{"$f":"IF(ISNA(VLOOKUP($A480,'Race 4-Men'!$AB$40:$AG$100,6,0)),100,VLOOKUP($A480,'Race 4-Men'!$AB$40:$AG$100,6,0))","v":100},{"$f":"SMALL(D480:G480,{1,2,3})","v":100},100,100,300,1]
["Hossein Erfani","HRC","V70",{"$f":"IF(ISNA(VLOOKUP($A481,'Race 1-Men'!$AB$33:$AG$51,6,0)),100,VLOOKUP($A481,'Race 1-Men'!$AB$33:$AG$51,6,0))","v":100},{"$f":"IF(ISNA(VLOOKUP($A481,'Race 2-Men'!$AB$32:$AG$53,6,0)),100,VLOOKUP($A481,'Race 2-Men'!$AB$32:$AG$53,6,0))","v":100},{"$f":"IF(ISNA(VLOOKUP($A481,'Race 3-Men'!$AB$40:$AG$61,6,0)),100,VLOOKUP($A481,'Race 3-Men'!$AB$40:$AG$61,6,0))","v":100},{"$f":"IF(ISNA(VLOOKUP($A481,'Race 4-Men'!$AB$40:$AG$100,6,0)),100,VLOOKUP($A481,'Race 4-Men'!$AB$40:$AG$100,6,0))","v":100},{"$f":"SMALL(D481:G481,{1,2,3})","v":100},100,100,300,1]
["Ian McClymont","BS","V70",{"$f":"IF(ISNA(VLOOKUP($A482,'Race 1-Men'!$AB$33:$AG$51,6,0)),100,VLOOKUP($A482,'Race 1-Men'!$AB$33:$AG$51,6,0))","v":100},{"$f":"IF(ISNA(VLOOKUP($A482,'Race 2-Men'!$AB$32:$AG$53,6,0)),100,VLOOKUP($A482,'Race 2-Men'!$AB$32:$AG$53,6,0))","v":100},{"$f":"IF(ISNA(VLOOKUP($A482,'Race 3-Men'!$AB$40:$AG$61,6,0)),100,VLOOKUP($A482,'Race 3-Men'!$AB$40:$AG$61,6,0))","v":100},{"$f":"IF(ISNA(VLOOKUP($A482,'Race 4-Men'!$AB$40:$AG$100,6,0)),100,VLOOKUP($A482,'Race 4-Men'!$AB$40:$AG$100,6,0))","v":100},{"$f":"SMALL(D482:G482,{1,2,3})","v":100},100,100,300,1]
["Jan Bisschoff","BS","V70",{"$f":"IF(ISNA(VLOOKUP($A483,'Race 1-Men'!$AB$33:$AG$51,6,0)),100,VLOOKUP($A483,'Race 1-Men'!$AB$33:$AG$51,6,0))","v":100},{"$f":"IF(ISNA(VLOOKUP($A483,'Race 2-Men'!$AB$32:$AG$53,6,0)),100,VLOOKUP($A483,'Race 2-Men'!$AB$32:$AG$53,6,0))","v":100},{"$f":"IF(ISNA(VLOOKUP($A483,'Race 3-Men'!$AB$40:$AG$61,6,0)),100,VLOOKUP($A483,'Race 3-Men'!$AB$40:$AG$61,6,0))","v":100},{"$f":"IF(ISNA(VLOOKUP($A483,'Race 4-Men'!$AB$40:$AG$100,6,0)),100,VLOOKUP($A483,'Race 4-Men'!$AB$40:$AG$100,6,0))","v":100},{"$f":"SMALL(D483:G483,{1,2,3})","v":100},100,100,300,1]
["Jim Bates","HRC","V70",{"$f":"IF(ISNA(VLOOKUP($A484,'Race 1-Men'!$AB$33:$AG$51,6,0)),100,VLOOKUP($A484,'Race 1-Men'!$AB$33:$AG$51,6,0))","v":100},{"$f":"IF(ISNA(VLOOKUP($A484,'Race 2-Men'!$AB$32:$AG$53,6,0)),100,VLOOKUP($A484,'Race 2-Men'!$AB$32:$AG$53,6,0))","v":100},{"$f":"IF(ISNA(VLOOKUP($A484,'Race 3-Men'!$AB$40:$AG$61,6,0)),100,VLOOKUP($A484,'Race 3-Men'!$AB$40:$AG$61,6,0))","v":100},{"$f":"IF(ISNA(VLOOKUP($A484,'Race 4-Men'!$AB$40:$AG$100,6,0)),100,VLOOKUP($A484,'Race 4-Men'!$AB$40:$AG$100,6,0))","v":100},{"$f":"SMALL(D484:G484,{1,2,3})","v":100},100,100,300,1]
["John Baker","BS","V70",{"$f":"IF(ISNA(VLOOKUP($A485,'Race 1-Men'!$AB$33:$AG$51,6,0)),100,VLOOKUP($A485,'Race 1-Men'!$AB$33:$AG$51,6,0))","v":100},{"$f":"IF(ISNA(VLOOKUP($A485,'Race 2-Men'!$AB$32:$AG$53,6,0)),100,VLOOKUP($A485,'Race 2-Men'!$AB$32:$AG$53,6,0))","v":100},{"$f":"IF(ISNA(VLOOKUP($A485,'Race 3-Men'!$AB$40:$AG$61,6,0)),100,VLOOKUP($A485,'Race 3-Men'!$AB$40:$AG$61,6,0))","v":100},{"$f":"IF(ISNA(VLOOKUP($A485,'Race 4-Men'!$AB$40:$AG$100,6,0)),100,VLOOKUP($A485,'Race 4-Men'!$AB$40:$AG$100,6,0))","v":100},{"$f":"SMALL(D485:G485,{1,2,3})","v":100},100,100,300,1]
["John Butcher","WJ","V70",{"$f":"IF(ISNA(VLOOKUP($A486,'Race 1-Men'!$AB$33:$AG$51,6,0)),100,VLOOKUP($A486,'Race 1-Men'!$AB$33:$AG$51,6,0))","v":100},{"$f":"IF(ISNA(VLOOKUP($A486,'Race 2-Men'!$AB$32:$AG$53,6,0)),100,VLOOKUP($A486,'Race 2-Men'!$AB$32:$AG$53,6,0))","v":100},{"$f":"IF(ISNA(VLOOKUP($A486,'Race 3-Men'!$AB$40:$AG$61,6,0)),100,VLOOKUP($A486,'Race 3-Men'!$AB$40:$AG$61,6,0))","v":100},{"$f":"IF(ISNA(VLOOKUP($A486,'Race 4-Men'!$AB$40:$AG$100,6,0)),100,VLOOKUP($A486,'Race 4-Men'!$AB$40:$AG$100,6,0))","v":100},{"$f":"SMALL(D486:G486,{1,2,3})","v":100},100,100,300,1]
["John Etherden","BS","V70",{"$f":"IF(ISNA(VLOOKUP($A487,'Race 1-Men'!$AB$33:$AG$51,6,0)),100,VLOOKUP($A487,'Race 1-Men'!$AB$33:$AG$51,6,0))","v":100},{"$f":"IF(ISNA(VLOOKUP($A487,'Race 2-Men'!$AB$32:$AG$53,6,0)),100,VLOOKUP($A487,'Race 2-Men'!$AB$32:$AG$53,6,0))","v":100},{"$f":"IF(ISNA(VLOOKUP($A487,'Race 3-Men'!$AB$40:$AG$61,6,0)),100,VLOOKUP($A487,'Race 3-Men'!$AB$40:$AG$61,6,0))","v":100},{"$f":"IF(ISNA(VLOOKUP($A487,'Race 4-Men'!$AB$40:$AG$100,6,0)),100,VLOOKUP($A487,'Race 4-Men'!$AB$40:$AG$100,6,0))","v":100},{"$f":"SMALL(D487:G487,{1,2,3})","v":100},100,100,300,1]
["John Tennant","HRC","V70",{"$f":"IF(ISNA(VLOOKUP($A488,'Race 1-Men'!$AB$33:$AG$51,6,0)),100,VLOOKUP($A488,'Race 1-Men'!$AB$33:$AG$51,6,0))","v":100},{"$f":"IF(ISNA(VLOOKUP($A488,'Race 2-Men'!$AB$32:$AG$53,6,0)),100,VLOOKUP($A488,'Race 2-Men'!$AB$32:$AG$53,6,0))","v":100},{"$f":"IF(ISNA(VLOOKUP($A488,'Race 3-Men'!$AB$40:$AG$61,6,0)),100,VLOOKUP($A488,'Race 3-Men'!$AB$40:$AG$61,6,0))","v":100},{"$f":"IF(ISNA(VLOOKUP($A488,'Race 4-Men'!$AB$40:$AG$100,6,0)),100,VLOOKUP($A488,'Race 4-Men'!$AB$40:$AG$100,6,0))","v":100},{"$f":"SMALL(D488:G488,{1,2,3})","v":100},100,100,300,1]
["Kevin Gournay","WJ","V70",{"$f":"IF(ISNA(VLOOKUP($A489,'Race 1-Men'!$AB$33:$AG$51,6,0)),100,VLOOKUP($A489,'Race 1-Men'!$AB$33:$AG$51,6,0))","v":100},{"$f":"IF(ISNA(VLOOKUP($A489,'Race 2-Men'!$AB$32:$AG$53,6,0)),100,VLOOKUP($A489,'Race 2-Men'!$AB$32:$AG$53,6,0))","v":100},{"$f":"IF(ISNA(VLOOKUP($A489,'Race 3-Men'!$AB$40:$AG$61,6,0)),100,VLOOKUP($A489,'Race 3-Men'!$AB$40:$AG$61,6,0))","v":100},{"$f":"IF(ISNA(VLOOKUP($A489,'Race 4-Men'!$AB$40:$AG$100,6,0)),100,VLOOKUP($A489,'Race 4-Men'!$AB$40:$AG$100,6,0))","v":100},{"$f":"SMALL(D489:G489,{1,2,3})","v":100},100,100,300,1]
["Laurence Joseph Watson","WJ","V70",{"$f":"IF(ISNA(VLOOKUP($A490,'Race 1-Men'!$AB$33:$AG$51,6,0)),100,VLOOKUP($A490,'Race 1-Men'!$AB$33:$AG$51,6,0))","v":100},{"$f":"IF(ISNA(VLOOKUP($A490,'Race 2-Men'!$AB$32:$AG$53,6,0)),100,VLOOKUP($A490,'Race 2-Men'!$AB$32:$AG$53,6,0))","v":100},{"$f":"IF(ISNA(VLOOKUP($A490,'Race 3-Men'!$AB$40:$AG$61,6,0)),100,VLOOKUP($A490,'Race 3-Men'!$AB$40:$AG$61,6,0))","v":100},{"$f":"IF(ISNA(VLOOKUP($A490,'Race 4-Men'!$AB$40:$AG$100,6,0)),100,VLOOKUP($A490,'Race 4-Men'!$AB$40:$AG$100,6,0))","v":100},{"$f":"SMALL(D490:G490,{1,2,3})","v":100},100,100,300,1]
["Pasquale Pellecchia","HRC","V70",{"$f":"IF(ISNA(VLOOKUP($A491,'Race 1-Men'!$AB$33:$AG$51,6,0)),100,VLOOKUP($A491,'Race 1-Men'!$AB$33:$AG$51,6,0))","v":100},{"$f":"IF(ISNA(VLOOKUP($A491,'Race 2-Men'!$AB$32:$AG$53,6,0)),100,VLOOKUP($A491,'Race 2-Men'!$AB$32:$AG$53,6,0))","v":100},{"$f":"IF(ISNA(VLOOKUP($A491,'Race 3-Men'!$AB$40:$AG$61,6,0)),100,VLOOKUP($A491,'Race 3-Men'!$AB$40:$AG$61,6,0))","v":100},{"$f":"IF(ISNA(VLOOKUP($A491,'Race 4-Men'!$AB$40:$AG$100,6,0)),100,VLOOKUP($A491,'Race 4-Men'!$AB$40:$AG$100,6,0))","v":100},{"$f":"SMALL(D491:G491,{1,2,3})","v":100},100,100,300,1]
["Peter Mills","HRC","V70",{"$f":"IF(ISNA(VLOOKUP($A492,'Race 1-Men'!$AB$33:$AG$51,6,0)),100,VLOOKUP($A492,'Race 1-Men'!$AB$33:$AG$51,6,0))","v":100},{"$f":"IF(ISNA(VLOOKUP($A492,'Race 2-Men'!$AB$32:$AG$53,6,0)),100,VLOOKUP($A492,'Race 2-Men'!$AB$32:$AG$53,6,0))","v":100},{"$f":"IF(ISNA(VLOOKUP($A492,'Race 3-Men'!$AB$40:$AG$61,6,0)),100,VLOOKUP($A492,'Race 3-Men'!$AB$40:$AG$61,6,0))","v":100},{"$f":"IF(ISNA(VLOOKUP($A492,'Race 4-Men'!$AB$40:$AG$100,6,0)),100,VLOOKUP($A492,'Race 4-Men'!$AB$40:$AG$100,6,0))","v":100},{"$f":"SMALL(D492:G492,{1,2,3})","v":100},100,100,300,1]
["Peter Wenzel","BS","V70",{"$f":"IF(ISNA(VLOOKUP($A493,'Race 1-Men'!$AB$33:$AG$51,6,0)),100,VLOOKUP($A493,'Race 1-Men'!$AB$33:$AG$51,6,0))","v":100},{"$f":"IF(ISNA(VLOOKUP($A493,'Race 2-Men'!$AB$32:$AG$53,6,0)),100,VLOOKUP($A493,'Race 2-Men'!$AB$32:$AG$53,6,0))","v":100},{"$f":"IF(ISNA(VLOOKUP($A493,'Race 3-Men'!$AB$40:$AG$61,6,0)),100,VLOOKUP($A493,'Race 3-Men'!$AB$40:$AG$61,6,0))","v":100},{"$f":"IF(ISNA(VLOOKUP($A493,'Race 4-Men'!$AB$40:$AG$100,6,0)),100,VLOOKUP($A493,'Race 4-Men'!$AB$40:$AG$100,6,0))","v":100},{"$f":"SMALL(D493:G493,{1,2,3})","v":100},100,100,300,1]
["Phil Cunningham","WJ","V70",{"$f":"IF(ISNA(VLOOKUP($A494,'Race 1-Men'!$AB$33:$AG$51,6,0)),100,VLOOKUP($A494,'Race 1-Men'!$AB$33:$AG$51,6,0))","v":100},{"$f":"IF(ISNA(VLOOKUP($A494,'Race 2-Men'!$AB$32:$AG$53,6,0)),100,VLOOKUP($A494,'Race 2-Men'!$AB$32:$AG$53,6,0))","v":100},{"$f":"IF(ISNA(VLOOKUP($A494,'Race 3-Men'!$AB$40:$AG$61,6,0)),100,VLOOKUP($A494,'Race 3-Men'!$AB$40:$AG$61,6,0))","v":100},{"$f":"IF(ISNA(VLOOKUP($A494,'Race 4-Men'!$AB$40:$AG$100,6,0)),100,VLOOKUP($A494,'Race 4-Men'!$AB$40:$AG$100,6,0))","v":100},{"$f":"SMALL(D494:G494,{1,2,3})","v":100},100,100,300,1]
["Richard Whiting","WJ","V70",{"$f":"IF(ISNA(VLOOKUP($A495,'Race 1-Men'!$AB$33:$AG$51,6,0)),100,VLOOKUP($A495,'Race 1-Men'!$AB$33:$AG$51,6,0))","v":100},{"$f":"IF(ISNA(VLOOKUP($A495,'Race 2-Men'!$AB$32:$AG$53,6,0)),100,VLOOKUP($A495,'Race 2-Men'!$AB$32:$AG$53,6,0))","v":100},{"$f":"IF(ISNA(VLOOKUP($A495,'Race 3-Men'!$AB$40:$AG$61,6,0)),100,VLOOKUP($A495,'Race 3-Men'!$AB$40:$AG$61,6,0))","v":100},{"$f":"IF(ISNA(VLOOKUP($A495,'Race 4-Men'!$AB$40:$AG$100,6,0)),100,VLOOKUP($A495,'Race 4-Men'!$AB$40:$AG$100,6,0))","v":100},{"$f":"SMALL(D495:G495,{1,2,3})","v":100},100,100,300,1]
["Roy Steven","HRC","V70",{"$f":"IF(ISNA(VLOOKUP($A496,'Race 1-Men'!$AB$33:$AG$51,6,0)),100,VLOOKUP($A496,'Race 1-Men'!$AB$33:$AG$51,6,0))","v":100},{"$f":"IF(ISNA(VLOOKUP($A496,'Race 2-Men'!$AB$32:$AG$53,6,0)),100,VLOOKUP($A496,'Race 2-Men'!$AB$32:$AG$53,6,0))","v":100},{"$f":"IF(ISNA(VLOOKUP($A496,'Race 3-Men'!$AB$40:$AG$61,6,0)),100,VLOOKUP($A496,'Race 3-Men'!$AB$40:$AG$61,6,0))","v":100},{"$f":"IF(ISNA(VLOOKUP($A496,'Race 4-Men'!$AB$40:$AG$100,6,0)),100,VLOOKUP($A496,'Race 4-Men'!$AB$40:$AG$100,6,0))","v":100},{"$f":"SMALL(D496:G496,{1,2,3})","v":100},100,100,300,1]
["Roy Stringer","WJ","V70",{"$f":"IF(ISNA(VLOOKUP($A497,'Race 1-Men'!$AB$33:$AG$51,6,0)),100,VLOOKUP($A497,'Race 1-Men'!$AB$33:$AG$51,6,0))","v":100},{"$f":"IF(ISNA(VLOOKUP($A497,'Race 2-Men'!$AB$32:$AG$53,6,0)),100,VLOOKUP($A497,'Race 2-Men'!$AB$32:$AG$53,6,0))","v":100},{"$f":"IF(ISNA(VLOOKUP($A497,'Race 3-Men'!$AB$40:$AG$61,6,0)),100,VLOOKUP($A497,'Race 3-Men'!$AB$40:$AG$61,6,0))","v":100},{"$f":"IF(ISNA(VLOOKUP($A497,'Race 4-Men'!$AB$40:$AG$100,6,0)),100,VLOOKUP($A497,'Race 4-Men'!$AB$40:$AG$100,6,0))","v":100},{"$f":"SMALL(D497:G497,{1,2,3})","v":100},100,100,300,1]
["Stephen Johnson","WJ","V70",{"$f":"IF(ISNA(VLOOKUP($A498,'Race 1-Men'!$AB$33:$AG$51,6,0)),100,VLOOKUP($A498,'Race 1-Men'!$AB$33:$AG$51,6,0))","v":100},{"$f":"IF(ISNA(VLOOKUP($A498,'Race 2-Men'!$AB$32:$AG$53,6,0)),100,VLOOKUP($A498,'Race 2-Men'!$AB$32:$AG$53,6,0))","v":100},{"$f":"IF(ISNA(VLOOKUP($A498,'Race 3-Men'!$AB$40:$AG$61,6,0)),100,VLOOKUP($A498,'Race 3-Men'!$AB$40:$AG$61,6,0))","v":100},{"$f":"IF(ISNA(VLOOKUP($A498,'Race 4-Men'!$AB$40:$AG$100,6,0)),100,VLOOKUP($A498,'Race 4-Men'!$AB$40:$AG$100,6,0))","v":100},{"$f":"SMALL(D498:G498,{1,2,3})","v":100},100,100,300,1]
["Terry Nichols","WJ","V70",{"$f":"IF(ISNA(VLOOKUP($A499,'Race 1-Men'!$AB$33:$AG$51,6,0)),100,VLOOKUP($A499,'Race 1-Men'!$AB$33:$AG$51,6,0))","v":100},{"$f":"IF(ISNA(VLOOKUP($A499,'Race 2-Men'!$AB$32:$AG$53,6,0)),100,VLOOKUP($A499,'Race 2-Men'!$AB$32:$AG$53,6,0))","v":100},{"$f":"IF(ISNA(VLOOKUP($A499,'Race 3-Men'!$AB$40:$AG$61,6,0)),100,VLOOKUP($A499,'Race 3-Men'!$AB$40:$AG$61,6,0))","v":100},{"$f":"IF(ISNA(VLOOKUP($A499,'Race 4-Men'!$AB$40:$AG$100,6,0)),100,VLOOKUP($A499,'Race 4-Men'!$AB$40:$AG$100,6,0))","v":100},{"$f":"SMALL(D499:G499,{1,2,3})","v":100},100,100,300,1]
["Tim Penn","SS","V70",{"$f":"IF(ISNA(VLOOKUP($A500,'Race 1-Men'!$AB$33:$AG$51,6,0)),100,VLOOKUP($A500,'Race 1-Men'!$AB$33:$AG$51,6,0))","v":100},{"$f":"IF(ISNA(VLOOKUP($A500,'Race 2-Men'!$AB$32:$AG$53,6,0)),100,VLOOKUP($A500,'Race 2-Men'!$AB$32:$AG$53,6,0))","v":100},{"$f":"IF(ISNA(VLOOKUP($A500,'Race 3-Men'!$AB$40:$AG$61,6,0)),100,VLOOKUP($A500,'Race 3-Men'!$AB$40:$AG$61,6,0))","v":100},{"$f":"IF(ISNA(VLOOKUP($A500,'Race 4-Men'!$AB$40:$AG$100,6,0)),100,VLOOKUP($A500,'Race 4-Men'!$AB$40:$AG$100,6,0))","v":100},{"$f":"SMALL(D500:G500,{1,2,3})","v":100},100,100,300,1]

{"sheet":"Ladies Individual Series","index":7,"n_rows":427,"n_cols":12,"rows_kept":427,"cut":false,"hidden":false,"merged":[]}
["Name","Club","Age Category","Race 1 Age Category Result","Race 2 Age Category Result","Race 3 Age Category Result","Race 4 Age Category Result","Best 1","Best 2","Best 3","Total Series Score","Rank"]
["Anne-Claire Definod","BS","",{"$f":"IF(ISNA(VLOOKUP($A2,'Race 1-Ladies'!$G$24:$L$53,6,0)),100,VLOOKUP($A2,'Race 1-Ladies'!$G$24:$L$53,6,0))","v":100},{"$f":"IF(ISNA(VLOOKUP($A2,'Race 2-Ladies'!$G$23:$L$53,6,0)),100,VLOOKUP($A2,'Race 2-Ladies'!$G$23:$L$53,6,0))","v":100},{"$f":"IF(ISNA(VLOOKUP($A2,'Race 3-Ladies'!$G$27:$L$61,6,0)),100,VLOOKUP($A2,'Race 3-Ladies'!$G$27:$L$61,6,0))","v":100},{"$f":"IF(ISNA(VLOOKUP($A2,'Race 4-Ladies'!$G$30:$L$100,6,0)),100,VLOOKUP($A2,'Race 4-Ladies'!$G$30:$L$100,6,0))","v":100},{"$f":"SMALL(D2:G2,{1,2,3})","v":100},100,100,{"$f":"SUM(H2:J2)","v":300},{"$f":"RANK(K2,$K$2:$K$68,1)","v":14}]
["Jasmine Crawford","BS","",{"$f":"IF(ISNA(VLOOKUP($A3,'Race 1-Ladies'!$G$24:$L$53,6,0)),100,VLOOKUP($A3,'Race 1-Ladies'!$G$24:$L$53,6,0))","v":100},{"$f":"IF(ISNA(VLOOKUP($A3,'Race 2-Ladies'!$G$23:$L$53,6,0)),100,VLOOKUP($A3,'Race 2-Ladies'!$G$23:$L$53,6,0))","v":100},{"$f":"IF(ISNA(VLOOKUP($A3,'Race 3-Ladies'!$G$27:$L$61,6,0)),100,VLOOKUP($A3,'Race 3-Ladies'!$G$27:$L$61,6,0))","v":100},{"$f":"IF(ISNA(VLOOKUP($A3,'Race 4-Ladies'!$G$30:$L$100,6,0)),100,VLOOKUP($A3,'Race 4-Ladies'!$G$30:$L$100,6,0))","v":100},{"$f":"SMALL(D3:G3,{1,2,3})","v":100},100,100,{"$f":"SUM(H3:J3)","v":300},{"$f":"RANK(K3,$K$2:$K$68,1)","v":14}]
["Joanna Keable","BS","",{"$f":"IF(ISNA(VLOOKUP($A4,'Race 1-Ladies'!$G$24:$L$53,6,0)),100,VLOOKUP($A4,'Race 1-Ladies'!$G$24:$L$53,6,0))","v":100},{"$f":"IF(ISNA(VLOOKUP($A4,'Race 2-Ladies'!$G$23:$L$53,6,0)),100,VLOOKUP($A4,'Race 2-Ladies'!$G$23:$L$53,6,0))","v":100},{"$f":"IF(ISNA(VLOOKUP($A4,'Race 3-Ladies'!$G$27:$L$61,6,0)),100,VLOOKUP($A4,'Race 3-Ladies'!$G$27:$L$61,6,0))","v":100},{"$f":"IF(ISNA(VLOOKUP($A4,'Race 4-Ladies'!$G$30:$L$100,6,0)),100,VLOOKUP($A4,'Race 4-Ladies'!$G$30:$L$100,6,0))","v":100},{"$f":"SMALL(D4:G4,{1,2,3})","v":100},100,100,300,14]
["Laura Hollis","BS","",{"$f":"IF(ISNA(VLOOKUP($A5,'Race 1-Ladies'!$G$24:$L$53,6,0)),100,VLOOKUP($A5,'Race 1-Ladies'!$G$24:$L$53,6,0))","v":100},{"$f":"IF(ISNA(VLOOKUP($A5,'Race 2-Ladies'!$G$23:$L$53,6,0)),100,VLOOKUP($A5,'Race 2-Ladies'!$G$23:$L$53,6,0))","v":100},{"$f":"IF(ISNA(VLOOKUP($A5,'Race 3-Ladies'!$G$27:$L$61,6,0)),100,VLOOKUP($A5,'Race 3-Ladies'!$G$27:$L$61,6,0))","v":100},{"$f":"IF(ISNA(VLOOKUP($A5,'Race 4-Ladies'!$G$30:$L$100,6,0)),100,VLOOKUP($A5,'Race 4-Ladies'!$G$30:$L$100,6,0))","v":100},{"$f":"SMALL(D5:G5,{1,2,3})","v":100},100,100,300,14]
["Michelle Cook","BS","",{"$f":"IF(ISNA(VLOOKUP($A6,'Race 1-Ladies'!$G$24:$L$53,6,0)),100,VLOOKUP($A6,'Race 1-Ladies'!$G$24:$L$53,6,0))","v":100},{"$f":"IF(ISNA(VLOOKUP($A6,'Race 2-Ladies'!$G$23:$L$53,6,0)),100,VLOOKUP($A6,'Race 2-Ladies'!$G$23:$L$53,6,0))","v":100},{"$f":"IF(ISNA(VLOOKUP($A6,'Race 3-Ladies'!$G$27:$L$61,6,0)),100,VLOOKUP($A6,'Race 3-Ladies'!$G$27:$L$61,6,0))","v":100},{"$f":"IF(ISNA(VLOOKUP($A6,'Race 4-Ladies'!$G$30:$L$100,6,0)),100,VLOOKUP($A6,'Race 4-Ladies'!$G$30:$L$100,6,0))","v":100},{"$f":"SMALL(D6:G6,{1,2,3})","v":100},100,100,300,14]
["Nikki Frostick","BS","",{"$f":"IF(ISNA(VLOOKUP($A7,'Race 1-Ladies'!$G$24:$L$53,6,0)),100,VLOOKUP($A7,'Race 1-Ladies'!$G$24:$L$53,6,0))","v":100},{"$f":"IF(ISNA(VLOOKUP($A7,'Race 2-Ladies'!$G$23:$L$53,6,0)),100,VLOOKUP($A7,'Race 2-Ladies'!$G$23:$L$53,6,0))","v":100},{"$f":"IF(ISNA(VLOOKUP($A7,'Race 3-Ladies'!$G$27:$L$61,6,0)),100,VLOOKUP($A7,'Race 3-Ladies'!$G$27:$L$61,6,0))","v":100},{"$f":"IF(ISNA(VLOOKUP($A7,'Race 4-Ladies'!$G$30:$L$100,6,0)),100,VLOOKUP($A7,'Race 4-Ladies'!$G$30:$L$100,6,0))","v":100},{"$f":"SMALL(D7:G7,{1,2,3})","v":100},100,100,300,14]
["Sophie Paterson","BS","",{"$f":"IF(ISNA(VLOOKUP($A8,'Race 1-Ladies'!$G$24:$L$53,6,0)),100,VLOOKUP($A8,'Race 1-Ladies'!$G$24:$L$53,6,0))","v":100},{"$f":"IF(ISNA(VLOOKUP($A8,'Race 2-Ladies'!$G$23:$L$53,6,0)),100,VLOOKUP($A8,'Race 2-Ladies'!$G$23:$L$53,6,0))","v":100},{"$f":"IF(ISNA(VLOOKUP($A8,'Race 3-Ladies'!$G$27:$L$61,6,0)),100,VLOOKUP($A8,'Race 3-Ladies'!$G$27:$L$61,6,0))","v":100},{"$f":"IF(ISNA(VLOOKUP($A8,'Race 4-Ladies'!$G$30:$L$100,6,0)),100,VLOOKUP($A8,'Race 4-Ladies'!$G$30:$L$100,6,0))","v":100},{"$f":"SMALL(D8:G8,{1,2,3})","v":100},100,100,300,14]
["Abby Canfield","BS","S",{"$f":"IF(ISNA(VLOOKUP($A9,'Race 1-Ladies'!$G$24:$L$53,6,0)),100,VLOOKUP($A9,'Race 1-Ladies'!$G$24:$L$53,6,0))","v":100},{"$f":"IF(ISNA(VLOOKUP($A9,'Race 2-Ladies'!$G$23:$L$53,6,0)),100,VLOOKUP($A9,'Race 2-Ladies'!$G$23:$L$53,6,0))","v":100},{"$f":"IF(ISNA(VLOOKUP($A9,'Race 3-Ladies'!$G$27:$L$61,6,0)),100,VLOOKUP($A9,'Race 3-Ladies'!$G$27:$L$61,6,0))","v":100},{"$f":"IF(ISNA(VLOOKUP($A9,'Race 4-Ladies'!$G$30:$L$100,6,0)),100,VLOOKUP($A9,'Race 4-Ladies'!$G$30:$L$100,6,0))","v":100},{"$f":"SMALL(D9:G9,{1,2,3})","v":100},100,100,300,14]
["Abigail White","BS","S",{"$f":"IF(ISNA(VLOOKUP($A10,'Race 1-Ladies'!$G$24:$L$53,6,0)),100,VLOOKUP($A10,'Race 1-Ladies'!$G$24:$L$53,6,0))","v":100},{"$f":"IF(ISNA(VLOOKUP($A10,'Race 2-Ladies'!$G$23:$L$53,6,0)),100,VLOOKUP($A10,'Race 2-Ladies'!$G$23:$L$53,6,0))","v":100},{"$f":"IF(ISNA(VLOOKUP($A10,'Race 3-Ladies'!$G$27:$L$61,6,0)),100,VLOOKUP($A10,'Race 3-Ladies'!$G$27:$L$61,6,0))","v":100},{"$f":"IF(ISNA(VLOOKUP($A10,'Race 4-Ladies'!$G$30:$L$100,6,0)),100,VLOOKUP($A10,'Race 4-Ladies'!$G$30:$L$100,6,0))","v":100},{"$f":"SMALL(D10:G10,{1,2,3})","v":100},100,100,300,14]
["Alex Soady","HRC","S",{"$f":"IF(ISNA(VLOOKUP($A11,'Race 1-Ladies'!$G$24:$L$53,6,0)),100,VLOOKUP($A11,'Race 1-Ladies'!$G$24:$L$53,6,0))","v":100},{"$f":"IF(ISNA(VLOOKUP($A11,'Race 2-Ladies'!$G$23:$L$53,6,0)),100,VLOOKUP($A11,'Race 2-Ladies'!$G$23:$L$53,6,0))","v":100},{"$f":"IF(ISNA(VLOOKUP($A11,'Race 3-Ladies'!$G$27:$L$61,6,0)),100,VLOOKUP($A11,'Race 3-Ladies'!$G$27:$L$61,6,0))","v":100},{"$f":"IF(ISNA(VLOOKUP($A11,'Race 4-Ladies'!$G$30:$L$100,6,0)),100,VLOOKUP($A11,'Race 4-Ladies'!$G$30:$L$100,6,0))","v":100},{"$f":"SMALL(D11:G11,{1,2,3})","v":100},100,100,300,14]
["Alison Chadwick","BS","S",{"$f":"IF(ISNA(VLOOKUP($A12,'Race 1-Ladies'!$G$24:$L$53,6,0)),100,VLOOKUP($A12,'Race 1-Ladies'!$G$24:$L$53,6,0))","v":100},{"$f":"IF(ISNA(VLOOKUP($A12,'Race 2-Ladies'!$G$23:$L$53,6,0)),100,VLOOKUP($A12,'Race 2-Ladies'!$G$23:$L$53,6,0))","v":100},{"$f":"IF(ISNA(VLOOKUP($A12,'Race 3-Ladies'!$G$27:$L$61,6,0)),100,VLOOKUP($A12,'Race 3-Ladies'!$G$27:$L$61,6,0))","v":100},{"$f":"IF(ISNA(VLOOKUP($A12,'Race 4-Ladies'!$G$30:$L$100,6,0)),100,VLOOKUP($A12,'Race 4-Ladies'!$G$30:$L$100,6,0))","v":100},{"$f":"SMALL(D12:G12,{1,2,3})","v":100},100,100,300,14]
["Amber Ingle","HRC","S",{"$f":"IF(ISNA(VLOOKUP($A13,'Race 1-Ladies'!$G$24:$L$53,6,0)),100,VLOOKUP($A13,'Race 1-Ladies'!$G$24:$L$53,6,0))","v":100},{"$f":"IF(ISNA(VLOOKUP($A13,'Race 2-Ladies'!$G$23:$L$53,6,0)),100,VLOOKUP($A13,'Race 2-Ladies'!$G$23:$L$53,6,0))","v":100},{"$f":"IF(ISNA(VLOOKUP($A13,'Race 3-Ladies'!$G$27:$L$61,6,0)),100,VLOOKUP($A13,'Race 3-Ladies'!$G$27:$L$61,6,0))","v":100},{"$f":"IF(ISNA(VLOOKUP($A13,'Race 4-Ladies'!$G$30:$L$100,6,0)),100,VLOOKUP($A13,'Race 4-Ladies'!$G$30:$L$100,6,0))","v":100},{"$f":"SMALL(D13:G13,{1,2,3})","v":100},100,100,300,14]
["Anna Kotowska","SS","S",{"$f":"IF(ISNA(VLOOKUP($A14,'Race 1-Ladies'!$G$24:$L$53,6,0)),100,VLOOKUP($A14,'Race 1-Ladies'!$G$24:$L$53,6,0))","v":100},{"$f":"IF(ISNA(VLOOKUP($A14,'Race 2-Ladies'!$G$23:$L$53,6,0)),100,VLOOKUP($A14,'Race 2-Ladies'!$G$23:$L$53,6,0))","v":100},{"$f":"IF(ISNA(VLOOKUP($A14,'Race 3-Ladies'!$G$27:$L$61,6,0)),100,VLOOKUP($A14,'Race 3-Ladies'!$G$27:$L$61,6,0))","v":100},{"$f":"IF(ISNA(VLOOKUP($A14,'Race 4-Ladies'!$G$30:$L$100,6,0)),100,VLOOKUP($A14,'Race 4-Ladies'!$G$30:$L$100,6,0))","v":100},{"$f":"SMALL(D14:G14,{1,2,3})","v":100},100,100,300,14]
["Annabel Moeser","HRC","S",{"$f":"IF(ISNA(VLOOKUP($A15,'Race 1-Ladies'!$G$24:$L$53,6,0)),100,VLOOKUP($A15,'Race 1-Ladies'!$G$24:$L$53,6,0))","v":100},{"$f":"IF(ISNA(VLOOKUP($A15,'Race 2-Ladies'!$G$23:$L$53,6,0)),100,VLOOKUP($A15,'Race 2-Ladies'!$G$23:$L$53,6,0))","v":100},{"$f":"IF(ISNA(VLOOKUP($A15,'Race 3-Ladies'!$G$27:$L$61,6,0)),100,VLOOKUP($A15,'Race 3-Ladies'!$G$27:$L$61,6,0))","v":100},{"$f":"IF(ISNA(VLOOKUP($A15,'Race 4-Ladies'!$G$30:$L$100,6,0)),100,VLOOKUP($A15,'Race 4-Ladies'!$G$30:$L$100,6,0))","v":100},{"$f":"SMALL(D15:G15,{1,2,3})","v":100},100,100,300,14]
["Bekah Cranch","BS","S",{"$f":"IF(ISNA(VLOOKUP($A16,'Race 1-Ladies'!$G$24:$L$53,6,0)),100,VLOOKUP($A16,'Race 1-Ladies'!$G$24:$L$53,6,0))","v":100},{"$f":"IF(ISNA(VLOOKUP($A16,'Race 2-Ladies'!$G$23:$L$53,6,0)),100,VLOOKUP($A16,'Race 2-Ladies'!$G$23:$L$53,6,0))","v":100},{"$f":"IF(ISNA(VLOOKUP($A16,'Race 3-Ladies'!$G$27:$L$61,6,0)),100,VLOOKUP($A16,'Race 3-Ladies'!$G$27:$L$61,6,0))","v":100},{"$f":"IF(ISNA(VLOOKUP($A16,'Race 4-Ladies'!$G$30:$L$100,6,0)),100,VLOOKUP($A16,'Race 4-Ladies'!$G$30:$L$100,6,0))","v":100},{"$f":"SMALL(D16:G16,{1,2,3})","v":100},100,100,300,14]
["Charlotte Hoole","BS","S",{"$f":"IF(ISNA(VLOOKUP($A17,'Race 1-Ladies'!$G$24:$L$53,6,0)),100,VLOOKUP($A17,'Race 1-Ladies'!$G$24:$L$53,6,0))","v":100},{"$f":"IF(ISNA(VLOOKUP($A17,'Race 2-Ladies'!$G$23:$L$53,6,0)),100,VLOOKUP($A17,'Race 2-Ladies'!$G$23:$L$53,6,0))","v":100},{"$f":"IF(ISNA(VLOOKUP($A17,'Race 3-Ladies'!$G$27:$L$61,6,0)),100,VLOOKUP($A17,'Race 3-Ladies'!$G$27:$L$61,6,0))","v":100},{"$f":"IF(ISNA(VLOOKUP($A17,'Race 4-Ladies'!$G$30:$L$100,6,0)),100,VLOOKUP($A17,'Race 4-Ladies'!$G$30:$L$100,6,0))","v":100},{"$f":"SMALL(D17:G17,{1,2,3})","v":100},100,100,300,14]
["Chloe Turner","WJ","S",{"$f":"IF(ISNA(VLOOKUP($A18,'Race 1-Ladies'!$G$24:$L$53,6,0)),100,VLOOKUP($A18,'Race 1-Ladies'!$G$24:$L$53,6,0))","v":100},{"$f":"IF(ISNA(VLOOKUP($A18,'Race 2-Ladies'!$G$23:$L$53,6,0)),100,VLOOKUP($A18,'Race 2-Ladies'!$G$23:$L$53,6,0))","v":100},{"$f":"IF(ISNA(VLOOKUP($A18,'Race 3-Ladies'!$G$27:$L$61,6,0)),100,VLOOKUP($A18,'Race 3-Ladies'!$G$27:$L$61,6,0))","v":100},{"$f":"IF(ISNA(VLOOKUP($A18,'Race 4-Ladies'!$G$30:$L$100,6,0)),100,VLOOKUP($A18,'Race 4-Ladies'!$G$30:$L$100,6,0))","v":100},{"$f":"SMALL(D18:G18,{1,2,3})","v":100},100,100,300,14]
["Claire Nicholson","BS","S",{"$f":"IF(ISNA(VLOOKUP($A19,'Race 1-Ladies'!$G$24:$L$53,6,0)),100,VLOOKUP($A19,'Race 1-Ladies'!$G$24:$L$53,6,0))","v":100},{"$f":"IF(ISNA(VLOOKUP($A19,'Race 2-Ladies'!$G$23:$L$53,6,0)),100,VLOOKUP($A19,'Race 2-Ladies'!$G$23:$L$53,6,0))","v":100},{"$f":"IF(ISNA(VLOOKUP($A19,'Race 3-Ladies'!$G$27:$L$61,6,0)),100,VLOOKUP($A19,'Race 3-Ladies'!$G$27:$L$61,6,0))","v":100},{"$f":"IF(ISNA(VLOOKUP($A19,'Race 4-Ladies'!$G$30:$L$100,6,0)),100,VLOOKUP($A19,'Race 4-Ladies'!$G$30:$L$100,6,0))","v":100},{"$f":"SMALL(D19:G19,{1,2,3})","v":100},100,100,300,14]
["Claire Sage","HRC","S",{"$f":"IF(ISNA(VLOOKUP($A20,'Race 1-Ladies'!$G$24:$L$53,6,0)),100,VLOOKUP($A20,'Race 1-Ladies'!$G$24:$L$53,6,0))","v":100},{"$f":"IF(ISNA(VLOOKUP($A20,'Race 2-Ladies'!$G$23:$L$53,6,0)),100,VLOOKUP($A20,'Race 2-Ladies'!$G$23:$L$53,6,0))","v":100},{"$f":"IF(ISNA(VLOOKUP($A20,'Race 3-Ladies'!$G$27:$L$61,6,0)),100,VLOOKUP($A20,'Race 3-Ladies'!$G$27:$L$61,6,0))","v":100},{"$f":"IF(ISNA(VLOOKUP($A20,'Race 4-Ladies'!$G$30:$L$100,6,0)),100,VLOOKUP($A20,'Race 4-Ladies'!$G$30:$L$100,6,0))","v":100},{"$f":"SMALL(D20:G20,{1,2,3})","v":100},100,100,300,14]
["Coral White","SS","S",{"$f":"IF(ISNA(VLOOKUP($A21,'Race 1-Ladies'!$G$24:$L$53,6,0)),100,VLOOKUP($A21,'Race 1-Ladies'!$G$24:$L$53,6,0))","v":100},{"$f":"IF(ISNA(VLOOKUP($A21,'Race 2-Ladies'!$G$23:$L$53,6,0)),100,VLOOKUP($A21,'Race 2-Ladies'!$G$23:$L$53,6,0))","v":100},{"$f":"IF(ISNA(VLOOKUP($A21,'Race 3-Ladies'!$G$27:$L$61,6,0)),100,VLOOKUP($A21,'Race 3-Ladies'!$G$27:$L$61,6,0))","v":100},{"$f":"IF(ISNA(VLOOKUP($A21,'Race 4-Ladies'!$G$30:$L$100,6,0)),100,VLOOKUP($A21,'Race 4-Ladies'!$G$30:$L$100,6,0))","v":100},{"$f":"SMALL(D21:G21,{1,2,3})","v":100},100,100,300,14]
["Eilidh Malcolm","BS","S",{"$f":"IF(ISNA(VLOOKUP($A22,'Race 1-Ladies'!$G$24:$L$53,6,0)),100,VLOOKUP($A22,'Race 1-Ladies'!$G$24:$L$53,6,0))","v":100},{"$f":"IF(ISNA(VLOOKUP($A22,'Race 2-Ladies'!$G$23:$L$53,6,0)),100,VLOOKUP($A22,'Race 2-Ladies'!$G$23:$L$53,6,0))","v":100},{"$f":"IF(ISNA(VLOOKUP($A22,'Race 3-Ladies'!$G$27:$L$61,6,0)),100,VLOOKUP($A22,'Race 3-Ladies'!$G$27:$L$61,6,0))","v":4},{"$f":"IF(ISNA(VLOOKUP($A22,'Race 4-Ladies'!$G$30:$L$100,6,0)),100,VLOOKUP($A22,'Race 4-Ladies'!$G$30:$L$100,6,0))","v":5},{"$f":"SMALL(D22:G22,{1,2,3})","v":4},5,100,109,6]
["Eleanor Mason","BS","S",{"$f":"IF(ISNA(VLOOKUP($A23,'Race 1-Ladies'!$G$24:$L$53,6,0)),100,VLOOKUP($A23,'Race 1-Ladies'!$G$24:$L$53,6,0))","v":100},{"$f":"IF(ISNA(VLOOKUP($A23,'Race 2-Ladies'!$G$23:$L$53,6,0)),100,VLOOKUP($A23,'Race 2-Ladies'!$G$23:$L$53,6,0))","v":100},{"$f":"IF(ISNA(VLOOKUP($A23,'Race 3-Ladies'!$G$27:$L$61,6,0)),100,VLOOKUP($A23,'Race 3-Ladies'!$G$27:$L$61,6,0))","v":100},{"$f":"IF(ISNA(VLOOKUP($A23,'Race 4-Ladies'!$G$30:$L$100,6,0)),100,VLOOKUP($A23,'Race 4-Ladies'!$G$30:$L$100,6,0))","v":100},{"$f":"SMALL(D23:G23,{1,2,3})","v":100},100,100,300,14]
["Eleanor Wells","BS","S",{"$f":"IF(ISNA(VLOOKUP($A24,'Race 1-Ladies'!$G$24:$L$53,6,0)),100,VLOOKUP($A24,'Race 1-Ladies'!$G$24:$L$53,6,0))","v":100},{"$f":"IF(ISNA(VLOOKUP($A24,'Race 2-Ladies'!$G$23:$L$53,6,0)),100,VLOOKUP($A24,'Race 2-Ladies'!$G$23:$L$53,6,0))","v":100},{"$f":"IF(ISNA(VLOOKUP($A24,'Race 3-Ladies'!$G$27:$L$61,6,0)),100,VLOOKUP($A24,'Race 3-Ladies'!$G$27:$L$61,6,0))","v":100},{"$f":"IF(ISNA(VLOOKUP($A24,'Race 4-Ladies'!$G$30:$L$100,6,0)),100,VLOOKUP($A24,'Race 4-Ladies'!$G$30:$L$100,6,0))","v":100},{"$f":"SMALL(D24:G24,{1,2,3})","v":100},100,100,300,14]
["Elizabeth Roberts","HRC","S",{"$f":"IF(ISNA(VLOOKUP($A25,'Race 1-Ladies'!$G$24:$L$53,6,0)),100,VLOOKUP($A25,'Race 1-Ladies'!$G$24:$L$53,6,0))","v":5},{"$f":"IF(ISNA(VLOOKUP($A25,'Race 2-Ladies'!$G$23:$L$53,6,0)),100,VLOOKUP($A25,'Race 2-Ladies'!$G$23:$L$53,6,0))","v":100},{"$f":"IF(ISNA(VLOOKUP($A25,'Race 3-Ladies'!$G$27:$L$61,6,0)),100,VLOOKUP($A25,'Race 3-Ladies'!$G$27:$L$61,6,0))","v":8},{"$f":"IF(ISNA(VLOOKUP($A25,'Race 4-Ladies'!$G$30:$L$100,6,0)),100,VLOOKUP($A25,'Race 4-Ladies'!$G$30:$L$100,6,0))","v":100},{"$f":"SMALL(D25:G25,{1,2,3})","v":5},8,100,113,7]
["Elle Curran","HRC","S",{"$f":"IF(ISNA(VLOOKUP($A26,'Race 1-Ladies'!$G$24:$L$53,6,0)),100,VLOOKUP($A26,'Race 1-Ladies'!$G$24:$L$53,6,0))","v":100},{"$f":"IF(ISNA(VLOOKUP($A26,'Race 2-Ladies'!$G$23:$L$53,6,0)),100,VLOOKUP($A26,'Race 2-Ladies'!$G$23:$L$53,6,0))","v":100},{"$f":"IF(ISNA(VLOOKUP($A26,'Race 3-Ladies'!$G$27:$L$61,6,0)),100,VLOOKUP($A26,'Race 3-Ladies'!$G$27:$L$61,6,0))","v":100},{"$f":"IF(ISNA(VLOOKUP($A26,'Race 4-Ladies'!$G$30:$L$100,6,0)),100,VLOOKUP($A26,'Race 4-Ladies'!$G$30:$L$100,6,0))","v":100},{"$f":"SMALL(D26:G26,{1,2,3})","v":100},100,100,300,14]
["Ellie Williams","HRC","S",{"$f":"IF(ISNA(VLOOKUP($A27,'Race 1-Ladies'!$G$24:$L$53,6,0)),100,VLOOKUP($A27,'Race 1-Ladies'!$G$24:$L$53,6,0))","v":100},{"$f":"IF(ISNA(VLOOKUP($A27,'Race 2-Ladies'!$G$23:$L$53,6,0)),100,VLOOKUP($A27,'Race 2-Ladies'!$G$23:$L$53,6,0))","v":100},{"$f":"IF(ISNA(VLOOKUP($A27,'Race 3-Ladies'!$G$27:$L$61,6,0)),100,VLOOKUP($A27,'Race 3-Ladies'!$G$27:$L$61,6,0))","v":100},{"$f":"IF(ISNA(VLOOKUP($A27,'Race 4-Ladies'!$G$30:$L$100,6,0)),100,VLOOKUP($A27,'Race 4-Ladies'!$G$30:$L$100,6,0))","v":100},{"$f":"SMALL(D27:G27,{1,2,3})","v":100},100,100,300,14]
["Emily Clancey","BS","S",{"$f":"IF(ISNA(VLOOKUP($A28,'Race 1-Ladies'!$G$24:$L$53,6,0)),100,VLOOKUP($A28,'Race 1-Ladies'!$G$24:$L$53,6,0))","v":100},{"$f":"IF(ISNA(VLOOKUP($A28,'Race 2-Ladies'!$G$23:$L$53,6,0)),100,VLOOKUP($A28,'Race 2-Ladies'!$G$23:$L$53,6,0))","v":3},{"$f":"IF(ISNA(VLOOKUP($A28,'Race 3-Ladies'!$G$27:$L$61,6,0)),100,VLOOKUP($A28,'Race 3-Ladies'!$G$27:$L$61,6,0))","v":2},{"$f":"IF(ISNA(VLOOKUP($A28,'Race 4-Ladies'!$G$30:$L$100,6,0)),100,VLOOKUP($A28,'Race 4-Ladies'!$G$30:$L$100,6,0))","v":100},{"$f":"SMALL(D28:G28,{1,2,3})","v":2},3,100,105,5]
["Emily Warrington","BS","S",{"$f":"IF(ISNA(VLOOKUP($A29,'Race 1-Ladies'!$G$24:$L$53,6,0)),100,VLOOKUP($A29,'Race 1-Ladies'!$G$24:$L$53,6,0))","v":100},{"$f":"IF(ISNA(VLOOKUP($A29,'Race 2-Ladies'!$G$23:$L$53,6,0)),100,VLOOKUP($A29,'Race 2-Ladies'!$G$23:$L$53,6,0))","v":100},{"$f":"IF(ISNA(VLOOKUP($A29,'Race 3-Ladies'!$G$27:$L$61,6,0)),100,VLOOKUP($A29,'Race 3-Ladies'!$G$27:$L$61,6,0))","v":100},{"$f":"IF(ISNA(VLOOKUP($A29,'Race 4-Ladies'!$G$30:$L$100,6,0)),100,VLOOKUP($A29,'Race 4-Ladies'!$G$30:$L$100,6,0))","v":100},{"$f":"SMALL(D29:G29,{1,2,3})","v":100},100,100,300,14]
["Eve Warrington","BS","S",{"$f":"IF(ISNA(VLOOKUP($A30,'Race 1-Ladies'!$G$24:$L$53,6,0)),100,VLOOKUP($A30,'Race 1-Ladies'!$G$24:$L$53,6,0))","v":100},{"$f":"IF(ISNA(VLOOKUP($A30,'Race 2-Ladies'!$G$23:$L$53,6,0)),100,VLOOKUP($A30,'Race 2-Ladies'!$G$23:$L$53,6,0))","v":100},{"$f":"IF(ISNA(VLOOKUP($A30,'Race 3-Ladies'!$G$27:$L$61,6,0)),100,VLOOKUP($A30,'Race 3-Ladies'!$G$27:$L$61,6,0))","v":100},{"$f":"IF(ISNA(VLOOKUP($A30,'Race 4-Ladies'!$G$30:$L$100,6,0)),100,VLOOKUP($A30,'Race 4-Ladies'!$G$30:$L$100,6,0))","v":100},{"$f":"SMALL(D30:G30,{1,2,3})","v":100},100,100,300,14]
["Fay Humphries","BS","S",{"$f":"IF(ISNA(VLOOKUP($A31,'Race 1-Ladies'!$G$24:$L$53,6,0)),100,VLOOKUP($A31,'Race 1-Ladies'!$G$24:$L$53,6,0))","v":100},{"$f":"IF(ISNA(VLOOKUP($A31,'Race 2-Ladies'!$G$23:$L$53,6,0)),100,VLOOKUP($A31,'Race 2-Ladies'!$G$23:$L$53,6,0))","v":100},{"$f":"IF(ISNA(VLOOKUP($A31,'Race 3-Ladies'!$G$27:$L$61,6,0)),100,VLOOKUP($A31,'Race 3-Ladies'!$G$27:$L$61,6,0))","v":100},{"$f":"IF(ISNA(VLOOKUP($A31,'Race 4-Ladies'!$G$30:$L$100,6,0)),100,VLOOKUP($A31,'Race 4-Ladies'!$G$30:$L$100,6,0))","v":100},{"$f":"SMALL(D31:G31,{1,2,3})","v":100},100,100,300,14]
["Fiona Smith","WJ","S",{"$f":"IF(ISNA(VLOOKUP($A32,'Race 1-Ladies'!$G$24:$L$53,6,0)),100,VLOOKUP($A32,'Race 1-Ladies'!$G$24:$L$53,6,0))","v":3},{"$f":"IF(ISNA(VLOOKUP($A32,'Race 2-Ladies'!$G$23:$L$53,6,0)),100,VLOOKUP($A32,'Race 2-Ladies'!$G$23:$L$53,6,0))","v":6},{"$f":"IF(ISNA(VLOOKUP($A32,'Race 3-Ladies'!$G$27:$L$61,6,0)),100,VLOOKUP($A32,'Race 3-Ladies'!$G$27:$L$61,6,0))","v":6},{"$f":"IF(ISNA(VLOOKUP($A32,'Race 4-Ladies'!$G$30:$L$100,6,0)),100,VLOOKUP($A32,'Race 4-Ladies'!$G$30:$L$100,6,0))","v":6},{"$f":"SMALL(D32:G32,{1,2,3})","v":3},6,6,15,3]
["Fliss Tournant","SS","S",{"$f":"IF(ISNA(VLOOKUP($A33,'Race 1-Ladies'!$G$24:$L$53,6,0)),100,VLOOKUP($A33,'Race 1-Ladies'!$G$24:$L$53,6,0))","v":2},{"$f":"IF(ISNA(VLOOKUP($A33,'Race 2-Ladies'!$G$23:$L$53,6,0)),100,VLOOKUP($A33,'Race 2-Ladies'!$G$23:$L$53,6,0))","v":2},{"$f":"IF(ISNA(VLOOKUP($A33,'Race 3-Ladies'!$G$27:$L$61,6,0)),100,VLOOKUP($A33,'Race 3-Ladies'!$G$27:$L$61,6,0))","v":1},{"$f":"IF(ISNA(VLOOKUP($A33,'Race 4-Ladies'!$G$30:$L$100,6,0)),100,VLOOKUP($A33,'Race 4-Ladies'!$G$30:$L$100,6,0))","v":2},{"$f":"SMALL(D33:G33,{1,2,3})","v":1},2,2,5,2]
["Flo Greatrix","SS","S",{"$f":"IF(ISNA(VLOOKUP($A34,'Race 1-Ladies'!$G$24:$L$53,6,0)),100,VLOOKUP($A34,'Race 1-Ladies'!$G$24:$L$53,6,0))","v":100},{"$f":"IF(ISNA(VLOOKUP($A34,'Race 2-Ladies'!$G$23:$L$53,6,0)),100,VLOOKUP($A34,'Race 2-Ladies'!$G$23:$L$53,6,0))","v":5},{"$f":"IF(ISNA(VLOOKUP($A34,'Race 3-Ladies'!$G$27:$L$61,6,0)),100,VLOOKUP($A34,'Race 3-Ladies'!$G$27:$L$61,6,0))","v":100},{"$f":"IF(ISNA(VLOOKUP($A34,'Race 4-Ladies'!$G$30:$L$100,6,0)),100,VLOOKUP($A34,'Race 4-Ladies'!$G$30:$L$100,6,0))","v":100},{"$f":"SMALL(D34:G34,{1,2,3})","v":5},100,100,205,12]
["Freya Anglin-Liiv","HRC","S",{"$f":"IF(ISNA(VLOOKUP($A35,'Race 1-Ladies'!$G$24:$L$53,6,0)),100,VLOOKUP($A35,'Race 1-Ladies'!$G$24:$L$53,6,0))","v":100},{"$f":"IF(ISNA(VLOOKUP($A35,'Race 2-Ladies'!$G$23:$L$53,6,0)),100,VLOOKUP($A35,'Race 2-Ladies'!$G$23:$L$53,6,0))","v":100},{"$f":"IF(ISNA(VLOOKUP($A35,'Race 3-Ladies'!$G$27:$L$61,6,0)),100,VLOOKUP($A35,'Race 3-Ladies'!$G$27:$L$61,6,0))","v":100},{"$f":"IF(ISNA(VLOOKUP($A35,'Race 4-Ladies'!$G$30:$L$100,6,0)),100,VLOOKUP($A35,'Race 4-Ladies'!$G$30:$L$100,6,0))","v":100},{"$f":"SMALL(D35:G35,{1,2,3})","v":100},100,100,300,14]
["Gemma Curran","HRC","S",{"$f":"IF(ISNA(VLOOKUP($A36,'Race 1-Ladies'!$G$24:$L$53,6,0)),100,VLOOKUP($A36,'Race 1-Ladies'!$G$24:$L$53,6,0))","v":100},{"$f":"IF(ISNA(VLOOKUP($A36,'Race 2-Ladies'!$G$23:$L$53,6,0)),100,VLOOKUP($A36,'Race 2-Ladies'!$G$23:$L$53,6,0))","v":100},{"$f":"IF(ISNA(VLOOKUP($A36,'Race 3-Ladies'!$G$27:$L$61,6,0)),100,VLOOKUP($A36,'Race 3-Ladies'!$G$27:$L$61,6,0))","v":100},{"$f":"IF(ISNA(VLOOKUP($A36,'Race 4-Ladies'!$G$30:$L$100,6,0)),100,VLOOKUP($A36,'Race 4-Ladies'!$G$30:$L$100,6,0))","v":100},{"$f":"SMALL(D36:G36,{1,2,3})","v":100},100,100,300,14]
["Georgie Hoole","BS","S",{"$f":"IF(ISNA(VLOOKUP($A37,'Race 1-Ladies'!$G$24:$L$53,6,0)),100,VLOOKUP($A37,'Race 1-Ladies'!$G$24:$L$53,6,0))","v":100},{"$f":"IF(ISNA(VLOOKUP($A37,'Race 2-Ladies'!$G$23:$L$53,6,0)),100,VLOOKUP($A37,'Race 2-Ladies'!$G$23:$L$53,6,0))","v":100},{"$f":"IF(ISNA(VLOOKUP($A37,'Race 3-Ladies'!$G$27:$L$61,6,0)),100,VLOOKUP($A37,'Race 3-Ladies'!$G$27:$L$61,6,0))","v":100},{"$f":"IF(ISNA(VLOOKUP($A37,'Race 4-Ladies'!$G$30:$L$100,6,0)),100,VLOOKUP($A37,'Race 4-Ladies'!$G$30:$L$100,6,0))","v":100},{"$f":"SMALL(D37:G37,{1,2,3})","v":100},100,100,300,14]
["Grace Malcolm","BS","S",{"$f":"IF(ISNA(VLOOKUP($A38,'Race 1-Ladies'!$G$24:$L$53,6,0)),100,VLOOKUP($A38,'Race 1-Ladies'!$G$24:$L$53,6,0))","v":100},{"$f":"IF(ISNA(VLOOKUP($A38,'Race 2-Ladies'!$G$23:$L$53,6,0)),100,VLOOKUP($A38,'Race 2-Ladies'!$G$23:$L$53,6,0))","v":100},{"$f":"IF(ISNA(VLOOKUP($A38,'Race 3-Ladies'!$G$27:$L$61,6,0)),100,VLOOKUP($A38,'Race 3-Ladies'!$G$27:$L$61,6,0))","v":3},{"$f":"IF(ISNA(VLOOKUP($A38,'Race 4-Ladies'!$G$30:$L$100,6,0)),100,VLOOKUP($A38,'Race 4-Ladies'!$G$30:$L$100,6,0))","v":100},{"$f":"SMALL(D38:G38,{1,2,3})","v":3},100,100,203,9]
["Gulsun Shevket","HRC","S",{"$f":"IF(ISNA(VLOOKUP($A39,'Race 1-Ladies'!$G$24:$L$53,6,0)),100,VLOOKUP($A39,'Race 1-Ladies'!$G$24:$L$53,6,0))","v":100},{"$f":"IF(ISNA(VLOOKUP($A39,'Race 2-Ladies'!$G$23:$L$53,6,0)),100,VLOOKUP($A39,'Race 2-Ladies'!$G$23:$L$53,6,0))","v":100},{"$f":"IF(ISNA(VLOOKUP($A39,'Race 3-Ladies'!$G$27:$L$61,6,0)),100,VLOOKUP($A39,'Race 3-Ladies'!$G$27:$L$61,6,0))","v":100},{"$f":"IF(ISNA(VLOOKUP($A39,'Race 4-Ladies'!$G$30:$L$100,6,0)),100,VLOOKUP($A39,'Race 4-Ladies'!$G$30:$L$100,6,0))","v":100},{"$f":"SMALL(D39:G39,{1,2,3})","v":100},100,100,300,14]
["Hannah Hartnett","WJ","S",{"$f":"IF(ISNA(VLOOKUP($A40,'Race 1-Ladies'!$G$24:$L$53,6,0)),100,VLOOKUP($A40,'Race 1-Ladies'!$G$24:$L$53,6,0))","v":100},{"$f":"IF(ISNA(VLOOKUP($A40,'Race 2-Ladies'!$G$23:$L$53,6,0)),100,VLOOKUP($A40,'Race 2-Ladies'!$G$23:$L$53,6,0))","v":100},{"$f":"IF(ISNA(VLOOKUP($A40,'Race 3-Ladies'!$G$27:$L$61,6,0)),100,VLOOKUP($A40,'Race 3-Ladies'!$G$27:$L$61,6,0))","v":100},{"$f":"IF(ISNA(VLOOKUP($A40,'Race 4-Ladies'!$G$30:$L$100,6,0)),100,VLOOKUP($A40,'Race 4-Ladies'!$G$30:$L$100,6,0))","v":100},{"$f":"SMALL(D40:G40,{1,2,3})","v":100},100,100,300,14]
["Harriet Kealy","WJ","S",{"$f":"IF(ISNA(VLOOKUP($A41,'Race 1-Ladies'!$G$24:$L$53,6,0)),100,VLOOKUP($A41,'Race 1-Ladies'!$G$24:$L$53,6,0))","v":100},{"$f":"IF(ISNA(VLOOKUP($A41,'Race 2-Ladies'!$G$23:$L$53,6,0)),100,VLOOKUP($A41,'Race 2-Ladies'!$G$23:$L$53,6,0))","v":100},{"$f":"IF(ISNA(VLOOKUP($A41,'Race 3-Ladies'!$G$27:$L$61,6,0)),100,VLOOKUP($A41,'Race 3-Ladies'!$G$27:$L$61,6,0))","v":100},{"$f":"IF(ISNA(VLOOKUP($A41,'Race 4-Ladies'!$G$30:$L$100,6,0)),100,VLOOKUP($A41,'Race 4-Ladies'!$G$30:$L$100,6,0))","v":3},{"$f":"SMALL(D41:G41,{1,2,3})","v":3},100,100,203,9]
["Harriett Martin","HRC","S",{"$f":"IF(ISNA(VLOOKUP($A42,'Race 1-Ladies'!$G$24:$L$53,6,0)),100,VLOOKUP($A42,'Race 1-Ladies'!$G$24:$L$53,6,0))","v":100},{"$f":"IF(ISNA(VLOOKUP($A42,'Race 2-Ladies'!$G$23:$L$53,6,0)),100,VLOOKUP($A42,'Race 2-Ladies'!$G$23:$L$53,6,0))","v":100},{"$f":"IF(ISNA(VLOOKUP($A42,'Race 3-Ladies'!$G$27:$L$61,6,0)),100,VLOOKUP($A42,'Race 3-Ladies'!$G$27:$L$61,6,0))","v":100},{"$f":"IF(ISNA(VLOOKUP($A42,'Race 4-Ladies'!$G$30:$L$100,6,0)),100,VLOOKUP($A42,'Race 4-Ladies'!$G$30:$L$100,6,0))","v":100},{"$f":"SMALL(D42:G42,{1,2,3})","v":100},100,100,300,14]
["Helen Barrell","HRC","S",{"$f":"IF(ISNA(VLOOKUP($A43,'Race 1-Ladies'!$G$24:$L$53,6,0)),100,VLOOKUP($A43,'Race 1-Ladies'!$G$24:$L$53,6,0))","v":100},{"$f":"IF(ISNA(VLOOKUP($A43,'Race 2-Ladies'!$G$23:$L$53,6,0)),100,VLOOKUP($A43,'Race 2-Ladies'!$G$23:$L$53,6,0))","v":100},{"$f":"IF(ISNA(VLOOKUP($A43,'Race 3-Ladies'!$G$27:$L$61,6,0)),100,VLOOKUP($A43,'Race 3-Ladies'!$G$27:$L$61,6,0))","v":100},{"$f":"IF(ISNA(VLOOKUP($A43,'Race 4-Ladies'!$G$30:$L$100,6,0)),100,VLOOKUP($A43,'Race 4-Ladies'!$G$30:$L$100,6,0))","v":100},{"$f":"SMALL(D43:G43,{1,2,3})","v":100},100,100,300,14]
["Helena May","HRC","S",{"$f":"IF(ISNA(VLOOKUP($A44,'Race 1-Ladies'!$G$24:$L$53,6,0)),100,VLOOKUP($A44,'Race 1-Ladies'!$G$24:$L$53,6,0))","v":100},{"$f":"IF(ISNA(VLOOKUP($A44,'Race 2-Ladies'!$G$23:$L$53,6,0)),100,VLOOKUP($A44,'Race 2-Ladies'!$G$23:$L$53,6,0))","v":100},{"$f":"IF(ISNA(VLOOKUP($A44,'Race 3-Ladies'!$G$27:$L$61,6,0)),100,VLOOKUP($A44,'Race 3-Ladies'!$G$27:$L$61,6,0))","v":100},{"$f":"IF(ISNA(VLOOKUP($A44,'Race 4-Ladies'!$G$30:$L$100,6,0)),100,VLOOKUP($A44,'Race 4-Ladies'!$G$30:$L$100,6,0))","v":100},{"$f":"SMALL(D44:G44,{1,2,3})","v":100},100,100,300,14]
["Holly Nairn","HRC","S",{"$f":"IF(ISNA(VLOOKUP($A45,'Race 1-Ladies'!$G$24:$L$53,6,0)),100,VLOOKUP($A45,'Race 1-Ladies'!$G$24:$L$53,6,0))","v":100},{"$f":"IF(ISNA(VLOOKUP($A45,'Race 2-Ladies'!$G$23:$L$53,6,0)),100,VLOOKUP($A45,'Race 2-Ladies'!$G$23:$L$53,6,0))","v":100},{"$f":"IF(ISNA(VLOOKUP($A45,'Race 3-Ladies'!$G$27:$L$61,6,0)),100,VLOOKUP($A45,'Race 3-Ladies'!$G$27:$L$61,6,0))","v":100},{"$f":"IF(ISNA(VLOOKUP($A45,'Race 4-Ladies'!$G$30:$L$100,6,0)),100,VLOOKUP($A45,'Race 4-Ladies'!$G$30:$L$100,6,0))","v":100},{"$f":"SMALL(D45:G45,{1,2,3})","v":100},100,100,300,14]
["Imogen Drake","BS","S",{"$f":"IF(ISNA(VLOOKUP($A46,'Race 1-Ladies'!$G$24:$L$53,6,0)),100,VLOOKUP($A46,'Race 1-Ladies'!$G$24:$L$53,6,0))","v":100},{"$f":"IF(ISNA(VLOOKUP($A46,'Race 2-Ladies'!$G$23:$L$53,6,0)),100,VLOOKUP($A46,'Race 2-Ladies'!$G$23:$L$53,6,0))","v":100},{"$f":"IF(ISNA(VLOOKUP($A46,'Race 3-Ladies'!$G$27:$L$61,6,0)),100,VLOOKUP($A46,'Race 3-Ladies'!$G$27:$L$61,6,0))","v":100},{"$f":"IF(ISNA(VLOOKUP($A46,'Race 4-Ladies'!$G$30:$L$100,6,0)),100,VLOOKUP($A46,'Race 4-Ladies'!$G$30:$L$100,6,0))","v":100},{"$f":"SMALL(D46:G46,{1,2,3})","v":100},100,100,300,14]
["Jennifer Evans","WJ","S",{"$f":"IF(ISNA(VLOOKUP($A47,'Race 1-Ladies'!$G$24:$L$53,6,0)),100,VLOOKUP($A47,'Race 1-Ladies'!$G$24:$L$53,6,0))","v":100},{"$f":"IF(ISNA(VLOOKUP($A47,'Race 2-Ladies'!$G$23:$L$53,6,0)),100,VLOOKUP($A47,'Race 2-Ladies'!$G$23:$L$53,6,0))","v":7},{"$f":"IF(ISNA(VLOOKUP($A47,'Race 3-Ladies'!$G$27:$L$61,6,0)),100,VLOOKUP($A47,'Race 3-Ladies'!$G$27:$L$61,6,0))","v":100},{"$f":"IF(ISNA(VLOOKUP($A47,'Race 4-Ladies'!$G$30:$L$100,6,0)),100,VLOOKUP($A47,'Race 4-Ladies'!$G$30:$L$100,6,0))","v":7},{"$f":"SMALL(D47:G47,{1,2,3})","v":7},7,100,114,8]
["Jessica Carter","HRC","S",{"$f":"IF(ISNA(VLOOKUP($A48,'Race 1-Ladies'!$G$24:$L$53,6,0)),100,VLOOKUP($A48,'Race 1-Ladies'!$G$24:$L$53,6,0))","v":100},{"$f":"IF(ISNA(VLOOKUP($A48,'Race 2-Ladies'!$G$23:$L$53,6,0)),100,VLOOKUP($A48,'Race 2-Ladies'!$G$23:$L$53,6,0))","v":100},{"$f":"IF(ISNA(VLOOKUP($A48,'Race 3-Ladies'!$G$27:$L$61,6,0)),100,VLOOKUP($A48,'Race 3-Ladies'!$G$27:$L$61,6,0))","v":100},{"$f":"IF(ISNA(VLOOKUP($A48,'Race 4-Ladies'!$G$30:$L$100,6,0)),100,VLOOKUP($A48,'Race 4-Ladies'!$G$30:$L$100,6,0))","v":100},{"$f":"SMALL(D48:G48,{1,2,3})","v":100},100,100,300,14]
["Kate Waite","SS","S",{"$f":"IF(ISNA(VLOOKUP($A49,'Race 1-Ladies'!$G$24:$L$53,6,0)),100,VLOOKUP($A49,'Race 1-Ladies'!$G$24:$L$53,6,0))","v":100},{"$f":"IF(ISNA(VLOOKUP($A49,'Race 2-Ladies'!$G$23:$L$53,6,0)),100,VLOOKUP($A49,'Race 2-Ladies'!$G$23:$L$53,6,0))","v":100},{"$f":"IF(ISNA(VLOOKUP($A49,'Race 3-Ladies'!$G$27:$L$61,6,0)),100,VLOOKUP($A49,'Race 3-Ladies'!$G$27:$L$61,6,0))","v":100},{"$f":"IF(ISNA(VLOOKUP($A49,'Race 4-Ladies'!$G$30:$L$100,6,0)),100,VLOOKUP($A49,'Race 4-Ladies'!$G$30:$L$100,6,0))","v":100},{"$f":"SMALL(D49:G49,{1,2,3})","v":100},100,100,300,14]
["Lucy Barnes","HRC","S",{"$f":"IF(ISNA(VLOOKUP($A50,'Race 1-Ladies'!$G$24:$L$53,6,0)),100,VLOOKUP($A50,'Race 1-Ladies'!$G$24:$L$53,6,0))","v":1},{"$f":"IF(ISNA(VLOOKUP($A50,'Race 2-Ladies'!$G$23:$L$53,6,0)),100,VLOOKUP($A50,'Race 2-Ladies'!$G$23:$L$53,6,0))","v":1},{"$f":"IF(ISNA(VLOOKUP($A50,'Race 3-Ladies'!$G$27:$L$61,6,0)),100,VLOOKUP($A50,'Race 3-Ladies'!$G$27:$L$61,6,0))","v":100},{"$f":"IF(ISNA(VLOOKUP($A50,'Race 4-Ladies'!$G$30:$L$100,6,0)),100,VLOOKUP($A50,'Race 4-Ladies'!$G$30:$L$100,6,0))","v":1},{"$f":"SMALL(D50:G50,{1,2,3})","v":1},1,1,3,1]
["Lucy Coston","SS","S",{"$f":"IF(ISNA(VLOOKUP($A51,'Race 1-Ladies'!$G$24:$L$53,6,0)),100,VLOOKUP($A51,'Race 1-Ladies'!$G$24:$L$53,6,0))","v":100},{"$f":"IF(ISNA(VLOOKUP($A51,'Race 2-Ladies'!$G$23:$L$53,6,0)),100,VLOOKUP($A51,'Race 2-Ladies'!$G$23:$L$53,6,0))","v":100},{"$f":"IF(ISNA(VLOOKUP($A51,'Race 3-Ladies'!$G$27:$L$61,6,0)),100,VLOOKUP($A51,'Race 3-Ladies'!$G$27:$L$61,6,0))","v":100},{"$f":"IF(ISNA(VLOOKUP($A51,'Race 4-Ladies'!$G$30:$L$100,6,0)),100,VLOOKUP($A51,'Race 4-Ladies'!$G$30:$L$100,6,0))","v":100},{"$f":"SMALL(D51:G51,{1,2,3})","v":100},100,100,300,14]
["Mairi Malcolm","BS","S",{"$f":"IF(ISNA(VLOOKUP($A52,'Race 1-Ladies'!$G$24:$L$53,6,0)),100,VLOOKUP($A52,'Race 1-Ladies'!$G$24:$L$53,6,0))","v":100},{"$f":"IF(ISNA(VLOOKUP($A52,'Race 2-Ladies'!$G$23:$L$53,6,0)),100,VLOOKUP($A52,'Race 2-Ladies'!$G$23:$L$53,6,0))","v":100},{"$f":"IF(ISNA(VLOOKUP($A52,'Race 3-Ladies'!$G$27:$L$61,6,0)),100,VLOOKUP($A52,'Race 3-Ladies'!$G$27:$L$61,6,0))","v":100},{"$f":"IF(ISNA(VLOOKUP($A52,'Race 4-Ladies'!$G$30:$L$100,6,0)),100,VLOOKUP($A52,'Race 4-Ladies'!$G$30:$L$100,6,0))","v":100},{"$f":"SMALL(D52:G52,{1,2,3})","v":100},100,100,300,14]
["Marie Heenan","WJ","S",{"$f":"IF(ISNA(VLOOKUP($A53,'Race 1-Ladies'!$G$24:$L$53,6,0)),100,VLOOKUP($A53,'Race 1-Ladies'!$G$24:$L$53,6,0))","v":100},{"$f":"IF(ISNA(VLOOKUP($A53,'Race 2-Ladies'!$G$23:$L$53,6,0)),100,VLOOKUP($A53,'Race 2-Ladies'!$G$23:$L$53,6,0))","v":100},{"$f":"IF(ISNA(VLOOKUP($A53,'Race 3-Ladies'!$G$27:$L$61,6,0)),100,VLOOKUP($A53,'Race 3-Ladies'!$G$27:$L$61,6,0))","v":100},{"$f":"IF(ISNA(VLOOKUP($A53,'Race 4-Ladies'!$G$30:$L$100,6,0)),100,VLOOKUP($A53,'Race 4-Ladies'!$G$30:$L$100,6,0))","v":100},{"$f":"SMALL(D53:G53,{1,2,3})","v":100},100,100,300,14]
["Martha Flind","SS","S",{"$f":"IF(ISNA(VLOOKUP($A54,'Race 1-Ladies'!$G$24:$L$53,6,0)),100,VLOOKUP($A54,'Race 1-Ladies'!$G$24:$L$53,6,0))","v":4},{"$f":"IF(ISNA(VLOOKUP($A54,'Race 2-Ladies'!$G$23:$L$53,6,0)),100,VLOOKUP($A54,'Race 2-Ladies'!$G$23:$L$53,6,0))","v":100},{"$f":"IF(ISNA(VLOOKUP($A54,'Race 3-Ladies'!$G$27:$L$61,6,0)),100,VLOOKUP($A54,'Race 3-Ladies'!$G$27:$L$61,6,0))","v":100},{"$f":"IF(ISNA(VLOOKUP($A54,'Race 4-Ladies'!$G$30:$L$100,6,0)),100,VLOOKUP($A54,'Race 4-Ladies'!$G$30:$L$100,6,0))","v":100},{"$f":"SMALL(D54:G54,{1,2,3})","v":4},100,100,204,11]
["Mia Davey","WJ","S",{"$f":"IF(ISNA(VLOOKUP($A55,'Race 1-Ladies'!$G$24:$L$53,6,0)),100,VLOOKUP($A55,'Race 1-Ladies'!$G$24:$L$53,6,0))","v":100},{"$f":"IF(ISNA(VLOOKUP($A55,'Race 2-Ladies'!$G$23:$L$53,6,0)),100,VLOOKUP($A55,'Race 2-Ladies'!$G$23:$L$53,6,0))","v":100},{"$f":"IF(ISNA(VLOOKUP($A55,'Race 3-Ladies'!$G$27:$L$61,6,0)),100,VLOOKUP($A55,'Race 3-Ladies'!$G$27:$L$61,6,0))","v":100},{"$f":"IF(ISNA(VLOOKUP($A55,'Race 4-Ladies'!$G$30:$L$100,6,0)),100,VLOOKUP($A55,'Race 4-Ladies'!$G$30:$L$100,6,0))","v":100},{"$f":"SMALL(D55:G55,{1,2,3})","v":100},100,100,300,14]
["Millie McGovern","HRC","S",{"$f":"IF(ISNA(VLOOKUP($A56,'Race 1-Ladies'!$G$24:$L$53,6,0)),100,VLOOKUP($A56,'Race 1-Ladies'!$G$24:$L$53,6,0))","v":100},{"$f":"IF(ISNA(VLOOKUP($A56,'Race 2-Ladies'!$G$23:$L$53,6,0)),100,VLOOKUP($A56,'Race 2-Ladies'!$G$23:$L$53,6,0))","v":100},{"$f":"IF(ISNA(VLOOKUP($A56,'Race 3-Ladies'!$G$27:$L$61,6,0)),100,VLOOKUP($A56,'Race 3-Ladies'!$G$27:$L$61,6,0))","v":100},{"$f":"IF(ISNA(VLOOKUP($A56,'Race 4-Ladies'!$G$30:$L$100,6,0)),100,VLOOKUP($A56,'Race 4-Ladies'!$G$30:$L$100,6,0))","v":100},{"$f":"SMALL(D56:G56,{1,2,3})","v":100},100,100,300,14]
["Olivia Beresford","BS","S",{"$f":"IF(ISNA(VLOOKUP($A57,'Race 1-Ladies'!$G$24:$L$53,6,0)),100,VLOOKUP($A57,'Race 1-Ladies'!$G$24:$L$53,6,0))","v":100},{"$f":"IF(ISNA(VLOOKUP($A57,'Race 2-Ladies'!$G$23:$L$53,6,0)),100,VLOOKUP($A57,'Race 2-Ladies'!$G$23:$L$53,6,0))","v":100},{"$f":"IF(ISNA(VLOOKUP($A57,'Race 3-Ladies'!$G$27:$L$61,6,0)),100,VLOOKUP($A57,'Race 3-Ladies'!$G$27:$L$61,6,0))","v":100},{"$f":"IF(ISNA(VLOOKUP($A57,'Race 4-Ladies'!$G$30:$L$100,6,0)),100,VLOOKUP($A57,'Race 4-Ladies'!$G$30:$L$100,6,0))","v":100},{"$f":"SMALL(D57:G57,{1,2,3})","v":100},100,100,300,14]
["Paige Bircham","HRC","S",{"$f":"IF(ISNA(VLOOKUP($A58,'Race 1-Ladies'!$G$24:$L$53,6,0)),100,VLOOKUP($A58,'Race 1-Ladies'!$G$24:$L$53,6,0))","v":100},{"$f":"IF(ISNA(VLOOKUP($A58,'Race 2-Ladies'!$G$23:$L$53,6,0)),100,VLOOKUP($A58,'Race 2-Ladies'!$G$23:$L$53,6,0))","v":4},{"$f":"IF(ISNA(VLOOKUP($A58,'Race 3-Ladies'!$G$27:$L$61,6,0)),100,VLOOKUP($A58,'Race 3-Ladies'!$G$27:$L$61,6,0))","v":7},{"$f":"IF(ISNA(VLOOKUP($A58,'Race 4-Ladies'!$G$30:$L$100,6,0)),100,VLOOKUP($A58,'Race 4-Ladies'!$G$30:$L$100,6,0))","v":4},{"$f":"SMALL(D58:G58,{1,2,3})","v":4},4,7,15,3]
["Penelope Roux","BS","S",{"$f":"IF(ISNA(VLOOKUP($A59,'Race 1-Ladies'!$G$24:$L$53,6,0)),100,VLOOKUP($A59,'Race 1-Ladies'!$G$24:$L$53,6,0))","v":100},{"$f":"IF(ISNA(VLOOKUP($A59,'Race 2-Ladies'!$G$23:$L$53,6,0)),100,VLOOKUP($A59,'Race 2-Ladies'!$G$23:$L$53,6,0))","v":100},{"$f":"IF(ISNA(VLOOKUP($A59,'Race 3-Ladies'!$G$27:$L$61,6,0)),100,VLOOKUP($A59,'Race 3-Ladies'!$G$27:$L$61,6,0))","v":100},{"$f":"IF(ISNA(VLOOKUP($A59,'Race 4-Ladies'!$G$30:$L$100,6,0)),100,VLOOKUP($A59,'Race 4-Ladies'!$G$30:$L$100,6,0))","v":100},{"$f":"SMALL(D59:G59,{1,2,3})","v":100},100,100,300,14]
["Phily Watson","SS","S",{"$f":"IF(ISNA(VLOOKUP($A60,'Race 1-Ladies'!$G$24:$L$53,6,0)),100,VLOOKUP($A60,'Race 1-Ladies'!$G$24:$L$53,6,0))","v":100},{"$f":"IF(ISNA(VLOOKUP($A60,'Race 2-Ladies'!$G$23:$L$53,6,0)),100,VLOOKUP($A60,'Race 2-Ladies'!$G$23:$L$53,6,0))","v":100},{"$f":"IF(ISNA(VLOOKUP($A60,'Race 3-Ladies'!$G$27:$L$61,6,0)),100,VLOOKUP($A60,'Race 3-Ladies'!$G$27:$L$61,6,0))","v":100},{"$f":"IF(ISNA(VLOOKUP($A60,'Race 4-Ladies'!$G$30:$L$100,6,0)),100,VLOOKUP($A60,'Race 4-Ladies'!$G$30:$L$100,6,0))","v":100},{"$f":"SMALL(D60:G60,{1,2,3})","v":100},100,100,300,14]
["Rachel Lewis","HRC","S",{"$f":"IF(ISNA(VLOOKUP($A61,'Race 1-Ladies'!$G$24:$L$53,6,0)),100,VLOOKUP($A61,'Race 1-Ladies'!$G$24:$L$53,6,0))","v":100},{"$f":"IF(ISNA(VLOOKUP($A61,'Race 2-Ladies'!$G$23:$L$53,6,0)),100,VLOOKUP($A61,'Race 2-Ladies'!$G$23:$L$53,6,0))","v":100},{"$f":"IF(ISNA(VLOOKUP($A61,'Race 3-Ladies'!$G$27:$L$61,6,0)),100,VLOOKUP($A61,'Race 3-Ladies'!$G$27:$L$61,6,0))","v":100},{"$f":"IF(ISNA(VLOOKUP($A61,'Race 4-Ladies'!$G$30:$L$100,6,0)),100,VLOOKUP($A61,'Race 4-Ladies'!$G$30:$L$100,6,0))","v":100},{"$f":"SMALL(D61:G61,{1,2,3})","v":100},100,100,300,14]
["Rebecca Dolan","BS","S",{"$f":"IF(ISNA(VLOOKUP($A62,'Race 1-Ladies'!$G$24:$L$53,6,0)),100,VLOOKUP($A62,'Race 1-Ladies'!$G$24:$L$53,6,0))","v":100},{"$f":"IF(ISNA(VLOOKUP($A62,'Race 2-Ladies'!$G$23:$L$53,6,0)),100,VLOOKUP($A62,'Race 2-Ladies'!$G$23:$L$53,6,0))","v":100},{"$f":"IF(ISNA(VLOOKUP($A62,'Race 3-Ladies'!$G$27:$L$61,6,0)),100,VLOOKUP($A62,'Race 3-Ladies'!$G$27:$L$61,6,0))","v":100},{"$f":"IF(ISNA(VLOOKUP($A62,'Race 4-Ladies'!$G$30:$L$100,6,0)),100,VLOOKUP($A62,'Race 4-Ladies'!$G$30:$L$100,6,0))","v":100},{"$f":"SMALL(D62:G62,{1,2,3})","v":100},100,100,300,14]
["Rebecca Walker","HRC","S",{"$f":"IF(ISNA(VLOOKUP($A63,'Race 1-Ladies'!$G$24:$L$53,6,0)),100,VLOOKUP($A63,'Race 1-Ladies'!$G$24:$L$53,6,0))","v":100},{"$f":"IF(ISNA(VLOOKUP($A63,'Race 2-Ladies'!$G$23:$L$53,6,0)),100,VLOOKUP($A63,'Race 2-Ladies'!$G$23:$L$53,6,0))","v":100},{"$f":"IF(ISNA(VLOOKUP($A63,'Race 3-Ladies'!$G$27:$L$61,6,0)),100,VLOOKUP($A63,'Race 3-Ladies'!$G$27:$L$61,6,0))","v":100},{"$f":"IF(ISNA(VLOOKUP($A63,'Race 4-Ladies'!$G$30:$L$100,6,0)),100,VLOOKUP($A63,'Race 4-Ladies'!$G$30:$L$100,6,0))","v":100},{"$f":"SMALL(D63:G63,{1,2,3})","v":100},100,100,300,14]
["Salli White","SS","S",{"$f":"IF(ISNA(VLOOKUP($A64,'Race 1-Ladies'!$G$24:$L$53,6,0)),100,VLOOKUP($A64,'Race 1-Ladies'!$G$24:$L$53,6,0))","v":100},{"$f":"IF(ISNA(VLOOKUP($A64,'Race 2-Ladies'!$G$23:$L$53,6,0)),100,VLOOKUP($A64,'Race 2-Ladies'!$G$23:$L$53,6,0))","v":100},{"$f":"IF(ISNA(VLOOKUP($A64,'Race 3-Ladies'!$G$27:$L$61,6,0)),100,VLOOKUP($A64,'Race 3-Ladies'!$G$27:$L$61,6,0))","v":100},{"$f":"IF(ISNA(VLOOKUP($A64,'Race 4-Ladies'!$G$30:$L$100,6,0)),100,VLOOKUP($A64,'Race 4-Ladies'!$G$30:$L$100,6,0))","v":100},{"$f":"SMALL(D64:G64,{1,2,3})","v":100},100,100,300,14]
["Sara Larsen Armstrong","SS","S",{"$f":"IF(ISNA(VLOOKUP($A65,'Race 1-Ladies'!$G$24:$L$53,6,0)),100,VLOOKUP($A65,'Race 1-Ladies'!$G$24:$L$53,6,0))","v":100},{"$f":"IF(ISNA(VLOOKUP($A65,'Race 2-Ladies'!$G$23:$L$53,6,0)),100,VLOOKUP($A65,'Race 2-Ladies'!$G$23:$L$53,6,0))","v":100},{"$f":"IF(ISNA(VLOOKUP($A65,'Race 3-Ladies'!$G$27:$L$61,6,0)),100,VLOOKUP($A65,'Race 3-Ladies'!$G$27:$L$61,6,0))","v":5},{"$f":"IF(ISNA(VLOOKUP($A65,'Race 4-Ladies'!$G$30:$L$100,6,0)),100,VLOOKUP($A65,'Race 4-Ladies'!$G$30:$L$100,6,0))","v":100},{"$f":"SMALL(D65:G65,{1,2,3})","v":5},100,100,205,12]
["Sarah Carman","HRC","S",{"$f":"IF(ISNA(VLOOKUP($A66,'Race 1-Ladies'!$G$24:$L$53,6,0)),100,VLOOKUP($A66,'Race 1-Ladies'!$G$24:$L$53,6,0))","v":100},{"$f":"IF(ISNA(VLOOKUP($A66,'Race 2-Ladies'!$G$23:$L$53,6,0)),100,VLOOKUP($A66,'Race 2-Ladies'!$G$23:$L$53,6,0))","v":100},{"$f":"IF(ISNA(VLOOKUP($A66,'Race 3-Ladies'!$G$27:$L$61,6,0)),100,VLOOKUP($A66,'Race 3-Ladies'!$G$27:$L$61,6,0))","v":100},{"$f":"IF(ISNA(VLOOKUP($A66,'Race 4-Ladies'!$G$30:$L$100,6,0)),100,VLOOKUP($A66,'Race 4-Ladies'!$G$30:$L$100,6,0))","v":100},{"$f":"SMALL(D66:G66,{1,2,3})","v":100},100,100,300,{"$f":"RANK(K66,$K$2:$K$68,1)","v":14}]
["Sarah Ede","HRC","S",{"$f":"IF(ISNA(VLOOKUP($A67,'Race 1-Ladies'!$G$24:$L$53,6,0)),100,VLOOKUP($A67,'Race 1-Ladies'!$G$24:$L$53,6,0))","v":100},{"$f":"IF(ISNA(VLOOKUP($A67,'Race 2-Ladies'!$G$23:$L$53,6,0)),100,VLOOKUP($A67,'Race 2-Ladies'!$G$23:$L$53,6,0))","v":100},{"$f":"IF(ISNA(VLOOKUP($A67,'Race 3-Ladies'!$G$27:$L$61,6,0)),100,VLOOKUP($A67,'Race 3-Ladies'!$G$27:$L$61,6,0))","v":100},{"$f":"IF(ISNA(VLOOKUP($A67,'Race 4-Ladies'!$G$30:$L$100,6,0)),100,VLOOKUP($A67,'Race 4-Ladies'!$G$30:$L$100,6,0))","v":100},{"$f":"SMALL(D67:G67,{1,2,3})","v":100},100,100,{"$f":"SUM(H67:J67)","v":300},14]
["Susan Fraser","WJ","S",{"$f":"IF(ISNA(VLOOKUP($A68,'Race 1-Ladies'!$G$24:$L$53,6,0)),100,VLOOKUP($A68,'Race 1-Ladies'!$G$24:$L$53,6,0))","v":100},{"$f":"IF(ISNA(VLOOKUP($A68,'Race 2-Ladies'!$G$23:$L$53,6,0)),100,VLOOKUP($A68,'Race 2-Ladies'!$G$23:$L$53,6,0))","v":100},{"$f":"IF(ISNA(VLOOKUP($A68,'Race 3-Ladies'!$G$27:$L$61,6,0)),100,VLOOKUP($A68,'Race 3-Ladies'!$G$27:$L$61,6,0))","v":100},{"$f":"IF(ISNA(VLOOKUP($A68,'Race 4-Ladies'!$G$30:$L$100,6,0)),100,VLOOKUP($A68,'Race 4-Ladies'!$G$30:$L$100,6,0))","v":100},{"$f":"SMALL(D68:G68,{1,2,3})","v":100},100,100,300,{"$f":"RANK(K68,$K$2:$K$68,1)","v":14}]
["Alina Tarca","WJ","V35",{"$f":"IF(ISNA(VLOOKUP($A69,'Race 1-Ladies'!$N$24:$S$53,6,0)),100,VLOOKUP($A69,'Race 1-Ladies'!$N$24:$S$53,6,0))","v":100},{"$f":"IF(ISNA(VLOOKUP($A69,'Race 2-Ladies'!$N$23:$S$53,6,0)),100,VLOOKUP($A69,'Race 2-Ladies'!$N$23:$S$53,6,0))","v":100},{"$f":"IF(ISNA(VLOOKUP($A69,'Race 3-Ladies'!$N$27:$S$61,6,0)),100,VLOOKUP($A69,'Race 3-Ladies'!$N$27:$S$61,6,0))","v":100},{"$f":"IF(ISNA(VLOOKUP($A69,'Race 4-Ladies'!$N$27:$S$100,6,0)),100,VLOOKUP($A69,'Race 4-Ladies'!$N$30:$S$100,6,0))","v":100},{"$f":"SMALL(D69:G69,{1,2,3})","v":100},100,100,300,{"$f":"RANK(K69,$K$69:$K$172,1)","v":30}]
["Amanda Martin-Hose","HRC","V35",{"$f":"IF(ISNA(VLOOKUP($A70,'Race 1-Ladies'!$N$24:$S$53,6,0)),100,VLOOKUP($A70,'Race 1-Ladies'!$N$24:$S$53,6,0))","v":100},{"$f":"IF(ISNA(VLOOKUP($A70,'Race 2-Ladies'!$N$23:$S$53,6,0)),100,VLOOKUP($A70,'Race 2-Ladies'!$N$23:$S$53,6,0))","v":100},{"$f":"IF(ISNA(VLOOKUP($A70,'Race 3-Ladies'!$N$27:$S$61,6,0)),100,VLOOKUP($A70,'Race 3-Ladies'!$N$27:$S$61,6,0))","v":100},{"$f":"IF(ISNA(VLOOKUP($A70,'Race 4-Ladies'!$N$27:$S$100,6,0)),100,VLOOKUP($A70,'Race 4-Ladies'!$N$30:$S$100,6,0))","v":100},{"$f":"SMALL(D70:G70,{1,2,3})","v":100},100,100,300,{"$f":"RANK(K70,$K$69:$K$172,1)","v":30}]
["Amy Thomas","SS","V35",{"$f":"IF(ISNA(VLOOKUP($A71,'Race 1-Ladies'!$N$24:$S$53,6,0)),100,VLOOKUP($A71,'Race 1-Ladies'!$N$24:$S$53,6,0))","v":100},{"$f":"IF(ISNA(VLOOKUP($A71,'Race 2-Ladies'!$N$23:$S$53,6,0)),100,VLOOKUP($A71,'Race 2-Ladies'!$N$23:$S$53,6,0))","v":100},{"$f":"IF(ISNA(VLOOKUP($A71,'Race 3-Ladies'!$N$27:$S$61,6,0)),100,VLOOKUP($A71,'Race 3-Ladies'!$N$27:$S$61,6,0))","v":100},{"$f":"IF(ISNA(VLOOKUP($A71,'Race 4-Ladies'!$N$27:$S$100,6,0)),100,VLOOKUP($A71,'Race 4-Ladies'!$N$30:$S$100,6,0))","v":100},{"$f":"SMALL(D71:G71,{1,2,3})","v":100},100,100,300,30]
["Anique Liiv","HRC","V35",{"$f":"IF(ISNA(VLOOKUP($A72,'Race 1-Ladies'!$N$24:$S$53,6,0)),100,VLOOKUP($A72,'Race 1-Ladies'!$N$24:$S$53,6,0))","v":100},{"$f":"IF(ISNA(VLOOKUP($A72,'Race 2-Ladies'!$N$23:$S$53,6,0)),100,VLOOKUP($A72,'Race 2-Ladies'!$N$23:$S$53,6,0))","v":100},{"$f":"IF(ISNA(VLOOKUP($A72,'Race 3-Ladies'!$N$27:$S$61,6,0)),100,VLOOKUP($A72,'Race 3-Ladies'!$N$27:$S$61,6,0))","v":100},{"$f":"IF(ISNA(VLOOKUP($A72,'Race 4-Ladies'!$N$27:$S$100,6,0)),100,VLOOKUP($A72,'Race 4-Ladies'!$N$30:$S$100,6,0))","v":100},{"$f":"SMALL(D72:G72,{1,2,3})","v":100},100,100,300,30]
["Anna Cooper","SS","V35",{"$f":"IF(ISNA(VLOOKUP($A73,'Race 1-Ladies'!$N$24:$S$53,6,0)),100,VLOOKUP($A73,'Race 1-Ladies'!$N$24:$S$53,6,0))","v":100},{"$f":"IF(ISNA(VLOOKUP($A73,'Race 2-Ladies'!$N$23:$S$53,6,0)),100,VLOOKUP($A73,'Race 2-Ladies'!$N$23:$S$53,6,0))","v":100},{"$f":"IF(ISNA(VLOOKUP($A73,'Race 3-Ladies'!$N$27:$S$61,6,0)),100,VLOOKUP($A73,'Race 3-Ladies'!$N$27:$S$61,6,0))","v":100},{"$f":"IF(ISNA(VLOOKUP($A73,'Race 4-Ladies'!$N$27:$S$100,6,0)),100,VLOOKUP($A73,'Race 4-Ladies'!$N$30:$S$100,6,0))","v":100},{"$f":"SMALL(D73:G73,{1,2,3})","v":100},100,100,300,30]
["Anna Robey","HRC","V35",{"$f":"IF(ISNA(VLOOKUP($A74,'Race 1-Ladies'!$N$24:$S$53,6,0)),100,VLOOKUP($A74,'Race 1-Ladies'!$N$24:$S$53,6,0))","v":6},{"$f":"IF(ISNA(VLOOKUP($A74,'Race 2-Ladies'!$N$23:$S$53,6,0)),100,VLOOKUP($A74,'Race 2-Ladies'!$N$23:$S$53,6,0))","v":12},{"$f":"IF(ISNA(VLOOKUP($A74,'Race 3-Ladies'!$N$27:$S$61,6,0)),100,VLOOKUP($A74,'Race 3-Ladies'!$N$27:$S$61,6,0))","v":100},{"$f":"IF(ISNA(VLOOKUP($A74,'Race 4-Ladies'!$N$27:$S$100,6,0)),100,VLOOKUP($A74,'Race 4-Ladies'!$N$30:$S$100,6,0))","v":100},{"$f":"SMALL(D74:G74,{1,2,3})","v":6},12,100,118,14]
["Anne Dawson","SS","V35",{"$f":"IF(ISNA(VLOOKUP($A75,'Race 1-Ladies'!$N$24:$S$53,6,0)),100,VLOOKUP($A75,'Race 1-Ladies'!$N$24:$S$53,6,0))","v":100},{"$f":"IF(ISNA(VLOOKUP($A75,'Race 2-Ladies'!$N$23:$S$53,6,0)),100,VLOOKUP($A75,'Race 2-Ladies'!$N$23:$S$53,6,0))","v":100},{"$f":"IF(ISNA(VLOOKUP($A75,'Race 3-Ladies'!$N$27:$S$61,6,0)),100,VLOOKUP($A75,'Race 3-Ladies'!$N$27:$S$61,6,0))","v":7},{"$f":"IF(ISNA(VLOOKUP($A75,'Race 4-Ladies'!$N$27:$S$100,6,0)),100,VLOOKUP($A75,'Race 4-Ladies'!$N$30:$S$100,6,0))","v":100},{"$f":"SMALL(D75:G75,{1,2,3})","v":7},100,100,207,20]
["Asta Neely","WJ","V35",{"$f":"IF(ISNA(VLOOKUP($A76,'Race 1-Ladies'!$N$24:$S$53,6,0)),100,VLOOKUP($A76,'Race 1-Ladies'!$N$24:$S$53,6,0))","v":100},{"$f":"IF(ISNA(VLOOKUP($A76,'Race 2-Ladies'!$N$23:$S$53,6,0)),100,VLOOKUP($A76,'Race 2-Ladies'!$N$23:$S$53,6,0))","v":100},{"$f":"IF(ISNA(VLOOKUP($A76,'Race 3-Ladies'!$N$27:$S$61,6,0)),100,VLOOKUP($A76,'Race 3-Ladies'!$N$27:$S$61,6,0))","v":100},{"$f":"IF(ISNA(VLOOKUP($A76,'Race 4-Ladies'!$N$27:$S$100,6,0)),100,VLOOKUP($A76,'Race 4-Ladies'!$N$30:$S$100,6,0))","v":100},{"$f":"SMALL(D76:G76,{1,2,3})","v":100},100,100,300,30]
["Briony Hudson","BS","V35",{"$f":"IF(ISNA(VLOOKUP($A77,'Race 1-Ladies'!$N$24:$S$53,6,0)),100,VLOOKUP($A77,'Race 1-Ladies'!$N$24:$S$53,6,0))","v":100},{"$f":"IF(ISNA(VLOOKUP($A77,'Race 2-Ladies'!$N$23:$S$53,6,0)),100,VLOOKUP($A77,'Race 2-Ladies'!$N$23:$S$53,6,0))","v":9},{"$f":"IF(ISNA(VLOOKUP($A77,'Race 3-Ladies'!$N$27:$S$61,6,0)),100,VLOOKUP($A77,'Race 3-Ladies'!$N$27:$S$61,6,0))","v":9},{"$f":"IF(ISNA(VLOOKUP($A77,'Race 4-Ladies'!$N$27:$S$100,6,0)),100,VLOOKUP($A77,'Race 4-Ladies'!$N$30:$S$100,6,0))","v":100},{"$f":"SMALL(D77:G77,{1,2,3})","v":9},9,100,{"$f":"SUM(H77:J77)","v":118},14]
["Carla Hockley","HRC","V35",{"$f":"IF(ISNA(VLOOKUP($A78,'Race 1-Ladies'!$N$24:$S$53,6,0)),100,VLOOKUP($A78,'Race 1-Ladies'!$N$24:$S$53,6,0))","v":100},{"$f":"IF(ISNA(VLOOKUP($A78,'Race 2-Ladies'!$N$23:$S$53,6,0)),100,VLOOKUP($A78,'Race 2-Ladies'!$N$23:$S$53,6,0))","v":100},{"$f":"IF(ISNA(VLOOKUP($A78,'Race 3-Ladies'!$N$27:$S$61,6,0)),100,VLOOKUP($A78,'Race 3-Ladies'!$N$27:$S$61,6,0))","v":100},{"$f":"IF(ISNA(VLOOKUP($A78,'Race 4-Ladies'!$N$27:$S$100,6,0)),100,VLOOKUP($A78,'Race 4-Ladies'!$N$30:$S$100,6,0))","v":100},{"$f":"SMALL(D78:G78,{1,2,3})","v":100},100,100,300,30]
["Catherine Gage","BS","V35",{"$f":"IF(ISNA(VLOOKUP($A79,'Race 1-Ladies'!$N$24:$S$53,6,0)),100,VLOOKUP($A79,'Race 1-Ladies'!$N$24:$S$53,6,0))","v":100},{"$f":"IF(ISNA(VLOOKUP($A79,'Race 2-Ladies'!$N$23:$S$53,6,0)),100,VLOOKUP($A79,'Race 2-Ladies'!$N$23:$S$53,6,0))","v":100},{"$f":"IF(ISNA(VLOOKUP($A79,'Race 3-Ladies'!$N$27:$S$61,6,0)),100,VLOOKUP($A79,'Race 3-Ladies'!$N$27:$S$61,6,0))","v":100},{"$f":"IF(ISNA(VLOOKUP($A79,'Race 4-Ladies'!$N$27:$S$100,6,0)),100,VLOOKUP($A79,'Race 4-Ladies'!$N$30:$S$100,6,0))","v":100},{"$f":"SMALL(D79:G79,{1,2,3})","v":100},100,100,300,30]
["Catherine Ridge","HRC","V35",{"$f":"IF(ISNA(VLOOKUP($A80,'Race 1-Ladies'!$N$24:$S$53,6,0)),100,VLOOKUP($A80,'Race 1-Ladies'!$N$24:$S$53,6,0))","v":100},{"$f":"IF(ISNA(VLOOKUP($A80,'Race 2-Ladies'!$N$23:$S$53,6,0)),100,VLOOKUP($A80,'Race 2-Ladies'!$N$23:$S$53,6,0))","v":100},{"$f":"IF(ISNA(VLOOKUP($A80,'Race 3-Ladies'!$N$27:$S$61,6,0)),100,VLOOKUP($A80,'Race 3-Ladies'!$N$27:$S$61,6,0))","v":6},{"$f":"IF(ISNA(VLOOKUP($A80,'Race 4-Ladies'!$N$27:$S$100,6,0)),100,VLOOKUP($A80,'Race 4-Ladies'!$N$30:$S$100,6,0))","v":6},{"$f":"SMALL(D80:G80,{1,2,3})","v":6},6,100,112,13]
["Charleen Tillotson","HRC","V35",{"$f":"IF(ISNA(VLOOKUP($A81,'Race 1-Ladies'!$N$24:$S$53,6,0)),100,VLOOKUP($A81,'Race 1-Ladies'!$N$24:$S$53,6,0))","v":100},{"$f":"IF(ISNA(VLOOKUP($A81,'Race 2-Ladies'!$N$23:$S$53,6,0)),100,VLOOKUP($A81,'Race 2-Ladies'!$N$23:$S$53,6,0))","v":100},{"$f":"IF(ISNA(VLOOKUP($A81,'Race 3-Ladies'!$N$27:$S$61,6,0)),100,VLOOKUP($A81,'Race 3-Ladies'!$N$27:$S$61,6,0))","v":100},{"$f":"IF(ISNA(VLOOKUP($A81,'Race 4-Ladies'!$N$27:$S$100,6,0)),100,VLOOKUP($A81,'Race 4-Ladies'!$N$30:$S$100,6,0))","v":100},{"$f":"SMALL(D81:G81,{1,2,3})","v":100},100,100,300,30]
["Charlotte Hussey","BS","V35",{"$f":"IF(ISNA(VLOOKUP($A82,'Race 1-Ladies'!$N$24:$S$53,6,0)),100,VLOOKUP($A82,'Race 1-Ladies'!$N$24:$S$53,6,0))","v":100},{"$f":"IF(ISNA(VLOOKUP($A82,'Race 2-Ladies'!$N$23:$S$53,6,0)),100,VLOOKUP($A82,'Race 2-Ladies'!$N$23:$S$53,6,0))","v":100},{"$f":"IF(ISNA(VLOOKUP($A82,'Race 3-Ladies'!$N$27:$S$61,6,0)),100,VLOOKUP($A82,'Race 3-Ladies'!$N$27:$S$61,6,0))","v":100},{"$f":"IF(ISNA(VLOOKUP($A82,'Race 4-Ladies'!$N$27:$S$100,6,0)),100,VLOOKUP($A82,'Race 4-Ladies'!$N$30:$S$100,6,0))","v":100},{"$f":"SMALL(D82:G82,{1,2,3})","v":100},100,100,300,30]
["Charlotte Teall","SS","V35",{"$f":"IF(ISNA(VLOOKUP($A83,'Race 1-Ladies'!$N$24:$S$53,6,0)),100,VLOOKUP($A83,'Race 1-Ladies'!$N$24:$S$53,6,0))","v":100},{"$f":"IF(ISNA(VLOOKUP($A83,'Race 2-Ladies'!$N$23:$S$53,6,0)),100,VLOOKUP($A83,'Race 2-Ladies'!$N$23:$S$53,6,0))","v":16},{"$f":"IF(ISNA(VLOOKUP($A83,'Race 3-Ladies'!$N$27:$S$61,6,0)),100,VLOOKUP($A83,'Race 3-Ladies'!$N$27:$S$61,6,0))","v":100},{"$f":"IF(ISNA(VLOOKUP($A83,'Race 4-Ladies'!$N$27:$S$100,6,0)),100,VLOOKUP($A83,'Race 4-Ladies'!$N$30:$S$100,6,0))","v":12},{"$f":"SMALL(D83:G83,{1,2,3})","v":12},16,100,128,16]
["Charu Dayama","BS","V35",{"$f":"IF(ISNA(VLOOKUP($A84,'Race 1-Ladies'!$N$24:$S$53,6,0)),100,VLOOKUP($A84,'Race 1-Ladies'!$N$24:$S$53,6,0))","v":100},{"$f":"IF(ISNA(VLOOKUP($A84,'Race 2-Ladies'!$N$23:$S$53,6,0)),100,VLOOKUP($A84,'Race 2-Ladies'!$N$23:$S$53,6,0))","v":100},{"$f":"IF(ISNA(VLOOKUP($A84,'Race 3-Ladies'!$N$27:$S$61,6,0)),100,VLOOKUP($A84,'Race 3-Ladies'!$N$27:$S$61,6,0))","v":100},{"$f":"IF(ISNA(VLOOKUP($A84,'Race 4-Ladies'!$N$27:$S$100,6,0)),100,VLOOKUP($A84,'Race 4-Ladies'!$N$30:$S$100,6,0))","v":100},{"$f":"SMALL(D84:G84,{1,2,3})","v":100},100,100,300,30]
["Chloe Boyce","BS","V35",{"$f":"IF(ISNA(VLOOKUP($A85,'Race 1-Ladies'!$N$24:$S$53,6,0)),100,VLOOKUP($A85,'Race 1-Ladies'!$N$24:$S$53,6,0))","v":100},{"$f":"IF(ISNA(VLOOKUP($A85,'Race 2-Ladies'!$N$23:$S$53,6,0)),100,VLOOKUP($A85,'Race 2-Ladies'!$N$23:$S$53,6,0))","v":100},{"$f":"IF(ISNA(VLOOKUP($A85,'Race 3-Ladies'!$N$27:$S$61,6,0)),100,VLOOKUP($A85,'Race 3-Ladies'!$N$27:$S$61,6,0))","v":100},{"$f":"IF(ISNA(VLOOKUP($A85,'Race 4-Ladies'!$N$27:$S$100,6,0)),100,VLOOKUP($A85,'Race 4-Ladies'!$N$30:$S$100,6,0))","v":100},{"$f":"SMALL(D85:G85,{1,2,3})","v":100},100,100,300,30]
["Cindy Drinnan","SS","V35",{"$f":"IF(ISNA(VLOOKUP($A86,'Race 1-Ladies'!$N$24:$S$53,6,0)),100,VLOOKUP($A86,'Race 1-Ladies'!$N$24:$S$53,6,0))","v":100},{"$f":"IF(ISNA(VLOOKUP($A86,'Race 2-Ladies'!$N$23:$S$53,6,0)),100,VLOOKUP($A86,'Race 2-Ladies'!$N$23:$S$53,6,0))","v":100},{"$f":"IF(ISNA(VLOOKUP($A86,'Race 3-Ladies'!$N$27:$S$61,6,0)),100,VLOOKUP($A86,'Race 3-Ladies'!$N$27:$S$61,6,0))","v":100},{"$f":"IF(ISNA(VLOOKUP($A86,'Race 4-Ladies'!$N$27:$S$100,6,0)),100,VLOOKUP($A86,'Race 4-Ladies'!$N$30:$S$100,6,0))","v":100},{"$f":"SMALL(D86:G86,{1,2,3})","v":100},100,100,300,30]
["Claire Clark","HRC","V35",{"$f":"IF(ISNA(VLOOKUP($A87,'Race 1-Ladies'!$N$24:$S$53,6,0)),100,VLOOKUP($A87,'Race 1-Ladies'!$N$24:$S$53,6,0))","v":100},{"$f":"IF(ISNA(VLOOKUP($A87,'Race 2-Ladies'!$N$23:$S$53,6,0)),100,VLOOKUP($A87,'Race 2-Ladies'!$N$23:$S$53,6,0))","v":100},{"$f":"IF(ISNA(VLOOKUP($A87,'Race 3-Ladies'!$N$27:$S$61,6,0)),100,VLOOKUP($A87,'Race 3-Ladies'!$N$27:$S$61,6,0))","v":100},{"$f":"IF(ISNA(VLOOKUP($A87,'Race 4-Ladies'!$N$27:$S$100,6,0)),100,VLOOKUP($A87,'Race 4-Ladies'!$N$30:$S$100,6,0))","v":100},{"$f":"SMALL(D87:G87,{1,2,3})","v":100},100,100,300,30]
["Claire Hardy","WJ","V35",{"$f":"IF(ISNA(VLOOKUP($A88,'Race 1-Ladies'!$N$24:$S$53,6,0)),100,VLOOKUP($A88,'Race 1-Ladies'!$N$24:$S$53,6,0))","v":100},{"$f":"IF(ISNA(VLOOKUP($A88,'Race 2-Ladies'!$N$23:$S$53,6,0)),100,VLOOKUP($A88,'Race 2-Ladies'!$N$23:$S$53,6,0))","v":100},{"$f":"IF(ISNA(VLOOKUP($A88,'Race 3-Ladies'!$N$27:$S$61,6,0)),100,VLOOKUP($A88,'Race 3-Ladies'!$N$27:$S$61,6,0))","v":100},{"$f":"IF(ISNA(VLOOKUP($A88,'Race 4-Ladies'!$N$27:$S$100,6,0)),100,VLOOKUP($A88,'Race 4-Ladies'!$N$30:$S$100,6,0))","v":100},{"$f":"SMALL(D88:G88,{1,2,3})","v":100},100,100,300,30]
["Claire Morris","HRC","V35",{"$f":"IF(ISNA(VLOOKUP($A89,'Race 1-Ladies'!$N$24:$S$53,6,0)),100,VLOOKUP($A89,'Race 1-Ladies'!$N$24:$S$53,6,0))","v":100},{"$f":"IF(ISNA(VLOOKUP($A89,'Race 2-Ladies'!$N$23:$S$53,6,0)),100,VLOOKUP($A89,'Race 2-Ladies'!$N$23:$S$53,6,0))","v":100},{"$f":"IF(ISNA(VLOOKUP($A89,'Race 3-Ladies'!$N$27:$S$61,6,0)),100,VLOOKUP($A89,'Race 3-Ladies'!$N$27:$S$61,6,0))","v":100},{"$f":"IF(ISNA(VLOOKUP($A89,'Race 4-Ladies'!$N$27:$S$100,6,0)),100,VLOOKUP($A89,'Race 4-Ladies'!$N$30:$S$100,6,0))","v":13},{"$f":"SMALL(D89:G89,{1,2,3})","v":13},100,100,213,25]
["Claire Steel","SS","V35",{"$f":"IF(ISNA(VLOOKUP($A90,'Race 1-Ladies'!$N$24:$S$53,6,0)),100,VLOOKUP($A90,'Race 1-Ladies'!$N$24:$S$53,6,0))","v":100},{"$f":"IF(ISNA(VLOOKUP($A90,'Race 2-Ladies'!$N$23:$S$53,6,0)),100,VLOOKUP($A90,'Race 2-Ladies'!$N$23:$S$53,6,0))","v":100},{"$f":"IF(ISNA(VLOOKUP($A90,'Race 3-Ladies'!$N$27:$S$61,6,0)),100,VLOOKUP($A90,'Race 3-Ladies'!$N$27:$S$61,6,0))","v":100},{"$f":"IF(ISNA(VLOOKUP($A90,'Race 4-Ladies'!$N$27:$S$100,6,0)),100,VLOOKUP($A90,'Race 4-Ladies'!$N$30:$S$100,6,0))","v":100},{"$f":"SMALL(D90:G90,{1,2,3})","v":100},100,100,300,30]
["Clare Gallagher","BS","V35",{"$f":"IF(ISNA(VLOOKUP($A91,'Race 1-Ladies'!$N$24:$S$53,6,0)),100,VLOOKUP($A91,'Race 1-Ladies'!$N$24:$S$53,6,0))","v":100},{"$f":"IF(ISNA(VLOOKUP($A91,'Race 2-Ladies'!$N$23:$S$53,6,0)),100,VLOOKUP($A91,'Race 2-Ladies'!$N$23:$S$53,6,0))","v":19},{"$f":"IF(ISNA(VLOOKUP($A91,'Race 3-Ladies'!$N$27:$S$61,6,0)),100,VLOOKUP($A91,'Race 3-Ladies'!$N$27:$S$61,6,0))","v":100},{"$f":"IF(ISNA(VLOOKUP($A91,'Race 4-Ladies'!$N$27:$S$100,6,0)),100,VLOOKUP($A91,'Race 4-Ladies'!$N$30:$S$100,6,0))","v":100},{"$f":"SMALL(D91:G91,{1,2,3})","v":19},100,100,219,28]
["Clare Masterson","BS","V35",{"$f":"IF(ISNA(VLOOKUP($A92,'Race 1-Ladies'!$N$24:$S$53,6,0)),100,VLOOKUP($A92,'Race 1-Ladies'!$N$24:$S$53,6,0))","v":100},{"$f":"IF(ISNA(VLOOKUP($A92,'Race 2-Ladies'!$N$23:$S$53,6,0)),100,VLOOKUP($A92,'Race 2-Ladies'!$N$23:$S$53,6,0))","v":100},{"$f":"IF(ISNA(VLOOKUP($A92,'Race 3-Ladies'!$N$27:$S$61,6,0)),100,VLOOKUP($A92,'Race 3-Ladies'!$N$27:$S$61,6,0))","v":100},{"$f":"IF(ISNA(VLOOKUP($A92,'Race 4-Ladies'!$N$27:$S$100,6,0)),100,VLOOKUP($A92,'Race 4-Ladies'!$N$30:$S$100,6,0))","v":100},{"$f":"SMALL(D92:G92,{1,2,3})","v":100},100,100,300,30]
["Dawn Ruff","SS","V35",{"$f":"IF(ISNA(VLOOKUP($A93,'Race 1-Ladies'!$N$24:$S$53,6,0)),100,VLOOKUP($A93,'Race 1-Ladies'!$N$24:$S$53,6,0))","v":100},{"$f":"IF(ISNA(VLOOKUP($A93,'Race 2-Ladies'!$N$23:$S$53,6,0)),100,VLOOKUP($A93,'Race 2-Ladies'!$N$23:$S$53,6,0))","v":100},{"$f":"IF(ISNA(VLOOKUP($A93,'Race 3-Ladies'!$N$27:$S$61,6,0)),100,VLOOKUP($A93,'Race 3-Ladies'!$N$27:$S$61,6,0))","v":100},{"$f":"IF(ISNA(VLOOKUP($A93,'Race 4-Ladies'!$N$27:$S$100,6,0)),100,VLOOKUP($A93,'Race 4-Ladies'!$N$30:$S$100,6,0))","v":100},{"$f":"SMALL(D93:G93,{1,2,3})","v":100},100,100,300,30]
["Debbie Hayden","HRC","V35",{"$f":"IF(ISNA(VLOOKUP($A94,'Race 1-Ladies'!$N$24:$S$53,6,0)),100,VLOOKUP($A94,'Race 1-Ladies'!$N$24:$S$53,6,0))","v":100},{"$f":"IF(ISNA(VLOOKUP($A94,'Race 2-Ladies'!$N$23:$S$53,6,0)),100,VLOOKUP($A94,'Race 2-Ladies'!$N$23:$S$53,6,0))","v":100},{"$f":"IF(ISNA(VLOOKUP($A94,'Race 3-Ladies'!$N$27:$S$61,6,0)),100,VLOOKUP($A94,'Race 3-Ladies'!$N$27:$S$61,6,0))","v":100},{"$f":"IF(ISNA(VLOOKUP($A94,'Race 4-Ladies'!$N$27:$S$100,6,0)),100,VLOOKUP($A94,'Race 4-Ladies'!$N$30:$S$100,6,0))","v":100},{"$f":"SMALL(D94:G94,{1,2,3})","v":100},100,100,300,30]
["Elizabeth Bellinger","BS","V35",{"$f":"IF(ISNA(VLOOKUP($A95,'Race 1-Ladies'!$N$24:$S$53,6,0)),100,VLOOKUP($A95,'Race 1-Ladies'!$N$24:$S$53,6,0))","v":100},{"$f":"IF(ISNA(VLOOKUP($A95,'Race 2-Ladies'!$N$23:$S$53,6,0)),100,VLOOKUP($A95,'Race 2-Ladies'!$N$23:$S$53,6,0))","v":3},{"$f":"IF(ISNA(VLOOKUP($A95,'Race 3-Ladies'!$N$27:$S$61,6,0)),100,VLOOKUP($A95,'Race 3-Ladies'!$N$27:$S$61,6,0))","v":2},{"$f":"IF(ISNA(VLOOKUP($A95,'Race 4-Ladies'!$N$27:$S$100,6,0)),100,VLOOKUP($A95,'Race 4-Ladies'!$N$30:$S$100,6,0))","v":100},{"$f":"SMALL(D95:G95,{1,2,3})","v":2},3,100,105,11]
["Ellen Brooks","BS","V35",{"$f":"IF(ISNA(VLOOKUP($A96,'Race 1-Ladies'!$N$24:$S$53,6,0)),100,VLOOKUP($A96,'Race 1-Ladies'!$N$24:$S$53,6,0))","v":100},{"$f":"IF(ISNA(VLOOKUP($A96,'Race 2-Ladies'!$N$23:$S$53,6,0)),100,VLOOKUP($A96,'Race 2-Ladies'!$N$23:$S$53,6,0))","v":15},{"$f":"IF(ISNA(VLOOKUP($A96,'Race 3-Ladies'!$N$27:$S$61,6,0)),100,VLOOKUP($A96,'Race 3-Ladies'!$N$27:$S$61,6,0))","v":13},{"$f":"IF(ISNA(VLOOKUP($A96,'Race 4-Ladies'!$N$27:$S$100,6,0)),100,VLOOKUP($A96,'Race 4-Ladies'!$N$30:$S$100,6,0))","v":100},{"$f":"SMALL(D96:G96,{1,2,3})","v":13},15,100,128,16]
["Ellie Burt","WJ","V35",{"$f":"IF(ISNA(VLOOKUP($A97,'Race 1-Ladies'!$N$24:$S$53,6,0)),100,VLOOKUP($A97,'Race 1-Ladies'!$N$24:$S$53,6,0))","v":100},{"$f":"IF(ISNA(VLOOKUP($A97,'Race 2-Ladies'!$N$23:$S$53,6,0)),100,VLOOKUP($A97,'Race 2-Ladies'!$N$23:$S$53,6,0))","v":100},{"$f":"IF(ISNA(VLOOKUP($A97,'Race 3-Ladies'!$N$27:$S$61,6,0)),100,VLOOKUP($A97,'Race 3-Ladies'!$N$27:$S$61,6,0))","v":100},{"$f":"IF(ISNA(VLOOKUP($A97,'Race 4-Ladies'!$N$27:$S$100,6,0)),100,VLOOKUP($A97,'Race 4-Ladies'!$N$30:$S$100,6,0))","v":100},{"$f":"SMALL(D97:G97,{1,2,3})","v":100},100,100,300,30]
["Emily Reid","WJ","V35",{"$f":"IF(ISNA(VLOOKUP($A98,'Race 1-Ladies'!$N$24:$S$53,6,0)),100,VLOOKUP($A98,'Race 1-Ladies'!$N$24:$S$53,6,0))","v":100},{"$f":"IF(ISNA(VLOOKUP($A98,'Race 2-Ladies'!$N$23:$S$53,6,0)),100,VLOOKUP($A98,'Race 2-Ladies'!$N$23:$S$53,6,0))","v":100},{"$f":"IF(ISNA(VLOOKUP($A98,'Race 3-Ladies'!$N$27:$S$61,6,0)),100,VLOOKUP($A98,'Race 3-Ladies'!$N$27:$S$61,6,0))","v":100},{"$f":"IF(ISNA(VLOOKUP($A98,'Race 4-Ladies'!$N$27:$S$100,6,0)),100,VLOOKUP($A98,'Race 4-Ladies'!$N$30:$S$100,6,0))","v":7},{"$f":"SMALL(D98:G98,{1,2,3})","v":7},100,100,207,20]
["Emma Barnes","BS","V35",{"$f":"IF(ISNA(VLOOKUP($A99,'Race 1-Ladies'!$N$24:$S$53,6,0)),100,VLOOKUP($A99,'Race 1-Ladies'!$N$24:$S$53,6,0))","v":100},{"$f":"IF(ISNA(VLOOKUP($A99,'Race 2-Ladies'!$N$23:$S$53,6,0)),100,VLOOKUP($A99,'Race 2-Ladies'!$N$23:$S$53,6,0))","v":100},{"$f":"IF(ISNA(VLOOKUP($A99,'Race 3-Ladies'!$N$27:$S$61,6,0)),100,VLOOKUP($A99,'Race 3-Ladies'!$N$27:$S$61,6,0))","v":100},{"$f":"IF(ISNA(VLOOKUP($A99,'Race 4-Ladies'!$N$27:$S$100,6,0)),100,VLOOKUP($A99,'Race 4-Ladies'!$N$30:$S$100,6,0))","v":100},{"$f":"SMALL(D99:G99,{1,2,3})","v":100},100,100,300,30]
["Emma Mulley","WJ","V35",{"$f":"IF(ISNA(VLOOKUP($A100,'Race 1-Ladies'!$N$24:$S$53,6,0)),100,VLOOKUP($A100,'Race 1-Ladies'!$N$24:$S$53,6,0))","v":100},{"$f":"IF(ISNA(VLOOKUP($A100,'Race 2-Ladies'!$N$23:$S$53,6,0)),100,VLOOKUP($A100,'Race 2-Ladies'!$N$23:$S$53,6,0))","v":100},{"$f":"IF(ISNA(VLOOKUP($A100,'Race 3-Ladies'!$N$27:$S$61,6,0)),100,VLOOKUP($A100,'Race 3-Ladies'!$N$27:$S$61,6,0))","v":100},{"$f":"IF(ISNA(VLOOKUP($A100,'Race 4-Ladies'!$N$27:$S$100,6,0)),100,VLOOKUP($A100,'Race 4-Ladies'!$N$30:$S$100,6,0))","v":100},{"$f":"SMALL(D100:G100,{1,2,3})","v":100},100,100,300,30]
["Emma Raymen","WJ","V35",{"$f":"IF(ISNA(VLOOKUP($A101,'Race 1-Ladies'!$N$24:$S$53,6,0)),100,VLOOKUP($A101,'Race 1-Ladies'!$N$24:$S$53,6,0))","v":100},{"$f":"IF(ISNA(VLOOKUP($A101,'Race 2-Ladies'!$N$23:$S$53,6,0)),100,VLOOKUP($A101,'Race 2-Ladies'!$N$23:$S$53,6,0))","v":100},{"$f":"IF(ISNA(VLOOKUP($A101,'Race 3-Ladies'!$N$27:$S$61,6,0)),100,VLOOKUP($A101,'Race 3-Ladies'!$N$27:$S$61,6,0))","v":100},{"$f":"IF(ISNA(VLOOKUP($A101,'Race 4-Ladies'!$N$27:$S$100,6,0)),100,VLOOKUP($A101,'Race 4-Ladies'!$N$30:$S$100,6,0))","v":100},{"$f":"SMALL(D101:G101,{1,2,3})","v":100},100,100,300,30]
["Eva Lenicka","HRC","V35",{"$f":"IF(ISNA(VLOOKUP($A102,'Race 1-Ladies'!$N$24:$S$53,6,0)),100,VLOOKUP($A102,'Race 1-Ladies'!$N$24:$S$53,6,0))","v":100},{"$f":"IF(ISNA(VLOOKUP($A102,'Race 2-Ladies'!$N$23:$S$53,6,0)),100,VLOOKUP($A102,'Race 2-Ladies'!$N$23:$S$53,6,0))","v":100},{"$f":"IF(ISNA(VLOOKUP($A102,'Race 3-Ladies'!$N$27:$S$61,6,0)),100,VLOOKUP($A102,'Race 3-Ladies'!$N$27:$S$61,6,0))","v":100},{"$f":"IF(ISNA(VLOOKUP($A102,'Race 4-Ladies'!$N$27:$S$100,6,0)),100,VLOOKUP($A102,'Race 4-Ladies'!$N$30:$S$100,6,0))","v":100},{"$f":"SMALL(D102:G102,{1,2,3})","v":100},100,100,300,30]
["Fieke Blackwell","HRC","V35",{"$f":"IF(ISNA(VLOOKUP($A103,'Race 1-Ladies'!$N$24:$S$53,6,0)),100,VLOOKUP($A103,'Race 1-Ladies'!$N$24:$S$53,6,0))","v":2},{"$f":"IF(ISNA(VLOOKUP($A103,'Race 2-Ladies'!$N$23:$S$53,6,0)),100,VLOOKUP($A103,'Race 2-Ladies'!$N$23:$S$53,6,0))","v":4},{"$f":"IF(ISNA(VLOOKUP($A103,'Race 3-Ladies'!$N$27:$S$61,6,0)),100,VLOOKUP($A103,'Race 3-Ladies'!$N$27:$S$61,6,0))","v":3},{"$f":"IF(ISNA(VLOOKUP($A103,'Race 4-Ladies'!$N$27:$S$100,6,0)),100,VLOOKUP($A103,'Race 4-Ladies'!$N$30:$S$100,6,0))","v":4},{"$f":"SMALL(D103:G103,{1,2,3})","v":2},3,4,9,2]
["Fionnuala Quinn","HRC","V35",{"$f":"IF(ISNA(VLOOKUP($A104,'Race 1-Ladies'!$N$24:$S$53,6,0)),100,VLOOKUP($A104,'Race 1-Ladies'!$N$24:$S$53,6,0))","v":100},{"$f":"IF(ISNA(VLOOKUP($A104,'Race 2-Ladies'!$N$23:$S$53,6,0)),100,VLOOKUP($A104,'Race 2-Ladies'!$N$23:$S$53,6,0))","v":100},{"$f":"IF(ISNA(VLOOKUP($A104,'Race 3-Ladies'!$N$27:$S$61,6,0)),100,VLOOKUP($A104,'Race 3-Ladies'!$N$27:$S$61,6,0))","v":100},{"$f":"IF(ISNA(VLOOKUP($A104,'Race 4-Ladies'!$N$27:$S$100,6,0)),100,VLOOKUP($A104,'Race 4-Ladies'!$N$30:$S$100,6,0))","v":100},{"$f":"SMALL(D104:G104,{1,2,3})","v":100},100,100,300,30]
["Frances Iwaschkin","BS","V35",{"$f":"IF(ISNA(VLOOKUP($A105,'Race 1-Ladies'!$N$24:$S$53,6,0)),100,VLOOKUP($A105,'Race 1-Ladies'!$N$24:$S$53,6,0))","v":100},{"$f":"IF(ISNA(VLOOKUP($A105,'Race 2-Ladies'!$N$23:$S$53,6,0)),100,VLOOKUP($A105,'Race 2-Ladies'!$N$23:$S$53,6,0))","v":100},{"$f":"IF(ISNA(VLOOKUP($A105,'Race 3-Ladies'!$N$27:$S$61,6,0)),100,VLOOKUP($A105,'Race 3-Ladies'!$N$27:$S$61,6,0))","v":100},{"$f":"IF(ISNA(VLOOKUP($A105,'Race 4-Ladies'!$N$27:$S$100,6,0)),100,VLOOKUP($A105,'Race 4-Ladies'!$N$30:$S$100,6,0))","v":100},{"$f":"SMALL(D105:G105,{1,2,3})","v":100},100,100,300,30]
["Gemma Charville","WJ","V35",{"$f":"IF(ISNA(VLOOKUP($A106,'Race 1-Ladies'!$N$24:$S$53,6,0)),100,VLOOKUP($A106,'Race 1-Ladies'!$N$24:$S$53,6,0))","v":100},{"$f":"IF(ISNA(VLOOKUP($A106,'Race 2-Ladies'!$N$23:$S$53,6,0)),100,VLOOKUP($A106,'Race 2-Ladies'!$N$23:$S$53,6,0))","v":100},{"$f":"IF(ISNA(VLOOKUP($A106,'Race 3-Ladies'!$N$27:$S$61,6,0)),100,VLOOKUP($A106,'Race 3-Ladies'!$N$27:$S$61,6,0))","v":100},{"$f":"IF(ISNA(VLOOKUP($A106,'Race 4-Ladies'!$N$27:$S$100,6,0)),100,VLOOKUP($A106,'Race 4-Ladies'!$N$30:$S$100,6,0))","v":100},{"$f":"SMALL(D106:G106,{1,2,3})","v":100},100,100,300,30]
["Hayley Miller","BS","V35",{"$f":"IF(ISNA(VLOOKUP($A107,'Race 1-Ladies'!$N$24:$S$53,6,0)),100,VLOOKUP($A107,'Race 1-Ladies'!$N$24:$S$53,6,0))","v":100},{"$f":"IF(ISNA(VLOOKUP($A107,'Race 2-Ladies'!$N$23:$S$53,6,0)),100,VLOOKUP($A107,'Race 2-Ladies'!$N$23:$S$53,6,0))","v":100},{"$f":"IF(ISNA(VLOOKUP($A107,'Race 3-Ladies'!$N$27:$S$61,6,0)),100,VLOOKUP($A107,'Race 3-Ladies'!$N$27:$S$61,6,0))","v":100},{"$f":"IF(ISNA(VLOOKUP($A107,'Race 4-Ladies'!$N$27:$S$100,6,0)),100,VLOOKUP($A107,'Race 4-Ladies'!$N$30:$S$100,6,0))","v":100},{"$f":"SMALL(D107:G107,{1,2,3})","v":100},100,100,300,30]
["Heidi Fox","HRC","V35",{"$f":"IF(ISNA(VLOOKUP($A108,'Race 1-Ladies'!$N$24:$S$53,6,0)),100,VLOOKUP($A108,'Race 1-Ladies'!$N$24:$S$53,6,0))","v":100},{"$f":"IF(ISNA(VLOOKUP($A108,'Race 2-Ladies'!$N$23:$S$53,6,0)),100,VLOOKUP($A108,'Race 2-Ladies'!$N$23:$S$53,6,0))","v":100},{"$f":"IF(ISNA(VLOOKUP($A108,'Race 3-Ladies'!$N$27:$S$61,6,0)),100,VLOOKUP($A108,'Race 3-Ladies'!$N$27:$S$61,6,0))","v":100},{"$f":"IF(ISNA(VLOOKUP($A108,'Race 4-Ladies'!$N$27:$S$100,6,0)),100,VLOOKUP($A108,'Race 4-Ladies'!$N$30:$S$100,6,0))","v":100},{"$f":"SMALL(D108:G108,{1,2,3})","v":100},100,100,300,30]
["Inese Stan","BS","V35",{"$f":"IF(ISNA(VLOOKUP($A109,'Race 1-Ladies'!$N$24:$S$53,6,0)),100,VLOOKUP($A109,'Race 1-Ladies'!$N$24:$S$53,6,0))","v":100},{"$f":"IF(ISNA(VLOOKUP($A109,'Race 2-Ladies'!$N$23:$S$53,6,0)),100,VLOOKUP($A109,'Race 2-Ladies'!$N$23:$S$53,6,0))","v":100},{"$f":"IF(ISNA(VLOOKUP($A109,'Race 3-Ladies'!$N$27:$S$61,6,0)),100,VLOOKUP($A109,'Race 3-Ladies'!$N$27:$S$61,6,0))","v":100},{"$f":"IF(ISNA(VLOOKUP($A109,'Race 4-Ladies'!$N$27:$S$100,6,0)),100,VLOOKUP($A109,'Race 4-Ladies'!$N$30:$S$100,6,0))","v":100},{"$f":"SMALL(D109:G109,{1,2,3})","v":100},100,100,300,30]
["Janna Jenkins","BS","V35",{"$f":"IF(ISNA(VLOOKUP($A110,'Race 1-Ladies'!$N$24:$S$53,6,0)),100,VLOOKUP($A110,'Race 1-Ladies'!$N$24:$S$53,6,0))","v":100},{"$f":"IF(ISNA(VLOOKUP($A110,'Race 2-Ladies'!$N$23:$S$53,6,0)),100,VLOOKUP($A110,'Race 2-Ladies'!$N$23:$S$53,6,0))","v":8},{"$f":"IF(ISNA(VLOOKUP($A110,'Race 3-Ladies'!$N$27:$S$61,6,0)),100,VLOOKUP($A110,'Race 3-Ladies'!$N$27:$S$61,6,0))","v":100},{"$f":"IF(ISNA(VLOOKUP($A110,'Race 4-Ladies'!$N$27:$S$100,6,0)),100,VLOOKUP($A110,'Race 4-Ladies'!$N$30:$S$100,6,0))","v":100},{"$f":"SMALL(D110:G110,{1,2,3})","v":8},100,100,208,22]
["Jemina Punni","WJ","V35",{"$f":"IF(ISNA(VLOOKUP($A111,'Race 1-Ladies'!$N$24:$S$53,6,0)),100,VLOOKUP($A111,'Race 1-Ladies'!$N$24:$S$53,6,0))","v":100},{"$f":"IF(ISNA(VLOOKUP($A111,'Race 2-Ladies'!$N$23:$S$53,6,0)),100,VLOOKUP($A111,'Race 2-Ladies'!$N$23:$S$53,6,0))","v":100},{"$f":"IF(ISNA(VLOOKUP($A111,'Race 3-Ladies'!$N$27:$S$61,6,0)),100,VLOOKUP($A111,'Race 3-Ladies'!$N$27:$S$61,6,0))","v":100},{"$f":"IF(ISNA(VLOOKUP($A111,'Race 4-Ladies'!$N$27:$S$100,6,0)),100,VLOOKUP($A111,'Race 4-Ladies'!$N$30:$S$100,6,0))","v":11},{"$f":"SMALL(D111:G111,{1,2,3})","v":11},100,100,211,24]
["Jennifer Murray","SS","V35",{"$f":"IF(ISNA(VLOOKUP($A112,'Race 1-Ladies'!$N$24:$S$53,6,0)),100,VLOOKUP($A112,'Race 1-Ladies'!$N$24:$S$53,6,0))","v":100},{"$f":"IF(ISNA(VLOOKUP($A112,'Race 2-Ladies'!$N$23:$S$53,6,0)),100,VLOOKUP($A112,'Race 2-Ladies'!$N$23:$S$53,6,0))","v":100},{"$f":"IF(ISNA(VLOOKUP($A112,'Race 3-Ladies'!$N$27:$S$61,6,0)),100,VLOOKUP($A112,'Race 3-Ladies'!$N$27:$S$61,6,0))","v":100},{"$f":"IF(ISNA(VLOOKUP($A112,'Race 4-Ladies'!$N$27:$S$100,6,0)),100,VLOOKUP($A112,'Race 4-Ladies'!$N$30:$S$100,6,0))","v":100},{"$f":"SMALL(D112:G112,{1,2,3})","v":100},100,100,300,30]
["Jenny Latham","BS","V35",{"$f":"IF(ISNA(VLOOKUP($A113,'Race 1-Ladies'!$N$24:$S$53,6,0)),100,VLOOKUP($A113,'Race 1-Ladies'!$N$24:$S$53,6,0))","v":100},{"$f":"IF(ISNA(VLOOKUP($A113,'Race 2-Ladies'!$N$23:$S$53,6,0)),100,VLOOKUP($A113,'Race 2-Ladies'!$N$23:$S$53,6,0))","v":100},{"$f":"IF(ISNA(VLOOKUP($A113,'Race 3-Ladies'!$N$27:$S$61,6,0)),100,VLOOKUP($A113,'Race 3-Ladies'!$N$27:$S$61,6,0))","v":100},{"$f":"IF(ISNA(VLOOKUP($A113,'Race 4-Ladies'!$N$27:$S$100,6,0)),100,VLOOKUP($A113,'Race 4-Ladies'!$N$30:$S$100,6,0))","v":100},{"$f":"SMALL(D113:G113,{1,2,3})","v":100},100,100,300,30]
["Jessica Baxter","WJ","V35",{"$f":"IF(ISNA(VLOOKUP($A114,'Race 1-Ladies'!$N$24:$S$53,6,0)),100,VLOOKUP($A114,'Race 1-Ladies'!$N$24:$S$53,6,0))","v":100},{"$f":"IF(ISNA(VLOOKUP($A114,'Race 2-Ladies'!$N$23:$S$53,6,0)),100,VLOOKUP($A114,'Race 2-Ladies'!$N$23:$S$53,6,0))","v":100},{"$f":"IF(ISNA(VLOOKUP($A114,'Race 3-Ladies'!$N$27:$S$61,6,0)),100,VLOOKUP($A114,'Race 3-Ladies'!$N$27:$S$61,6,0))","v":100},{"$f":"IF(ISNA(VLOOKUP($A114,'Race 4-Ladies'!$N$27:$S$100,6,0)),100,VLOOKUP($A114,'Race 4-Ladies'!$N$30:$S$100,6,0))","v":100},{"$f":"SMALL(D114:G114,{1,2,3})","v":100},100,100,300,30]
["Joanna Jurd","BS","V35",{"$f":"IF(ISNA(VLOOKUP($A115,'Race 1-Ladies'!$N$24:$S$53,6,0)),100,VLOOKUP($A115,'Race 1-Ladies'!$N$24:$S$53,6,0))","v":4},{"$f":"IF(ISNA(VLOOKUP($A115,'Race 2-Ladies'!$N$23:$S$53,6,0)),100,VLOOKUP($A115,'Race 2-Ladies'!$N$23:$S$53,6,0))","v":100},{"$f":"IF(ISNA(VLOOKUP($A115,'Race 3-Ladies'!$N$27:$S$61,6,0)),100,VLOOKUP($A115,'Race 3-Ladies'!$N$27:$S$61,6,0))","v":5},{"$f":"IF(ISNA(VLOOKUP($A115,'Race 4-Ladies'!$N$27:$S$100,6,0)),100,VLOOKUP($A115,'Race 4-Ladies'!$N$30:$S$100,6,0))","v":100},{"$f":"SMALL(D115:G115,{1,2,3})","v":4},5,100,109,12]
["Joy Hale","HRC","V35",{"$f":"IF(ISNA(VLOOKUP($A116,'Race 1-Ladies'!$N$24:$S$53,6,0)),100,VLOOKUP($A116,'Race 1-Ladies'!$N$24:$S$53,6,0))","v":100},{"$f":"IF(ISNA(VLOOKUP($A116,'Race 2-Ladies'!$N$23:$S$53,6,0)),100,VLOOKUP($A116,'Race 2-Ladies'!$N$23:$S$53,6,0))","v":20},{"$f":"IF(ISNA(VLOOKUP($A116,'Race 3-Ladies'!$N$27:$S$61,6,0)),100,VLOOKUP($A116,'Race 3-Ladies'!$N$27:$S$61,6,0))","v":100},{"$f":"IF(ISNA(VLOOKUP($A116,'Race 4-Ladies'!$N$27:$S$100,6,0)),100,VLOOKUP($A116,'Race 4-Ladies'!$N$30:$S$100,6,0))","v":100},{"$f":"SMALL(D116:G116,{1,2,3})","v":20},100,100,220,29]
["Julia Gardiner","HRC","V35",{"$f":"IF(ISNA(VLOOKUP($A117,'Race 1-Ladies'!$N$24:$S$53,6,0)),100,VLOOKUP($A117,'Race 1-Ladies'!$N$24:$S$53,6,0))","v":100},{"$f":"IF(ISNA(VLOOKUP($A117,'Race 2-Ladies'!$N$23:$S$53,6,0)),100,VLOOKUP($A117,'Race 2-Ladies'!$N$23:$S$53,6,0))","v":100},{"$f":"IF(ISNA(VLOOKUP($A117,'Race 3-Ladies'!$N$27:$S$61,6,0)),100,VLOOKUP($A117,'Race 3-Ladies'!$N$27:$S$61,6,0))","v":100},{"$f":"IF(ISNA(VLOOKUP($A117,'Race 4-Ladies'!$N$27:$S$100,6,0)),100,VLOOKUP($A117,'Race 4-Ladies'!$N$30:$S$100,6,0))","v":100},{"$f":"SMALL(D117:G117,{1,2,3})","v":100},100,100,300,30]
["Katrina Dobson","WJ","V35",{"$f":"IF(ISNA(VLOOKUP($A118,'Race 1-Ladies'!$N$24:$S$53,6,0)),100,VLOOKUP($A118,'Race 1-Ladies'!$N$24:$S$53,6,0))","v":3},{"$f":"IF(ISNA(VLOOKUP($A118,'Race 2-Ladies'!$N$23:$S$53,6,0)),100,VLOOKUP($A118,'Race 2-Ladies'!$N$23:$S$53,6,0))","v":5},{"$f":"IF(ISNA(VLOOKUP($A118,'Race 3-Ladies'!$N$27:$S$61,6,0)),100,VLOOKUP($A118,'Race 3-Ladies'!$N$27:$S$61,6,0))","v":4},{"$f":"IF(ISNA(VLOOKUP($A118,'Race 4-Ladies'!$N$27:$S$100,6,0)),100,VLOOKUP($A118,'Race 4-Ladies'!$N$30:$S$100,6,0))","v":3},{"$f":"SMALL(D118:G118,{1,2,3})","v":3},3,4,10,3]
["Katy Woodward","WJ","V35",{"$f":"IF(ISNA(VLOOKUP($A119,'Race 1-Ladies'!$N$24:$S$53,6,0)),100,VLOOKUP($A119,'Race 1-Ladies'!$N$24:$S$53,6,0))","v":1},{"$f":"IF(ISNA(VLOOKUP($A119,'Race 2-Ladies'!$N$23:$S$53,6,0)),100,VLOOKUP($A119,'Race 2-Ladies'!$N$23:$S$53,6,0))","v":1},{"$f":"IF(ISNA(VLOOKUP($A119,'Race 3-Ladies'!$N$27:$S$61,6,0)),100,VLOOKUP($A119,'Race 3-Ladies'!$N$27:$S$61,6,0))","v":1},{"$f":"IF(ISNA(VLOOKUP($A119,'Race 4-Ladies'!$N$27:$S$100,6,0)),100,VLOOKUP($A119,'Race 4-Ladies'!$N$30:$S$100,6,0))","v":1},{"$f":"SMALL(D119:G119,{1,2,3})","v":1},1,1,3,1]
["Keren Greenall","HRC","V35",{"$f":"IF(ISNA(VLOOKUP($A120,'Race 1-Ladies'!$N$24:$S$53,6,0)),100,VLOOKUP($A120,'Race 1-Ladies'!$N$24:$S$53,6,0))","v":100},{"$f":"IF(ISNA(VLOOKUP($A120,'Race 2-Ladies'!$N$23:$S$53,6,0)),100,VLOOKUP($A120,'Race 2-Ladies'!$N$23:$S$53,6,0))","v":100},{"$f":"IF(ISNA(VLOOKUP($A120,'Race 3-Ladies'!$N$27:$S$61,6,0)),100,VLOOKUP($A120,'Race 3-Ladies'!$N$27:$S$61,6,0))","v":100},{"$f":"IF(ISNA(VLOOKUP($A120,'Race 4-Ladies'!$N$27:$S$100,6,0)),100,VLOOKUP($A120,'Race 4-Ladies'!$N$30:$S$100,6,0))","v":16},{"$f":"SMALL(D120:G120,{1,2,3})","v":16},100,100,216,27]
["Kirsty Reid","BS","V35",{"$f":"IF(ISNA(VLOOKUP($A121,'Race 1-Ladies'!$N$24:$S$53,6,0)),100,VLOOKUP($A121,'Race 1-Ladies'!$N$24:$S$53,6,0))","v":100},{"$f":"IF(ISNA(VLOOKUP($A121,'Race 2-Ladies'!$N$23:$S$53,6,0)),100,VLOOKUP($A121,'Race 2-Ladies'!$N$23:$S$53,6,0))","v":100},{"$f":"IF(ISNA(VLOOKUP($A121,'Race 3-Ladies'!$N$27:$S$61,6,0)),100,VLOOKUP($A121,'Race 3-Ladies'!$N$27:$S$61,6,0))","v":100},{"$f":"IF(ISNA(VLOOKUP($A121,'Race 4-Ladies'!$N$27:$S$100,6,0)),100,VLOOKUP($A121,'Race 4-Ladies'!$N$30:$S$100,6,0))","v":100},{"$f":"SMALL(D121:G121,{1,2,3})","v":100},100,100,300,30]
["Lindsay Seth","SS","V35",{"$f":"IF(ISNA(VLOOKUP($A122,'Race 1-Ladies'!$N$24:$S$53,6,0)),100,VLOOKUP($A122,'Race 1-Ladies'!$N$24:$S$53,6,0))","v":100},{"$f":"IF(ISNA(VLOOKUP($A122,'Race 2-Ladies'!$N$23:$S$53,6,0)),100,VLOOKUP($A122,'Race 2-Ladies'!$N$23:$S$53,6,0))","v":100},{"$f":"IF(ISNA(VLOOKUP($A122,'Race 3-Ladies'!$N$27:$S$61,6,0)),100,VLOOKUP($A122,'Race 3-Ladies'!$N$27:$S$61,6,0))","v":100},{"$f":"IF(ISNA(VLOOKUP($A122,'Race 4-Ladies'!$N$27:$S$100,6,0)),100,VLOOKUP($A122,'Race 4-Ladies'!$N$30:$S$100,6,0))","v":100},{"$f":"SMALL(D122:G122,{1,2,3})","v":100},100,100,300,30]
["Lorna Crump","HRC","V35",{"$f":"IF(ISNA(VLOOKUP($A123,'Race 1-Ladies'!$N$24:$S$53,6,0)),100,VLOOKUP($A123,'Race 1-Ladies'!$N$24:$S$53,6,0))","v":100},{"$f":"IF(ISNA(VLOOKUP($A123,'Race 2-Ladies'!$N$23:$S$53,6,0)),100,VLOOKUP($A123,'Race 2-Ladies'!$N$23:$S$53,6,0))","v":100},{"$f":"IF(ISNA(VLOOKUP($A123,'Race 3-Ladies'!$N$27:$S$61,6,0)),100,VLOOKUP($A123,'Race 3-Ladies'!$N$27:$S$61,6,0))","v":100},{"$f":"IF(ISNA(VLOOKUP($A123,'Race 4-Ladies'!$N$27:$S$100,6,0)),100,VLOOKUP($A123,'Race 4-Ladies'!$N$30:$S$100,6,0))","v":100},{"$f":"SMALL(D123:G123,{1,2,3})","v":100},100,100,300,30]
["Lorraine Berry","HRC","V35",{"$f":"IF(ISNA(VLOOKUP($A124,'Race 1-Ladies'!$N$24:$S$53,6,0)),100,VLOOKUP($A124,'Race 1-Ladies'!$N$24:$S$53,6,0))","v":100},{"$f":"IF(ISNA(VLOOKUP($A124,'Race 2-Ladies'!$N$23:$S$53,6,0)),100,VLOOKUP($A124,'Race 2-Ladies'!$N$23:$S$53,6,0))","v":100},{"$f":"IF(ISNA(VLOOKUP($A124,'Race 3-Ladies'!$N$27:$S$61,6,0)),100,VLOOKUP($A124,'Race 3-Ladies'!$N$27:$S$61,6,0))","v":100},{"$f":"IF(ISNA(VLOOKUP($A124,'Race 4-Ladies'!$N$27:$S$100,6,0)),100,VLOOKUP($A124,'Race 4-Ladies'!$N$30:$S$100,6,0))","v":100},{"$f":"SMALL(D124:G124,{1,2,3})","v":100},100,100,300,30]
["Louise Cootes","HRC","V35",{"$f":"IF(ISNA(VLOOKUP($A125,'Race 1-Ladies'!$N$24:$S$53,6,0)),100,VLOOKUP($A125,'Race 1-Ladies'!$N$24:$S$53,6,0))","v":5},{"$f":"IF(ISNA(VLOOKUP($A125,'Race 2-Ladies'!$N$23:$S$53,6,0)),100,VLOOKUP($A125,'Race 2-Ladies'!$N$23:$S$53,6,0))","v":7},{"$f":"IF(ISNA(VLOOKUP($A125,'Race 3-Ladies'!$N$27:$S$61,6,0)),100,VLOOKUP($A125,'Race 3-Ladies'!$N$27:$S$61,6,0))","v":8},{"$f":"IF(ISNA(VLOOKUP($A125,'Race 4-Ladies'!$N$27:$S$100,6,0)),100,VLOOKUP($A125,'Race 4-Ladies'!$N$30:$S$100,6,0))","v":8},{"$f":"SMALL(D125:G125,{1,2,3})","v":5},7,8,20,4]
["Louise Kedge","HRC","V35",{"$f":"IF(ISNA(VLOOKUP($A126,'Race 1-Ladies'!$N$24:$S$53,6,0)),100,VLOOKUP($A126,'Race 1-Ladies'!$N$24:$S$53,6,0))","v":100},{"$f":"IF(ISNA(VLOOKUP($A126,'Race 2-Ladies'!$N$23:$S$53,6,0)),100,VLOOKUP($A126,'Race 2-Ladies'!$N$23:$S$53,6,0))","v":100},{"$f":"IF(ISNA(VLOOKUP($A126,'Race 3-Ladies'!$N$27:$S$61,6,0)),100,VLOOKUP($A126,'Race 3-Ladies'!$N$27:$S$61,6,0))","v":100},{"$f":"IF(ISNA(VLOOKUP($A126,'Race 4-Ladies'!$N$27:$S$100,6,0)),100,VLOOKUP($A126,'Race 4-Ladies'!$N$30:$S$100,6,0))","v":100},{"$f":"SMALL(D126:G126,{1,2,3})","v":100},100,100,300,30]
["Lucie Heanley","SS","V35",{"$f":"IF(ISNA(VLOOKUP($A127,'Race 1-Ladies'!$N$24:$S$53,6,0)),100,VLOOKUP($A127,'Race 1-Ladies'!$N$24:$S$53,6,0))","v":100},{"$f":"IF(ISNA(VLOOKUP($A127,'Race 2-Ladies'!$N$23:$S$53,6,0)),100,VLOOKUP($A127,'Race 2-Ladies'!$N$23:$S$53,6,0))","v":6},{"$f":"IF(ISNA(VLOOKUP($A127,'Race 3-Ladies'!$N$27:$S$61,6,0)),100,VLOOKUP($A127,'Race 3-Ladies'!$N$27:$S$61,6,0))","v":100},{"$f":"IF(ISNA(VLOOKUP($A127,'Race 4-Ladies'!$N$27:$S$100,6,0)),100,VLOOKUP($A127,'Race 4-Ladies'!$N$30:$S$100,6,0))","v":100},{"$f":"SMALL(D127:G127,{1,2,3})","v":6},100,100,206,19]
["Lucy Elizabeth Jones","WJ","V35",{"$f":"IF(ISNA(VLOOKUP($A128,'Race 1-Ladies'!$N$24:$S$53,6,0)),100,VLOOKUP($A128,'Race 1-Ladies'!$N$24:$S$53,6,0))","v":100},{"$f":"IF(ISNA(VLOOKUP($A128,'Race 2-Ladies'!$N$23:$S$53,6,0)),100,VLOOKUP($A128,'Race 2-Ladies'!$N$23:$S$53,6,0))","v":100},{"$f":"IF(ISNA(VLOOKUP($A128,'Race 3-Ladies'!$N$27:$S$61,6,0)),100,VLOOKUP($A128,'Race 3-Ladies'!$N$27:$S$61,6,0))","v":100},{"$f":"IF(ISNA(VLOOKUP($A128,'Race 4-Ladies'!$N$27:$S$100,6,0)),100,VLOOKUP($A128,'Race 4-Ladies'!$N$30:$S$100,6,0))","v":100},{"$f":"SMALL(D128:G128,{1,2,3})","v":100},100,100,300,30]
["Lucy Northedge","BS","V35",{"$f":"IF(ISNA(VLOOKUP($A129,'Race 1-Ladies'!$N$24:$S$53,6,0)),100,VLOOKUP($A129,'Race 1-Ladies'!$N$24:$S$53,6,0))","v":100},{"$f":"IF(ISNA(VLOOKUP($A129,'Race 2-Ladies'!$N$23:$S$53,6,0)),100,VLOOKUP($A129,'Race 2-Ladies'!$N$23:$S$53,6,0))","v":100},{"$f":"IF(ISNA(VLOOKUP($A129,'Race 3-Ladies'!$N$27:$S$61,6,0)),100,VLOOKUP($A129,'Race 3-Ladies'!$N$27:$S$61,6,0))","v":100},{"$f":"IF(ISNA(VLOOKUP($A129,'Race 4-Ladies'!$N$27:$S$100,6,0)),100,VLOOKUP($A129,'Race 4-Ladies'!$N$30:$S$100,6,0))","v":100},{"$f":"SMALL(D129:G129,{1,2,3})","v":100},100,100,300,30]
["Lucy Robinson","BS","V35",{"$f":"IF(ISNA(VLOOKUP($A130,'Race 1-Ladies'!$N$24:$S$53,6,0)),100,VLOOKUP($A130,'Race 1-Ladies'!$N$24:$S$53,6,0))","v":100},{"$f":"IF(ISNA(VLOOKUP($A130,'Race 2-Ladies'!$N$23:$S$53,6,0)),100,VLOOKUP($A130,'Race 2-Ladies'!$N$23:$S$53,6,0))","v":100},{"$f":"IF(ISNA(VLOOKUP($A130,'Race 3-Ladies'!$N$27:$S$61,6,0)),100,VLOOKUP($A130,'Race 3-Ladies'!$N$27:$S$61,6,0))","v":100},{"$f":"IF(ISNA(VLOOKUP($A130,'Race 4-Ladies'!$N$27:$S$100,6,0)),100,VLOOKUP($A130,'Race 4-Ladies'!$N$30:$S$100,6,0))","v":100},{"$f":"SMALL(D130:G130,{1,2,3})","v":100},100,100,300,30]
["Mairead Wright","BS","V35",{"$f":"IF(ISNA(VLOOKUP($A131,'Race 1-Ladies'!$N$24:$S$53,6,0)),100,VLOOKUP($A131,'Race 1-Ladies'!$N$24:$S$53,6,0))","v":100},{"$f":"IF(ISNA(VLOOKUP($A131,'Race 2-Ladies'!$N$23:$S$53,6,0)),100,VLOOKUP($A131,'Race 2-Ladies'!$N$23:$S$53,6,0))","v":100},{"$f":"IF(ISNA(VLOOKUP($A131,'Race 3-Ladies'!$N$27:$S$61,6,0)),100,VLOOKUP($A131,'Race 3-Ladies'!$N$27:$S$61,6,0))","v":100},{"$f":"IF(ISNA(VLOOKUP($A131,'Race 4-Ladies'!$N$27:$S$100,6,0)),100,VLOOKUP($A131,'Race 4-Ladies'!$N$30:$S$100,6,0))","v":100},{"$f":"SMALL(D131:G131,{1,2,3})","v":100},100,100,300,30]
["Martine Beard","HRC","V35",{"$f":"IF(ISNA(VLOOKUP($A132,'Race 1-Ladies'!$N$24:$S$53,6,0)),100,VLOOKUP($A132,'Race 1-Ladies'!$N$24:$S$53,6,0))","v":100},{"$f":"IF(ISNA(VLOOKUP($A132,'Race 2-Ladies'!$N$23:$S$53,6,0)),100,VLOOKUP($A132,'Race 2-Ladies'!$N$23:$S$53,6,0))","v":100},{"$f":"IF(ISNA(VLOOKUP($A132,'Race 3-Ladies'!$N$27:$S$61,6,0)),100,VLOOKUP($A132,'Race 3-Ladies'!$N$27:$S$61,6,0))","v":100},{"$f":"IF(ISNA(VLOOKUP($A132,'Race 4-Ladies'!$N$27:$S$100,6,0)),100,VLOOKUP($A132,'Race 4-Ladies'!$N$30:$S$100,6,0))","v":100},{"$f":"SMALL(D132:G132,{1,2,3})","v":100},100,100,{"$f":"SUM(H132:J132)","v":300},30]
["Meryl Herniman","BS","V35",{"$f":"IF(ISNA(VLOOKUP($A133,'Race 1-Ladies'!$N$24:$S$53,6,0)),100,VLOOKUP($A133,'Race 1-Ladies'!$N$24:$S$53,6,0))","v":100},{"$f":"IF(ISNA(VLOOKUP($A133,'Race 2-Ladies'!$N$23:$S$53,6,0)),100,VLOOKUP($A133,'Race 2-Ladies'!$N$23:$S$53,6,0))","v":100},{"$f":"IF(ISNA(VLOOKUP($A133,'Race 3-Ladies'!$N$27:$S$61,6,0)),100,VLOOKUP($A133,'Race 3-Ladies'!$N$27:$S$61,6,0))","v":100},{"$f":"IF(ISNA(VLOOKUP($A133,'Race 4-Ladies'!$N$27:$S$100,6,0)),100,VLOOKUP($A133,'Race 4-Ladies'!$N$30:$S$100,6,0))","v":100},{"$f":"SMALL(D133:G133,{1,2,3})","v":100},100,100,300,30]
["Michelle Hyde","HRC","V35",{"$f":"IF(ISNA(VLOOKUP($A134,'Race 1-Ladies'!$N$24:$S$53,6,0)),100,VLOOKUP($A134,'Race 1-Ladies'!$N$24:$S$53,6,0))","v":100},{"$f":"IF(ISNA(VLOOKUP($A134,'Race 2-Ladies'!$N$23:$S$53,6,0)),100,VLOOKUP($A134,'Race 2-Ladies'!$N$23:$S$53,6,0))","v":11},{"$f":"IF(ISNA(VLOOKUP($A134,'Race 3-Ladies'!$N$27:$S$61,6,0)),100,VLOOKUP($A134,'Race 3-Ladies'!$N$27:$S$61,6,0))","v":11},{"$f":"IF(ISNA(VLOOKUP($A134,'Race 4-Ladies'!$N$27:$S$100,6,0)),100,VLOOKUP($A134,'Race 4-Ladies'!$N$30:$S$100,6,0))","v":14},{"$f":"SMALL(D134:G134,{1,2,3})","v":11},11,14,36,{"$f":"RANK(K134,$K$69:$K$172,1)","v":7}]
["Michelle Sheridan","HRC","V35",{"$f":"IF(ISNA(VLOOKUP($A135,'Race 1-Ladies'!$N$24:$S$53,6,0)),100,VLOOKUP($A135,'Race 1-Ladies'!$N$24:$S$53,6,0))","v":100},{"$f":"IF(ISNA(VLOOKUP($A135,'Race 2-Ladies'!$N$23:$S$53,6,0)),100,VLOOKUP($A135,'Race 2-Ladies'!$N$23:$S$53,6,0))","v":10},{"$f":"IF(ISNA(VLOOKUP($A135,'Race 3-Ladies'!$N$27:$S$61,6,0)),100,VLOOKUP($A135,'Race 3-Ladies'!$N$27:$S$61,6,0))","v":10},{"$f":"IF(ISNA(VLOOKUP($A135,'Race 4-Ladies'!$N$27:$S$100,6,0)),100,VLOOKUP($A135,'Race 4-Ladies'!$N$30:$S$100,6,0))","v":9},{"$f":"SMALL(D135:G135,{1,2,3})","v":9},10,10,29,5]
["Mili Mladenovic","WJ","V35",{"$f":"IF(ISNA(VLOOKUP($A136,'Race 1-Ladies'!$N$24:$S$53,6,0)),100,VLOOKUP($A136,'Race 1-Ladies'!$N$24:$S$53,6,0))","v":100},{"$f":"IF(ISNA(VLOOKUP($A136,'Race 2-Ladies'!$N$23:$S$53,6,0)),100,VLOOKUP($A136,'Race 2-Ladies'!$N$23:$S$53,6,0))","v":100},{"$f":"IF(ISNA(VLOOKUP($A136,'Race 3-Ladies'!$N$27:$S$61,6,0)),100,VLOOKUP($A136,'Race 3-Ladies'!$N$27:$S$61,6,0))","v":100},{"$f":"IF(ISNA(VLOOKUP($A136,'Race 4-Ladies'!$N$27:$S$100,6,0)),100,VLOOKUP($A136,'Race 4-Ladies'!$N$30:$S$100,6,0))","v":100},{"$f":"SMALL(D136:G136,{1,2,3})","v":100},100,100,300,30]
["Mrinalini Kar","BS","V35",{"$f":"IF(ISNA(VLOOKUP($A137,'Race 1-Ladies'!$N$24:$S$53,6,0)),100,VLOOKUP($A137,'Race 1-Ladies'!$N$24:$S$53,6,0))","v":100},{"$f":"IF(ISNA(VLOOKUP($A137,'Race 2-Ladies'!$N$23:$S$53,6,0)),100,VLOOKUP($A137,'Race 2-Ladies'!$N$23:$S$53,6,0))","v":100},{"$f":"IF(ISNA(VLOOKUP($A137,'Race 3-Ladies'!$N$27:$S$61,6,0)),100,VLOOKUP($A137,'Race 3-Ladies'!$N$27:$S$61,6,0))","v":100},{"$f":"IF(ISNA(VLOOKUP($A137,'Race 4-Ladies'!$N$27:$S$100,6,0)),100,VLOOKUP($A137,'Race 4-Ladies'!$N$30:$S$100,6,0))","v":100},{"$f":"SMALL(D137:G137,{1,2,3})","v":100},100,100,300,30]
["Natalie Gilder","SS","V35",{"$f":"IF(ISNA(VLOOKUP($A138,'Race 1-Ladies'!$N$24:$S$53,6,0)),100,VLOOKUP($A138,'Race 1-Ladies'!$N$24:$S$53,6,0))","v":100},{"$f":"IF(ISNA(VLOOKUP($A138,'Race 2-Ladies'!$N$23:$S$53,6,0)),100,VLOOKUP($A138,'Race 2-Ladies'!$N$23:$S$53,6,0))","v":100},{"$f":"IF(ISNA(VLOOKUP($A138,'Race 3-Ladies'!$N$27:$S$61,6,0)),100,VLOOKUP($A138,'Race 3-Ladies'!$N$27:$S$61,6,0))","v":100},{"$f":"IF(ISNA(VLOOKUP($A138,'Race 4-Ladies'!$N$27:$S$100,6,0)),100,VLOOKUP($A138,'Race 4-Ladies'!$N$30:$S$100,6,0))","v":100},{"$f":"SMALL(D138:G138,{1,2,3})","v":100},100,100,300,30]
["Natasha Spiller","BS","V35",{"$f":"IF(ISNA(VLOOKUP($A139,'Race 1-Ladies'!$N$24:$S$53,6,0)),100,VLOOKUP($A139,'Race 1-Ladies'!$N$24:$S$53,6,0))","v":100},{"$f":"IF(ISNA(VLOOKUP($A139,'Race 2-Ladies'!$N$23:$S$53,6,0)),100,VLOOKUP($A139,'Race 2-Ladies'!$N$23:$S$53,6,0))","v":100},{"$f":"IF(ISNA(VLOOKUP($A139,'Race 3-Ladies'!$N$27:$S$61,6,0)),100,VLOOKUP($A139,'Race 3-Ladies'!$N$27:$S$61,6,0))","v":100},{"$f":"IF(ISNA(VLOOKUP($A139,'Race 4-Ladies'!$N$27:$S$100,6,0)),100,VLOOKUP($A139,'Race 4-Ladies'!$N$30:$S$100,6,0))","v":100},{"$f":"SMALL(D139:G139,{1,2,3})","v":100},100,100,300,30]
["Neema Sheby","BS","V35",{"$f":"IF(ISNA(VLOOKUP($A140,'Race 1-Ladies'!$N$24:$S$53,6,0)),100,VLOOKUP($A140,'Race 1-Ladies'!$N$24:$S$53,6,0))","v":100},{"$f":"IF(ISNA(VLOOKUP($A140,'Race 2-Ladies'!$N$23:$S$53,6,0)),100,VLOOKUP($A140,'Race 2-Ladies'!$N$23:$S$53,6,0))","v":100},{"$f":"IF(ISNA(VLOOKUP($A140,'Race 3-Ladies'!$N$27:$S$61,6,0)),100,VLOOKUP($A140,'Race 3-Ladies'!$N$27:$S$61,6,0))","v":100},{"$f":"IF(ISNA(VLOOKUP($A140,'Race 4-Ladies'!$N$27:$S$100,6,0)),100,VLOOKUP($A140,'Race 4-Ladies'!$N$30:$S$100,6,0))","v":100},{"$f":"SMALL(D140:G140,{1,2,3})","v":100},100,100,300,30]
["Nick Smith","BS","V35",{"$f":"IF(ISNA(VLOOKUP($A141,'Race 1-Ladies'!$N$24:$S$53,6,0)),100,VLOOKUP($A141,'Race 1-Ladies'!$N$24:$S$53,6,0))","v":100},{"$f":"IF(ISNA(VLOOKUP($A141,'Race 2-Ladies'!$N$23:$S$53,6,0)),100,VLOOKUP($A141,'Race 2-Ladies'!$N$23:$S$53,6,0))","v":100},{"$f":"IF(ISNA(VLOOKUP($A141,'Race 3-Ladies'!$N$27:$S$61,6,0)),100,VLOOKUP($A141,'Race 3-Ladies'!$N$27:$S$61,6,0))","v":100},{"$f":"IF(ISNA(VLOOKUP($A141,'Race 4-Ladies'!$N$27:$S$100,6,0)),100,VLOOKUP($A141,'Race 4-Ladies'!$N$30:$S$100,6,0))","v":100},{"$f":"SMALL(D141:G141,{1,2,3})","v":100},100,100,300,30]
["Nicola Cockerell","BS","V35",{"$f":"IF(ISNA(VLOOKUP($A142,'Race 1-Ladies'!$N$24:$S$53,6,0)),100,VLOOKUP($A142,'Race 1-Ladies'!$N$24:$S$53,6,0))","v":100},{"$f":"IF(ISNA(VLOOKUP($A142,'Race 2-Ladies'!$N$23:$S$53,6,0)),100,VLOOKUP($A142,'Race 2-Ladies'!$N$23:$S$53,6,0))","v":100},{"$f":"IF(ISNA(VLOOKUP($A142,'Race 3-Ladies'!$N$27:$S$61,6,0)),100,VLOOKUP($A142,'Race 3-Ladies'!$N$27:$S$61,6,0))","v":100},{"$f":"IF(ISNA(VLOOKUP($A142,'Race 4-Ladies'!$N$27:$S$100,6,0)),100,VLOOKUP($A142,'Race 4-Ladies'!$N$30:$S$100,6,0))","v":100},{"$f":"SMALL(D142:G142,{1,2,3})","v":100},100,100,300,30]
["Nicola Quantrell","WJ","V35",{"$f":"IF(ISNA(VLOOKUP($A143,'Race 1-Ladies'!$N$24:$S$53,6,0)),100,VLOOKUP($A143,'Race 1-Ladies'!$N$24:$S$53,6,0))","v":100},{"$f":"IF(ISNA(VLOOKUP($A143,'Race 2-Ladies'!$N$23:$S$53,6,0)),100,VLOOKUP($A143,'Race 2-Ladies'!$N$23:$S$53,6,0))","v":100},{"$f":"IF(ISNA(VLOOKUP($A143,'Race 3-Ladies'!$N$27:$S$61,6,0)),100,VLOOKUP($A143,'Race 3-Ladies'!$N$27:$S$61,6,0))","v":100},{"$f":"IF(ISNA(VLOOKUP($A143,'Race 4-Ladies'!$N$27:$S$100,6,0)),100,VLOOKUP($A143,'Race 4-Ladies'!$N$30:$S$100,6,0))","v":100},{"$f":"SMALL(D143:G143,{1,2,3})","v":100},100,100,300,30]
["Nicola Smith","HRC","V35",{"$f":"IF(ISNA(VLOOKUP($A144,'Race 1-Ladies'!$N$24:$S$53,6,0)),100,VLOOKUP($A144,'Race 1-Ladies'!$N$24:$S$53,6,0))","v":100},{"$f":"IF(ISNA(VLOOKUP($A144,'Race 2-Ladies'!$N$23:$S$53,6,0)),100,VLOOKUP($A144,'Race 2-Ladies'!$N$23:$S$53,6,0))","v":100},{"$f":"IF(ISNA(VLOOKUP($A144,'Race 3-Ladies'!$N$27:$S$61,6,0)),100,VLOOKUP($A144,'Race 3-Ladies'!$N$27:$S$61,6,0))","v":100},{"$f":"IF(ISNA(VLOOKUP($A144,'Race 4-Ladies'!$N$27:$S$100,6,0)),100,VLOOKUP($A144,'Race 4-Ladies'!$N$30:$S$100,6,0))","v":100},{"$f":"SMALL(D144:G144,{1,2,3})","v":100},100,100,300,30]
["Odette Galea-Highstead","HRC","V35",{"$f":"IF(ISNA(VLOOKUP($A145,'Race 1-Ladies'!$N$24:$S$53,6,0)),100,VLOOKUP($A145,'Race 1-Ladies'!$N$24:$S$53,6,0))","v":100},{"$f":"IF(ISNA(VLOOKUP($A145,'Race 2-Ladies'!$N$23:$S$53,6,0)),100,VLOOKUP($A145,'Race 2-Ladies'!$N$23:$S$53,6,0))","v":100},{"$f":"IF(ISNA(VLOOKUP($A145,'Race 3-Ladies'!$N$27:$S$61,6,0)),100,VLOOKUP($A145,'Race 3-Ladies'!$N$27:$S$61,6,0))","v":100},{"$f":"IF(ISNA(VLOOKUP($A145,'Race 4-Ladies'!$N$27:$S$100,6,0)),100,VLOOKUP($A145,'Race 4-Ladies'!$N$30:$S$100,6,0))","v":100},{"$f":"SMALL(D145:G145,{1,2,3})","v":100},100,100,300,30]
["Paula Gollop","WJ","V35",{"$f":"IF(ISNA(VLOOKUP($A146,'Race 1-Ladies'!$N$24:$S$53,6,0)),100,VLOOKUP($A146,'Race 1-Ladies'!$N$24:$S$53,6,0))","v":10},{"$f":"IF(ISNA(VLOOKUP($A146,'Race 2-Ladies'!$N$23:$S$53,6,0)),100,VLOOKUP($A146,'Race 2-Ladies'!$N$23:$S$53,6,0))","v":100},{"$f":"IF(ISNA(VLOOKUP($A146,'Race 3-Ladies'!$N$27:$S$61,6,0)),100,VLOOKUP($A146,'Race 3-Ladies'!$N$27:$S$61,6,0))","v":100},{"$f":"IF(ISNA(VLOOKUP($A146,'Race 4-Ladies'!$N$27:$S$100,6,0)),100,VLOOKUP($A146,'Race 4-Ladies'!$N$30:$S$100,6,0))","v":100},{"$f":"SMALL(D146:G146,{1,2,3})","v":10},100,100,210,23]
["Rachael Pearson","SS","V35",{"$f":"IF(ISNA(VLOOKUP($A147,'Race 1-Ladies'!$N$24:$S$53,6,0)),100,VLOOKUP($A147,'Race 1-Ladies'!$N$24:$S$53,6,0))","v":100},{"$f":"IF(ISNA(VLOOKUP($A147,'Race 2-Ladies'!$N$23:$S$53,6,0)),100,VLOOKUP($A147,'Race 2-Ladies'!$N$23:$S$53,6,0))","v":100},{"$f":"IF(ISNA(VLOOKUP($A147,'Race 3-Ladies'!$N$27:$S$61,6,0)),100,VLOOKUP($A147,'Race 3-Ladies'!$N$27:$S$61,6,0))","v":100},{"$f":"IF(ISNA(VLOOKUP($A147,'Race 4-Ladies'!$N$27:$S$100,6,0)),100,VLOOKUP($A147,'Race 4-Ladies'!$N$30:$S$100,6,0))","v":100},{"$f":"SMALL(D147:G147,{1,2,3})","v":100},100,100,300,30]
["Rachel Symonds","WJ","V35",{"$f":"IF(ISNA(VLOOKUP($A148,'Race 1-Ladies'!$N$24:$S$53,6,0)),100,VLOOKUP($A148,'Race 1-Ladies'!$N$24:$S$53,6,0))","v":100},{"$f":"IF(ISNA(VLOOKUP($A148,'Race 2-Ladies'!$N$23:$S$53,6,0)),100,VLOOKUP($A148,'Race 2-Ladies'!$N$23:$S$53,6,0))","v":100},{"$f":"IF(ISNA(VLOOKUP($A148,'Race 3-Ladies'!$N$27:$S$61,6,0)),100,VLOOKUP($A148,'Race 3-Ladies'!$N$27:$S$61,6,0))","v":100},{"$f":"IF(ISNA(VLOOKUP($A148,'Race 4-Ladies'!$N$27:$S$100,6,0)),100,VLOOKUP($A148,'Race 4-Ladies'!$N$30:$S$100,6,0))","v":100},{"$f":"SMALL(D148:G148,{1,2,3})","v":100},100,100,300,30]
["Rebecca Cole","BS","V35",{"$f":"IF(ISNA(VLOOKUP($A149,'Race 1-Ladies'!$N$24:$S$53,6,0)),100,VLOOKUP($A149,'Race 1-Ladies'!$N$24:$S$53,6,0))","v":100},{"$f":"IF(ISNA(VLOOKUP($A149,'Race 2-Ladies'!$N$23:$S$53,6,0)),100,VLOOKUP($A149,'Race 2-Ladies'!$N$23:$S$53,6,0))","v":100},{"$f":"IF(ISNA(VLOOKUP($A149,'Race 3-Ladies'!$N$27:$S$61,6,0)),100,VLOOKUP($A149,'Race 3-Ladies'!$N$27:$S$61,6,0))","v":100},{"$f":"IF(ISNA(VLOOKUP($A149,'Race 4-Ladies'!$N$27:$S$100,6,0)),100,VLOOKUP($A149,'Race 4-Ladies'!$N$30:$S$100,6,0))","v":100},{"$f":"SMALL(D149:G149,{1,2,3})","v":100},100,100,300,30]
["Rebecca Thorp","BS","V35",{"$f":"IF(ISNA(VLOOKUP($A150,'Race 1-Ladies'!$N$24:$S$53,6,0)),100,VLOOKUP($A150,'Race 1-Ladies'!$N$24:$S$53,6,0))","v":100},{"$f":"IF(ISNA(VLOOKUP($A150,'Race 2-Ladies'!$N$23:$S$53,6,0)),100,VLOOKUP($A150,'Race 2-Ladies'!$N$23:$S$53,6,0))","v":100},{"$f":"IF(ISNA(VLOOKUP($A150,'Race 3-Ladies'!$N$27:$S$61,6,0)),100,VLOOKUP($A150,'Race 3-Ladies'!$N$27:$S$61,6,0))","v":100},{"$f":"IF(ISNA(VLOOKUP($A150,'Race 4-Ladies'!$N$27:$S$100,6,0)),100,VLOOKUP($A150,'Race 4-Ladies'!$N$30:$S$100,6,0))","v":100},{"$f":"SMALL(D150:G150,{1,2,3})","v":100},100,100,300,30]
["Rebecca White","SS","V35",{"$f":"IF(ISNA(VLOOKUP($A151,'Race 1-Ladies'!$N$24:$S$53,6,0)),100,VLOOKUP($A151,'Race 1-Ladies'!$N$24:$S$53,6,0))","v":100},{"$f":"IF(ISNA(VLOOKUP($A151,'Race 2-Ladies'!$N$23:$S$53,6,0)),100,VLOOKUP($A151,'Race 2-Ladies'!$N$23:$S$53,6,0))","v":100},{"$f":"IF(ISNA(VLOOKUP($A151,'Race 3-Ladies'!$N$27:$S$61,6,0)),100,VLOOKUP($A151,'Race 3-Ladies'!$N$27:$S$61,6,0))","v":100},{"$f":"IF(ISNA(VLOOKUP($A151,'Race 4-Ladies'!$N$27:$S$100,6,0)),100,VLOOKUP($A151,'Race 4-Ladies'!$N$30:$S$100,6,0))","v":100},{"$f":"SMALL(D151:G151,{1,2,3})","v":100},100,100,300,30]
["Sandra Webber","HRC","V35",{"$f":"IF(ISNA(VLOOKUP($A152,'Race 1-Ladies'!$N$24:$S$53,6,0)),100,VLOOKUP($A152,'Race 1-Ladies'!$N$24:$S$53,6,0))","v":100},{"$f":"IF(ISNA(VLOOKUP($A152,'Race 2-Ladies'!$N$23:$S$53,6,0)),100,VLOOKUP($A152,'Race 2-Ladies'!$N$23:$S$53,6,0))","v":100},{"$f":"IF(ISNA(VLOOKUP($A152,'Race 3-Ladies'!$N$27:$S$61,6,0)),100,VLOOKUP($A152,'Race 3-Ladies'!$N$27:$S$61,6,0))","v":100},{"$f":"IF(ISNA(VLOOKUP($A152,'Race 4-Ladies'!$N$27:$S$100,6,0)),100,VLOOKUP($A152,'Race 4-Ladies'!$N$30:$S$100,6,0))","v":100},{"$f":"SMALL(D152:G152,{1,2,3})","v":100},100,100,300,30]
["Sarah Berry","WJ","V35",{"$f":"IF(ISNA(VLOOKUP($A153,'Race 1-Ladies'!$N$24:$S$53,6,0)),100,VLOOKUP($A153,'Race 1-Ladies'!$N$24:$S$53,6,0))","v":100},{"$f":"IF(ISNA(VLOOKUP($A153,'Race 2-Ladies'!$N$23:$S$53,6,0)),100,VLOOKUP($A153,'Race 2-Ladies'!$N$23:$S$53,6,0))","v":100},{"$f":"IF(ISNA(VLOOKUP($A153,'Race 3-Ladies'!$N$27:$S$61,6,0)),100,VLOOKUP($A153,'Race 3-Ladies'!$N$27:$S$61,6,0))","v":100},{"$f":"IF(ISNA(VLOOKUP($A153,'Race 4-Ladies'!$N$27:$S$100,6,0)),100,VLOOKUP($A153,'Race 4-Ladies'!$N$30:$S$100,6,0))","v":100},{"$f":"SMALL(D153:G153,{1,2,3})","v":100},100,100,300,30]
["sarah crooks","BS","V35",{"$f":"IF(ISNA(VLOOKUP($A154,'Race 1-Ladies'!$N$24:$S$53,6,0)),100,VLOOKUP($A154,'Race 1-Ladies'!$N$24:$S$53,6,0))","v":100},{"$f":"IF(ISNA(VLOOKUP($A154,'Race 2-Ladies'!$N$23:$S$53,6,0)),100,VLOOKUP($A154,'Race 2-Ladies'!$N$23:$S$53,6,0))","v":100},{"$f":"IF(ISNA(VLOOKUP($A154,'Race 3-Ladies'!$N$27:$S$61,6,0)),100,VLOOKUP($A154,'Race 3-Ladies'!$N$27:$S$61,6,0))","v":100},{"$f":"IF(ISNA(VLOOKUP($A154,'Race 4-Ladies'!$N$27:$S$100,6,0)),100,VLOOKUP($A154,'Race 4-Ladies'!$N$30:$S$100,6,0))","v":100},{"$f":"SMALL(D154:G154,{1,2,3})","v":100},100,100,300,30]
["Sarah Hopewell","WJ","V35",{"$f":"IF(ISNA(VLOOKUP($A155,'Race 1-Ladies'!$N$24:$S$53,6,0)),100,VLOOKUP($A155,'Race 1-Ladies'!$N$24:$S$53,6,0))","v":100},{"$f":"IF(ISNA(VLOOKUP($A155,'Race 2-Ladies'!$N$23:$S$53,6,0)),100,VLOOKUP($A155,'Race 2-Ladies'!$N$23:$S$53,6,0))","v":100},{"$f":"IF(ISNA(VLOOKUP($A155,'Race 3-Ladies'!$N$27:$S$61,6,0)),100,VLOOKUP($A155,'Race 3-Ladies'!$N$27:$S$61,6,0))","v":100},{"$f":"IF(ISNA(VLOOKUP($A155,'Race 4-Ladies'!$N$27:$S$100,6,0)),100,VLOOKUP($A155,'Race 4-Ladies'!$N$30:$S$100,6,0))","v":5},{"$f":"SMALL(D155:G155,{1,2,3})","v":5},100,100,205,18]
["Sarah Mackay","BS","V35",{"$f":"IF(ISNA(VLOOKUP($A156,'Race 1-Ladies'!$N$24:$S$53,6,0)),100,VLOOKUP($A156,'Race 1-Ladies'!$N$24:$S$53,6,0))","v":100},{"$f":"IF(ISNA(VLOOKUP($A156,'Race 2-Ladies'!$N$23:$S$53,6,0)),100,VLOOKUP($A156,'Race 2-Ladies'!$N$23:$S$53,6,0))","v":14},{"$f":"IF(ISNA(VLOOKUP($A156,'Race 3-Ladies'!$N$27:$S$61,6,0)),100,VLOOKUP($A156,'Race 3-Ladies'!$N$27:$S$61,6,0))","v":100},{"$f":"IF(ISNA(VLOOKUP($A156,'Race 4-Ladies'!$N$27:$S$100,6,0)),100,VLOOKUP($A156,'Race 4-Ladies'!$N$30:$S$100,6,0))","v":100},{"$f":"SMALL(D156:G156,{1,2,3})","v":14},100,100,214,26]
["Sarah Shucksmith","SS","V35",{"$f":"IF(ISNA(VLOOKUP($A157,'Race 1-Ladies'!$N$24:$S$53,6,0)),100,VLOOKUP($A157,'Race 1-Ladies'!$N$24:$S$53,6,0))","v":100},{"$f":"IF(ISNA(VLOOKUP($A157,'Race 2-Ladies'!$N$23:$S$53,6,0)),100,VLOOKUP($A157,'Race 2-Ladies'!$N$23:$S$53,6,0))","v":100},{"$f":"IF(ISNA(VLOOKUP($A157,'Race 3-Ladies'!$N$27:$S$61,6,0)),100,VLOOKUP($A157,'Race 3-Ladies'!$N$27:$S$61,6,0))","v":100},{"$f":"IF(ISNA(VLOOKUP($A157,'Race 4-Ladies'!$N$27:$S$100,6,0)),100,VLOOKUP($A157,'Race 4-Ladies'!$N$30:$S$100,6,0))","v":100},{"$f":"SMALL(D157:G157,{1,2,3})","v":100},100,100,300,30]
["Selina Morgan","HRC","V35",{"$f":"IF(ISNA(VLOOKUP($A158,'Race 1-Ladies'!$N$24:$S$53,6,0)),100,VLOOKUP($A158,'Race 1-Ladies'!$N$24:$S$53,6,0))","v":9},{"$f":"IF(ISNA(VLOOKUP($A158,'Race 2-Ladies'!$N$23:$S$53,6,0)),100,VLOOKUP($A158,'Race 2-Ladies'!$N$23:$S$53,6,0))","v":17},{"$f":"IF(ISNA(VLOOKUP($A158,'Race 3-Ladies'!$N$27:$S$61,6,0)),100,VLOOKUP($A158,'Race 3-Ladies'!$N$27:$S$61,6,0))","v":100},{"$f":"IF(ISNA(VLOOKUP($A158,'Race 4-Ladies'!$N$27:$S$100,6,0)),100,VLOOKUP($A158,'Race 4-Ladies'!$N$30:$S$100,6,0))","v":15},{"$f":"SMALL(D158:G158,{1,2,3})","v":9},15,17,41,9]
["Serena Beresford","BS","V35",{"$f":"IF(ISNA(VLOOKUP($A159,'Race 1-Ladies'!$N$24:$S$53,6,0)),100,VLOOKUP($A159,'Race 1-Ladies'!$N$24:$S$53,6,0))","v":7},{"$f":"IF(ISNA(VLOOKUP($A159,'Race 2-Ladies'!$N$23:$S$53,6,0)),100,VLOOKUP($A159,'Race 2-Ladies'!$N$23:$S$53,6,0))","v":18},{"$f":"IF(ISNA(VLOOKUP($A159,'Race 3-Ladies'!$N$27:$S$61,6,0)),100,VLOOKUP($A159,'Race 3-Ladies'!$N$27:$S$61,6,0))","v":12},{"$f":"IF(ISNA(VLOOKUP($A159,'Race 4-Ladies'!$N$27:$S$100,6,0)),100,VLOOKUP($A159,'Race 4-Ladies'!$N$30:$S$100,6,0))","v":100},{"$f":"SMALL(D159:G159,{1,2,3})","v":7},12,18,37,8]
["Shelley Menell","SS","V35",{"$f":"IF(ISNA(VLOOKUP($A160,'Race 1-Ladies'!$N$24:$S$53,6,0)),100,VLOOKUP($A160,'Race 1-Ladies'!$N$24:$S$53,6,0))","v":100},{"$f":"IF(ISNA(VLOOKUP($A160,'Race 2-Ladies'!$N$23:$S$53,6,0)),100,VLOOKUP($A160,'Race 2-Ladies'!$N$23:$S$53,6,0))","v":100},{"$f":"IF(ISNA(VLOOKUP($A160,'Race 3-Ladies'!$N$27:$S$61,6,0)),100,VLOOKUP($A160,'Race 3-Ladies'!$N$27:$S$61,6,0))","v":100},{"$f":"IF(ISNA(VLOOKUP($A160,'Race 4-Ladies'!$N$27:$S$100,6,0)),100,VLOOKUP($A160,'Race 4-Ladies'!$N$30:$S$100,6,0))","v":100},{"$f":"SMALL(D160:G160,{1,2,3})","v":100},100,100,300,30]
["Sophie Evans","BS","V35",{"$f":"IF(ISNA(VLOOKUP($A161,'Race 1-Ladies'!$N$24:$S$53,6,0)),100,VLOOKUP($A161,'Race 1-Ladies'!$N$24:$S$53,6,0))","v":100},{"$f":"IF(ISNA(VLOOKUP($A161,'Race 2-Ladies'!$N$23:$S$53,6,0)),100,VLOOKUP($A161,'Race 2-Ladies'!$N$23:$S$53,6,0))","v":100},{"$f":"IF(ISNA(VLOOKUP($A161,'Race 3-Ladies'!$N$27:$S$61,6,0)),100,VLOOKUP($A161,'Race 3-Ladies'!$N$27:$S$61,6,0))","v":100},{"$f":"IF(ISNA(VLOOKUP($A161,'Race 4-Ladies'!$N$27:$S$100,6,0)),100,VLOOKUP($A161,'Race 4-Ladies'!$N$30:$S$100,6,0))","v":100},{"$f":"SMALL(D161:G161,{1,2,3})","v":100},100,100,300,30]
["Stacey Smith","BS","V35",{"$f":"IF(ISNA(VLOOKUP($A162,'Race 1-Ladies'!$N$24:$S$53,6,0)),100,VLOOKUP($A162,'Race 1-Ladies'!$N$24:$S$53,6,0))","v":100},{"$f":"IF(ISNA(VLOOKUP($A162,'Race 2-Ladies'!$N$23:$S$53,6,0)),100,VLOOKUP($A162,'Race 2-Ladies'!$N$23:$S$53,6,0))","v":100},{"$f":"IF(ISNA(VLOOKUP($A162,'Race 3-Ladies'!$N$27:$S$61,6,0)),100,VLOOKUP($A162,'Race 3-Ladies'!$N$27:$S$61,6,0))","v":100},{"$f":"IF(ISNA(VLOOKUP($A162,'Race 4-Ladies'!$N$27:$S$100,6,0)),100,VLOOKUP($A162,'Race 4-Ladies'!$N$30:$S$100,6,0))","v":100},{"$f":"SMALL(D162:G162,{1,2,3})","v":100},100,100,300,30]
["Sue Hamilton","SS","V35",{"$f":"IF(ISNA(VLOOKUP($A163,'Race 1-Ladies'!$N$24:$S$53,6,0)),100,VLOOKUP($A163,'Race 1-Ladies'!$N$24:$S$53,6,0))","v":100},{"$f":"IF(ISNA(VLOOKUP($A163,'Race 2-Ladies'!$N$23:$S$53,6,0)),100,VLOOKUP($A163,'Race 2-Ladies'!$N$23:$S$53,6,0))","v":100},{"$f":"IF(ISNA(VLOOKUP($A163,'Race 3-Ladies'!$N$27:$S$61,6,0)),100,VLOOKUP($A163,'Race 3-Ladies'!$N$27:$S$61,6,0))","v":100},{"$f":"IF(ISNA(VLOOKUP($A163,'Race 4-Ladies'!$N$27:$S$100,6,0)),100,VLOOKUP($A163,'Race 4-Ladies'!$N$30:$S$100,6,0))","v":100},{"$f":"SMALL(D163:G163,{1,2,3})","v":100},100,100,300,30]
["Susan Anderson","BS","V35",{"$f":"IF(ISNA(VLOOKUP($A164,'Race 1-Ladies'!$N$24:$S$53,6,0)),100,VLOOKUP($A164,'Race 1-Ladies'!$N$24:$S$53,6,0))","v":100},{"$f":"IF(ISNA(VLOOKUP($A164,'Race 2-Ladies'!$N$23:$S$53,6,0)),100,VLOOKUP($A164,'Race 2-Ladies'!$N$23:$S$53,6,0))","v":100},{"$f":"IF(ISNA(VLOOKUP($A164,'Race 3-Ladies'!$N$27:$S$61,6,0)),100,VLOOKUP($A164,'Race 3-Ladies'!$N$27:$S$61,6,0))","v":100},{"$f":"IF(ISNA(VLOOKUP($A164,'Race 4-Ladies'!$N$27:$S$100,6,0)),100,VLOOKUP($A164,'Race 4-Ladies'!$N$30:$S$100,6,0))","v":100},{"$f":"SMALL(D164:G164,{1,2,3})","v":100},100,100,300,30]
["Susan Judge","BS","V35",{"$f":"IF(ISNA(VLOOKUP($A165,'Race 1-Ladies'!$N$24:$S$53,6,0)),100,VLOOKUP($A165,'Race 1-Ladies'!$N$24:$S$53,6,0))","v":100},{"$f":"IF(ISNA(VLOOKUP($A165,'Race 2-Ladies'!$N$23:$S$53,6,0)),100,VLOOKUP($A165,'Race 2-Ladies'!$N$23:$S$53,6,0))","v":100},{"$f":"IF(ISNA(VLOOKUP($A165,'Race 3-Ladies'!$N$27:$S$61,6,0)),100,VLOOKUP($A165,'Race 3-Ladies'!$N$27:$S$61,6,0))","v":100},{"$f":"IF(ISNA(VLOOKUP($A165,'Race 4-Ladies'!$N$27:$S$100,6,0)),100,VLOOKUP($A165,'Race 4-Ladies'!$N$30:$S$100,6,0))","v":100},{"$f":"SMALL(D165:G165,{1,2,3})","v":100},100,100,300,30]
["Terri Wiley","HRC","V35",{"$f":"IF(ISNA(VLOOKUP($A166,'Race 1-Ladies'!$N$24:$S$53,6,0)),100,VLOOKUP($A166,'Race 1-Ladies'!$N$24:$S$53,6,0))","v":100},{"$f":"IF(ISNA(VLOOKUP($A166,'Race 2-Ladies'!$N$23:$S$53,6,0)),100,VLOOKUP($A166,'Race 2-Ladies'!$N$23:$S$53,6,0))","v":2},{"$f":"IF(ISNA(VLOOKUP($A166,'Race 3-Ladies'!$N$27:$S$61,6,0)),100,VLOOKUP($A166,'Race 3-Ladies'!$N$27:$S$61,6,0))","v":100},{"$f":"IF(ISNA(VLOOKUP($A166,'Race 4-Ladies'!$N$27:$S$100,6,0)),100,VLOOKUP($A166,'Race 4-Ladies'!$N$30:$S$100,6,0))","v":2},{"$f":"SMALL(D166:G166,{1,2,3})","v":2},2,100,104,10]
["Tina Clark","WJ","V35",{"$f":"IF(ISNA(VLOOKUP($A167,'Race 1-Ladies'!$N$24:$S$53,6,0)),100,VLOOKUP($A167,'Race 1-Ladies'!$N$24:$S$53,6,0))","v":100},{"$f":"IF(ISNA(VLOOKUP($A167,'Race 2-Ladies'!$N$23:$S$53,6,0)),100,VLOOKUP($A167,'Race 2-Ladies'!$N$23:$S$53,6,0))","v":100},{"$f":"IF(ISNA(VLOOKUP($A167,'Race 3-Ladies'!$N$27:$S$61,6,0)),100,VLOOKUP($A167,'Race 3-Ladies'!$N$27:$S$61,6,0))","v":100},{"$f":"IF(ISNA(VLOOKUP($A167,'Race 4-Ladies'!$N$27:$S$100,6,0)),100,VLOOKUP($A167,'Race 4-Ladies'!$N$30:$S$100,6,0))","v":100},{"$f":"SMALL(D167:G167,{1,2,3})","v":100},100,100,300,30]
["Tracey Cruz","HRC","V35",{"$f":"IF(ISNA(VLOOKUP($A168,'Race 1-Ladies'!$N$24:$S$53,6,0)),100,VLOOKUP($A168,'Race 1-Ladies'!$N$24:$S$53,6,0))","v":100},{"$f":"IF(ISNA(VLOOKUP($A168,'Race 2-Ladies'!$N$23:$S$53,6,0)),100,VLOOKUP($A168,'Race 2-Ladies'!$N$23:$S$53,6,0))","v":100},{"$f":"IF(ISNA(VLOOKUP($A168,'Race 3-Ladies'!$N$27:$S$61,6,0)),100,VLOOKUP($A168,'Race 3-Ladies'!$N$27:$S$61,6,0))","v":100},{"$f":"IF(ISNA(VLOOKUP($A168,'Race 4-Ladies'!$N$27:$S$100,6,0)),100,VLOOKUP($A168,'Race 4-Ladies'!$N$30:$S$100,6,0))","v":100},{"$f":"SMALL(D168:G168,{1,2,3})","v":100},100,100,300,30]
["Tracy Stratford","HRC","V35",{"$f":"IF(ISNA(VLOOKUP($A169,'Race 1-Ladies'!$N$24:$S$53,6,0)),100,VLOOKUP($A169,'Race 1-Ladies'!$N$24:$S$53,6,0))","v":8},{"$f":"IF(ISNA(VLOOKUP($A169,'Race 2-Ladies'!$N$23:$S$53,6,0)),100,VLOOKUP($A169,'Race 2-Ladies'!$N$23:$S$53,6,0))","v":13},{"$f":"IF(ISNA(VLOOKUP($A169,'Race 3-Ladies'!$N$27:$S$61,6,0)),100,VLOOKUP($A169,'Race 3-Ladies'!$N$27:$S$61,6,0))","v":100},{"$f":"IF(ISNA(VLOOKUP($A169,'Race 4-Ladies'!$N$27:$S$100,6,0)),100,VLOOKUP($A169,'Race 4-Ladies'!$N$30:$S$100,6,0))","v":10},{"$f":"SMALL(D169:G169,{1,2,3})","v":8},10,13,31,6]
["Valerie Foreman","SS","V35",{"$f":"IF(ISNA(VLOOKUP($A170,'Race 1-Ladies'!$N$24:$S$53,6,0)),100,VLOOKUP($A170,'Race 1-Ladies'!$N$24:$S$53,6,0))","v":100},{"$f":"IF(ISNA(VLOOKUP($A170,'Race 2-Ladies'!$N$23:$S$53,6,0)),100,VLOOKUP($A170,'Race 2-Ladies'!$N$23:$S$53,6,0))","v":100},{"$f":"IF(ISNA(VLOOKUP($A170,'Race 3-Ladies'!$N$27:$S$61,6,0)),100,VLOOKUP($A170,'Race 3-Ladies'!$N$27:$S$61,6,0))","v":100},{"$f":"IF(ISNA(VLOOKUP($A170,'Race 4-Ladies'!$N$27:$S$100,6,0)),100,VLOOKUP($A170,'Race 4-Ladies'!$N$30:$S$100,6,0))","v":100},{"$f":"SMALL(D170:G170,{1,2,3})","v":100},100,100,300,30]
["Victoria Jory","HRC","V35",{"$f":"IF(ISNA(VLOOKUP($A171,'Race 1-Ladies'!$N$24:$S$53,6,0)),100,VLOOKUP($A171,'Race 1-Ladies'!$N$24:$S$53,6,0))","v":100},{"$f":"IF(ISNA(VLOOKUP($A171,'Race 2-Ladies'!$N$23:$S$53,6,0)),100,VLOOKUP($A171,'Race 2-Ladies'!$N$23:$S$53,6,0))","v":100},{"$f":"IF(ISNA(VLOOKUP($A171,'Race 3-Ladies'!$N$27:$S$61,6,0)),100,VLOOKUP($A171,'Race 3-Ladies'!$N$27:$S$61,6,0))","v":100},{"$f":"IF(ISNA(VLOOKUP($A171,'Race 4-Ladies'!$N$27:$S$100,6,0)),100,VLOOKUP($A171,'Race 4-Ladies'!$N$30:$S$100,6,0))","v":100},{"$f":"SMALL(D171:G171,{1,2,3})","v":100},100,100,300,30]
["Victoria Maddox","BS","V35",{"$f":"IF(ISNA(VLOOKUP($A172,'Race 1-Ladies'!$N$24:$S$53,6,0)),100,VLOOKUP($A172,'Race 1-Ladies'!$N$24:$S$53,6,0))","v":100},{"$f":"IF(ISNA(VLOOKUP($A172,'Race 2-Ladies'!$N$23:$S$53,6,0)),100,VLOOKUP($A172,'Race 2-Ladies'!$N$23:$S$53,6,0))","v":100},{"$f":"IF(ISNA(VLOOKUP($A172,'Race 3-Ladies'!$N$27:$S$61,6,0)),100,VLOOKUP($A172,'Race 3-Ladies'!$N$27:$S$61,6,0))","v":100},{"$f":"IF(ISNA(VLOOKUP($A172,'Race 4-Ladies'!$N$27:$S$100,6,0)),100,VLOOKUP($A172,'Race 4-Ladies'!$N$30:$S$100,6,0))","v":100},{"$f":"SMALL(D172:G172,{1,2,3})","v":100},100,100,300,30]
["Alison Malcolm","BS","V45",{"$f":"IF(ISNA(VLOOKUP($A173,'Race 1-Ladies'!$U$24:$Z$53,6,0)),100,VLOOKUP($A173,'Race 1-Ladies'!$U$24:$Z$53,6,0))","v":100},{"$f":"IF(ISNA(VLOOKUP($A173,'Race 2-Ladies'!$U$23:$Z$53,6,0)),100,VLOOKUP($A173,'Race 2-Ladies'!$U$23:$Z$53,6,0))","v":18},{"$f":"IF(ISNA(VLOOKUP($A173,'Race 3-Ladies'!$U$27:$Z$61,6,0)),100,VLOOKUP($A173,'Race 3-Ladies'!$U$27:$Z$61,6,0))","v":19},{"$f":"IF(ISNA(VLOOKUP($A173,'Race 4-Ladies'!$U$30:$Z$100,6,0)),100,VLOOKUP($A173,'Race 4-Ladies'!$U$30:$Z$100,6,0))","v":100},{"$f":"SMALL(D173:G173,{1,2,3})","v":18},19,100,137,{"$f":"RANK(K173,$K$173:$K$311,1)","v":21}]
["Alison Street","BS","V45",{"$f":"IF(ISNA(VLOOKUP($A174,'Race 1-Ladies'!$U$24:$Z$53,6,0)),100,VLOOKUP($A174,'Race 1-Ladies'!$U$24:$Z$53,6,0))","v":100},{"$f":"IF(ISNA(VLOOKUP($A174,'Race 2-Ladies'!$U$23:$Z$53,6,0)),100,VLOOKUP($A174,'Race 2-Ladies'!$U$23:$Z$53,6,0))","v":100},{"$f":"IF(ISNA(VLOOKUP($A174,'Race 3-Ladies'!$U$27:$Z$61,6,0)),100,VLOOKUP($A174,'Race 3-Ladies'!$U$27:$Z$61,6,0))","v":100},{"$f":"IF(ISNA(VLOOKUP($A174,'Race 4-Ladies'!$U$30:$Z$100,6,0)),100,VLOOKUP($A174,'Race 4-Ladies'!$U$30:$Z$100,6,0))","v":100},{"$f":"SMALL(D174:G174,{1,2,3})","v":100},100,100,300,{"$f":"RANK(K174,$K$174:$K$311,1)","v":38}]
["Amanda Bavin","BS","V45",{"$f":"IF(ISNA(VLOOKUP($A175,'Race 1-Ladies'!$U$24:$Z$53,6,0)),100,VLOOKUP($A175,'Race 1-Ladies'!$U$24:$Z$53,6,0))","v":100},{"$f":"IF(ISNA(VLOOKUP($A175,'Race 2-Ladies'!$U$23:$Z$53,6,0)),100,VLOOKUP($A175,'Race 2-Ladies'!$U$23:$Z$53,6,0))","v":100},{"$f":"IF(ISNA(VLOOKUP($A175,'Race 3-Ladies'!$U$27:$Z$61,6,0)),100,VLOOKUP($A175,'Race 3-Ladies'!$U$27:$Z$61,6,0))","v":100},{"$f":"IF(ISNA(VLOOKUP($A175,'Race 4-Ladies'!$U$30:$Z$100,6,0)),100,VLOOKUP($A175,'Race 4-Ladies'!$U$30:$Z$100,6,0))","v":100},{"$f":"SMALL(D175:G175,{1,2,3})","v":100},100,100,300,{"$f":"RANK(K175,$K$174:$K$311,1)","v":38}]
["Amanda Edwards","BS","V45",{"$f":"IF(ISNA(VLOOKUP($A176,'Race 1-Ladies'!$U$24:$Z$53,6,0)),100,VLOOKUP($A176,'Race 1-Ladies'!$U$24:$Z$53,6,0))","v":100},{"$f":"IF(ISNA(VLOOKUP($A176,'Race 2-Ladies'!$U$23:$Z$53,6,0)),100,VLOOKUP($A176,'Race 2-Ladies'!$U$23:$Z$53,6,0))","v":100},{"$f":"IF(ISNA(VLOOKUP($A176,'Race 3-Ladies'!$U$27:$Z$61,6,0)),100,VLOOKUP($A176,'Race 3-Ladies'!$U$27:$Z$61,6,0))","v":100},{"$f":"IF(ISNA(VLOOKUP($A176,'Race 4-Ladies'!$U$30:$Z$100,6,0)),100,VLOOKUP($A176,'Race 4-Ladies'!$U$30:$Z$100,6,0))","v":100},{"$f":"SMALL(D176:G176,{1,2,3})","v":100},100,100,300,38]
["Amanda Richard","WJ","V45",{"$f":"IF(ISNA(VLOOKUP($A177,'Race 1-Ladies'!$U$24:$Z$53,6,0)),100,VLOOKUP($A177,'Race 1-Ladies'!$U$24:$Z$53,6,0))","v":100},{"$f":"IF(ISNA(VLOOKUP($A177,'Race 2-Ladies'!$U$23:$Z$53,6,0)),100,VLOOKUP($A177,'Race 2-Ladies'!$U$23:$Z$53,6,0))","v":100},{"$f":"IF(ISNA(VLOOKUP($A177,'Race 3-Ladies'!$U$27:$Z$61,6,0)),100,VLOOKUP($A177,'Race 3-Ladies'!$U$27:$Z$61,6,0))","v":100},{"$f":"IF(ISNA(VLOOKUP($A177,'Race 4-Ladies'!$U$30:$Z$100,6,0)),100,VLOOKUP($A177,'Race 4-Ladies'!$U$30:$Z$100,6,0))","v":100},{"$f":"SMALL(D177:G177,{1,2,3})","v":100},100,100,300,38]
["Andrea Thorpe","BS","V45",{"$f":"IF(ISNA(VLOOKUP($A178,'Race 1-Ladies'!$U$24:$Z$53,6,0)),100,VLOOKUP($A178,'Race 1-Ladies'!$U$24:$Z$53,6,0))","v":100},{"$f":"IF(ISNA(VLOOKUP($A178,'Race 2-Ladies'!$U$23:$Z$53,6,0)),100,VLOOKUP($A178,'Race 2-Ladies'!$U$23:$Z$53,6,0))","v":100},{"$f":"IF(ISNA(VLOOKUP($A178,'Race 3-Ladies'!$U$27:$Z$61,6,0)),100,VLOOKUP($A178,'Race 3-Ladies'!$U$27:$Z$61,6,0))","v":100},{"$f":"IF(ISNA(VLOOKUP($A178,'Race 4-Ladies'!$U$30:$Z$100,6,0)),100,VLOOKUP($A178,'Race 4-Ladies'!$U$30:$Z$100,6,0))","v":100},{"$f":"SMALL(D178:G178,{1,2,3})","v":100},100,100,300,38]
["Ani Brix","WJ","V45",{"$f":"IF(ISNA(VLOOKUP($A179,'Race 1-Ladies'!$U$24:$Z$53,6,0)),100,VLOOKUP($A179,'Race 1-Ladies'!$U$24:$Z$53,6,0))","v":100},{"$f":"IF(ISNA(VLOOKUP($A179,'Race 2-Ladies'!$U$23:$Z$53,6,0)),100,VLOOKUP($A179,'Race 2-Ladies'!$U$23:$Z$53,6,0))","v":100},{"$f":"IF(ISNA(VLOOKUP($A179,'Race 3-Ladies'!$U$27:$Z$61,6,0)),100,VLOOKUP($A179,'Race 3-Ladies'!$U$27:$Z$61,6,0))","v":100},{"$f":"IF(ISNA(VLOOKUP($A179,'Race 4-Ladies'!$U$30:$Z$100,6,0)),100,VLOOKUP($A179,'Race 4-Ladies'!$U$30:$Z$100,6,0))","v":100},{"$f":"SMALL(D179:G179,{1,2,3})","v":100},100,100,300,38]
["Annie Reville","WJ","V45",{"$f":"IF(ISNA(VLOOKUP($A180,'Race 1-Ladies'!$U$24:$Z$53,6,0)),100,VLOOKUP($A180,'Race 1-Ladies'!$U$24:$Z$53,6,0))","v":100},{"$f":"IF(ISNA(VLOOKUP($A180,'Race 2-Ladies'!$U$23:$Z$53,6,0)),100,VLOOKUP($A180,'Race 2-Ladies'!$U$23:$Z$53,6,0))","v":100},{"$f":"IF(ISNA(VLOOKUP($A180,'Race 3-Ladies'!$U$27:$Z$61,6,0)),100,VLOOKUP($A180,'Race 3-Ladies'!$U$27:$Z$61,6,0))","v":100},{"$f":"IF(ISNA(VLOOKUP($A180,'Race 4-Ladies'!$U$30:$Z$100,6,0)),100,VLOOKUP($A180,'Race 4-Ladies'!$U$30:$Z$100,6,0))","v":6},{"$f":"SMALL(D180:G180,{1,2,3})","v":6},100,100,206,23]
["Anthea Francis","WJ","V45",{"$f":"IF(ISNA(VLOOKUP($A181,'Race 1-Ladies'!$U$24:$Z$53,6,0)),100,VLOOKUP($A181,'Race 1-Ladies'!$U$24:$Z$53,6,0))","v":6},{"$f":"IF(ISNA(VLOOKUP($A181,'Race 2-Ladies'!$U$23:$Z$53,6,0)),100,VLOOKUP($A181,'Race 2-Ladies'!$U$23:$Z$53,6,0))","v":3},{"$f":"IF(ISNA(VLOOKUP($A181,'Race 3-Ladies'!$U$27:$Z$61,6,0)),100,VLOOKUP($A181,'Race 3-Ladies'!$U$27:$Z$61,6,0))","v":5},{"$f":"IF(ISNA(VLOOKUP($A181,'Race 4-Ladies'!$U$30:$Z$100,6,0)),100,VLOOKUP($A181,'Race 4-Ladies'!$U$30:$Z$100,6,0))","v":5},{"$f":"SMALL(D181:G181,{1,2,3})","v":3},5,5,13,3]
["Antonella Crudgington","HRC","V45",{"$f":"IF(ISNA(VLOOKUP($A182,'Race 1-Ladies'!$U$24:$Z$53,6,0)),100,VLOOKUP($A182,'Race 1-Ladies'!$U$24:$Z$53,6,0))","v":100},{"$f":"IF(ISNA(VLOOKUP($A182,'Race 2-Ladies'!$U$23:$Z$53,6,0)),100,VLOOKUP($A182,'Race 2-Ladies'!$U$23:$Z$53,6,0))","v":100},{"$f":"IF(ISNA(VLOOKUP($A182,'Race 3-Ladies'!$U$27:$Z$61,6,0)),100,VLOOKUP($A182,'Race 3-Ladies'!$U$27:$Z$61,6,0))","v":100},{"$f":"IF(ISNA(VLOOKUP($A182,'Race 4-Ladies'!$U$30:$Z$100,6,0)),100,VLOOKUP($A182,'Race 4-Ladies'!$U$30:$Z$100,6,0))","v":100},{"$f":"SMALL(D182:G182,{1,2,3})","v":100},100,100,300,38]
["Beverley McLees","WJ","V45",{"$f":"IF(ISNA(VLOOKUP($A183,'Race 1-Ladies'!$U$24:$Z$53,6,0)),100,VLOOKUP($A183,'Race 1-Ladies'!$U$24:$Z$53,6,0))","v":4},{"$f":"IF(ISNA(VLOOKUP($A183,'Race 2-Ladies'!$U$23:$Z$53,6,0)),100,VLOOKUP($A183,'Race 2-Ladies'!$U$23:$Z$53,6,0))","v":100},{"$f":"IF(ISNA(VLOOKUP($A183,'Race 3-Ladies'!$U$27:$Z$61,6,0)),100,VLOOKUP($A183,'Race 3-Ladies'!$U$27:$Z$61,6,0))","v":100},{"$f":"IF(ISNA(VLOOKUP($A183,'Race 4-Ladies'!$U$30:$Z$100,6,0)),100,VLOOKUP($A183,'Race 4-Ladies'!$U$30:$Z$100,6,0))","v":100},{"$f":"SMALL(D183:G183,{1,2,3})","v":4},100,100,204,22]
["Cara Donker","SS","V45",{"$f":"IF(ISNA(VLOOKUP($A184,'Race 1-Ladies'!$U$24:$Z$53,6,0)),100,VLOOKUP($A184,'Race 1-Ladies'!$U$24:$Z$53,6,0))","v":100},{"$f":"IF(ISNA(VLOOKUP($A184,'Race 2-Ladies'!$U$23:$Z$53,6,0)),100,VLOOKUP($A184,'Race 2-Ladies'!$U$23:$Z$53,6,0))","v":100},{"$f":"IF(ISNA(VLOOKUP($A184,'Race 3-Ladies'!$U$27:$Z$61,6,0)),100,VLOOKUP($A184,'Race 3-Ladies'!$U$27:$Z$61,6,0))","v":100},{"$f":"IF(ISNA(VLOOKUP($A184,'Race 4-Ladies'!$U$30:$Z$100,6,0)),100,VLOOKUP($A184,'Race 4-Ladies'!$U$30:$Z$100,6,0))","v":100},{"$f":"SMALL(D184:G184,{1,2,3})","v":100},100,100,300,38]
["Catherine Howard","BS","V45",{"$f":"IF(ISNA(VLOOKUP($A185,'Race 1-Ladies'!$U$24:$Z$53,6,0)),100,VLOOKUP($A185,'Race 1-Ladies'!$U$24:$Z$53,6,0))","v":100},{"$f":"IF(ISNA(VLOOKUP($A185,'Race 2-Ladies'!$U$23:$Z$53,6,0)),100,VLOOKUP($A185,'Race 2-Ladies'!$U$23:$Z$53,6,0))","v":100},{"$f":"IF(ISNA(VLOOKUP($A185,'Race 3-Ladies'!$U$27:$Z$61,6,0)),100,VLOOKUP($A185,'Race 3-Ladies'!$U$27:$Z$61,6,0))","v":100},{"$f":"IF(ISNA(VLOOKUP($A185,'Race 4-Ladies'!$U$30:$Z$100,6,0)),100,VLOOKUP($A185,'Race 4-Ladies'!$U$30:$Z$100,6,0))","v":100},{"$f":"SMALL(D185:G185,{1,2,3})","v":100},100,100,300,38]
["Charlotte Diggins","SS","V45",{"$f":"IF(ISNA(VLOOKUP($A186,'Race 1-Ladies'!$U$24:$Z$53,6,0)),100,VLOOKUP($A186,'Race 1-Ladies'!$U$24:$Z$53,6,0))","v":10},{"$f":"IF(ISNA(VLOOKUP($A186,'Race 2-Ladies'!$U$23:$Z$53,6,0)),100,VLOOKUP($A186,'Race 2-Ladies'!$U$23:$Z$53,6,0))","v":7},{"$f":"IF(ISNA(VLOOKUP($A186,'Race 3-Ladies'!$U$27:$Z$61,6,0)),100,VLOOKUP($A186,'Race 3-Ladies'!$U$27:$Z$61,6,0))","v":11},{"$f":"IF(ISNA(VLOOKUP($A186,'Race 4-Ladies'!$U$30:$Z$100,6,0)),100,VLOOKUP($A186,'Race 4-Ladies'!$U$30:$Z$100,6,0))","v":100},{"$f":"SMALL(D186:G186,{1,2,3})","v":7},10,11,28,7]
["Christel Ainge","WJ","V45",{"$f":"IF(ISNA(VLOOKUP($A187,'Race 1-Ladies'!$U$24:$Z$53,6,0)),100,VLOOKUP($A187,'Race 1-Ladies'!$U$24:$Z$53,6,0))","v":100},{"$f":"IF(ISNA(VLOOKUP($A187,'Race 2-Ladies'!$U$23:$Z$53,6,0)),100,VLOOKUP($A187,'Race 2-Ladies'!$U$23:$Z$53,6,0))","v":100},{"$f":"IF(ISNA(VLOOKUP($A187,'Race 3-Ladies'!$U$27:$Z$61,6,0)),100,VLOOKUP($A187,'Race 3-Ladies'!$U$27:$Z$61,6,0))","v":14},{"$f":"IF(ISNA(VLOOKUP($A187,'Race 4-Ladies'!$U$30:$Z$100,6,0)),100,VLOOKUP($A187,'Race 4-Ladies'!$U$30:$Z$100,6,0))","v":100},{"$f":"SMALL(D187:G187,{1,2,3})","v":14},100,100,214,27]
["Christy van Maanenberg","WJ","V45",{"$f":"IF(ISNA(VLOOKUP($A188,'Race 1-Ladies'!$U$24:$Z$53,6,0)),100,VLOOKUP($A188,'Race 1-Ladies'!$U$24:$Z$53,6,0))","v":100},{"$f":"IF(ISNA(VLOOKUP($A188,'Race 2-Ladies'!$U$23:$Z$53,6,0)),100,VLOOKUP($A188,'Race 2-Ladies'!$U$23:$Z$53,6,0))","v":100},{"$f":"IF(ISNA(VLOOKUP($A188,'Race 3-Ladies'!$U$27:$Z$61,6,0)),100,VLOOKUP($A188,'Race 3-Ladies'!$U$27:$Z$61,6,0))","v":18},{"$f":"IF(ISNA(VLOOKUP($A188,'Race 4-Ladies'!$U$30:$Z$100,6,0)),100,VLOOKUP($A188,'Race 4-Ladies'!$U$30:$Z$100,6,0))","v":100},{"$f":"SMALL(D188:G188,{1,2,3})","v":18},100,100,218,34]
["Claire Boylan","BS","V45",{"$f":"IF(ISNA(VLOOKUP($A189,'Race 1-Ladies'!$U$24:$Z$53,6,0)),100,VLOOKUP($A189,'Race 1-Ladies'!$U$24:$Z$53,6,0))","v":100},{"$f":"IF(ISNA(VLOOKUP($A189,'Race 2-Ladies'!$U$23:$Z$53,6,0)),100,VLOOKUP($A189,'Race 2-Ladies'!$U$23:$Z$53,6,0))","v":100},{"$f":"IF(ISNA(VLOOKUP($A189,'Race 3-Ladies'!$U$27:$Z$61,6,0)),100,VLOOKUP($A189,'Race 3-Ladies'!$U$27:$Z$61,6,0))","v":100},{"$f":"IF(ISNA(VLOOKUP($A189,'Race 4-Ladies'!$U$30:$Z$100,6,0)),100,VLOOKUP($A189,'Race 4-Ladies'!$U$30:$Z$100,6,0))","v":100},{"$f":"SMALL(D189:G189,{1,2,3})","v":100},100,100,300,38]
["Claire Carter","HRC","V45",{"$f":"IF(ISNA(VLOOKUP($A190,'Race 1-Ladies'!$U$24:$Z$53,6,0)),100,VLOOKUP($A190,'Race 1-Ladies'!$U$24:$Z$53,6,0))","v":100},{"$f":"IF(ISNA(VLOOKUP($A190,'Race 2-Ladies'!$U$23:$Z$53,6,0)),100,VLOOKUP($A190,'Race 2-Ladies'!$U$23:$Z$53,6,0))","v":100},{"$f":"IF(ISNA(VLOOKUP($A190,'Race 3-Ladies'!$U$27:$Z$61,6,0)),100,VLOOKUP($A190,'Race 3-Ladies'!$U$27:$Z$61,6,0))","v":100},{"$f":"IF(ISNA(VLOOKUP($A190,'Race 4-Ladies'!$U$30:$Z$100,6,0)),100,VLOOKUP($A190,'Race 4-Ladies'!$U$30:$Z$100,6,0))","v":15},{"$f":"SMALL(D190:G190,{1,2,3})","v":15},100,100,215,28]
["Claire Crommie","SS","V45",{"$f":"IF(ISNA(VLOOKUP($A191,'Race 1-Ladies'!$U$24:$Z$53,6,0)),100,VLOOKUP($A191,'Race 1-Ladies'!$U$24:$Z$53,6,0))","v":11},{"$f":"IF(ISNA(VLOOKUP($A191,'Race 2-Ladies'!$U$23:$Z$53,6,0)),100,VLOOKUP($A191,'Race 2-Ladies'!$U$23:$Z$53,6,0))","v":10},{"$f":"IF(ISNA(VLOOKUP($A191,'Race 3-Ladies'!$U$27:$Z$61,6,0)),100,VLOOKUP($A191,'Race 3-Ladies'!$U$27:$Z$61,6,0))","v":100},{"$f":"IF(ISNA(VLOOKUP($A191,'Race 4-Ladies'!$U$30:$Z$100,6,0)),100,VLOOKUP($A191,'Race 4-Ladies'!$U$30:$Z$100,6,0))","v":100},{"$f":"SMALL(D191:G191,{1,2,3})","v":10},11,100,121,16]
["Claire Fields","BS","V45",{"$f":"IF(ISNA(VLOOKUP($A192,'Race 1-Ladies'!$U$24:$Z$53,6,0)),100,VLOOKUP($A192,'Race 1-Ladies'!$U$24:$Z$53,6,0))","v":100},{"$f":"IF(ISNA(VLOOKUP($A192,'Race 2-Ladies'!$U$23:$Z$53,6,0)),100,VLOOKUP($A192,'Race 2-Ladies'!$U$23:$Z$53,6,0))","v":100},{"$f":"IF(ISNA(VLOOKUP($A192,'Race 3-Ladies'!$U$27:$Z$61,6,0)),100,VLOOKUP($A192,'Race 3-Ladies'!$U$27:$Z$61,6,0))","v":100},{"$f":"IF(ISNA(VLOOKUP($A192,'Race 4-Ladies'!$U$30:$Z$100,6,0)),100,VLOOKUP($A192,'Race 4-Ladies'!$U$30:$Z$100,6,0))","v":100},{"$f":"SMALL(D192:G192,{1,2,3})","v":100},100,100,300,38]
["Claire Johnson","HRC","V45",{"$f":"IF(ISNA(VLOOKUP($A193,'Race 1-Ladies'!$U$24:$Z$53,6,0)),100,VLOOKUP($A193,'Race 1-Ladies'!$U$24:$Z$53,6,0))","v":100},{"$f":"IF(ISNA(VLOOKUP($A193,'Race 2-Ladies'!$U$23:$Z$53,6,0)),100,VLOOKUP($A193,'Race 2-Ladies'!$U$23:$Z$53,6,0))","v":100},{"$f":"IF(ISNA(VLOOKUP($A193,'Race 3-Ladies'!$U$27:$Z$61,6,0)),100,VLOOKUP($A193,'Race 3-Ladies'!$U$27:$Z$61,6,0))","v":100},{"$f":"IF(ISNA(VLOOKUP($A193,'Race 4-Ladies'!$U$30:$Z$100,6,0)),100,VLOOKUP($A193,'Race 4-Ladies'!$U$30:$Z$100,6,0))","v":100},{"$f":"SMALL(D193:G193,{1,2,3})","v":100},100,100,300,38]
["Claire Nichols","WJ","V45",{"$f":"IF(ISNA(VLOOKUP($A194,'Race 1-Ladies'!$U$24:$Z$53,6,0)),100,VLOOKUP($A194,'Race 1-Ladies'!$U$24:$Z$53,6,0))","v":100},{"$f":"IF(ISNA(VLOOKUP($A194,'Race 2-Ladies'!$U$23:$Z$53,6,0)),100,VLOOKUP($A194,'Race 2-Ladies'!$U$23:$Z$53,6,0))","v":100},{"$f":"IF(ISNA(VLOOKUP($A194,'Race 3-Ladies'!$U$27:$Z$61,6,0)),100,VLOOKUP($A194,'Race 3-Ladies'!$U$27:$Z$61,6,0))","v":100},{"$f":"IF(ISNA(VLOOKUP($A194,'Race 4-Ladies'!$U$30:$Z$100,6,0)),100,VLOOKUP($A194,'Race 4-Ladies'!$U$30:$Z$100,6,0))","v":100},{"$f":"SMALL(D194:G194,{1,2,3})","v":100},100,100,300,38]
["Claire Teague","WJ","V45",{"$f":"IF(ISNA(VLOOKUP($A195,'Race 1-Ladies'!$U$24:$Z$53,6,0)),100,VLOOKUP($A195,'Race 1-Ladies'!$U$24:$Z$53,6,0))","v":100},{"$f":"IF(ISNA(VLOOKUP($A195,'Race 2-Ladies'!$U$23:$Z$53,6,0)),100,VLOOKUP($A195,'Race 2-Ladies'!$U$23:$Z$53,6,0))","v":100},{"$f":"IF(ISNA(VLOOKUP($A195,'Race 3-Ladies'!$U$27:$Z$61,6,0)),100,VLOOKUP($A195,'Race 3-Ladies'!$U$27:$Z$61,6,0))","v":100},{"$f":"IF(ISNA(VLOOKUP($A195,'Race 4-Ladies'!$U$30:$Z$100,6,0)),100,VLOOKUP($A195,'Race 4-Ladies'!$U$30:$Z$100,6,0))","v":100},{"$f":"SMALL(D195:G195,{1,2,3})","v":100},100,100,300,38]
["Claire Watson","WJ","V45",{"$f":"IF(ISNA(VLOOKUP($A196,'Race 1-Ladies'!$U$24:$Z$53,6,0)),100,VLOOKUP($A196,'Race 1-Ladies'!$U$24:$Z$53,6,0))","v":100},{"$f":"IF(ISNA(VLOOKUP($A196,'Race 2-Ladies'!$U$23:$Z$53,6,0)),100,VLOOKUP($A196,'Race 2-Ladies'!$U$23:$Z$53,6,0))","v":100},{"$f":"IF(ISNA(VLOOKUP($A196,'Race 3-Ladies'!$U$27:$Z$61,6,0)),100,VLOOKUP($A196,'Race 3-Ladies'!$U$27:$Z$61,6,0))","v":100},{"$f":"IF(ISNA(VLOOKUP($A196,'Race 4-Ladies'!$U$30:$Z$100,6,0)),100,VLOOKUP($A196,'Race 4-Ladies'!$U$30:$Z$100,6,0))","v":100},{"$f":"SMALL(D196:G196,{1,2,3})","v":100},100,100,300,38]
["Colette Kerins","BS","V45",{"$f":"IF(ISNA(VLOOKUP($A197,'Race 1-Ladies'!$U$24:$Z$53,6,0)),100,VLOOKUP($A197,'Race 1-Ladies'!$U$24:$Z$53,6,0))","v":100},{"$f":"IF(ISNA(VLOOKUP($A197,'Race 2-Ladies'!$U$23:$Z$53,6,0)),100,VLOOKUP($A197,'Race 2-Ladies'!$U$23:$Z$53,6,0))","v":100},{"$f":"IF(ISNA(VLOOKUP($A197,'Race 3-Ladies'!$U$27:$Z$61,6,0)),100,VLOOKUP($A197,'Race 3-Ladies'!$U$27:$Z$61,6,0))","v":100},{"$f":"IF(ISNA(VLOOKUP($A197,'Race 4-Ladies'!$U$30:$Z$100,6,0)),100,VLOOKUP($A197,'Race 4-Ladies'!$U$30:$Z$100,6,0))","v":100},{"$f":"SMALL(D197:G197,{1,2,3})","v":100},100,100,{"$f":"SUM(H197:J197)","v":300},38]
["Danielle Sims","BS","V45",{"$f":"IF(ISNA(VLOOKUP($A198,'Race 1-Ladies'!$U$24:$Z$53,6,0)),100,VLOOKUP($A198,'Race 1-Ladies'!$U$24:$Z$53,6,0))","v":100},{"$f":"IF(ISNA(VLOOKUP($A198,'Race 2-Ladies'!$U$23:$Z$53,6,0)),100,VLOOKUP($A198,'Race 2-Ladies'!$U$23:$Z$53,6,0))","v":100},{"$f":"IF(ISNA(VLOOKUP($A198,'Race 3-Ladies'!$U$27:$Z$61,6,0)),100,VLOOKUP($A198,'Race 3-Ladies'!$U$27:$Z$61,6,0))","v":100},{"$f":"IF(ISNA(VLOOKUP($A198,'Race 4-Ladies'!$U$30:$Z$100,6,0)),100,VLOOKUP($A198,'Race 4-Ladies'!$U$30:$Z$100,6,0))","v":100},{"$f":"SMALL(D198:G198,{1,2,3})","v":100},100,100,300,38]
["Dawn Elford","HRC","V45",{"$f":"IF(ISNA(VLOOKUP($A199,'Race 1-Ladies'!$U$24:$Z$53,6,0)),100,VLOOKUP($A199,'Race 1-Ladies'!$U$24:$Z$53,6,0))","v":100},{"$f":"IF(ISNA(VLOOKUP($A199,'Race 2-Ladies'!$U$23:$Z$53,6,0)),100,VLOOKUP($A199,'Race 2-Ladies'!$U$23:$Z$53,6,0))","v":100},{"$f":"IF(ISNA(VLOOKUP($A199,'Race 3-Ladies'!$U$27:$Z$61,6,0)),100,VLOOKUP($A199,'Race 3-Ladies'!$U$27:$Z$61,6,0))","v":100},{"$f":"IF(ISNA(VLOOKUP($A199,'Race 4-Ladies'!$U$30:$Z$100,6,0)),100,VLOOKUP($A199,'Race 4-Ladies'!$U$30:$Z$100,6,0))","v":100},{"$f":"SMALL(D199:G199,{1,2,3})","v":100},100,100,300,38]
["Debbie Mead","HRC","V45",{"$f":"IF(ISNA(VLOOKUP($A200,'Race 1-Ladies'!$U$24:$Z$53,6,0)),100,VLOOKUP($A200,'Race 1-Ladies'!$U$24:$Z$53,6,0))","v":100},{"$f":"IF(ISNA(VLOOKUP($A200,'Race 2-Ladies'!$U$23:$Z$53,6,0)),100,VLOOKUP($A200,'Race 2-Ladies'!$U$23:$Z$53,6,0))","v":100},{"$f":"IF(ISNA(VLOOKUP($A200,'Race 3-Ladies'!$U$27:$Z$61,6,0)),100,VLOOKUP($A200,'Race 3-Ladies'!$U$27:$Z$61,6,0))","v":100},{"$f":"IF(ISNA(VLOOKUP($A200,'Race 4-Ladies'!$U$30:$Z$100,6,0)),100,VLOOKUP($A200,'Race 4-Ladies'!$U$30:$Z$100,6,0))","v":100},{"$f":"SMALL(D200:G200,{1,2,3})","v":100},100,100,300,38]
["Deborah Amies","WJ","V45",{"$f":"IF(ISNA(VLOOKUP($A201,'Race 1-Ladies'!$U$24:$Z$53,6,0)),100,VLOOKUP($A201,'Race 1-Ladies'!$U$24:$Z$53,6,0))","v":100},{"$f":"IF(ISNA(VLOOKUP($A201,'Race 2-Ladies'!$U$23:$Z$53,6,0)),100,VLOOKUP($A201,'Race 2-Ladies'!$U$23:$Z$53,6,0))","v":100},{"$f":"IF(ISNA(VLOOKUP($A201,'Race 3-Ladies'!$U$27:$Z$61,6,0)),100,VLOOKUP($A201,'Race 3-Ladies'!$U$27:$Z$61,6,0))","v":10},{"$f":"IF(ISNA(VLOOKUP($A201,'Race 4-Ladies'!$U$30:$Z$100,6,0)),100,VLOOKUP($A201,'Race 4-Ladies'!$U$30:$Z$100,6,0))","v":11},{"$f":"SMALL(D201:G201,{1,2,3})","v":10},11,100,121,16]
["Deborah Bridges","BS","V45",{"$f":"IF(ISNA(VLOOKUP($A202,'Race 1-Ladies'!$U$24:$Z$53,6,0)),100,VLOOKUP($A202,'Race 1-Ladies'!$U$24:$Z$53,6,0))","v":100},{"$f":"IF(ISNA(VLOOKUP($A202,'Race 2-Ladies'!$U$23:$Z$53,6,0)),100,VLOOKUP($A202,'Race 2-Ladies'!$U$23:$Z$53,6,0))","v":100},{"$f":"IF(ISNA(VLOOKUP($A202,'Race 3-Ladies'!$U$27:$Z$61,6,0)),100,VLOOKUP($A202,'Race 3-Ladies'!$U$27:$Z$61,6,0))","v":100},{"$f":"IF(ISNA(VLOOKUP($A202,'Race 4-Ladies'!$U$30:$Z$100,6,0)),100,VLOOKUP($A202,'Race 4-Ladies'!$U$30:$Z$100,6,0))","v":100},{"$f":"SMALL(D202:G202,{1,2,3})","v":100},100,100,300,38]
["Deborah Garfield","HRC","V45",{"$f":"IF(ISNA(VLOOKUP($A203,'Race 1-Ladies'!$U$24:$Z$53,6,0)),100,VLOOKUP($A203,'Race 1-Ladies'!$U$24:$Z$53,6,0))","v":100},{"$f":"IF(ISNA(VLOOKUP($A203,'Race 2-Ladies'!$U$23:$Z$53,6,0)),100,VLOOKUP($A203,'Race 2-Ladies'!$U$23:$Z$53,6,0))","v":100},{"$f":"IF(ISNA(VLOOKUP($A203,'Race 3-Ladies'!$U$27:$Z$61,6,0)),100,VLOOKUP($A203,'Race 3-Ladies'!$U$27:$Z$61,6,0))","v":100},{"$f":"IF(ISNA(VLOOKUP($A203,'Race 4-Ladies'!$U$30:$Z$100,6,0)),100,VLOOKUP($A203,'Race 4-Ladies'!$U$30:$Z$100,6,0))","v":100},{"$f":"SMALL(D203:G203,{1,2,3})","v":100},100,100,300,38]
["Deborah Pomphret","HRC","V45",{"$f":"IF(ISNA(VLOOKUP($A204,'Race 1-Ladies'!$U$24:$Z$53,6,0)),100,VLOOKUP($A204,'Race 1-Ladies'!$U$24:$Z$53,6,0))","v":100},{"$f":"IF(ISNA(VLOOKUP($A204,'Race 2-Ladies'!$U$23:$Z$53,6,0)),100,VLOOKUP($A204,'Race 2-Ladies'!$U$23:$Z$53,6,0))","v":12},{"$f":"IF(ISNA(VLOOKUP($A204,'Race 3-Ladies'!$U$27:$Z$61,6,0)),100,VLOOKUP($A204,'Race 3-Ladies'!$U$27:$Z$61,6,0))","v":100},{"$f":"IF(ISNA(VLOOKUP($A204,'Race 4-Ladies'!$U$30:$Z$100,6,0)),100,VLOOKUP($A204,'Race 4-Ladies'!$U$30:$Z$100,6,0))","v":100},{"$f":"SMALL(D204:G204,{1,2,3})","v":12},100,100,212,26]
["Dionne Jones","HRC","V45",{"$f":"IF(ISNA(VLOOKUP($A205,'Race 1-Ladies'!$U$24:$Z$53,6,0)),100,VLOOKUP($A205,'Race 1-Ladies'!$U$24:$Z$53,6,0))","v":100},{"$f":"IF(ISNA(VLOOKUP($A205,'Race 2-Ladies'!$U$23:$Z$53,6,0)),100,VLOOKUP($A205,'Race 2-Ladies'!$U$23:$Z$53,6,0))","v":100},{"$f":"IF(ISNA(VLOOKUP($A205,'Race 3-Ladies'!$U$27:$Z$61,6,0)),100,VLOOKUP($A205,'Race 3-Ladies'!$U$27:$Z$61,6,0))","v":100},{"$f":"IF(ISNA(VLOOKUP($A205,'Race 4-Ladies'!$U$30:$Z$100,6,0)),100,VLOOKUP($A205,'Race 4-Ladies'!$U$30:$Z$100,6,0))","v":100},{"$f":"SMALL(D205:G205,{1,2,3})","v":100},100,100,300,38]
["Donna Milton","HRC","V45",{"$f":"IF(ISNA(VLOOKUP($A206,'Race 1-Ladies'!$U$24:$Z$53,6,0)),100,VLOOKUP($A206,'Race 1-Ladies'!$U$24:$Z$53,6,0))","v":100},{"$f":"IF(ISNA(VLOOKUP($A206,'Race 2-Ladies'!$U$23:$Z$53,6,0)),100,VLOOKUP($A206,'Race 2-Ladies'!$U$23:$Z$53,6,0))","v":100},{"$f":"IF(ISNA(VLOOKUP($A206,'Race 3-Ladies'!$U$27:$Z$61,6,0)),100,VLOOKUP($A206,'Race 3-Ladies'!$U$27:$Z$61,6,0))","v":9},{"$f":"IF(ISNA(VLOOKUP($A206,'Race 4-Ladies'!$U$30:$Z$100,6,0)),100,VLOOKUP($A206,'Race 4-Ladies'!$U$30:$Z$100,6,0))","v":10},{"$f":"SMALL(D206:G206,{1,2,3})","v":9},10,100,119,15]
["Ekaterina Mead","WJ","V45",{"$f":"IF(ISNA(VLOOKUP($A207,'Race 1-Ladies'!$U$24:$Z$53,6,0)),100,VLOOKUP($A207,'Race 1-Ladies'!$U$24:$Z$53,6,0))","v":100},{"$f":"IF(ISNA(VLOOKUP($A207,'Race 2-Ladies'!$U$23:$Z$53,6,0)),100,VLOOKUP($A207,'Race 2-Ladies'!$U$23:$Z$53,6,0))","v":100},{"$f":"IF(ISNA(VLOOKUP($A207,'Race 3-Ladies'!$U$27:$Z$61,6,0)),100,VLOOKUP($A207,'Race 3-Ladies'!$U$27:$Z$61,6,0))","v":100},{"$f":"IF(ISNA(VLOOKUP($A207,'Race 4-Ladies'!$U$30:$Z$100,6,0)),100,VLOOKUP($A207,'Race 4-Ladies'!$U$30:$Z$100,6,0))","v":100},{"$f":"SMALL(D207:G207,{1,2,3})","v":100},100,100,300,38]
["Eleanor Rodgers","BS","V45",{"$f":"IF(ISNA(VLOOKUP($A208,'Race 1-Ladies'!$U$24:$Z$53,6,0)),100,VLOOKUP($A208,'Race 1-Ladies'!$U$24:$Z$53,6,0))","v":100},{"$f":"IF(ISNA(VLOOKUP($A208,'Race 2-Ladies'!$U$23:$Z$53,6,0)),100,VLOOKUP($A208,'Race 2-Ladies'!$U$23:$Z$53,6,0))","v":100},{"$f":"IF(ISNA(VLOOKUP($A208,'Race 3-Ladies'!$U$27:$Z$61,6,0)),100,VLOOKUP($A208,'Race 3-Ladies'!$U$27:$Z$61,6,0))","v":100},{"$f":"IF(ISNA(VLOOKUP($A208,'Race 4-Ladies'!$U$30:$Z$100,6,0)),100,VLOOKUP($A208,'Race 4-Ladies'!$U$30:$Z$100,6,0))","v":100},{"$f":"SMALL(D208:G208,{1,2,3})","v":100},100,100,300,38]
["Eleanor Williams","BS","V45",{"$f":"IF(ISNA(VLOOKUP($A209,'Race 1-Ladies'!$U$24:$Z$53,6,0)),100,VLOOKUP($A209,'Race 1-Ladies'!$U$24:$Z$53,6,0))","v":100},{"$f":"IF(ISNA(VLOOKUP($A209,'Race 2-Ladies'!$U$23:$Z$53,6,0)),100,VLOOKUP($A209,'Race 2-Ladies'!$U$23:$Z$53,6,0))","v":100},{"$f":"IF(ISNA(VLOOKUP($A209,'Race 3-Ladies'!$U$27:$Z$61,6,0)),100,VLOOKUP($A209,'Race 3-Ladies'!$U$27:$Z$61,6,0))","v":100},{"$f":"IF(ISNA(VLOOKUP($A209,'Race 4-Ladies'!$U$30:$Z$100,6,0)),100,VLOOKUP($A209,'Race 4-Ladies'!$U$30:$Z$100,6,0))","v":100},{"$f":"SMALL(D209:G209,{1,2,3})","v":100},100,100,300,38]
["Elizabeth Davey","WJ","V45",{"$f":"IF(ISNA(VLOOKUP($A210,'Race 1-Ladies'!$U$24:$Z$53,6,0)),100,VLOOKUP($A210,'Race 1-Ladies'!$U$24:$Z$53,6,0))","v":100},{"$f":"IF(ISNA(VLOOKUP($A210,'Race 2-Ladies'!$U$23:$Z$53,6,0)),100,VLOOKUP($A210,'Race 2-Ladies'!$U$23:$Z$53,6,0))","v":100},{"$f":"IF(ISNA(VLOOKUP($A210,'Race 3-Ladies'!$U$27:$Z$61,6,0)),100,VLOOKUP($A210,'Race 3-Ladies'!$U$27:$Z$61,6,0))","v":100},{"$f":"IF(ISNA(VLOOKUP($A210,'Race 4-Ladies'!$U$30:$Z$100,6,0)),100,VLOOKUP($A210,'Race 4-Ladies'!$U$30:$Z$100,6,0))","v":100},{"$f":"SMALL(D210:G210,{1,2,3})","v":100},100,100,300,38]
["Emma Harvey","BS","V45",{"$f":"IF(ISNA(VLOOKUP($A211,'Race 1-Ladies'!$U$24:$Z$53,6,0)),100,VLOOKUP($A211,'Race 1-Ladies'!$U$24:$Z$53,6,0))","v":100},{"$f":"IF(ISNA(VLOOKUP($A211,'Race 2-Ladies'!$U$23:$Z$53,6,0)),100,VLOOKUP($A211,'Race 2-Ladies'!$U$23:$Z$53,6,0))","v":100},{"$f":"IF(ISNA(VLOOKUP($A211,'Race 3-Ladies'!$U$27:$Z$61,6,0)),100,VLOOKUP($A211,'Race 3-Ladies'!$U$27:$Z$61,6,0))","v":100},{"$f":"IF(ISNA(VLOOKUP($A211,'Race 4-Ladies'!$U$30:$Z$100,6,0)),100,VLOOKUP($A211,'Race 4-Ladies'!$U$30:$Z$100,6,0))","v":100},{"$f":"SMALL(D211:G211,{1,2,3})","v":100},100,100,300,38]
["Emma Luck","HRC","V45",{"$f":"IF(ISNA(VLOOKUP($A212,'Race 1-Ladies'!$U$24:$Z$53,6,0)),100,VLOOKUP($A212,'Race 1-Ladies'!$U$24:$Z$53,6,0))","v":100},{"$f":"IF(ISNA(VLOOKUP($A212,'Race 2-Ladies'!$U$23:$Z$53,6,0)),100,VLOOKUP($A212,'Race 2-Ladies'!$U$23:$Z$53,6,0))","v":11},{"$f":"IF(ISNA(VLOOKUP($A212,'Race 3-Ladies'!$U$27:$Z$61,6,0)),100,VLOOKUP($A212,'Race 3-Ladies'!$U$27:$Z$61,6,0))","v":12},{"$f":"IF(ISNA(VLOOKUP($A212,'Race 4-Ladies'!$U$30:$Z$100,6,0)),100,VLOOKUP($A212,'Race 4-Ladies'!$U$30:$Z$100,6,0))","v":13},{"$f":"SMALL(D212:G212,{1,2,3})","v":11},12,13,36,8]
["Emma Thompson","HRC","V45",{"$f":"IF(ISNA(VLOOKUP($A213,'Race 1-Ladies'!$U$24:$Z$53,6,0)),100,VLOOKUP($A213,'Race 1-Ladies'!$U$24:$Z$53,6,0))","v":100},{"$f":"IF(ISNA(VLOOKUP($A213,'Race 2-Ladies'!$U$23:$Z$53,6,0)),100,VLOOKUP($A213,'Race 2-Ladies'!$U$23:$Z$53,6,0))","v":100},{"$f":"IF(ISNA(VLOOKUP($A213,'Race 3-Ladies'!$U$27:$Z$61,6,0)),100,VLOOKUP($A213,'Race 3-Ladies'!$U$27:$Z$61,6,0))","v":100},{"$f":"IF(ISNA(VLOOKUP($A213,'Race 4-Ladies'!$U$30:$Z$100,6,0)),100,VLOOKUP($A213,'Race 4-Ladies'!$U$30:$Z$100,6,0))","v":100},{"$f":"SMALL(D213:G213,{1,2,3})","v":100},100,100,300,38]
["Fay Dodgen","BS","V45",{"$f":"IF(ISNA(VLOOKUP($A214,'Race 1-Ladies'!$U$24:$Z$53,6,0)),100,VLOOKUP($A214,'Race 1-Ladies'!$U$24:$Z$53,6,0))","v":100},{"$f":"IF(ISNA(VLOOKUP($A214,'Race 2-Ladies'!$U$23:$Z$53,6,0)),100,VLOOKUP($A214,'Race 2-Ladies'!$U$23:$Z$53,6,0))","v":100},{"$f":"IF(ISNA(VLOOKUP($A214,'Race 3-Ladies'!$U$27:$Z$61,6,0)),100,VLOOKUP($A214,'Race 3-Ladies'!$U$27:$Z$61,6,0))","v":100},{"$f":"IF(ISNA(VLOOKUP($A214,'Race 4-Ladies'!$U$30:$Z$100,6,0)),100,VLOOKUP($A214,'Race 4-Ladies'!$U$30:$Z$100,6,0))","v":100},{"$f":"SMALL(D214:G214,{1,2,3})","v":100},100,100,300,38]
["Fiona Halls","SS","V45",{"$f":"IF(ISNA(VLOOKUP($A215,'Race 1-Ladies'!$U$24:$Z$53,6,0)),100,VLOOKUP($A215,'Race 1-Ladies'!$U$24:$Z$53,6,0))","v":100},{"$f":"IF(ISNA(VLOOKUP($A215,'Race 2-Ladies'!$U$23:$Z$53,6,0)),100,VLOOKUP($A215,'Race 2-Ladies'!$U$23:$Z$53,6,0))","v":100},{"$f":"IF(ISNA(VLOOKUP($A215,'Race 3-Ladies'!$U$27:$Z$61,6,0)),100,VLOOKUP($A215,'Race 3-Ladies'!$U$27:$Z$61,6,0))","v":100},{"$f":"IF(ISNA(VLOOKUP($A215,'Race 4-Ladies'!$U$30:$Z$100,6,0)),100,VLOOKUP($A215,'Race 4-Ladies'!$U$30:$Z$100,6,0))","v":100},{"$f":"SMALL(D215:G215,{1,2,3})","v":100},100,100,300,38]
["Fiona Viney","SS","V45",{"$f":"IF(ISNA(VLOOKUP($A216,'Race 1-Ladies'!$U$24:$Z$53,6,0)),100,VLOOKUP($A216,'Race 1-Ladies'!$U$24:$Z$53,6,0))","v":100},{"$f":"IF(ISNA(VLOOKUP($A216,'Race 2-Ladies'!$U$23:$Z$53,6,0)),100,VLOOKUP($A216,'Race 2-Ladies'!$U$23:$Z$53,6,0))","v":100},{"$f":"IF(ISNA(VLOOKUP($A216,'Race 3-Ladies'!$U$27:$Z$61,6,0)),100,VLOOKUP($A216,'Race 3-Ladies'!$U$27:$Z$61,6,0))","v":100},{"$f":"IF(ISNA(VLOOKUP($A216,'Race 4-Ladies'!$U$30:$Z$100,6,0)),100,VLOOKUP($A216,'Race 4-Ladies'!$U$30:$Z$100,6,0))","v":100},{"$f":"SMALL(D216:G216,{1,2,3})","v":100},100,100,300,38]
["Francesca Palmer","BS","V45",{"$f":"IF(ISNA(VLOOKUP($A217,'Race 1-Ladies'!$U$24:$Z$53,6,0)),100,VLOOKUP($A217,'Race 1-Ladies'!$U$24:$Z$53,6,0))","v":21},{"$f":"IF(ISNA(VLOOKUP($A217,'Race 2-Ladies'!$U$23:$Z$53,6,0)),100,VLOOKUP($A217,'Race 2-Ladies'!$U$23:$Z$53,6,0))","v":100},{"$f":"IF(ISNA(VLOOKUP($A217,'Race 3-Ladies'!$U$27:$Z$61,6,0)),100,VLOOKUP($A217,'Race 3-Ladies'!$U$27:$Z$61,6,0))","v":100},{"$f":"IF(ISNA(VLOOKUP($A217,'Race 4-Ladies'!$U$30:$Z$100,6,0)),100,VLOOKUP($A217,'Race 4-Ladies'!$U$30:$Z$100,6,0))","v":100},{"$f":"SMALL(D217:G217,{1,2,3})","v":21},100,100,221,37]
["Gina Holley","SS","V45",{"$f":"IF(ISNA(VLOOKUP($A218,'Race 1-Ladies'!$U$24:$Z$53,6,0)),100,VLOOKUP($A218,'Race 1-Ladies'!$U$24:$Z$53,6,0))","v":100},{"$f":"IF(ISNA(VLOOKUP($A218,'Race 2-Ladies'!$U$23:$Z$53,6,0)),100,VLOOKUP($A218,'Race 2-Ladies'!$U$23:$Z$53,6,0))","v":100},{"$f":"IF(ISNA(VLOOKUP($A218,'Race 3-Ladies'!$U$27:$Z$61,6,0)),100,VLOOKUP($A218,'Race 3-Ladies'!$U$27:$Z$61,6,0))","v":100},{"$f":"IF(ISNA(VLOOKUP($A218,'Race 4-Ladies'!$U$30:$Z$100,6,0)),100,VLOOKUP($A218,'Race 4-Ladies'!$U$30:$Z$100,6,0))","v":100},{"$f":"SMALL(D218:G218,{1,2,3})","v":100},100,100,300,38]
["Hannah McIlvenna","BS","V45",{"$f":"IF(ISNA(VLOOKUP($A219,'Race 1-Ladies'!$U$24:$Z$53,6,0)),100,VLOOKUP($A219,'Race 1-Ladies'!$U$24:$Z$53,6,0))","v":3},{"$f":"IF(ISNA(VLOOKUP($A219,'Race 2-Ladies'!$U$23:$Z$53,6,0)),100,VLOOKUP($A219,'Race 2-Ladies'!$U$23:$Z$53,6,0))","v":100},{"$f":"IF(ISNA(VLOOKUP($A219,'Race 3-Ladies'!$U$27:$Z$61,6,0)),100,VLOOKUP($A219,'Race 3-Ladies'!$U$27:$Z$61,6,0))","v":2},{"$f":"IF(ISNA(VLOOKUP($A219,'Race 4-Ladies'!$U$30:$Z$100,6,0)),100,VLOOKUP($A219,'Race 4-Ladies'!$U$30:$Z$100,6,0))","v":100},{"$f":"SMALL(D219:G219,{1,2,3})","v":2},3,100,105,12]
["Hannah Prince","BS","V45",{"$f":"IF(ISNA(VLOOKUP($A220,'Race 1-Ladies'!$U$24:$Z$53,6,0)),100,VLOOKUP($A220,'Race 1-Ladies'!$U$24:$Z$53,6,0))","v":100},{"$f":"IF(ISNA(VLOOKUP($A220,'Race 2-Ladies'!$U$23:$Z$53,6,0)),100,VLOOKUP($A220,'Race 2-Ladies'!$U$23:$Z$53,6,0))","v":100},{"$f":"IF(ISNA(VLOOKUP($A220,'Race 3-Ladies'!$U$27:$Z$61,6,0)),100,VLOOKUP($A220,'Race 3-Ladies'!$U$27:$Z$61,6,0))","v":100},{"$f":"IF(ISNA(VLOOKUP($A220,'Race 4-Ladies'!$U$30:$Z$100,6,0)),100,VLOOKUP($A220,'Race 4-Ladies'!$U$30:$Z$100,6,0))","v":100},{"$f":"SMALL(D220:G220,{1,2,3})","v":100},100,100,300,38]
["Helen Church","WJ","V45",{"$f":"IF(ISNA(VLOOKUP($A221,'Race 1-Ladies'!$U$24:$Z$53,6,0)),100,VLOOKUP($A221,'Race 1-Ladies'!$U$24:$Z$53,6,0))","v":100},{"$f":"IF(ISNA(VLOOKUP($A221,'Race 2-Ladies'!$U$23:$Z$53,6,0)),100,VLOOKUP($A221,'Race 2-Ladies'!$U$23:$Z$53,6,0))","v":100},{"$f":"IF(ISNA(VLOOKUP($A221,'Race 3-Ladies'!$U$27:$Z$61,6,0)),100,VLOOKUP($A221,'Race 3-Ladies'!$U$27:$Z$61,6,0))","v":100},{"$f":"IF(ISNA(VLOOKUP($A221,'Race 4-Ladies'!$U$30:$Z$100,6,0)),100,VLOOKUP($A221,'Race 4-Ladies'!$U$30:$Z$100,6,0))","v":100},{"$f":"SMALL(D221:G221,{1,2,3})","v":100},100,100,300,38]
["Helen Hollingsworth","BS","V45",{"$f":"IF(ISNA(VLOOKUP($A222,'Race 1-Ladies'!$U$24:$Z$53,6,0)),100,VLOOKUP($A222,'Race 1-Ladies'!$U$24:$Z$53,6,0))","v":100},{"$f":"IF(ISNA(VLOOKUP($A222,'Race 2-Ladies'!$U$23:$Z$53,6,0)),100,VLOOKUP($A222,'Race 2-Ladies'!$U$23:$Z$53,6,0))","v":100},{"$f":"IF(ISNA(VLOOKUP($A222,'Race 3-Ladies'!$U$27:$Z$61,6,0)),100,VLOOKUP($A222,'Race 3-Ladies'!$U$27:$Z$61,6,0))","v":100},{"$f":"IF(ISNA(VLOOKUP($A222,'Race 4-Ladies'!$U$30:$Z$100,6,0)),100,VLOOKUP($A222,'Race 4-Ladies'!$U$30:$Z$100,6,0))","v":100},{"$f":"SMALL(D222:G222,{1,2,3})","v":100},100,100,300,38]
["Helen Howard","SS","V45",{"$f":"IF(ISNA(VLOOKUP($A223,'Race 1-Ladies'!$U$24:$Z$53,6,0)),100,VLOOKUP($A223,'Race 1-Ladies'!$U$24:$Z$53,6,0))","v":100},{"$f":"IF(ISNA(VLOOKUP($A223,'Race 2-Ladies'!$U$23:$Z$53,6,0)),100,VLOOKUP($A223,'Race 2-Ladies'!$U$23:$Z$53,6,0))","v":100},{"$f":"IF(ISNA(VLOOKUP($A223,'Race 3-Ladies'!$U$27:$Z$61,6,0)),100,VLOOKUP($A223,'Race 3-Ladies'!$U$27:$Z$61,6,0))","v":100},{"$f":"IF(ISNA(VLOOKUP($A223,'Race 4-Ladies'!$U$30:$Z$100,6,0)),100,VLOOKUP($A223,'Race 4-Ladies'!$U$30:$Z$100,6,0))","v":100},{"$f":"SMALL(D223:G223,{1,2,3})","v":100},100,100,300,38]
["Helen Sears","SS","V45",{"$f":"IF(ISNA(VLOOKUP($A224,'Race 1-Ladies'!$U$24:$Z$53,6,0)),100,VLOOKUP($A224,'Race 1-Ladies'!$U$24:$Z$53,6,0))","v":100},{"$f":"IF(ISNA(VLOOKUP($A224,'Race 2-Ladies'!$U$23:$Z$53,6,0)),100,VLOOKUP($A224,'Race 2-Ladies'!$U$23:$Z$53,6,0))","v":100},{"$f":"IF(ISNA(VLOOKUP($A224,'Race 3-Ladies'!$U$27:$Z$61,6,0)),100,VLOOKUP($A224,'Race 3-Ladies'!$U$27:$Z$61,6,0))","v":100},{"$f":"IF(ISNA(VLOOKUP($A224,'Race 4-Ladies'!$U$30:$Z$100,6,0)),100,VLOOKUP($A224,'Race 4-Ladies'!$U$30:$Z$100,6,0))","v":100},{"$f":"SMALL(D224:G224,{1,2,3})","v":100},100,100,300,38]
["Iwona Antolik","HRC","V45",{"$f":"IF(ISNA(VLOOKUP($A225,'Race 1-Ladies'!$U$24:$Z$53,6,0)),100,VLOOKUP($A225,'Race 1-Ladies'!$U$24:$Z$53,6,0))","v":100},{"$f":"IF(ISNA(VLOOKUP($A225,'Race 2-Ladies'!$U$23:$Z$53,6,0)),100,VLOOKUP($A225,'Race 2-Ladies'!$U$23:$Z$53,6,0))","v":100},{"$f":"IF(ISNA(VLOOKUP($A225,'Race 3-Ladies'!$U$27:$Z$61,6,0)),100,VLOOKUP($A225,'Race 3-Ladies'!$U$27:$Z$61,6,0))","v":100},{"$f":"IF(ISNA(VLOOKUP($A225,'Race 4-Ladies'!$U$30:$Z$100,6,0)),100,VLOOKUP($A225,'Race 4-Ladies'!$U$30:$Z$100,6,0))","v":100},{"$f":"SMALL(D225:G225,{1,2,3})","v":100},100,100,300,38]
["Jane Malone","BS","V45",{"$f":"IF(ISNA(VLOOKUP($A226,'Race 1-Ladies'!$U$24:$Z$53,6,0)),100,VLOOKUP($A226,'Race 1-Ladies'!$U$24:$Z$53,6,0))","v":100},{"$f":"IF(ISNA(VLOOKUP($A226,'Race 2-Ladies'!$U$23:$Z$53,6,0)),100,VLOOKUP($A226,'Race 2-Ladies'!$U$23:$Z$53,6,0))","v":100},{"$f":"IF(ISNA(VLOOKUP($A226,'Race 3-Ladies'!$U$27:$Z$61,6,0)),100,VLOOKUP($A226,'Race 3-Ladies'!$U$27:$Z$61,6,0))","v":100},{"$f":"IF(ISNA(VLOOKUP($A226,'Race 4-Ladies'!$U$30:$Z$100,6,0)),100,VLOOKUP($A226,'Race 4-Ladies'!$U$30:$Z$100,6,0))","v":100},{"$f":"SMALL(D226:G226,{1,2,3})","v":100},100,100,300,38]
["Jayne Mouser","HRC","V45",{"$f":"IF(ISNA(VLOOKUP($A227,'Race 1-Ladies'!$U$24:$Z$53,6,0)),100,VLOOKUP($A227,'Race 1-Ladies'!$U$24:$Z$53,6,0))","v":100},{"$f":"IF(ISNA(VLOOKUP($A227,'Race 2-Ladies'!$U$23:$Z$53,6,0)),100,VLOOKUP($A227,'Race 2-Ladies'!$U$23:$Z$53,6,0))","v":100},{"$f":"IF(ISNA(VLOOKUP($A227,'Race 3-Ladies'!$U$27:$Z$61,6,0)),100,VLOOKUP($A227,'Race 3-Ladies'!$U$27:$Z$61,6,0))","v":100},{"$f":"IF(ISNA(VLOOKUP($A227,'Race 4-Ladies'!$U$30:$Z$100,6,0)),100,VLOOKUP($A227,'Race 4-Ladies'!$U$30:$Z$100,6,0))","v":100},{"$f":"SMALL(D227:G227,{1,2,3})","v":100},100,100,300,38]
["Jenny Barnett","BS","V45",{"$f":"IF(ISNA(VLOOKUP($A228,'Race 1-Ladies'!$U$24:$Z$53,6,0)),100,VLOOKUP($A228,'Race 1-Ladies'!$U$24:$Z$53,6,0))","v":100},{"$f":"IF(ISNA(VLOOKUP($A228,'Race 2-Ladies'!$U$23:$Z$53,6,0)),100,VLOOKUP($A228,'Race 2-Ladies'!$U$23:$Z$53,6,0))","v":100},{"$f":"IF(ISNA(VLOOKUP($A228,'Race 3-Ladies'!$U$27:$Z$61,6,0)),100,VLOOKUP($A228,'Race 3-Ladies'!$U$27:$Z$61,6,0))","v":100},{"$f":"IF(ISNA(VLOOKUP($A228,'Race 4-Ladies'!$U$30:$Z$100,6,0)),100,VLOOKUP($A228,'Race 4-Ladies'!$U$30:$Z$100,6,0))","v":100},{"$f":"SMALL(D228:G228,{1,2,3})","v":100},100,100,300,38]
["Jenny Wright","BS","V45",{"$f":"IF(ISNA(VLOOKUP($A229,'Race 1-Ladies'!$U$24:$Z$53,6,0)),100,VLOOKUP($A229,'Race 1-Ladies'!$U$24:$Z$53,6,0))","v":100},{"$f":"IF(ISNA(VLOOKUP($A229,'Race 2-Ladies'!$U$23:$Z$53,6,0)),100,VLOOKUP($A229,'Race 2-Ladies'!$U$23:$Z$53,6,0))","v":100},{"$f":"IF(ISNA(VLOOKUP($A229,'Race 3-Ladies'!$U$27:$Z$61,6,0)),100,VLOOKUP($A229,'Race 3-Ladies'!$U$27:$Z$61,6,0))","v":100},{"$f":"IF(ISNA(VLOOKUP($A229,'Race 4-Ladies'!$U$30:$Z$100,6,0)),100,VLOOKUP($A229,'Race 4-Ladies'!$U$30:$Z$100,6,0))","v":100},{"$f":"SMALL(D229:G229,{1,2,3})","v":100},100,100,300,38]
["Jill Patel","WJ","V45",{"$f":"IF(ISNA(VLOOKUP($A230,'Race 1-Ladies'!$U$24:$Z$53,6,0)),100,VLOOKUP($A230,'Race 1-Ladies'!$U$24:$Z$53,6,0))","v":100},{"$f":"IF(ISNA(VLOOKUP($A230,'Race 2-Ladies'!$U$23:$Z$53,6,0)),100,VLOOKUP($A230,'Race 2-Ladies'!$U$23:$Z$53,6,0))","v":100},{"$f":"IF(ISNA(VLOOKUP($A230,'Race 3-Ladies'!$U$27:$Z$61,6,0)),100,VLOOKUP($A230,'Race 3-Ladies'!$U$27:$Z$61,6,0))","v":100},{"$f":"IF(ISNA(VLOOKUP($A230,'Race 4-Ladies'!$U$30:$Z$100,6,0)),100,VLOOKUP($A230,'Race 4-Ladies'!$U$30:$Z$100,6,0))","v":100},{"$f":"SMALL(D230:G230,{1,2,3})","v":100},100,100,300,38]
["joanna Sturrock","BS","V45",{"$f":"IF(ISNA(VLOOKUP($A231,'Race 1-Ladies'!$U$24:$Z$53,6,0)),100,VLOOKUP($A231,'Race 1-Ladies'!$U$24:$Z$53,6,0))","v":100},{"$f":"IF(ISNA(VLOOKUP($A231,'Race 2-Ladies'!$U$23:$Z$53,6,0)),100,VLOOKUP($A231,'Race 2-Ladies'!$U$23:$Z$53,6,0))","v":100},{"$f":"IF(ISNA(VLOOKUP($A231,'Race 3-Ladies'!$U$27:$Z$61,6,0)),100,VLOOKUP($A231,'Race 3-Ladies'!$U$27:$Z$61,6,0))","v":100},{"$f":"IF(ISNA(VLOOKUP($A231,'Race 4-Ladies'!$U$30:$Z$100,6,0)),100,VLOOKUP($A231,'Race 4-Ladies'!$U$30:$Z$100,6,0))","v":100},{"$f":"SMALL(D231:G231,{1,2,3})","v":100},100,100,300,38]
["Joanne Hume","BS","V45",{"$f":"IF(ISNA(VLOOKUP($A232,'Race 1-Ladies'!$U$24:$Z$53,6,0)),100,VLOOKUP($A232,'Race 1-Ladies'!$U$24:$Z$53,6,0))","v":100},{"$f":"IF(ISNA(VLOOKUP($A232,'Race 2-Ladies'!$U$23:$Z$53,6,0)),100,VLOOKUP($A232,'Race 2-Ladies'!$U$23:$Z$53,6,0))","v":100},{"$f":"IF(ISNA(VLOOKUP($A232,'Race 3-Ladies'!$U$27:$Z$61,6,0)),100,VLOOKUP($A232,'Race 3-Ladies'!$U$27:$Z$61,6,0))","v":100},{"$f":"IF(ISNA(VLOOKUP($A232,'Race 4-Ladies'!$U$30:$Z$100,6,0)),100,VLOOKUP($A232,'Race 4-Ladies'!$U$30:$Z$100,6,0))","v":100},{"$f":"SMALL(D232:G232,{1,2,3})","v":100},100,100,300,38]
["Josephine Joel","WJ","V45",{"$f":"IF(ISNA(VLOOKUP($A233,'Race 1-Ladies'!$U$24:$Z$53,6,0)),100,VLOOKUP($A233,'Race 1-Ladies'!$U$24:$Z$53,6,0))","v":100},{"$f":"IF(ISNA(VLOOKUP($A233,'Race 2-Ladies'!$U$23:$Z$53,6,0)),100,VLOOKUP($A233,'Race 2-Ladies'!$U$23:$Z$53,6,0))","v":100},{"$f":"IF(ISNA(VLOOKUP($A233,'Race 3-Ladies'!$U$27:$Z$61,6,0)),100,VLOOKUP($A233,'Race 3-Ladies'!$U$27:$Z$61,6,0))","v":100},{"$f":"IF(ISNA(VLOOKUP($A233,'Race 4-Ladies'!$U$30:$Z$100,6,0)),100,VLOOKUP($A233,'Race 4-Ladies'!$U$30:$Z$100,6,0))","v":100},{"$f":"SMALL(D233:G233,{1,2,3})","v":100},100,100,300,38]
["Julia Booker","WJ","V45",{"$f":"IF(ISNA(VLOOKUP($A234,'Race 1-Ladies'!$U$24:$Z$53,6,0)),100,VLOOKUP($A234,'Race 1-Ladies'!$U$24:$Z$53,6,0))","v":100},{"$f":"IF(ISNA(VLOOKUP($A234,'Race 2-Ladies'!$U$23:$Z$53,6,0)),100,VLOOKUP($A234,'Race 2-Ladies'!$U$23:$Z$53,6,0))","v":100},{"$f":"IF(ISNA(VLOOKUP($A234,'Race 3-Ladies'!$U$27:$Z$61,6,0)),100,VLOOKUP($A234,'Race 3-Ladies'!$U$27:$Z$61,6,0))","v":100},{"$f":"IF(ISNA(VLOOKUP($A234,'Race 4-Ladies'!$U$30:$Z$100,6,0)),100,VLOOKUP($A234,'Race 4-Ladies'!$U$30:$Z$100,6,0))","v":100},{"$f":"SMALL(D234:G234,{1,2,3})","v":100},100,100,300,38]
["Julie Bull","HRC","V45",{"$f":"IF(ISNA(VLOOKUP($A235,'Race 1-Ladies'!$U$24:$Z$53,6,0)),100,VLOOKUP($A235,'Race 1-Ladies'!$U$24:$Z$53,6,0))","v":100},{"$f":"IF(ISNA(VLOOKUP($A235,'Race 2-Ladies'!$U$23:$Z$53,6,0)),100,VLOOKUP($A235,'Race 2-Ladies'!$U$23:$Z$53,6,0))","v":100},{"$f":"IF(ISNA(VLOOKUP($A235,'Race 3-Ladies'!$U$27:$Z$61,6,0)),100,VLOOKUP($A235,'Race 3-Ladies'!$U$27:$Z$61,6,0))","v":100},{"$f":"IF(ISNA(VLOOKUP($A235,'Race 4-Ladies'!$U$30:$Z$100,6,0)),100,VLOOKUP($A235,'Race 4-Ladies'!$U$30:$Z$100,6,0))","v":100},{"$f":"SMALL(D235:G235,{1,2,3})","v":100},100,100,300,38]
["Julie Pagram","BS","V45",{"$f":"IF(ISNA(VLOOKUP($A236,'Race 1-Ladies'!$U$24:$Z$53,6,0)),100,VLOOKUP($A236,'Race 1-Ladies'!$U$24:$Z$53,6,0))","v":100},{"$f":"IF(ISNA(VLOOKUP($A236,'Race 2-Ladies'!$U$23:$Z$53,6,0)),100,VLOOKUP($A236,'Race 2-Ladies'!$U$23:$Z$53,6,0))","v":100},{"$f":"IF(ISNA(VLOOKUP($A236,'Race 3-Ladies'!$U$27:$Z$61,6,0)),100,VLOOKUP($A236,'Race 3-Ladies'!$U$27:$Z$61,6,0))","v":100},{"$f":"IF(ISNA(VLOOKUP($A236,'Race 4-Ladies'!$U$30:$Z$100,6,0)),100,VLOOKUP($A236,'Race 4-Ladies'!$U$30:$Z$100,6,0))","v":100},{"$f":"SMALL(D236:G236,{1,2,3})","v":100},100,100,300,38]
["Julie Witchalls","BS","V45",{"$f":"IF(ISNA(VLOOKUP($A237,'Race 1-Ladies'!$U$24:$Z$53,6,0)),100,VLOOKUP($A237,'Race 1-Ladies'!$U$24:$Z$53,6,0))","v":100},{"$f":"IF(ISNA(VLOOKUP($A237,'Race 2-Ladies'!$U$23:$Z$53,6,0)),100,VLOOKUP($A237,'Race 2-Ladies'!$U$23:$Z$53,6,0))","v":100},{"$f":"IF(ISNA(VLOOKUP($A237,'Race 3-Ladies'!$U$27:$Z$61,6,0)),100,VLOOKUP($A237,'Race 3-Ladies'!$U$27:$Z$61,6,0))","v":100},{"$f":"IF(ISNA(VLOOKUP($A237,'Race 4-Ladies'!$U$30:$Z$100,6,0)),100,VLOOKUP($A237,'Race 4-Ladies'!$U$30:$Z$100,6,0))","v":100},{"$f":"SMALL(D237:G237,{1,2,3})","v":100},100,100,300,38]
["Karen Roddam","BS","V45",{"$f":"IF(ISNA(VLOOKUP($A238,'Race 1-Ladies'!$U$24:$Z$53,6,0)),100,VLOOKUP($A238,'Race 1-Ladies'!$U$24:$Z$53,6,0))","v":100},{"$f":"IF(ISNA(VLOOKUP($A238,'Race 2-Ladies'!$U$23:$Z$53,6,0)),100,VLOOKUP($A238,'Race 2-Ladies'!$U$23:$Z$53,6,0))","v":100},{"$f":"IF(ISNA(VLOOKUP($A238,'Race 3-Ladies'!$U$27:$Z$61,6,0)),100,VLOOKUP($A238,'Race 3-Ladies'!$U$27:$Z$61,6,0))","v":100},{"$f":"IF(ISNA(VLOOKUP($A238,'Race 4-Ladies'!$U$30:$Z$100,6,0)),100,VLOOKUP($A238,'Race 4-Ladies'!$U$30:$Z$100,6,0))","v":100},{"$f":"SMALL(D238:G238,{1,2,3})","v":100},100,100,300,38]
["Kate Porter","HRC","V45",{"$f":"IF(ISNA(VLOOKUP($A239,'Race 1-Ladies'!$U$24:$Z$53,6,0)),100,VLOOKUP($A239,'Race 1-Ladies'!$U$24:$Z$53,6,0))","v":9},{"$f":"IF(ISNA(VLOOKUP($A239,'Race 2-Ladies'!$U$23:$Z$53,6,0)),100,VLOOKUP($A239,'Race 2-Ladies'!$U$23:$Z$53,6,0))","v":6},{"$f":"IF(ISNA(VLOOKUP($A239,'Race 3-Ladies'!$U$27:$Z$61,6,0)),100,VLOOKUP($A239,'Race 3-Ladies'!$U$27:$Z$61,6,0))","v":100},{"$f":"IF(ISNA(VLOOKUP($A239,'Race 4-Ladies'!$U$30:$Z$100,6,0)),100,VLOOKUP($A239,'Race 4-Ladies'!$U$30:$Z$100,6,0))","v":12},{"$f":"SMALL(D239:G239,{1,2,3})","v":6},9,12,27,{"$f":"RANK(K239,$K$174:$K$311,1)","v":6}]
["Kate Poulter","SS","V45",{"$f":"IF(ISNA(VLOOKUP($A240,'Race 1-Ladies'!$U$24:$Z$53,6,0)),100,VLOOKUP($A240,'Race 1-Ladies'!$U$24:$Z$53,6,0))","v":100},{"$f":"IF(ISNA(VLOOKUP($A240,'Race 2-Ladies'!$U$23:$Z$53,6,0)),100,VLOOKUP($A240,'Race 2-Ladies'!$U$23:$Z$53,6,0))","v":100},{"$f":"IF(ISNA(VLOOKUP($A240,'Race 3-Ladies'!$U$27:$Z$61,6,0)),100,VLOOKUP($A240,'Race 3-Ladies'!$U$27:$Z$61,6,0))","v":100},{"$f":"IF(ISNA(VLOOKUP($A240,'Race 4-Ladies'!$U$30:$Z$100,6,0)),100,VLOOKUP($A240,'Race 4-Ladies'!$U$30:$Z$100,6,0))","v":100},{"$f":"SMALL(D240:G240,{1,2,3})","v":100},100,100,300,38]
["Katharine Lewis","SS","V45",{"$f":"IF(ISNA(VLOOKUP($A241,'Race 1-Ladies'!$U$24:$Z$53,6,0)),100,VLOOKUP($A241,'Race 1-Ladies'!$U$24:$Z$53,6,0))","v":15},{"$f":"IF(ISNA(VLOOKUP($A241,'Race 2-Ladies'!$U$23:$Z$53,6,0)),100,VLOOKUP($A241,'Race 2-Ladies'!$U$23:$Z$53,6,0))","v":17},{"$f":"IF(ISNA(VLOOKUP($A241,'Race 3-Ladies'!$U$27:$Z$61,6,0)),100,VLOOKUP($A241,'Race 3-Ladies'!$U$27:$Z$61,6,0))","v":15},{"$f":"IF(ISNA(VLOOKUP($A241,'Race 4-Ladies'!$U$30:$Z$100,6,0)),100,VLOOKUP($A241,'Race 4-Ladies'!$U$30:$Z$100,6,0))","v":100},{"$f":"SMALL(D241:G241,{1,2,3})","v":15},15,17,47,11]
["Kathryn Chapman","BS","V45",{"$f":"IF(ISNA(VLOOKUP($A242,'Race 1-Ladies'!$U$24:$Z$53,6,0)),100,VLOOKUP($A242,'Race 1-Ladies'!$U$24:$Z$53,6,0))","v":100},{"$f":"IF(ISNA(VLOOKUP($A242,'Race 2-Ladies'!$U$23:$Z$53,6,0)),100,VLOOKUP($A242,'Race 2-Ladies'!$U$23:$Z$53,6,0))","v":100},{"$f":"IF(ISNA(VLOOKUP($A242,'Race 3-Ladies'!$U$27:$Z$61,6,0)),100,VLOOKUP($A242,'Race 3-Ladies'!$U$27:$Z$61,6,0))","v":100},{"$f":"IF(ISNA(VLOOKUP($A242,'Race 4-Ladies'!$U$30:$Z$100,6,0)),100,VLOOKUP($A242,'Race 4-Ladies'!$U$30:$Z$100,6,0))","v":100},{"$f":"SMALL(D242:G242,{1,2,3})","v":100},100,100,300,38]
["Katie Blacker","WJ","V45",{"$f":"IF(ISNA(VLOOKUP($A243,'Race 1-Ladies'!$U$24:$Z$53,6,0)),100,VLOOKUP($A243,'Race 1-Ladies'!$U$24:$Z$53,6,0))","v":100},{"$f":"IF(ISNA(VLOOKUP($A243,'Race 2-Ladies'!$U$23:$Z$53,6,0)),100,VLOOKUP($A243,'Race 2-Ladies'!$U$23:$Z$53,6,0))","v":100},{"$f":"IF(ISNA(VLOOKUP($A243,'Race 3-Ladies'!$U$27:$Z$61,6,0)),100,VLOOKUP($A243,'Race 3-Ladies'!$U$27:$Z$61,6,0))","v":100},{"$f":"IF(ISNA(VLOOKUP($A243,'Race 4-Ladies'!$U$30:$Z$100,6,0)),100,VLOOKUP($A243,'Race 4-Ladies'!$U$30:$Z$100,6,0))","v":100},{"$f":"SMALL(D243:G243,{1,2,3})","v":100},100,100,300,38]
["Kavita White","SS","V45",{"$f":"IF(ISNA(VLOOKUP($A244,'Race 1-Ladies'!$U$24:$Z$53,6,0)),100,VLOOKUP($A244,'Race 1-Ladies'!$U$24:$Z$53,6,0))","v":100},{"$f":"IF(ISNA(VLOOKUP($A244,'Race 2-Ladies'!$U$23:$Z$53,6,0)),100,VLOOKUP($A244,'Race 2-Ladies'!$U$23:$Z$53,6,0))","v":100},{"$f":"IF(ISNA(VLOOKUP($A244,'Race 3-Ladies'!$U$27:$Z$61,6,0)),100,VLOOKUP($A244,'Race 3-Ladies'!$U$27:$Z$61,6,0))","v":100},{"$f":"IF(ISNA(VLOOKUP($A244,'Race 4-Ladies'!$U$30:$Z$100,6,0)),100,VLOOKUP($A244,'Race 4-Ladies'!$U$30:$Z$100,6,0))","v":100},{"$f":"SMALL(D244:G244,{1,2,3})","v":100},100,100,300,38]
["Kelly Spires","HRC","V45",{"$f":"IF(ISNA(VLOOKUP($A245,'Race 1-Ladies'!$U$24:$Z$53,6,0)),100,VLOOKUP($A245,'Race 1-Ladies'!$U$24:$Z$53,6,0))","v":18},{"$f":"IF(ISNA(VLOOKUP($A245,'Race 2-Ladies'!$U$23:$Z$53,6,0)),100,VLOOKUP($A245,'Race 2-Ladies'!$U$23:$Z$53,6,0))","v":100},{"$f":"IF(ISNA(VLOOKUP($A245,'Race 3-Ladies'!$U$27:$Z$61,6,0)),100,VLOOKUP($A245,'Race 3-Ladies'!$U$27:$Z$61,6,0))","v":100},{"$f":"IF(ISNA(VLOOKUP($A245,'Race 4-Ladies'!$U$30:$Z$100,6,0)),100,VLOOKUP($A245,'Race 4-Ladies'!$U$30:$Z$100,6,0))","v":100},{"$f":"SMALL(D245:G245,{1,2,3})","v":18},100,100,218,34]
["Kerry Brooks","SS","V45",{"$f":"IF(ISNA(VLOOKUP($A246,'Race 1-Ladies'!$U$24:$Z$53,6,0)),100,VLOOKUP($A246,'Race 1-Ladies'!$U$24:$Z$53,6,0))","v":100},{"$f":"IF(ISNA(VLOOKUP($A246,'Race 2-Ladies'!$U$23:$Z$53,6,0)),100,VLOOKUP($A246,'Race 2-Ladies'!$U$23:$Z$53,6,0))","v":100},{"$f":"IF(ISNA(VLOOKUP($A246,'Race 3-Ladies'!$U$27:$Z$61,6,0)),100,VLOOKUP($A246,'Race 3-Ladies'!$U$27:$Z$61,6,0))","v":100},{"$f":"IF(ISNA(VLOOKUP($A246,'Race 4-Ladies'!$U$30:$Z$100,6,0)),100,VLOOKUP($A246,'Race 4-Ladies'!$U$30:$Z$100,6,0))","v":100},{"$f":"SMALL(D246:G246,{1,2,3})","v":100},100,100,300,38]
["Kerry Harrington","SS","V45",{"$f":"IF(ISNA(VLOOKUP($A247,'Race 1-Ladies'!$U$24:$Z$53,6,0)),100,VLOOKUP($A247,'Race 1-Ladies'!$U$24:$Z$53,6,0))","v":7},{"$f":"IF(ISNA(VLOOKUP($A247,'Race 2-Ladies'!$U$23:$Z$53,6,0)),100,VLOOKUP($A247,'Race 2-Ladies'!$U$23:$Z$53,6,0))","v":5},{"$f":"IF(ISNA(VLOOKUP($A247,'Race 3-Ladies'!$U$27:$Z$61,6,0)),100,VLOOKUP($A247,'Race 3-Ladies'!$U$27:$Z$61,6,0))","v":7},{"$f":"IF(ISNA(VLOOKUP($A247,'Race 4-Ladies'!$U$30:$Z$100,6,0)),100,VLOOKUP($A247,'Race 4-Ladies'!$U$30:$Z$100,6,0))","v":8},{"$f":"SMALL(D247:G247,{1,2,3})","v":5},7,7,19,5]
["Kerry Mavris","HRC","V45",{"$f":"IF(ISNA(VLOOKUP($A248,'Race 1-Ladies'!$U$24:$Z$53,6,0)),100,VLOOKUP($A248,'Race 1-Ladies'!$U$24:$Z$53,6,0))","v":19},{"$f":"IF(ISNA(VLOOKUP($A248,'Race 2-Ladies'!$U$23:$Z$53,6,0)),100,VLOOKUP($A248,'Race 2-Ladies'!$U$23:$Z$53,6,0))","v":100},{"$f":"IF(ISNA(VLOOKUP($A248,'Race 3-Ladies'!$U$27:$Z$61,6,0)),100,VLOOKUP($A248,'Race 3-Ladies'!$U$27:$Z$61,6,0))","v":100},{"$f":"IF(ISNA(VLOOKUP($A248,'Race 4-Ladies'!$U$30:$Z$100,6,0)),100,VLOOKUP($A248,'Race 4-Ladies'!$U$30:$Z$100,6,0))","v":9},{"$f":"SMALL(D248:G248,{1,2,3})","v":9},19,100,128,19]
["Lara Wheeldon","BS","V45",{"$f":"IF(ISNA(VLOOKUP($A249,'Race 1-Ladies'!$U$24:$Z$53,6,0)),100,VLOOKUP($A249,'Race 1-Ladies'!$U$24:$Z$53,6,0))","v":14},{"$f":"IF(ISNA(VLOOKUP($A249,'Race 2-Ladies'!$U$23:$Z$53,6,0)),100,VLOOKUP($A249,'Race 2-Ladies'!$U$23:$Z$53,6,0))","v":15},{"$f":"IF(ISNA(VLOOKUP($A249,'Race 3-Ladies'!$U$27:$Z$61,6,0)),100,VLOOKUP($A249,'Race 3-Ladies'!$U$27:$Z$61,6,0))","v":100},{"$f":"IF(ISNA(VLOOKUP($A249,'Race 4-Ladies'!$U$30:$Z$100,6,0)),100,VLOOKUP($A249,'Race 4-Ladies'!$U$30:$Z$100,6,0))","v":100},{"$f":"SMALL(D249:G249,{1,2,3})","v":14},15,100,129,20]
["Laura Prime","HRC","V45",{"$f":"IF(ISNA(VLOOKUP($A250,'Race 1-Ladies'!$U$24:$Z$53,6,0)),100,VLOOKUP($A250,'Race 1-Ladies'!$U$24:$Z$53,6,0))","v":13},{"$f":"IF(ISNA(VLOOKUP($A250,'Race 2-Ladies'!$U$23:$Z$53,6,0)),100,VLOOKUP($A250,'Race 2-Ladies'!$U$23:$Z$53,6,0))","v":8},{"$f":"IF(ISNA(VLOOKUP($A250,'Race 3-Ladies'!$U$27:$Z$61,6,0)),100,VLOOKUP($A250,'Race 3-Ladies'!$U$27:$Z$61,6,0))","v":100},{"$f":"IF(ISNA(VLOOKUP($A250,'Race 4-Ladies'!$U$30:$Z$100,6,0)),100,VLOOKUP($A250,'Race 4-Ladies'!$U$30:$Z$100,6,0))","v":100},{"$f":"SMALL(D250:G250,{1,2,3})","v":8},13,100,121,16]
["Lili Pluck","SS","V45",{"$f":"IF(ISNA(VLOOKUP($A251,'Race 1-Ladies'!$U$24:$Z$53,6,0)),100,VLOOKUP($A251,'Race 1-Ladies'!$U$24:$Z$53,6,0))","v":100},{"$f":"IF(ISNA(VLOOKUP($A251,'Race 2-Ladies'!$U$23:$Z$53,6,0)),100,VLOOKUP($A251,'Race 2-Ladies'!$U$23:$Z$53,6,0))","v":100},{"$f":"IF(ISNA(VLOOKUP($A251,'Race 3-Ladies'!$U$27:$Z$61,6,0)),100,VLOOKUP($A251,'Race 3-Ladies'!$U$27:$Z$61,6,0))","v":100},{"$f":"IF(ISNA(VLOOKUP($A251,'Race 4-Ladies'!$U$30:$Z$100,6,0)),100,VLOOKUP($A251,'Race 4-Ladies'!$U$30:$Z$100,6,0))","v":100},{"$f":"SMALL(D251:G251,{1,2,3})","v":100},100,100,300,38]
["Lisa Brett","HRC","V45",{"$f":"IF(ISNA(VLOOKUP($A252,'Race 1-Ladies'!$U$24:$Z$53,6,0)),100,VLOOKUP($A252,'Race 1-Ladies'!$U$24:$Z$53,6,0))","v":100},{"$f":"IF(ISNA(VLOOKUP($A252,'Race 2-Ladies'!$U$23:$Z$53,6,0)),100,VLOOKUP($A252,'Race 2-Ladies'!$U$23:$Z$53,6,0))","v":100},{"$f":"IF(ISNA(VLOOKUP($A252,'Race 3-Ladies'!$U$27:$Z$61,6,0)),100,VLOOKUP($A252,'Race 3-Ladies'!$U$27:$Z$61,6,0))","v":100},{"$f":"IF(ISNA(VLOOKUP($A252,'Race 4-Ladies'!$U$30:$Z$100,6,0)),100,VLOOKUP($A252,'Race 4-Ladies'!$U$30:$Z$100,6,0))","v":16},{"$f":"SMALL(D252:G252,{1,2,3})","v":16},100,100,216,29]
["Lisa Collier-Smith","BS","V45",{"$f":"IF(ISNA(VLOOKUP($A253,'Race 1-Ladies'!$U$24:$Z$53,6,0)),100,VLOOKUP($A253,'Race 1-Ladies'!$U$24:$Z$53,6,0))","v":100},{"$f":"IF(ISNA(VLOOKUP($A253,'Race 2-Ladies'!$U$23:$Z$53,6,0)),100,VLOOKUP($A253,'Race 2-Ladies'!$U$23:$Z$53,6,0))","v":100},{"$f":"IF(ISNA(VLOOKUP($A253,'Race 3-Ladies'!$U$27:$Z$61,6,0)),100,VLOOKUP($A253,'Race 3-Ladies'!$U$27:$Z$61,6,0))","v":100},{"$f":"IF(ISNA(VLOOKUP($A253,'Race 4-Ladies'!$U$30:$Z$100,6,0)),100,VLOOKUP($A253,'Race 4-Ladies'!$U$30:$Z$100,6,0))","v":100},{"$f":"SMALL(D253:G253,{1,2,3})","v":100},100,100,300,38]
["Lisa Plumb","SS","V45",{"$f":"IF(ISNA(VLOOKUP($A254,'Race 1-Ladies'!$U$24:$Z$53,6,0)),100,VLOOKUP($A254,'Race 1-Ladies'!$U$24:$Z$53,6,0))","v":16},{"$f":"IF(ISNA(VLOOKUP($A254,'Race 2-Ladies'!$U$23:$Z$53,6,0)),100,VLOOKUP($A254,'Race 2-Ladies'!$U$23:$Z$53,6,0))","v":13},{"$f":"IF(ISNA(VLOOKUP($A254,'Race 3-Ladies'!$U$27:$Z$61,6,0)),100,VLOOKUP($A254,'Race 3-Ladies'!$U$27:$Z$61,6,0))","v":13},{"$f":"IF(ISNA(VLOOKUP($A254,'Race 4-Ladies'!$U$30:$Z$100,6,0)),100,VLOOKUP($A254,'Race 4-Ladies'!$U$30:$Z$100,6,0))","v":100},{"$f":"SMALL(D254:G254,{1,2,3})","v":13},13,16,42,10]
["Lisa Roberts","WJ","V45",{"$f":"IF(ISNA(VLOOKUP($A255,'Race 1-Ladies'!$U$24:$Z$53,6,0)),100,VLOOKUP($A255,'Race 1-Ladies'!$U$24:$Z$53,6,0))","v":100},{"$f":"IF(ISNA(VLOOKUP($A255,'Race 2-Ladies'!$U$23:$Z$53,6,0)),100,VLOOKUP($A255,'Race 2-Ladies'!$U$23:$Z$53,6,0))","v":100},{"$f":"IF(ISNA(VLOOKUP($A255,'Race 3-Ladies'!$U$27:$Z$61,6,0)),100,VLOOKUP($A255,'Race 3-Ladies'!$U$27:$Z$61,6,0))","v":100},{"$f":"IF(ISNA(VLOOKUP($A255,'Race 4-Ladies'!$U$30:$Z$100,6,0)),100,VLOOKUP($A255,'Race 4-Ladies'!$U$30:$Z$100,6,0))","v":100},{"$f":"SMALL(D255:G255,{1,2,3})","v":100},100,100,300,38]
["Liz Sanders","WJ","V45",{"$f":"IF(ISNA(VLOOKUP($A256,'Race 1-Ladies'!$U$24:$Z$53,6,0)),100,VLOOKUP($A256,'Race 1-Ladies'!$U$24:$Z$53,6,0))","v":100},{"$f":"IF(ISNA(VLOOKUP($A256,'Race 2-Ladies'!$U$23:$Z$53,6,0)),100,VLOOKUP($A256,'Race 2-Ladies'!$U$23:$Z$53,6,0))","v":100},{"$f":"IF(ISNA(VLOOKUP($A256,'Race 3-Ladies'!$U$27:$Z$61,6,0)),100,VLOOKUP($A256,'Race 3-Ladies'!$U$27:$Z$61,6,0))","v":100},{"$f":"IF(ISNA(VLOOKUP($A256,'Race 4-Ladies'!$U$30:$Z$100,6,0)),100,VLOOKUP($A256,'Race 4-Ladies'!$U$30:$Z$100,6,0))","v":100},{"$f":"SMALL(D256:G256,{1,2,3})","v":100},100,100,300,38]
["Lizzie Wright","HRC","V45",{"$f":"IF(ISNA(VLOOKUP($A257,'Race 1-Ladies'!$U$24:$Z$53,6,0)),100,VLOOKUP($A257,'Race 1-Ladies'!$U$24:$Z$53,6,0))","v":100},{"$f":"IF(ISNA(VLOOKUP($A257,'Race 2-Ladies'!$U$23:$Z$53,6,0)),100,VLOOKUP($A257,'Race 2-Ladies'!$U$23:$Z$53,6,0))","v":100},{"$f":"IF(ISNA(VLOOKUP($A257,'Race 3-Ladies'!$U$27:$Z$61,6,0)),100,VLOOKUP($A257,'Race 3-Ladies'!$U$27:$Z$61,6,0))","v":100},{"$f":"IF(ISNA(VLOOKUP($A257,'Race 4-Ladies'!$U$30:$Z$100,6,0)),100,VLOOKUP($A257,'Race 4-Ladies'!$U$30:$Z$100,6,0))","v":100},{"$f":"SMALL(D257:G257,{1,2,3})","v":100},100,100,300,38]
["Louise Oliver","WJ","V45",{"$f":"IF(ISNA(VLOOKUP($A258,'Race 1-Ladies'!$U$24:$Z$53,6,0)),100,VLOOKUP($A258,'Race 1-Ladies'!$U$24:$Z$53,6,0))","v":100},{"$f":"IF(ISNA(VLOOKUP($A258,'Race 2-Ladies'!$U$23:$Z$53,6,0)),100,VLOOKUP($A258,'Race 2-Ladies'!$U$23:$Z$53,6,0))","v":100},{"$f":"IF(ISNA(VLOOKUP($A258,'Race 3-Ladies'!$U$27:$Z$61,6,0)),100,VLOOKUP($A258,'Race 3-Ladies'!$U$27:$Z$61,6,0))","v":100},{"$f":"IF(ISNA(VLOOKUP($A258,'Race 4-Ladies'!$U$30:$Z$100,6,0)),100,VLOOKUP($A258,'Race 4-Ladies'!$U$30:$Z$100,6,0))","v":100},{"$f":"SMALL(D258:G258,{1,2,3})","v":100},100,100,300,38]
["Louise Shury","HRC","V45",{"$f":"IF(ISNA(VLOOKUP($A259,'Race 1-Ladies'!$U$24:$Z$53,6,0)),100,VLOOKUP($A259,'Race 1-Ladies'!$U$24:$Z$53,6,0))","v":100},{"$f":"IF(ISNA(VLOOKUP($A259,'Race 2-Ladies'!$U$23:$Z$53,6,0)),100,VLOOKUP($A259,'Race 2-Ladies'!$U$23:$Z$53,6,0))","v":100},{"$f":"IF(ISNA(VLOOKUP($A259,'Race 3-Ladies'!$U$27:$Z$61,6,0)),100,VLOOKUP($A259,'Race 3-Ladies'!$U$27:$Z$61,6,0))","v":100},{"$f":"IF(ISNA(VLOOKUP($A259,'Race 4-Ladies'!$U$30:$Z$100,6,0)),100,VLOOKUP($A259,'Race 4-Ladies'!$U$30:$Z$100,6,0))","v":100},{"$f":"SMALL(D259:G259,{1,2,3})","v":100},100,100,300,38]
["Lucy Dupuis","WJ","V45",{"$f":"IF(ISNA(VLOOKUP($A260,'Race 1-Ladies'!$U$24:$Z$53,6,0)),100,VLOOKUP($A260,'Race 1-Ladies'!$U$24:$Z$53,6,0))","v":5},{"$f":"IF(ISNA(VLOOKUP($A260,'Race 2-Ladies'!$U$23:$Z$53,6,0)),100,VLOOKUP($A260,'Race 2-Ladies'!$U$23:$Z$53,6,0))","v":4},{"$f":"IF(ISNA(VLOOKUP($A260,'Race 3-Ladies'!$U$27:$Z$61,6,0)),100,VLOOKUP($A260,'Race 3-Ladies'!$U$27:$Z$61,6,0))","v":6},{"$f":"IF(ISNA(VLOOKUP($A260,'Race 4-Ladies'!$U$30:$Z$100,6,0)),100,VLOOKUP($A260,'Race 4-Ladies'!$U$30:$Z$100,6,0))","v":4},{"$f":"SMALL(D260:G260,{1,2,3})","v":4},4,5,13,3]
["Lynsay Evans","WJ","V45",{"$f":"IF(ISNA(VLOOKUP($A261,'Race 1-Ladies'!$U$24:$Z$53,6,0)),100,VLOOKUP($A261,'Race 1-Ladies'!$U$24:$Z$53,6,0))","v":100},{"$f":"IF(ISNA(VLOOKUP($A261,'Race 2-Ladies'!$U$23:$Z$53,6,0)),100,VLOOKUP($A261,'Race 2-Ladies'!$U$23:$Z$53,6,0))","v":100},{"$f":"IF(ISNA(VLOOKUP($A261,'Race 3-Ladies'!$U$27:$Z$61,6,0)),100,VLOOKUP($A261,'Race 3-Ladies'!$U$27:$Z$61,6,0))","v":100},{"$f":"IF(ISNA(VLOOKUP($A261,'Race 4-Ladies'!$U$30:$Z$100,6,0)),100,VLOOKUP($A261,'Race 4-Ladies'!$U$30:$Z$100,6,0))","v":17},{"$f":"SMALL(D261:G261,{1,2,3})","v":17},100,100,{"$f":"SUM(H261:J261)","v":217},31]
["Maria Sassons","HRC","V45",{"$f":"IF(ISNA(VLOOKUP($A262,'Race 1-Ladies'!$U$24:$Z$53,6,0)),100,VLOOKUP($A262,'Race 1-Ladies'!$U$24:$Z$53,6,0))","v":100},{"$f":"IF(ISNA(VLOOKUP($A262,'Race 2-Ladies'!$U$23:$Z$53,6,0)),100,VLOOKUP($A262,'Race 2-Ladies'!$U$23:$Z$53,6,0))","v":100},{"$f":"IF(ISNA(VLOOKUP($A262,'Race 3-Ladies'!$U$27:$Z$61,6,0)),100,VLOOKUP($A262,'Race 3-Ladies'!$U$27:$Z$61,6,0))","v":100},{"$f":"IF(ISNA(VLOOKUP($A262,'Race 4-Ladies'!$U$30:$Z$100,6,0)),100,VLOOKUP($A262,'Race 4-Ladies'!$U$30:$Z$100,6,0))","v":100},{"$f":"SMALL(D262:G262,{1,2,3})","v":100},100,100,300,38]
["Marianne Mitchell","WJ","V45",{"$f":"IF(ISNA(VLOOKUP($A263,'Race 1-Ladies'!$U$24:$Z$53,6,0)),100,VLOOKUP($A263,'Race 1-Ladies'!$U$24:$Z$53,6,0))","v":100},{"$f":"IF(ISNA(VLOOKUP($A263,'Race 2-Ladies'!$U$23:$Z$53,6,0)),100,VLOOKUP($A263,'Race 2-Ladies'!$U$23:$Z$53,6,0))","v":100},{"$f":"IF(ISNA(VLOOKUP($A263,'Race 3-Ladies'!$U$27:$Z$61,6,0)),100,VLOOKUP($A263,'Race 3-Ladies'!$U$27:$Z$61,6,0))","v":100},{"$f":"IF(ISNA(VLOOKUP($A263,'Race 4-Ladies'!$U$30:$Z$100,6,0)),100,VLOOKUP($A263,'Race 4-Ladies'!$U$30:$Z$100,6,0))","v":100},{"$f":"SMALL(D263:G263,{1,2,3})","v":100},100,100,300,38]
["Melanie Blackaby","WJ","V45",{"$f":"IF(ISNA(VLOOKUP($A264,'Race 1-Ladies'!$U$24:$Z$53,6,0)),100,VLOOKUP($A264,'Race 1-Ladies'!$U$24:$Z$53,6,0))","v":100},{"$f":"IF(ISNA(VLOOKUP($A264,'Race 2-Ladies'!$U$23:$Z$53,6,0)),100,VLOOKUP($A264,'Race 2-Ladies'!$U$23:$Z$53,6,0))","v":100},{"$f":"IF(ISNA(VLOOKUP($A264,'Race 3-Ladies'!$U$27:$Z$61,6,0)),100,VLOOKUP($A264,'Race 3-Ladies'!$U$27:$Z$61,6,0))","v":8},{"$f":"IF(ISNA(VLOOKUP($A264,'Race 4-Ladies'!$U$30:$Z$100,6,0)),100,VLOOKUP($A264,'Race 4-Ladies'!$U$30:$Z$100,6,0))","v":100},{"$f":"SMALL(D264:G264,{1,2,3})","v":8},100,100,208,24]
["Melissa Sangha","SS","V45",{"$f":"IF(ISNA(VLOOKUP($A265,'Race 1-Ladies'!$U$24:$Z$53,6,0)),100,VLOOKUP($A265,'Race 1-Ladies'!$U$24:$Z$53,6,0))","v":100},{"$f":"IF(ISNA(VLOOKUP($A265,'Race 2-Ladies'!$U$23:$Z$53,6,0)),100,VLOOKUP($A265,'Race 2-Ladies'!$U$23:$Z$53,6,0))","v":100},{"$f":"IF(ISNA(VLOOKUP($A265,'Race 3-Ladies'!$U$27:$Z$61,6,0)),100,VLOOKUP($A265,'Race 3-Ladies'!$U$27:$Z$61,6,0))","v":100},{"$f":"IF(ISNA(VLOOKUP($A265,'Race 4-Ladies'!$U$30:$Z$100,6,0)),100,VLOOKUP($A265,'Race 4-Ladies'!$U$30:$Z$100,6,0))","v":100},{"$f":"SMALL(D265:G265,{1,2,3})","v":100},100,100,300,38]
["Michelle Hasty","BS","V45",{"$f":"IF(ISNA(VLOOKUP($A266,'Race 1-Ladies'!$U$24:$Z$53,6,0)),100,VLOOKUP($A266,'Race 1-Ladies'!$U$24:$Z$53,6,0))","v":100},{"$f":"IF(ISNA(VLOOKUP($A266,'Race 2-Ladies'!$U$23:$Z$53,6,0)),100,VLOOKUP($A266,'Race 2-Ladies'!$U$23:$Z$53,6,0))","v":100},{"$f":"IF(ISNA(VLOOKUP($A266,'Race 3-Ladies'!$U$27:$Z$61,6,0)),100,VLOOKUP($A266,'Race 3-Ladies'!$U$27:$Z$61,6,0))","v":100},{"$f":"IF(ISNA(VLOOKUP($A266,'Race 4-Ladies'!$U$30:$Z$100,6,0)),100,VLOOKUP($A266,'Race 4-Ladies'!$U$30:$Z$100,6,0))","v":100},{"$f":"SMALL(D266:G266,{1,2,3})","v":100},100,100,300,38]
["Nadia Selby","WJ","V45",{"$f":"IF(ISNA(VLOOKUP($A267,'Race 1-Ladies'!$U$24:$Z$53,6,0)),100,VLOOKUP($A267,'Race 1-Ladies'!$U$24:$Z$53,6,0))","v":20},{"$f":"IF(ISNA(VLOOKUP($A267,'Race 2-Ladies'!$U$23:$Z$53,6,0)),100,VLOOKUP($A267,'Race 2-Ladies'!$U$23:$Z$53,6,0))","v":100},{"$f":"IF(ISNA(VLOOKUP($A267,'Race 3-Ladies'!$U$27:$Z$61,6,0)),100,VLOOKUP($A267,'Race 3-Ladies'!$U$27:$Z$61,6,0))","v":100},{"$f":"IF(ISNA(VLOOKUP($A267,'Race 4-Ladies'!$U$30:$Z$100,6,0)),100,VLOOKUP($A267,'Race 4-Ladies'!$U$30:$Z$100,6,0))","v":100},{"$f":"SMALL(D267:G267,{1,2,3})","v":20},100,100,220,36]
["Nadine Bedi","HRC","V45",{"$f":"IF(ISNA(VLOOKUP($A268,'Race 1-Ladies'!$U$24:$Z$53,6,0)),100,VLOOKUP($A268,'Race 1-Ladies'!$U$24:$Z$53,6,0))","v":100},{"$f":"IF(ISNA(VLOOKUP($A268,'Race 2-Ladies'!$U$23:$Z$53,6,0)),100,VLOOKUP($A268,'Race 2-Ladies'!$U$23:$Z$53,6,0))","v":100},{"$f":"IF(ISNA(VLOOKUP($A268,'Race 3-Ladies'!$U$27:$Z$61,6,0)),100,VLOOKUP($A268,'Race 3-Ladies'!$U$27:$Z$61,6,0))","v":100},{"$f":"IF(ISNA(VLOOKUP($A268,'Race 4-Ladies'!$U$30:$Z$100,6,0)),100,VLOOKUP($A268,'Race 4-Ladies'!$U$30:$Z$100,6,0))","v":100},{"$f":"SMALL(D268:G268,{1,2,3})","v":100},100,100,300,38]
["Natasha Terrell","HRC","V45",{"$f":"IF(ISNA(VLOOKUP($A269,'Race 1-Ladies'!$U$24:$Z$53,6,0)),100,VLOOKUP($A269,'Race 1-Ladies'!$U$24:$Z$53,6,0))","v":100},{"$f":"IF(ISNA(VLOOKUP($A269,'Race 2-Ladies'!$U$23:$Z$53,6,0)),100,VLOOKUP($A269,'Race 2-Ladies'!$U$23:$Z$53,6,0))","v":100},{"$f":"IF(ISNA(VLOOKUP($A269,'Race 3-Ladies'!$U$27:$Z$61,6,0)),100,VLOOKUP($A269,'Race 3-Ladies'!$U$27:$Z$61,6,0))","v":100},{"$f":"IF(ISNA(VLOOKUP($A269,'Race 4-Ladies'!$U$30:$Z$100,6,0)),100,VLOOKUP($A269,'Race 4-Ladies'!$U$30:$Z$100,6,0))","v":100},{"$f":"SMALL(D269:G269,{1,2,3})","v":100},100,100,300,38]
["Nicolette Harley","HRC","V45",{"$f":"IF(ISNA(VLOOKUP($A270,'Race 1-Ladies'!$U$24:$Z$53,6,0)),100,VLOOKUP($A270,'Race 1-Ladies'!$U$24:$Z$53,6,0))","v":100},{"$f":"IF(ISNA(VLOOKUP($A270,'Race 2-Ladies'!$U$23:$Z$53,6,0)),100,VLOOKUP($A270,'Race 2-Ladies'!$U$23:$Z$53,6,0))","v":100},{"$f":"IF(ISNA(VLOOKUP($A270,'Race 3-Ladies'!$U$27:$Z$61,6,0)),100,VLOOKUP($A270,'Race 3-Ladies'!$U$27:$Z$61,6,0))","v":100},{"$f":"IF(ISNA(VLOOKUP($A270,'Race 4-Ladies'!$U$30:$Z$100,6,0)),100,VLOOKUP($A270,'Race 4-Ladies'!$U$30:$Z$100,6,0))","v":100},{"$f":"SMALL(D270:G270,{1,2,3})","v":100},100,100,300,38]
["Niki Champion","BS","V45",{"$f":"IF(ISNA(VLOOKUP($A271,'Race 1-Ladies'!$U$24:$Z$53,6,0)),100,VLOOKUP($A271,'Race 1-Ladies'!$U$24:$Z$53,6,0))","v":17},{"$f":"IF(ISNA(VLOOKUP($A271,'Race 2-Ladies'!$U$23:$Z$53,6,0)),100,VLOOKUP($A271,'Race 2-Ladies'!$U$23:$Z$53,6,0))","v":100},{"$f":"IF(ISNA(VLOOKUP($A271,'Race 3-Ladies'!$U$27:$Z$61,6,0)),100,VLOOKUP($A271,'Race 3-Ladies'!$U$27:$Z$61,6,0))","v":100},{"$f":"IF(ISNA(VLOOKUP($A271,'Race 4-Ladies'!$U$30:$Z$100,6,0)),100,VLOOKUP($A271,'Race 4-Ladies'!$U$30:$Z$100,6,0))","v":100},{"$f":"SMALL(D271:G271,{1,2,3})","v":17},100,100,217,31]
["Nikola Coutts","SS","V45",{"$f":"IF(ISNA(VLOOKUP($A272,'Race 1-Ladies'!$U$24:$Z$53,6,0)),100,VLOOKUP($A272,'Race 1-Ladies'!$U$24:$Z$53,6,0))","v":100},{"$f":"IF(ISNA(VLOOKUP($A272,'Race 2-Ladies'!$U$23:$Z$53,6,0)),100,VLOOKUP($A272,'Race 2-Ladies'!$U$23:$Z$53,6,0))","v":100},{"$f":"IF(ISNA(VLOOKUP($A272,'Race 3-Ladies'!$U$27:$Z$61,6,0)),100,VLOOKUP($A272,'Race 3-Ladies'!$U$27:$Z$61,6,0))","v":100},{"$f":"IF(ISNA(VLOOKUP($A272,'Race 4-Ladies'!$U$30:$Z$100,6,0)),100,VLOOKUP($A272,'Race 4-Ladies'!$U$30:$Z$100,6,0))","v":100},{"$f":"SMALL(D272:G272,{1,2,3})","v":100},100,100,300,38]
["Paula Beades","BS","V45",{"$f":"IF(ISNA(VLOOKUP($A273,'Race 1-Ladies'!$U$24:$Z$53,6,0)),100,VLOOKUP($A273,'Race 1-Ladies'!$U$24:$Z$53,6,0))","v":100},{"$f":"IF(ISNA(VLOOKUP($A273,'Race 2-Ladies'!$U$23:$Z$53,6,0)),100,VLOOKUP($A273,'Race 2-Ladies'!$U$23:$Z$53,6,0))","v":100},{"$f":"IF(ISNA(VLOOKUP($A273,'Race 3-Ladies'!$U$27:$Z$61,6,0)),100,VLOOKUP($A273,'Race 3-Ladies'!$U$27:$Z$61,6,0))","v":100},{"$f":"IF(ISNA(VLOOKUP($A273,'Race 4-Ladies'!$U$30:$Z$100,6,0)),100,VLOOKUP($A273,'Race 4-Ladies'!$U$30:$Z$100,6,0))","v":100},{"$f":"SMALL(D273:G273,{1,2,3})","v":100},100,100,300,38]
["Paula Miles","HRC","V45",{"$f":"IF(ISNA(VLOOKUP($A274,'Race 1-Ladies'!$U$24:$Z$53,6,0)),100,VLOOKUP($A274,'Race 1-Ladies'!$U$24:$Z$53,6,0))","v":100},{"$f":"IF(ISNA(VLOOKUP($A274,'Race 2-Ladies'!$U$23:$Z$53,6,0)),100,VLOOKUP($A274,'Race 2-Ladies'!$U$23:$Z$53,6,0))","v":100},{"$f":"IF(ISNA(VLOOKUP($A274,'Race 3-Ladies'!$U$27:$Z$61,6,0)),100,VLOOKUP($A274,'Race 3-Ladies'!$U$27:$Z$61,6,0))","v":100},{"$f":"IF(ISNA(VLOOKUP($A274,'Race 4-Ladies'!$U$30:$Z$100,6,0)),100,VLOOKUP($A274,'Race 4-Ladies'!$U$30:$Z$100,6,0))","v":100},{"$f":"SMALL(D274:G274,{1,2,3})","v":100},100,100,300,38]
["Paula Thurston","SS","V45",{"$f":"IF(ISNA(VLOOKUP($A275,'Race 1-Ladies'!$U$24:$Z$53,6,0)),100,VLOOKUP($A275,'Race 1-Ladies'!$U$24:$Z$53,6,0))","v":100},{"$f":"IF(ISNA(VLOOKUP($A275,'Race 2-Ladies'!$U$23:$Z$53,6,0)),100,VLOOKUP($A275,'Race 2-Ladies'!$U$23:$Z$53,6,0))","v":100},{"$f":"IF(ISNA(VLOOKUP($A275,'Race 3-Ladies'!$U$27:$Z$61,6,0)),100,VLOOKUP($A275,'Race 3-Ladies'!$U$27:$Z$61,6,0))","v":100},{"$f":"IF(ISNA(VLOOKUP($A275,'Race 4-Ladies'!$U$30:$Z$100,6,0)),100,VLOOKUP($A275,'Race 4-Ladies'!$U$30:$Z$100,6,0))","v":100},{"$f":"SMALL(D275:G275,{1,2,3})","v":100},100,100,300,38]
["Pauline Weirich","HRC","V45",{"$f":"IF(ISNA(VLOOKUP($A276,'Race 1-Ladies'!$U$24:$Z$53,6,0)),100,VLOOKUP($A276,'Race 1-Ladies'!$U$24:$Z$53,6,0))","v":100},{"$f":"IF(ISNA(VLOOKUP($A276,'Race 2-Ladies'!$U$23:$Z$53,6,0)),100,VLOOKUP($A276,'Race 2-Ladies'!$U$23:$Z$53,6,0))","v":100},{"$f":"IF(ISNA(VLOOKUP($A276,'Race 3-Ladies'!$U$27:$Z$61,6,0)),100,VLOOKUP($A276,'Race 3-Ladies'!$U$27:$Z$61,6,0))","v":100},{"$f":"IF(ISNA(VLOOKUP($A276,'Race 4-Ladies'!$U$30:$Z$100,6,0)),100,VLOOKUP($A276,'Race 4-Ladies'!$U$30:$Z$100,6,0))","v":100},{"$f":"SMALL(D276:G276,{1,2,3})","v":100},100,100,300,38]
["Peijie Zhu","BS","V45",{"$f":"IF(ISNA(VLOOKUP($A277,'Race 1-Ladies'!$U$24:$Z$53,6,0)),100,VLOOKUP($A277,'Race 1-Ladies'!$U$24:$Z$53,6,0))","v":100},{"$f":"IF(ISNA(VLOOKUP($A277,'Race 2-Ladies'!$U$23:$Z$53,6,0)),100,VLOOKUP($A277,'Race 2-Ladies'!$U$23:$Z$53,6,0))","v":100},{"$f":"IF(ISNA(VLOOKUP($A277,'Race 3-Ladies'!$U$27:$Z$61,6,0)),100,VLOOKUP($A277,'Race 3-Ladies'!$U$27:$Z$61,6,0))","v":100},{"$f":"IF(ISNA(VLOOKUP($A277,'Race 4-Ladies'!$U$30:$Z$100,6,0)),100,VLOOKUP($A277,'Race 4-Ladies'!$U$30:$Z$100,6,0))","v":100},{"$f":"SMALL(D277:G277,{1,2,3})","v":100},100,100,300,38]
["Rachael Fletcher","BS","V45",{"$f":"IF(ISNA(VLOOKUP($A278,'Race 1-Ladies'!$U$24:$Z$53,6,0)),100,VLOOKUP($A278,'Race 1-Ladies'!$U$24:$Z$53,6,0))","v":100},{"$f":"IF(ISNA(VLOOKUP($A278,'Race 2-Ladies'!$U$23:$Z$53,6,0)),100,VLOOKUP($A278,'Race 2-Ladies'!$U$23:$Z$53,6,0))","v":100},{"$f":"IF(ISNA(VLOOKUP($A278,'Race 3-Ladies'!$U$27:$Z$61,6,0)),100,VLOOKUP($A278,'Race 3-Ladies'!$U$27:$Z$61,6,0))","v":100},{"$f":"IF(ISNA(VLOOKUP($A278,'Race 4-Ladies'!$U$30:$Z$100,6,0)),100,VLOOKUP($A278,'Race 4-Ladies'!$U$30:$Z$100,6,0))","v":100},{"$f":"SMALL(D278:G278,{1,2,3})","v":100},100,100,300,38]
["Rachel Turvey","BS","V45",{"$f":"IF(ISNA(VLOOKUP($A279,'Race 1-Ladies'!$U$24:$Z$53,6,0)),100,VLOOKUP($A279,'Race 1-Ladies'!$U$24:$Z$53,6,0))","v":100},{"$f":"IF(ISNA(VLOOKUP($A279,'Race 2-Ladies'!$U$23:$Z$53,6,0)),100,VLOOKUP($A279,'Race 2-Ladies'!$U$23:$Z$53,6,0))","v":100},{"$f":"IF(ISNA(VLOOKUP($A279,'Race 3-Ladies'!$U$27:$Z$61,6,0)),100,VLOOKUP($A279,'Race 3-Ladies'!$U$27:$Z$61,6,0))","v":100},{"$f":"IF(ISNA(VLOOKUP($A279,'Race 4-Ladies'!$U$30:$Z$100,6,0)),100,VLOOKUP($A279,'Race 4-Ladies'!$U$30:$Z$100,6,0))","v":100},{"$f":"SMALL(D279:G279,{1,2,3})","v":100},100,100,300,38]
["Rebecca Drinkwater","WJ","V45",{"$f":"IF(ISNA(VLOOKUP($A280,'Race 1-Ladies'!$U$24:$Z$53,6,0)),100,VLOOKUP($A280,'Race 1-Ladies'!$U$24:$Z$53,6,0))","v":100},{"$f":"IF(ISNA(VLOOKUP($A280,'Race 2-Ladies'!$U$23:$Z$53,6,0)),100,VLOOKUP($A280,'Race 2-Ladies'!$U$23:$Z$53,6,0))","v":100},{"$f":"IF(ISNA(VLOOKUP($A280,'Race 3-Ladies'!$U$27:$Z$61,6,0)),100,VLOOKUP($A280,'Race 3-Ladies'!$U$27:$Z$61,6,0))","v":100},{"$f":"IF(ISNA(VLOOKUP($A280,'Race 4-Ladies'!$U$30:$Z$100,6,0)),100,VLOOKUP($A280,'Race 4-Ladies'!$U$30:$Z$100,6,0))","v":100},{"$f":"SMALL(D280:G280,{1,2,3})","v":100},100,100,300,38]
["Rhonda Moon","WJ","V45",{"$f":"IF(ISNA(VLOOKUP($A281,'Race 1-Ladies'!$U$24:$Z$53,6,0)),100,VLOOKUP($A281,'Race 1-Ladies'!$U$24:$Z$53,6,0))","v":100},{"$f":"IF(ISNA(VLOOKUP($A281,'Race 2-Ladies'!$U$23:$Z$53,6,0)),100,VLOOKUP($A281,'Race 2-Ladies'!$U$23:$Z$53,6,0))","v":100},{"$f":"IF(ISNA(VLOOKUP($A281,'Race 3-Ladies'!$U$27:$Z$61,6,0)),100,VLOOKUP($A281,'Race 3-Ladies'!$U$27:$Z$61,6,0))","v":100},{"$f":"IF(ISNA(VLOOKUP($A281,'Race 4-Ladies'!$U$30:$Z$100,6,0)),100,VLOOKUP($A281,'Race 4-Ladies'!$U$30:$Z$100,6,0))","v":100},{"$f":"SMALL(D281:G281,{1,2,3})","v":100},100,100,300,38]
["Sandra Rust","HRC","V45",{"$f":"IF(ISNA(VLOOKUP($A282,'Race 1-Ladies'!$U$24:$Z$53,6,0)),100,VLOOKUP($A282,'Race 1-Ladies'!$U$24:$Z$53,6,0))","v":8},{"$f":"IF(ISNA(VLOOKUP($A282,'Race 2-Ladies'!$U$23:$Z$53,6,0)),100,VLOOKUP($A282,'Race 2-Ladies'!$U$23:$Z$53,6,0))","v":100},{"$f":"IF(ISNA(VLOOKUP($A282,'Race 3-Ladies'!$U$27:$Z$61,6,0)),100,VLOOKUP($A282,'Race 3-Ladies'!$U$27:$Z$61,6,0))","v":100},{"$f":"IF(ISNA(VLOOKUP($A282,'Race 4-Ladies'!$U$30:$Z$100,6,0)),100,VLOOKUP($A282,'Race 4-Ladies'!$U$30:$Z$100,6,0))","v":7},{"$f":"SMALL(D282:G282,{1,2,3})","v":7},8,100,115,14]
["Sandra Westgate","HRC","V45",{"$f":"IF(ISNA(VLOOKUP($A283,'Race 1-Ladies'!$U$24:$Z$53,6,0)),100,VLOOKUP($A283,'Race 1-Ladies'!$U$24:$Z$53,6,0))","v":100},{"$f":"IF(ISNA(VLOOKUP($A283,'Race 2-Ladies'!$U$23:$Z$53,6,0)),100,VLOOKUP($A283,'Race 2-Ladies'!$U$23:$Z$53,6,0))","v":100},{"$f":"IF(ISNA(VLOOKUP($A283,'Race 3-Ladies'!$U$27:$Z$61,6,0)),100,VLOOKUP($A283,'Race 3-Ladies'!$U$27:$Z$61,6,0))","v":100},{"$f":"IF(ISNA(VLOOKUP($A283,'Race 4-Ladies'!$U$30:$Z$100,6,0)),100,VLOOKUP($A283,'Race 4-Ladies'!$U$30:$Z$100,6,0))","v":100},{"$f":"SMALL(D283:G283,{1,2,3})","v":100},100,100,300,38]
["Sarah Doe","WJ","V45",{"$f":"IF(ISNA(VLOOKUP($A284,'Race 1-Ladies'!$U$24:$Z$53,6,0)),100,VLOOKUP($A284,'Race 1-Ladies'!$U$24:$Z$53,6,0))","v":100},{"$f":"IF(ISNA(VLOOKUP($A284,'Race 2-Ladies'!$U$23:$Z$53,6,0)),100,VLOOKUP($A284,'Race 2-Ladies'!$U$23:$Z$53,6,0))","v":100},{"$f":"IF(ISNA(VLOOKUP($A284,'Race 3-Ladies'!$U$27:$Z$61,6,0)),100,VLOOKUP($A284,'Race 3-Ladies'!$U$27:$Z$61,6,0))","v":100},{"$f":"IF(ISNA(VLOOKUP($A284,'Race 4-Ladies'!$U$30:$Z$100,6,0)),100,VLOOKUP($A284,'Race 4-Ladies'!$U$30:$Z$100,6,0))","v":100},{"$f":"SMALL(D284:G284,{1,2,3})","v":100},100,100,300,38]
["Sarah Godfrey","BS","V45",{"$f":"IF(ISNA(VLOOKUP($A285,'Race 1-Ladies'!$U$24:$Z$53,6,0)),100,VLOOKUP($A285,'Race 1-Ladies'!$U$24:$Z$53,6,0))","v":100},{"$f":"IF(ISNA(VLOOKUP($A285,'Race 2-Ladies'!$U$23:$Z$53,6,0)),100,VLOOKUP($A285,'Race 2-Ladies'!$U$23:$Z$53,6,0))","v":100},{"$f":"IF(ISNA(VLOOKUP($A285,'Race 3-Ladies'!$U$27:$Z$61,6,0)),100,VLOOKUP($A285,'Race 3-Ladies'!$U$27:$Z$61,6,0))","v":100},{"$f":"IF(ISNA(VLOOKUP($A285,'Race 4-Ladies'!$U$30:$Z$100,6,0)),100,VLOOKUP($A285,'Race 4-Ladies'!$U$30:$Z$100,6,0))","v":100},{"$f":"SMALL(D285:G285,{1,2,3})","v":100},100,100,300,38]
["Sarah Mathura","BS","V45",{"$f":"IF(ISNA(VLOOKUP($A286,'Race 1-Ladies'!$U$24:$Z$53,6,0)),100,VLOOKUP($A286,'Race 1-Ladies'!$U$24:$Z$53,6,0))","v":100},{"$f":"IF(ISNA(VLOOKUP($A286,'Race 2-Ladies'!$U$23:$Z$53,6,0)),100,VLOOKUP($A286,'Race 2-Ladies'!$U$23:$Z$53,6,0))","v":100},{"$f":"IF(ISNA(VLOOKUP($A286,'Race 3-Ladies'!$U$27:$Z$61,6,0)),100,VLOOKUP($A286,'Race 3-Ladies'!$U$27:$Z$61,6,0))","v":100},{"$f":"IF(ISNA(VLOOKUP($A286,'Race 4-Ladies'!$U$30:$Z$100,6,0)),100,VLOOKUP($A286,'Race 4-Ladies'!$U$30:$Z$100,6,0))","v":100},{"$f":"SMALL(D286:G286,{1,2,3})","v":100},100,100,300,38]
["Sarah Medlock","HRC","V45",{"$f":"IF(ISNA(VLOOKUP($A287,'Race 1-Ladies'!$U$24:$Z$53,6,0)),100,VLOOKUP($A287,'Race 1-Ladies'!$U$24:$Z$53,6,0))","v":100},{"$f":"IF(ISNA(VLOOKUP($A287,'Race 2-Ladies'!$U$23:$Z$53,6,0)),100,VLOOKUP($A287,'Race 2-Ladies'!$U$23:$Z$53,6,0))","v":100},{"$f":"IF(ISNA(VLOOKUP($A287,'Race 3-Ladies'!$U$27:$Z$61,6,0)),100,VLOOKUP($A287,'Race 3-Ladies'!$U$27:$Z$61,6,0))","v":100},{"$f":"IF(ISNA(VLOOKUP($A287,'Race 4-Ladies'!$U$30:$Z$100,6,0)),100,VLOOKUP($A287,'Race 4-Ladies'!$U$30:$Z$100,6,0))","v":100},{"$f":"SMALL(D287:G287,{1,2,3})","v":100},100,100,300,38]
["Sarah Porter","BS","V45",{"$f":"IF(ISNA(VLOOKUP($A288,'Race 1-Ladies'!$U$24:$Z$53,6,0)),100,VLOOKUP($A288,'Race 1-Ladies'!$U$24:$Z$53,6,0))","v":100},{"$f":"IF(ISNA(VLOOKUP($A288,'Race 2-Ladies'!$U$23:$Z$53,6,0)),100,VLOOKUP($A288,'Race 2-Ladies'!$U$23:$Z$53,6,0))","v":100},{"$f":"IF(ISNA(VLOOKUP($A288,'Race 3-Ladies'!$U$27:$Z$61,6,0)),100,VLOOKUP($A288,'Race 3-Ladies'!$U$27:$Z$61,6,0))","v":100},{"$f":"IF(ISNA(VLOOKUP($A288,'Race 4-Ladies'!$U$30:$Z$100,6,0)),100,VLOOKUP($A288,'Race 4-Ladies'!$U$30:$Z$100,6,0))","v":100},{"$f":"SMALL(D288:G288,{1,2,3})","v":100},100,100,300,38]
["Sharon Threlfall","WJ","V45",{"$f":"IF(ISNA(VLOOKUP($A289,'Race 1-Ladies'!$U$24:$Z$53,6,0)),100,VLOOKUP($A289,'Race 1-Ladies'!$U$24:$Z$53,6,0))","v":100},{"$f":"IF(ISNA(VLOOKUP($A289,'Race 2-Ladies'!$U$23:$Z$53,6,0)),100,VLOOKUP($A289,'Race 2-Ladies'!$U$23:$Z$53,6,0))","v":9},{"$f":"IF(ISNA(VLOOKUP($A289,'Race 3-Ladies'!$U$27:$Z$61,6,0)),100,VLOOKUP($A289,'Race 3-Ladies'!$U$27:$Z$61,6,0))","v":100},{"$f":"IF(ISNA(VLOOKUP($A289,'Race 4-Ladies'!$U$30:$Z$100,6,0)),100,VLOOKUP($A289,'Race 4-Ladies'!$U$30:$Z$100,6,0))","v":100},{"$f":"SMALL(D289:G289,{1,2,3})","v":9},100,100,209,25]
["Sophie Barc","BS","V45",{"$f":"IF(ISNA(VLOOKUP($A290,'Race 1-Ladies'!$U$24:$Z$53,6,0)),100,VLOOKUP($A290,'Race 1-Ladies'!$U$24:$Z$53,6,0))","v":2},{"$f":"IF(ISNA(VLOOKUP($A290,'Race 2-Ladies'!$U$23:$Z$53,6,0)),100,VLOOKUP($A290,'Race 2-Ladies'!$U$23:$Z$53,6,0))","v":100},{"$f":"IF(ISNA(VLOOKUP($A290,'Race 3-Ladies'!$U$27:$Z$61,6,0)),100,VLOOKUP($A290,'Race 3-Ladies'!$U$27:$Z$61,6,0))","v":4},{"$f":"IF(ISNA(VLOOKUP($A290,'Race 4-Ladies'!$U$30:$Z$100,6,0)),100,VLOOKUP($A290,'Race 4-Ladies'!$U$30:$Z$100,6,0))","v":100},{"$f":"SMALL(D290:G290,{1,2,3})","v":2},4,100,106,13]
["Stefanie Azuga","BS","V45",{"$f":"IF(ISNA(VLOOKUP($A291,'Race 1-Ladies'!$U$24:$Z$53,6,0)),100,VLOOKUP($A291,'Race 1-Ladies'!$U$24:$Z$53,6,0))","v":100},{"$f":"IF(ISNA(VLOOKUP($A291,'Race 2-Ladies'!$U$23:$Z$53,6,0)),100,VLOOKUP($A291,'Race 2-Ladies'!$U$23:$Z$53,6,0))","v":100},{"$f":"IF(ISNA(VLOOKUP($A291,'Race 3-Ladies'!$U$27:$Z$61,6,0)),100,VLOOKUP($A291,'Race 3-Ladies'!$U$27:$Z$61,6,0))","v":100},{"$f":"IF(ISNA(VLOOKUP($A291,'Race 4-Ladies'!$U$30:$Z$100,6,0)),100,VLOOKUP($A291,'Race 4-Ladies'!$U$30:$Z$100,6,0))","v":100},{"$f":"SMALL(D291:G291,{1,2,3})","v":100},100,100,300,38]
["Sue Hayden","SS","V45",{"$f":"IF(ISNA(VLOOKUP($A292,'Race 1-Ladies'!$U$24:$Z$53,6,0)),100,VLOOKUP($A292,'Race 1-Ladies'!$U$24:$Z$53,6,0))","v":100},{"$f":"IF(ISNA(VLOOKUP($A292,'Race 2-Ladies'!$U$23:$Z$53,6,0)),100,VLOOKUP($A292,'Race 2-Ladies'!$U$23:$Z$53,6,0))","v":100},{"$f":"IF(ISNA(VLOOKUP($A292,'Race 3-Ladies'!$U$27:$Z$61,6,0)),100,VLOOKUP($A292,'Race 3-Ladies'!$U$27:$Z$61,6,0))","v":100},{"$f":"IF(ISNA(VLOOKUP($A292,'Race 4-Ladies'!$U$30:$Z$100,6,0)),100,VLOOKUP($A292,'Race 4-Ladies'!$U$30:$Z$100,6,0))","v":100},{"$f":"SMALL(D292:G292,{1,2,3})","v":100},100,100,300,38]
["Sue Taylor","WJ","V45",{"$f":"IF(ISNA(VLOOKUP($A293,'Race 1-Ladies'!$U$24:$Z$53,6,0)),100,VLOOKUP($A293,'Race 1-Ladies'!$U$24:$Z$53,6,0))","v":100},{"$f":"IF(ISNA(VLOOKUP($A293,'Race 2-Ladies'!$U$23:$Z$53,6,0)),100,VLOOKUP($A293,'Race 2-Ladies'!$U$23:$Z$53,6,0))","v":100},{"$f":"IF(ISNA(VLOOKUP($A293,'Race 3-Ladies'!$U$27:$Z$61,6,0)),100,VLOOKUP($A293,'Race 3-Ladies'!$U$27:$Z$61,6,0))","v":17},{"$f":"IF(ISNA(VLOOKUP($A293,'Race 4-Ladies'!$U$30:$Z$100,6,0)),100,VLOOKUP($A293,'Race 4-Ladies'!$U$30:$Z$100,6,0))","v":100},{"$f":"SMALL(D293:G293,{1,2,3})","v":17},100,100,217,31]
["Susan Albiston","BS","V45",{"$f":"IF(ISNA(VLOOKUP($A294,'Race 1-Ladies'!$U$24:$Z$53,6,0)),100,VLOOKUP($A294,'Race 1-Ladies'!$U$24:$Z$53,6,0))","v":100},{"$f":"IF(ISNA(VLOOKUP($A294,'Race 2-Ladies'!$U$23:$Z$53,6,0)),100,VLOOKUP($A294,'Race 2-Ladies'!$U$23:$Z$53,6,0))","v":100},{"$f":"IF(ISNA(VLOOKUP($A294,'Race 3-Ladies'!$U$27:$Z$61,6,0)),100,VLOOKUP($A294,'Race 3-Ladies'!$U$27:$Z$61,6,0))","v":100},{"$f":"IF(ISNA(VLOOKUP($A294,'Race 4-Ladies'!$U$30:$Z$100,6,0)),100,VLOOKUP($A294,'Race 4-Ladies'!$U$30:$Z$100,6,0))","v":100},{"$f":"SMALL(D294:G294,{1,2,3})","v":100},100,100,300,38]
["Susan Millward","WJ","V45",{"$f":"IF(ISNA(VLOOKUP($A295,'Race 1-Ladies'!$U$24:$Z$53,6,0)),100,VLOOKUP($A295,'Race 1-Ladies'!$U$24:$Z$53,6,0))","v":1},{"$f":"IF(ISNA(VLOOKUP($A295,'Race 2-Ladies'!$U$23:$Z$53,6,0)),100,VLOOKUP($A295,'Race 2-Ladies'!$U$23:$Z$53,6,0))","v":1},{"$f":"IF(ISNA(VLOOKUP($A295,'Race 3-Ladies'!$U$27:$Z$61,6,0)),100,VLOOKUP($A295,'Race 3-Ladies'!$U$27:$Z$61,6,0))","v":1},{"$f":"IF(ISNA(VLOOKUP($A295,'Race 4-Ladies'!$U$30:$Z$100,6,0)),100,VLOOKUP($A295,'Race 4-Ladies'!$U$30:$Z$100,6,0))","v":1},{"$f":"SMALL(D295:G295,{1,2,3})","v":1},1,1,3,1]
["Susan Reilly","HRC","V45",{"$f":"IF(ISNA(VLOOKUP($A296,'Race 1-Ladies'!$U$24:$Z$53,6,0)),100,VLOOKUP($A296,'Race 1-Ladies'!$U$24:$Z$53,6,0))","v":100},{"$f":"IF(ISNA(VLOOKUP($A296,'Race 2-Ladies'!$U$23:$Z$53,6,0)),100,VLOOKUP($A296,'Race 2-Ladies'!$U$23:$Z$53,6,0))","v":100},{"$f":"IF(ISNA(VLOOKUP($A296,'Race 3-Ladies'!$U$27:$Z$61,6,0)),100,VLOOKUP($A296,'Race 3-Ladies'!$U$27:$Z$61,6,0))","v":100},{"$f":"IF(ISNA(VLOOKUP($A296,'Race 4-Ladies'!$U$30:$Z$100,6,0)),100,VLOOKUP($A296,'Race 4-Ladies'!$U$30:$Z$100,6,0))","v":100},{"$f":"SMALL(D296:G296,{1,2,3})","v":100},100,100,300,38]
["Susan Tidman","BS","V45",{"$f":"IF(ISNA(VLOOKUP($A297,'Race 1-Ladies'!$U$24:$Z$53,6,0)),100,VLOOKUP($A297,'Race 1-Ladies'!$U$24:$Z$53,6,0))","v":100},{"$f":"IF(ISNA(VLOOKUP($A297,'Race 2-Ladies'!$U$23:$Z$53,6,0)),100,VLOOKUP($A297,'Race 2-Ladies'!$U$23:$Z$53,6,0))","v":100},{"$f":"IF(ISNA(VLOOKUP($A297,'Race 3-Ladies'!$U$27:$Z$61,6,0)),100,VLOOKUP($A297,'Race 3-Ladies'!$U$27:$Z$61,6,0))","v":100},{"$f":"IF(ISNA(VLOOKUP($A297,'Race 4-Ladies'!$U$30:$Z$100,6,0)),100,VLOOKUP($A297,'Race 4-Ladies'!$U$30:$Z$100,6,0))","v":100},{"$f":"SMALL(D297:G297,{1,2,3})","v":100},100,100,300,38]
["Suzie Middleton","HRC","V45",{"$f":"IF(ISNA(VLOOKUP($A298,'Race 1-Ladies'!$U$24:$Z$53,6,0)),100,VLOOKUP($A298,'Race 1-Ladies'!$U$24:$Z$53,6,0))","v":100},{"$f":"IF(ISNA(VLOOKUP($A298,'Race 2-Ladies'!$U$23:$Z$53,6,0)),100,VLOOKUP($A298,'Race 2-Ladies'!$U$23:$Z$53,6,0))","v":100},{"$f":"IF(ISNA(VLOOKUP($A298,'Race 3-Ladies'!$U$27:$Z$61,6,0)),100,VLOOKUP($A298,'Race 3-Ladies'!$U$27:$Z$61,6,0))","v":100},{"$f":"IF(ISNA(VLOOKUP($A298,'Race 4-Ladies'!$U$30:$Z$100,6,0)),100,VLOOKUP($A298,'Race 4-Ladies'!$U$30:$Z$100,6,0))","v":100},{"$f":"SMALL(D298:G298,{1,2,3})","v":100},100,100,300,38]
["Suzy Bell","WJ","V45",{"$f":"IF(ISNA(VLOOKUP($A299,'Race 1-Ladies'!$U$24:$Z$53,6,0)),100,VLOOKUP($A299,'Race 1-Ladies'!$U$24:$Z$53,6,0))","v":100},{"$f":"IF(ISNA(VLOOKUP($A299,'Race 2-Ladies'!$U$23:$Z$53,6,0)),100,VLOOKUP($A299,'Race 2-Ladies'!$U$23:$Z$53,6,0))","v":100},{"$f":"IF(ISNA(VLOOKUP($A299,'Race 3-Ladies'!$U$27:$Z$61,6,0)),100,VLOOKUP($A299,'Race 3-Ladies'!$U$27:$Z$61,6,0))","v":100},{"$f":"IF(ISNA(VLOOKUP($A299,'Race 4-Ladies'!$U$30:$Z$100,6,0)),100,VLOOKUP($A299,'Race 4-Ladies'!$U$30:$Z$100,6,0))","v":100},{"$f":"SMALL(D299:G299,{1,2,3})","v":100},100,100,300,38]
["Tina Hamilton","SS","V45",{"$f":"IF(ISNA(VLOOKUP($A300,'Race 1-Ladies'!$U$24:$Z$53,6,0)),100,VLOOKUP($A300,'Race 1-Ladies'!$U$24:$Z$53,6,0))","v":100},{"$f":"IF(ISNA(VLOOKUP($A300,'Race 2-Ladies'!$U$23:$Z$53,6,0)),100,VLOOKUP($A300,'Race 2-Ladies'!$U$23:$Z$53,6,0))","v":100},{"$f":"IF(ISNA(VLOOKUP($A300,'Race 3-Ladies'!$U$27:$Z$61,6,0)),100,VLOOKUP($A300,'Race 3-Ladies'!$U$27:$Z$61,6,0))","v":100},{"$f":"IF(ISNA(VLOOKUP($A300,'Race 4-Ladies'!$U$30:$Z$100,6,0)),100,VLOOKUP($A300,'Race 4-Ladies'!$U$30:$Z$100,6,0))","v":100},{"$f":"SMALL(D300:G300,{1,2,3})","v":100},100,100,300,38]
["Tracy Brennan","WJ","V45",{"$f":"IF(ISNA(VLOOKUP($A301,'Race 1-Ladies'!$U$24:$Z$53,6,0)),100,VLOOKUP($A301,'Race 1-Ladies'!$U$24:$Z$53,6,0))","v":12},{"$f":"IF(ISNA(VLOOKUP($A301,'Race 2-Ladies'!$U$23:$Z$53,6,0)),100,VLOOKUP($A301,'Race 2-Ladies'!$U$23:$Z$53,6,0))","v":14},{"$f":"IF(ISNA(VLOOKUP($A301,'Race 3-Ladies'!$U$27:$Z$61,6,0)),100,VLOOKUP($A301,'Race 3-Ladies'!$U$27:$Z$61,6,0))","v":16},{"$f":"IF(ISNA(VLOOKUP($A301,'Race 4-Ladies'!$U$30:$Z$100,6,0)),100,VLOOKUP($A301,'Race 4-Ladies'!$U$30:$Z$100,6,0))","v":14},{"$f":"SMALL(D301:G301,{1,2,3})","v":12},14,14,40,9]
["Tracy Greenall","HRC","V45",{"$f":"IF(ISNA(VLOOKUP($A302,'Race 1-Ladies'!$U$24:$Z$53,6,0)),100,VLOOKUP($A302,'Race 1-Ladies'!$U$24:$Z$53,6,0))","v":100},{"$f":"IF(ISNA(VLOOKUP($A302,'Race 2-Ladies'!$U$23:$Z$53,6,0)),100,VLOOKUP($A302,'Race 2-Ladies'!$U$23:$Z$53,6,0))","v":100},{"$f":"IF(ISNA(VLOOKUP($A302,'Race 3-Ladies'!$U$27:$Z$61,6,0)),100,VLOOKUP($A302,'Race 3-Ladies'!$U$27:$Z$61,6,0))","v":100},{"$f":"IF(ISNA(VLOOKUP($A302,'Race 4-Ladies'!$U$30:$Z$100,6,0)),100,VLOOKUP($A302,'Race 4-Ladies'!$U$30:$Z$100,6,0))","v":100},{"$f":"SMALL(D302:G302,{1,2,3})","v":100},100,100,300,38]
["Trudy Lynch","BS","V45",{"$f":"IF(ISNA(VLOOKUP($A303,'Race 1-Ladies'!$U$24:$Z$53,6,0)),100,VLOOKUP($A303,'Race 1-Ladies'!$U$24:$Z$53,6,0))","v":100},{"$f":"IF(ISNA(VLOOKUP($A303,'Race 2-Ladies'!$U$23:$Z$53,6,0)),100,VLOOKUP($A303,'Race 2-Ladies'!$U$23:$Z$53,6,0))","v":100},{"$f":"IF(ISNA(VLOOKUP($A303,'Race 3-Ladies'!$U$27:$Z$61,6,0)),100,VLOOKUP($A303,'Race 3-Ladies'!$U$27:$Z$61,6,0))","v":100},{"$f":"IF(ISNA(VLOOKUP($A303,'Race 4-Ladies'!$U$30:$Z$100,6,0)),100,VLOOKUP($A303,'Race 4-Ladies'!$U$30:$Z$100,6,0))","v":100},{"$f":"SMALL(D303:G303,{1,2,3})","v":100},100,100,300,{"$f":"RANK(K303,$K$174:$K$311,1)","v":38}]
["Vanessa Murray","HRC","V45",{"$f":"IF(ISNA(VLOOKUP($A304,'Race 1-Ladies'!$U$24:$Z$53,6,0)),100,VLOOKUP($A304,'Race 1-Ladies'!$U$24:$Z$53,6,0))","v":100},{"$f":"IF(ISNA(VLOOKUP($A304,'Race 2-Ladies'!$U$23:$Z$53,6,0)),100,VLOOKUP($A304,'Race 2-Ladies'!$U$23:$Z$53,6,0))","v":100},{"$f":"IF(ISNA(VLOOKUP($A304,'Race 3-Ladies'!$U$27:$Z$61,6,0)),100,VLOOKUP($A304,'Race 3-Ladies'!$U$27:$Z$61,6,0))","v":100},{"$f":"IF(ISNA(VLOOKUP($A304,'Race 4-Ladies'!$U$30:$Z$100,6,0)),100,VLOOKUP($A304,'Race 4-Ladies'!$U$30:$Z$100,6,0))","v":100},{"$f":"SMALL(D304:G304,{1,2,3})","v":100},100,100,300,38]
["Vicky Reed","SS","V45",{"$f":"IF(ISNA(VLOOKUP($A305,'Race 1-Ladies'!$U$24:$Z$53,6,0)),100,VLOOKUP($A305,'Race 1-Ladies'!$U$24:$Z$53,6,0))","v":100},{"$f":"IF(ISNA(VLOOKUP($A305,'Race 2-Ladies'!$U$23:$Z$53,6,0)),100,VLOOKUP($A305,'Race 2-Ladies'!$U$23:$Z$53,6,0))","v":100},{"$f":"IF(ISNA(VLOOKUP($A305,'Race 3-Ladies'!$U$27:$Z$61,6,0)),100,VLOOKUP($A305,'Race 3-Ladies'!$U$27:$Z$61,6,0))","v":100},{"$f":"IF(ISNA(VLOOKUP($A305,'Race 4-Ladies'!$U$30:$Z$100,6,0)),100,VLOOKUP($A305,'Race 4-Ladies'!$U$30:$Z$100,6,0))","v":100},{"$f":"SMALL(D305:G305,{1,2,3})","v":100},100,100,300,38]
["Vicky Simpson","BS","V45",{"$f":"IF(ISNA(VLOOKUP($A306,'Race 1-Ladies'!$U$24:$Z$53,6,0)),100,VLOOKUP($A306,'Race 1-Ladies'!$U$24:$Z$53,6,0))","v":100},{"$f":"IF(ISNA(VLOOKUP($A306,'Race 2-Ladies'!$U$23:$Z$53,6,0)),100,VLOOKUP($A306,'Race 2-Ladies'!$U$23:$Z$53,6,0))","v":2},{"$f":"IF(ISNA(VLOOKUP($A306,'Race 3-Ladies'!$U$27:$Z$61,6,0)),100,VLOOKUP($A306,'Race 3-Ladies'!$U$27:$Z$61,6,0))","v":3},{"$f":"IF(ISNA(VLOOKUP($A306,'Race 4-Ladies'!$U$30:$Z$100,6,0)),100,VLOOKUP($A306,'Race 4-Ladies'!$U$30:$Z$100,6,0))","v":2},{"$f":"SMALL(D306:G306,{1,2,3})","v":2},2,3,7,2]
["Vicky Smith","WJ","V45",{"$f":"IF(ISNA(VLOOKUP($A307,'Race 1-Ladies'!$U$24:$Z$53,6,0)),100,VLOOKUP($A307,'Race 1-Ladies'!$U$24:$Z$53,6,0))","v":100},{"$f":"IF(ISNA(VLOOKUP($A307,'Race 2-Ladies'!$U$23:$Z$53,6,0)),100,VLOOKUP($A307,'Race 2-Ladies'!$U$23:$Z$53,6,0))","v":16},{"$f":"IF(ISNA(VLOOKUP($A307,'Race 3-Ladies'!$U$27:$Z$61,6,0)),100,VLOOKUP($A307,'Race 3-Ladies'!$U$27:$Z$61,6,0))","v":100},{"$f":"IF(ISNA(VLOOKUP($A307,'Race 4-Ladies'!$U$30:$Z$100,6,0)),100,VLOOKUP($A307,'Race 4-Ladies'!$U$30:$Z$100,6,0))","v":100},{"$f":"SMALL(D307:G307,{1,2,3})","v":16},100,100,216,29]
["Vicky Steadman","HRC","V45",{"$f":"IF(ISNA(VLOOKUP($A308,'Race 1-Ladies'!$U$24:$Z$53,6,0)),100,VLOOKUP($A308,'Race 1-Ladies'!$U$24:$Z$53,6,0))","v":100},{"$f":"IF(ISNA(VLOOKUP($A308,'Race 2-Ladies'!$U$23:$Z$53,6,0)),100,VLOOKUP($A308,'Race 2-Ladies'!$U$23:$Z$53,6,0))","v":100},{"$f":"IF(ISNA(VLOOKUP($A308,'Race 3-Ladies'!$U$27:$Z$61,6,0)),100,VLOOKUP($A308,'Race 3-Ladies'!$U$27:$Z$61,6,0))","v":100},{"$f":"IF(ISNA(VLOOKUP($A308,'Race 4-Ladies'!$U$30:$Z$100,6,0)),100,VLOOKUP($A308,'Race 4-Ladies'!$U$30:$Z$100,6,0))","v":100},{"$f":"SMALL(D308:G308,{1,2,3})","v":100},100,100,300,38]
["Victoria Cutler","SS","V45",{"$f":"IF(ISNA(VLOOKUP($A309,'Race 1-Ladies'!$U$24:$Z$53,6,0)),100,VLOOKUP($A309,'Race 1-Ladies'!$U$24:$Z$53,6,0))","v":100},{"$f":"IF(ISNA(VLOOKUP($A309,'Race 2-Ladies'!$U$23:$Z$53,6,0)),100,VLOOKUP($A309,'Race 2-Ladies'!$U$23:$Z$53,6,0))","v":100},{"$f":"IF(ISNA(VLOOKUP($A309,'Race 3-Ladies'!$U$27:$Z$61,6,0)),100,VLOOKUP($A309,'Race 3-Ladies'!$U$27:$Z$61,6,0))","v":100},{"$f":"IF(ISNA(VLOOKUP($A309,'Race 4-Ladies'!$U$30:$Z$100,6,0)),100,VLOOKUP($A309,'Race 4-Ladies'!$U$30:$Z$100,6,0))","v":100},{"$f":"SMALL(D309:G309,{1,2,3})","v":100},100,100,300,38]
["Wendy Hunt","HRC","V45",{"$f":"IF(ISNA(VLOOKUP($A310,'Race 1-Ladies'!$U$24:$Z$53,6,0)),100,VLOOKUP($A310,'Race 1-Ladies'!$U$24:$Z$53,6,0))","v":100},{"$f":"IF(ISNA(VLOOKUP($A310,'Race 2-Ladies'!$U$23:$Z$53,6,0)),100,VLOOKUP($A310,'Race 2-Ladies'!$U$23:$Z$53,6,0))","v":100},{"$f":"IF(ISNA(VLOOKUP($A310,'Race 3-Ladies'!$U$27:$Z$61,6,0)),100,VLOOKUP($A310,'Race 3-Ladies'!$U$27:$Z$61,6,0))","v":100},{"$f":"IF(ISNA(VLOOKUP($A310,'Race 4-Ladies'!$U$30:$Z$100,6,0)),100,VLOOKUP($A310,'Race 4-Ladies'!$U$30:$Z$100,6,0))","v":100},{"$f":"SMALL(D310:G310,{1,2,3})","v":100},100,100,300,38]
["Zib Gotto","SS","V45",{"$f":"IF(ISNA(VLOOKUP($A311,'Race 1-Ladies'!$U$24:$Z$53,6,0)),100,VLOOKUP($A311,'Race 1-Ladies'!$U$24:$Z$53,6,0))","v":100},{"$f":"IF(ISNA(VLOOKUP($A311,'Race 2-Ladies'!$U$23:$Z$53,6,0)),100,VLOOKUP($A311,'Race 2-Ladies'!$U$23:$Z$53,6,0))","v":100},{"$f":"IF(ISNA(VLOOKUP($A311,'Race 3-Ladies'!$U$27:$Z$61,6,0)),100,VLOOKUP($A311,'Race 3-Ladies'!$U$27:$Z$61,6,0))","v":100},{"$f":"IF(ISNA(VLOOKUP($A311,'Race 4-Ladies'!$U$30:$Z$100,6,0)),100,VLOOKUP($A311,'Race 4-Ladies'!$U$30:$Z$100,6,0))","v":3},{"$f":"SMALL(D311:G311,{1,2,3})","v":3},100,100,203,21]
["Aileen Lacey","WJ","V55",{"$f":"IF(ISNA(VLOOKUP($A312,'Race 1-Ladies'!$AB$24:$AG$53,6,0)),100,VLOOKUP($A312,'Race 1-Ladies'!$AB$24:$AG$53,6,0))","v":100},{"$f":"IF(ISNA(VLOOKUP($A312,'Race 2-Ladies'!$AB$23:$AG$53,6,0)),100,VLOOKUP($A312,'Race 2-Ladies'!$AB$23:$AG$53,6,0))","v":100},{"$f":"IF(ISNA(VLOOKUP($A312,'Race 3-Ladies'!$AB$27:$AG$61,6,0)),100,VLOOKUP($A312,'Race 3-Ladies'!$AB$27:$AG$61,6,0))","v":100},{"$f":"IF(ISNA(VLOOKUP($A312,'Race 4-Ladies'!$AB$27:$AG$100,6,0)),100,VLOOKUP($A312,'Race 4-Ladies'!$AB$30:$AG$100,6,0))","v":100},{"$f":"SMALL(D312:G312,{1,2,3})","v":100},100,100,300,{"$f":"RANK(K312,$K$312:$K$399,1)","v":24}]
["Alexia Kitching","BS","V55",{"$f":"IF(ISNA(VLOOKUP($A313,'Race 1-Ladies'!$AB$24:$AG$53,6,0)),100,VLOOKUP($A313,'Race 1-Ladies'!$AB$24:$AG$53,6,0))","v":100},{"$f":"IF(ISNA(VLOOKUP($A313,'Race 2-Ladies'!$AB$23:$AG$53,6,0)),100,VLOOKUP($A313,'Race 2-Ladies'!$AB$23:$AG$53,6,0))","v":100},{"$f":"IF(ISNA(VLOOKUP($A313,'Race 3-Ladies'!$AB$27:$AG$61,6,0)),100,VLOOKUP($A313,'Race 3-Ladies'!$AB$27:$AG$61,6,0))","v":100},{"$f":"IF(ISNA(VLOOKUP($A313,'Race 4-Ladies'!$AB$27:$AG$100,6,0)),100,VLOOKUP($A313,'Race 4-Ladies'!$AB$30:$AG$100,6,0))","v":100},{"$f":"SMALL(D313:G313,{1,2,3})","v":100},100,100,300,{"$f":"RANK(K313,$K$312:$K$399,1)","v":24}]
["Alison Bull","HRC","V55",{"$f":"IF(ISNA(VLOOKUP($A314,'Race 1-Ladies'!$AB$24:$AG$53,6,0)),100,VLOOKUP($A314,'Race 1-Ladies'!$AB$24:$AG$53,6,0))","v":100},{"$f":"IF(ISNA(VLOOKUP($A314,'Race 2-Ladies'!$AB$23:$AG$53,6,0)),100,VLOOKUP($A314,'Race 2-Ladies'!$AB$23:$AG$53,6,0))","v":100},{"$f":"IF(ISNA(VLOOKUP($A314,'Race 3-Ladies'!$AB$27:$AG$61,6,0)),100,VLOOKUP($A314,'Race 3-Ladies'!$AB$27:$AG$61,6,0))","v":100},{"$f":"IF(ISNA(VLOOKUP($A314,'Race 4-Ladies'!$AB$27:$AG$100,6,0)),100,VLOOKUP($A314,'Race 4-Ladies'!$AB$30:$AG$100,6,0))","v":100},{"$f":"SMALL(D314:G314,{1,2,3})","v":100},100,100,300,24]
["Alison Wilkinson","HRC","V55",{"$f":"IF(ISNA(VLOOKUP($A315,'Race 1-Ladies'!$AB$24:$AG$53,6,0)),100,VLOOKUP($A315,'Race 1-Ladies'!$AB$24:$AG$53,6,0))","v":100},{"$f":"IF(ISNA(VLOOKUP($A315,'Race 2-Ladies'!$AB$23:$AG$53,6,0)),100,VLOOKUP($A315,'Race 2-Ladies'!$AB$23:$AG$53,6,0))","v":100},{"$f":"IF(ISNA(VLOOKUP($A315,'Race 3-Ladies'!$AB$27:$AG$61,6,0)),100,VLOOKUP($A315,'Race 3-Ladies'!$AB$27:$AG$61,6,0))","v":100},{"$f":"IF(ISNA(VLOOKUP($A315,'Race 4-Ladies'!$AB$27:$AG$100,6,0)),100,VLOOKUP($A315,'Race 4-Ladies'!$AB$30:$AG$100,6,0))","v":7},{"$f":"SMALL(D315:G315,{1,2,3})","v":7},100,100,207,18]
["Allison Beeton","HRC","V55",{"$f":"IF(ISNA(VLOOKUP($A316,'Race 1-Ladies'!$AB$24:$AG$53,6,0)),100,VLOOKUP($A316,'Race 1-Ladies'!$AB$24:$AG$53,6,0))","v":100},{"$f":"IF(ISNA(VLOOKUP($A316,'Race 2-Ladies'!$AB$23:$AG$53,6,0)),100,VLOOKUP($A316,'Race 2-Ladies'!$AB$23:$AG$53,6,0))","v":100},{"$f":"IF(ISNA(VLOOKUP($A316,'Race 3-Ladies'!$AB$27:$AG$61,6,0)),100,VLOOKUP($A316,'Race 3-Ladies'!$AB$27:$AG$61,6,0))","v":100},{"$f":"IF(ISNA(VLOOKUP($A316,'Race 4-Ladies'!$AB$27:$AG$100,6,0)),100,VLOOKUP($A316,'Race 4-Ladies'!$AB$30:$AG$100,6,0))","v":100},{"$f":"SMALL(D316:G316,{1,2,3})","v":100},100,100,300,24]
["Angela Cook","HRC","V55",{"$f":"IF(ISNA(VLOOKUP($A317,'Race 1-Ladies'!$AB$24:$AG$53,6,0)),100,VLOOKUP($A317,'Race 1-Ladies'!$AB$24:$AG$53,6,0))","v":100},{"$f":"IF(ISNA(VLOOKUP($A317,'Race 2-Ladies'!$AB$23:$AG$53,6,0)),100,VLOOKUP($A317,'Race 2-Ladies'!$AB$23:$AG$53,6,0))","v":100},{"$f":"IF(ISNA(VLOOKUP($A317,'Race 3-Ladies'!$AB$27:$AG$61,6,0)),100,VLOOKUP($A317,'Race 3-Ladies'!$AB$27:$AG$61,6,0))","v":100},{"$f":"IF(ISNA(VLOOKUP($A317,'Race 4-Ladies'!$AB$27:$AG$100,6,0)),100,VLOOKUP($A317,'Race 4-Ladies'!$AB$30:$AG$100,6,0))","v":100},{"$f":"SMALL(D317:G317,{1,2,3})","v":100},100,100,300,24]
["Carinne Jay","HRC","V55",{"$f":"IF(ISNA(VLOOKUP($A318,'Race 1-Ladies'!$AB$24:$AG$53,6,0)),100,VLOOKUP($A318,'Race 1-Ladies'!$AB$24:$AG$53,6,0))","v":100},{"$f":"IF(ISNA(VLOOKUP($A318,'Race 2-Ladies'!$AB$23:$AG$53,6,0)),100,VLOOKUP($A318,'Race 2-Ladies'!$AB$23:$AG$53,6,0))","v":100},{"$f":"IF(ISNA(VLOOKUP($A318,'Race 3-Ladies'!$AB$27:$AG$61,6,0)),100,VLOOKUP($A318,'Race 3-Ladies'!$AB$27:$AG$61,6,0))","v":100},{"$f":"IF(ISNA(VLOOKUP($A318,'Race 4-Ladies'!$AB$27:$AG$100,6,0)),100,VLOOKUP($A318,'Race 4-Ladies'!$AB$30:$AG$100,6,0))","v":100},{"$f":"SMALL(D318:G318,{1,2,3})","v":100},100,100,300,24]
["Carla Bell","WJ","V55",{"$f":"IF(ISNA(VLOOKUP($A319,'Race 1-Ladies'!$AB$24:$AG$53,6,0)),100,VLOOKUP($A319,'Race 1-Ladies'!$AB$24:$AG$53,6,0))","v":7},{"$f":"IF(ISNA(VLOOKUP($A319,'Race 2-Ladies'!$AB$23:$AG$53,6,0)),100,VLOOKUP($A319,'Race 2-Ladies'!$AB$23:$AG$53,6,0))","v":6},{"$f":"IF(ISNA(VLOOKUP($A319,'Race 3-Ladies'!$AB$27:$AG$61,6,0)),100,VLOOKUP($A319,'Race 3-Ladies'!$AB$27:$AG$61,6,0))","v":4},{"$f":"IF(ISNA(VLOOKUP($A319,'Race 4-Ladies'!$AB$27:$AG$100,6,0)),100,VLOOKUP($A319,'Race 4-Ladies'!$AB$30:$AG$100,6,0))","v":100},{"$f":"SMALL(D319:G319,{1,2,3})","v":4},6,7,17,4]
["Carol Ringhofer","SS","V55",{"$f":"IF(ISNA(VLOOKUP($A320,'Race 1-Ladies'!$AB$24:$AG$53,6,0)),100,VLOOKUP($A320,'Race 1-Ladies'!$AB$24:$AG$53,6,0))","v":100},{"$f":"IF(ISNA(VLOOKUP($A320,'Race 2-Ladies'!$AB$23:$AG$53,6,0)),100,VLOOKUP($A320,'Race 2-Ladies'!$AB$23:$AG$53,6,0))","v":100},{"$f":"IF(ISNA(VLOOKUP($A320,'Race 3-Ladies'!$AB$27:$AG$61,6,0)),100,VLOOKUP($A320,'Race 3-Ladies'!$AB$27:$AG$61,6,0))","v":100},{"$f":"IF(ISNA(VLOOKUP($A320,'Race 4-Ladies'!$AB$27:$AG$100,6,0)),100,VLOOKUP($A320,'Race 4-Ladies'!$AB$30:$AG$100,6,0))","v":100},{"$f":"SMALL(D320:G320,{1,2,3})","v":100},100,100,300,24]
["Caroline Stephens","WJ","V55",{"$f":"IF(ISNA(VLOOKUP($A321,'Race 1-Ladies'!$AB$24:$AG$53,6,0)),100,VLOOKUP($A321,'Race 1-Ladies'!$AB$24:$AG$53,6,0))","v":10},{"$f":"IF(ISNA(VLOOKUP($A321,'Race 2-Ladies'!$AB$23:$AG$53,6,0)),100,VLOOKUP($A321,'Race 2-Ladies'!$AB$23:$AG$53,6,0))","v":100},{"$f":"IF(ISNA(VLOOKUP($A321,'Race 3-Ladies'!$AB$27:$AG$61,6,0)),100,VLOOKUP($A321,'Race 3-Ladies'!$AB$27:$AG$61,6,0))","v":100},{"$f":"IF(ISNA(VLOOKUP($A321,'Race 4-Ladies'!$AB$27:$AG$100,6,0)),100,VLOOKUP($A321,'Race 4-Ladies'!$AB$30:$AG$100,6,0))","v":100},{"$f":"SMALL(D321:G321,{1,2,3})","v":10},100,100,210,22]
["Cate Campany","WJ","V55",{"$f":"IF(ISNA(VLOOKUP($A322,'Race 1-Ladies'!$AB$24:$AG$53,6,0)),100,VLOOKUP($A322,'Race 1-Ladies'!$AB$24:$AG$53,6,0))","v":100},{"$f":"IF(ISNA(VLOOKUP($A322,'Race 2-Ladies'!$AB$23:$AG$53,6,0)),100,VLOOKUP($A322,'Race 2-Ladies'!$AB$23:$AG$53,6,0))","v":100},{"$f":"IF(ISNA(VLOOKUP($A322,'Race 3-Ladies'!$AB$27:$AG$61,6,0)),100,VLOOKUP($A322,'Race 3-Ladies'!$AB$27:$AG$61,6,0))","v":5},{"$f":"IF(ISNA(VLOOKUP($A322,'Race 4-Ladies'!$AB$27:$AG$100,6,0)),100,VLOOKUP($A322,'Race 4-Ladies'!$AB$30:$AG$100,6,0))","v":6},{"$f":"SMALL(D322:G322,{1,2,3})","v":5},6,100,111,11]
["Catherine Bacon","BS","V55",{"$f":"IF(ISNA(VLOOKUP($A323,'Race 1-Ladies'!$AB$24:$AG$53,6,0)),100,VLOOKUP($A323,'Race 1-Ladies'!$AB$24:$AG$53,6,0))","v":100},{"$f":"IF(ISNA(VLOOKUP($A323,'Race 2-Ladies'!$AB$23:$AG$53,6,0)),100,VLOOKUP($A323,'Race 2-Ladies'!$AB$23:$AG$53,6,0))","v":100},{"$f":"IF(ISNA(VLOOKUP($A323,'Race 3-Ladies'!$AB$27:$AG$61,6,0)),100,VLOOKUP($A323,'Race 3-Ladies'!$AB$27:$AG$61,6,0))","v":100},{"$f":"IF(ISNA(VLOOKUP($A323,'Race 4-Ladies'!$AB$27:$AG$100,6,0)),100,VLOOKUP($A323,'Race 4-Ladies'!$AB$30:$AG$100,6,0))","v":100},{"$f":"SMALL(D323:G323,{1,2,3})","v":100},100,100,300,24]
["Cathy Dutta","BS","V55",{"$f":"IF(ISNA(VLOOKUP($A324,'Race 1-Ladies'!$AB$24:$AG$53,6,0)),100,VLOOKUP($A324,'Race 1-Ladies'!$AB$24:$AG$53,6,0))","v":100},{"$f":"IF(ISNA(VLOOKUP($A324,'Race 2-Ladies'!$AB$23:$AG$53,6,0)),100,VLOOKUP($A324,'Race 2-Ladies'!$AB$23:$AG$53,6,0))","v":100},{"$f":"IF(ISNA(VLOOKUP($A324,'Race 3-Ladies'!$AB$27:$AG$61,6,0)),100,VLOOKUP($A324,'Race 3-Ladies'!$AB$27:$AG$61,6,0))","v":100},{"$f":"IF(ISNA(VLOOKUP($A324,'Race 4-Ladies'!$AB$27:$AG$100,6,0)),100,VLOOKUP($A324,'Race 4-Ladies'!$AB$30:$AG$100,6,0))","v":100},{"$f":"SMALL(D324:G324,{1,2,3})","v":100},100,100,300,24]
["Chloe Brown","SS","V55",{"$f":"IF(ISNA(VLOOKUP($A325,'Race 1-Ladies'!$AB$24:$AG$53,6,0)),100,VLOOKUP($A325,'Race 1-Ladies'!$AB$24:$AG$53,6,0))","v":100},{"$f":"IF(ISNA(VLOOKUP($A325,'Race 2-Ladies'!$AB$23:$AG$53,6,0)),100,VLOOKUP($A325,'Race 2-Ladies'!$AB$23:$AG$53,6,0))","v":100},{"$f":"IF(ISNA(VLOOKUP($A325,'Race 3-Ladies'!$AB$27:$AG$61,6,0)),100,VLOOKUP($A325,'Race 3-Ladies'!$AB$27:$AG$61,6,0))","v":100},{"$f":"IF(ISNA(VLOOKUP($A325,'Race 4-Ladies'!$AB$27:$AG$100,6,0)),100,VLOOKUP($A325,'Race 4-Ladies'!$AB$30:$AG$100,6,0))","v":100},{"$f":"SMALL(D325:G325,{1,2,3})","v":100},100,100,{"$f":"SUM(H325:J325)","v":300},24]
["Clare Browne","WJ","V55",{"$f":"IF(ISNA(VLOOKUP($A326,'Race 1-Ladies'!$AB$24:$AG$53,6,0)),100,VLOOKUP($A326,'Race 1-Ladies'!$AB$24:$AG$53,6,0))","v":100},{"$f":"IF(ISNA(VLOOKUP($A326,'Race 2-Ladies'!$AB$23:$AG$53,6,0)),100,VLOOKUP($A326,'Race 2-Ladies'!$AB$23:$AG$53,6,0))","v":100},{"$f":"IF(ISNA(VLOOKUP($A326,'Race 3-Ladies'!$AB$27:$AG$61,6,0)),100,VLOOKUP($A326,'Race 3-Ladies'!$AB$27:$AG$61,6,0))","v":100},{"$f":"IF(ISNA(VLOOKUP($A326,'Race 4-Ladies'!$AB$27:$AG$100,6,0)),100,VLOOKUP($A326,'Race 4-Ladies'!$AB$30:$AG$100,6,0))","v":100},{"$f":"SMALL(D326:G326,{1,2,3})","v":100},100,100,300,24]
["Clare Little","SS","V55",{"$f":"IF(ISNA(VLOOKUP($A327,'Race 1-Ladies'!$AB$24:$AG$53,6,0)),100,VLOOKUP($A327,'Race 1-Ladies'!$AB$24:$AG$53,6,0))","v":100},{"$f":"IF(ISNA(VLOOKUP($A327,'Race 2-Ladies'!$AB$23:$AG$53,6,0)),100,VLOOKUP($A327,'Race 2-Ladies'!$AB$23:$AG$53,6,0))","v":100},{"$f":"IF(ISNA(VLOOKUP($A327,'Race 3-Ladies'!$AB$27:$AG$61,6,0)),100,VLOOKUP($A327,'Race 3-Ladies'!$AB$27:$AG$61,6,0))","v":100},{"$f":"IF(ISNA(VLOOKUP($A327,'Race 4-Ladies'!$AB$27:$AG$100,6,0)),100,VLOOKUP($A327,'Race 4-Ladies'!$AB$30:$AG$100,6,0))","v":100},{"$f":"SMALL(D327:G327,{1,2,3})","v":100},100,100,300,24]
["Corinna Rowe","BS","V55",{"$f":"IF(ISNA(VLOOKUP($A328,'Race 1-Ladies'!$AB$24:$AG$53,6,0)),100,VLOOKUP($A328,'Race 1-Ladies'!$AB$24:$AG$53,6,0))","v":100},{"$f":"IF(ISNA(VLOOKUP($A328,'Race 2-Ladies'!$AB$23:$AG$53,6,0)),100,VLOOKUP($A328,'Race 2-Ladies'!$AB$23:$AG$53,6,0))","v":100},{"$f":"IF(ISNA(VLOOKUP($A328,'Race 3-Ladies'!$AB$27:$AG$61,6,0)),100,VLOOKUP($A328,'Race 3-Ladies'!$AB$27:$AG$61,6,0))","v":100},{"$f":"IF(ISNA(VLOOKUP($A328,'Race 4-Ladies'!$AB$27:$AG$100,6,0)),100,VLOOKUP($A328,'Race 4-Ladies'!$AB$30:$AG$100,6,0))","v":100},{"$f":"SMALL(D328:G328,{1,2,3})","v":100},100,100,300,24]
["Debbie Barry","HRC","V55",{"$f":"IF(ISNA(VLOOKUP($A329,'Race 1-Ladies'!$AB$24:$AG$53,6,0)),100,VLOOKUP($A329,'Race 1-Ladies'!$AB$24:$AG$53,6,0))","v":100},{"$f":"IF(ISNA(VLOOKUP($A329,'Race 2-Ladies'!$AB$23:$AG$53,6,0)),100,VLOOKUP($A329,'Race 2-Ladies'!$AB$23:$AG$53,6,0))","v":100},{"$f":"IF(ISNA(VLOOKUP($A329,'Race 3-Ladies'!$AB$27:$AG$61,6,0)),100,VLOOKUP($A329,'Race 3-Ladies'!$AB$27:$AG$61,6,0))","v":100},{"$f":"IF(ISNA(VLOOKUP($A329,'Race 4-Ladies'!$AB$27:$AG$100,6,0)),100,VLOOKUP($A329,'Race 4-Ladies'!$AB$30:$AG$100,6,0))","v":100},{"$f":"SMALL(D329:G329,{1,2,3})","v":100},100,100,300,24]
["Debra Monk","HRC","V55",{"$f":"IF(ISNA(VLOOKUP($A330,'Race 1-Ladies'!$AB$24:$AG$53,6,0)),100,VLOOKUP($A330,'Race 1-Ladies'!$AB$24:$AG$53,6,0))","v":100},{"$f":"IF(ISNA(VLOOKUP($A330,'Race 2-Ladies'!$AB$23:$AG$53,6,0)),100,VLOOKUP($A330,'Race 2-Ladies'!$AB$23:$AG$53,6,0))","v":100},{"$f":"IF(ISNA(VLOOKUP($A330,'Race 3-Ladies'!$AB$27:$AG$61,6,0)),100,VLOOKUP($A330,'Race 3-Ladies'!$AB$27:$AG$61,6,0))","v":100},{"$f":"IF(ISNA(VLOOKUP($A330,'Race 4-Ladies'!$AB$27:$AG$100,6,0)),100,VLOOKUP($A330,'Race 4-Ladies'!$AB$30:$AG$100,6,0))","v":100},{"$f":"SMALL(D330:G330,{1,2,3})","v":100},100,100,300,24]
["Deirdre Walton","BS","V55",{"$f":"IF(ISNA(VLOOKUP($A331,'Race 1-Ladies'!$AB$24:$AG$53,6,0)),100,VLOOKUP($A331,'Race 1-Ladies'!$AB$24:$AG$53,6,0))","v":100},{"$f":"IF(ISNA(VLOOKUP($A331,'Race 2-Ladies'!$AB$23:$AG$53,6,0)),100,VLOOKUP($A331,'Race 2-Ladies'!$AB$23:$AG$53,6,0))","v":100},{"$f":"IF(ISNA(VLOOKUP($A331,'Race 3-Ladies'!$AB$27:$AG$61,6,0)),100,VLOOKUP($A331,'Race 3-Ladies'!$AB$27:$AG$61,6,0))","v":100},{"$f":"IF(ISNA(VLOOKUP($A331,'Race 4-Ladies'!$AB$27:$AG$100,6,0)),100,VLOOKUP($A331,'Race 4-Ladies'!$AB$30:$AG$100,6,0))","v":100},{"$f":"SMALL(D331:G331,{1,2,3})","v":100},100,100,300,24]
["Elna Vermaak","BS","V55",{"$f":"IF(ISNA(VLOOKUP($A332,'Race 1-Ladies'!$AB$24:$AG$53,6,0)),100,VLOOKUP($A332,'Race 1-Ladies'!$AB$24:$AG$53,6,0))","v":100},{"$f":"IF(ISNA(VLOOKUP($A332,'Race 2-Ladies'!$AB$23:$AG$53,6,0)),100,VLOOKUP($A332,'Race 2-Ladies'!$AB$23:$AG$53,6,0))","v":100},{"$f":"IF(ISNA(VLOOKUP($A332,'Race 3-Ladies'!$AB$27:$AG$61,6,0)),100,VLOOKUP($A332,'Race 3-Ladies'!$AB$27:$AG$61,6,0))","v":100},{"$f":"IF(ISNA(VLOOKUP($A332,'Race 4-Ladies'!$AB$27:$AG$100,6,0)),100,VLOOKUP($A332,'Race 4-Ladies'!$AB$30:$AG$100,6,0))","v":100},{"$f":"SMALL(D332:G332,{1,2,3})","v":100},100,100,300,24]
["Emma Nixon","BS","V55",{"$f":"IF(ISNA(VLOOKUP($A333,'Race 1-Ladies'!$AB$24:$AG$53,6,0)),100,VLOOKUP($A333,'Race 1-Ladies'!$AB$24:$AG$53,6,0))","v":4},{"$f":"IF(ISNA(VLOOKUP($A333,'Race 2-Ladies'!$AB$23:$AG$53,6,0)),100,VLOOKUP($A333,'Race 2-Ladies'!$AB$23:$AG$53,6,0))","v":100},{"$f":"IF(ISNA(VLOOKUP($A333,'Race 3-Ladies'!$AB$27:$AG$61,6,0)),100,VLOOKUP($A333,'Race 3-Ladies'!$AB$27:$AG$61,6,0))","v":100},{"$f":"IF(ISNA(VLOOKUP($A333,'Race 4-Ladies'!$AB$27:$AG$100,6,0)),100,VLOOKUP($A333,'Race 4-Ladies'!$AB$30:$AG$100,6,0))","v":2},{"$f":"SMALL(D333:G333,{1,2,3})","v":2},4,100,106,8]
["Fiona Alder","WJ","V55",{"$f":"IF(ISNA(VLOOKUP($A334,'Race 1-Ladies'!$AB$24:$AG$53,6,0)),100,VLOOKUP($A334,'Race 1-Ladies'!$AB$24:$AG$53,6,0))","v":100},{"$f":"IF(ISNA(VLOOKUP($A334,'Race 2-Ladies'!$AB$23:$AG$53,6,0)),100,VLOOKUP($A334,'Race 2-Ladies'!$AB$23:$AG$53,6,0))","v":100},{"$f":"IF(ISNA(VLOOKUP($A334,'Race 3-Ladies'!$AB$27:$AG$61,6,0)),100,VLOOKUP($A334,'Race 3-Ladies'!$AB$27:$AG$61,6,0))","v":100},{"$f":"IF(ISNA(VLOOKUP($A334,'Race 4-Ladies'!$AB$27:$AG$100,6,0)),100,VLOOKUP($A334,'Race 4-Ladies'!$AB$30:$AG$100,6,0))","v":12},{"$f":"SMALL(D334:G334,{1,2,3})","v":12},100,100,212,23]
["Fiona Liddell","BS","V55",{"$f":"IF(ISNA(VLOOKUP($A335,'Race 1-Ladies'!$AB$24:$AG$53,6,0)),100,VLOOKUP($A335,'Race 1-Ladies'!$AB$24:$AG$53,6,0))","v":100},{"$f":"IF(ISNA(VLOOKUP($A335,'Race 2-Ladies'!$AB$23:$AG$53,6,0)),100,VLOOKUP($A335,'Race 2-Ladies'!$AB$23:$AG$53,6,0))","v":100},{"$f":"IF(ISNA(VLOOKUP($A335,'Race 3-Ladies'!$AB$27:$AG$61,6,0)),100,VLOOKUP($A335,'Race 3-Ladies'!$AB$27:$AG$61,6,0))","v":100},{"$f":"IF(ISNA(VLOOKUP($A335,'Race 4-Ladies'!$AB$27:$AG$100,6,0)),100,VLOOKUP($A335,'Race 4-Ladies'!$AB$30:$AG$100,6,0))","v":100},{"$f":"SMALL(D335:G335,{1,2,3})","v":100},100,100,300,24]
["Gail Nicholls","HRC","V55",{"$f":"IF(ISNA(VLOOKUP($A336,'Race 1-Ladies'!$AB$24:$AG$53,6,0)),100,VLOOKUP($A336,'Race 1-Ladies'!$AB$24:$AG$53,6,0))","v":5},{"$f":"IF(ISNA(VLOOKUP($A336,'Race 2-Ladies'!$AB$23:$AG$53,6,0)),100,VLOOKUP($A336,'Race 2-Ladies'!$AB$23:$AG$53,6,0))","v":2},{"$f":"IF(ISNA(VLOOKUP($A336,'Race 3-Ladies'!$AB$27:$AG$61,6,0)),100,VLOOKUP($A336,'Race 3-Ladies'!$AB$27:$AG$61,6,0))","v":2},{"$f":"IF(ISNA(VLOOKUP($A336,'Race 4-Ladies'!$AB$27:$AG$100,6,0)),100,VLOOKUP($A336,'Race 4-Ladies'!$AB$30:$AG$100,6,0))","v":3},{"$f":"SMALL(D336:G336,{1,2,3})","v":2},2,3,7,2]
["Gill Sarginson","SS","V55",{"$f":"IF(ISNA(VLOOKUP($A337,'Race 1-Ladies'!$AB$24:$AG$53,6,0)),100,VLOOKUP($A337,'Race 1-Ladies'!$AB$24:$AG$53,6,0))","v":100},{"$f":"IF(ISNA(VLOOKUP($A337,'Race 2-Ladies'!$AB$23:$AG$53,6,0)),100,VLOOKUP($A337,'Race 2-Ladies'!$AB$23:$AG$53,6,0))","v":100},{"$f":"IF(ISNA(VLOOKUP($A337,'Race 3-Ladies'!$AB$27:$AG$61,6,0)),100,VLOOKUP($A337,'Race 3-Ladies'!$AB$27:$AG$61,6,0))","v":100},{"$f":"IF(ISNA(VLOOKUP($A337,'Race 4-Ladies'!$AB$27:$AG$100,6,0)),100,VLOOKUP($A337,'Race 4-Ladies'!$AB$30:$AG$100,6,0))","v":100},{"$f":"SMALL(D337:G337,{1,2,3})","v":100},100,100,300,24]
["Gillian Herbert","SS","V55",{"$f":"IF(ISNA(VLOOKUP($A338,'Race 1-Ladies'!$AB$24:$AG$53,6,0)),100,VLOOKUP($A338,'Race 1-Ladies'!$AB$24:$AG$53,6,0))","v":100},{"$f":"IF(ISNA(VLOOKUP($A338,'Race 2-Ladies'!$AB$23:$AG$53,6,0)),100,VLOOKUP($A338,'Race 2-Ladies'!$AB$23:$AG$53,6,0))","v":100},{"$f":"IF(ISNA(VLOOKUP($A338,'Race 3-Ladies'!$AB$27:$AG$61,6,0)),100,VLOOKUP($A338,'Race 3-Ladies'!$AB$27:$AG$61,6,0))","v":100},{"$f":"IF(ISNA(VLOOKUP($A338,'Race 4-Ladies'!$AB$27:$AG$100,6,0)),100,VLOOKUP($A338,'Race 4-Ladies'!$AB$30:$AG$100,6,0))","v":100},{"$f":"SMALL(D338:G338,{1,2,3})","v":100},100,100,300,24]
["Greta Lyons","BS","V55",{"$f":"IF(ISNA(VLOOKUP($A339,'Race 1-Ladies'!$AB$24:$AG$53,6,0)),100,VLOOKUP($A339,'Race 1-Ladies'!$AB$24:$AG$53,6,0))","v":100},{"$f":"IF(ISNA(VLOOKUP($A339,'Race 2-Ladies'!$AB$23:$AG$53,6,0)),100,VLOOKUP($A339,'Race 2-Ladies'!$AB$23:$AG$53,6,0))","v":100},{"$f":"IF(ISNA(VLOOKUP($A339,'Race 3-Ladies'!$AB$27:$AG$61,6,0)),100,VLOOKUP($A339,'Race 3-Ladies'!$AB$27:$AG$61,6,0))","v":100},{"$f":"IF(ISNA(VLOOKUP($A339,'Race 4-Ladies'!$AB$27:$AG$100,6,0)),100,VLOOKUP($A339,'Race 4-Ladies'!$AB$30:$AG$100,6,0))","v":100},{"$f":"SMALL(D339:G339,{1,2,3})","v":100},100,100,300,24]
["Harriet Wyatt","BS","V55",{"$f":"IF(ISNA(VLOOKUP($A340,'Race 1-Ladies'!$AB$24:$AG$53,6,0)),100,VLOOKUP($A340,'Race 1-Ladies'!$AB$24:$AG$53,6,0))","v":100},{"$f":"IF(ISNA(VLOOKUP($A340,'Race 2-Ladies'!$AB$23:$AG$53,6,0)),100,VLOOKUP($A340,'Race 2-Ladies'!$AB$23:$AG$53,6,0))","v":100},{"$f":"IF(ISNA(VLOOKUP($A340,'Race 3-Ladies'!$AB$27:$AG$61,6,0)),100,VLOOKUP($A340,'Race 3-Ladies'!$AB$27:$AG$61,6,0))","v":100},{"$f":"IF(ISNA(VLOOKUP($A340,'Race 4-Ladies'!$AB$27:$AG$100,6,0)),100,VLOOKUP($A340,'Race 4-Ladies'!$AB$30:$AG$100,6,0))","v":100},{"$f":"SMALL(D340:G340,{1,2,3})","v":100},100,100,300,24]
["Helen Barnes-Martin","HRC","V55",{"$f":"IF(ISNA(VLOOKUP($A341,'Race 1-Ladies'!$AB$24:$AG$53,6,0)),100,VLOOKUP($A341,'Race 1-Ladies'!$AB$24:$AG$53,6,0))","v":100},{"$f":"IF(ISNA(VLOOKUP($A341,'Race 2-Ladies'!$AB$23:$AG$53,6,0)),100,VLOOKUP($A341,'Race 2-Ladies'!$AB$23:$AG$53,6,0))","v":100},{"$f":"IF(ISNA(VLOOKUP($A341,'Race 3-Ladies'!$AB$27:$AG$61,6,0)),100,VLOOKUP($A341,'Race 3-Ladies'!$AB$27:$AG$61,6,0))","v":100},{"$f":"IF(ISNA(VLOOKUP($A341,'Race 4-Ladies'!$AB$27:$AG$100,6,0)),100,VLOOKUP($A341,'Race 4-Ladies'!$AB$30:$AG$100,6,0))","v":100},{"$f":"SMALL(D341:G341,{1,2,3})","v":100},100,100,300,24]
["Helen Baucher","BS","V55",{"$f":"IF(ISNA(VLOOKUP($A342,'Race 1-Ladies'!$AB$24:$AG$53,6,0)),100,VLOOKUP($A342,'Race 1-Ladies'!$AB$24:$AG$53,6,0))","v":100},{"$f":"IF(ISNA(VLOOKUP($A342,'Race 2-Ladies'!$AB$23:$AG$53,6,0)),100,VLOOKUP($A342,'Race 2-Ladies'!$AB$23:$AG$53,6,0))","v":100},{"$f":"IF(ISNA(VLOOKUP($A342,'Race 3-Ladies'!$AB$27:$AG$61,6,0)),100,VLOOKUP($A342,'Race 3-Ladies'!$AB$27:$AG$61,6,0))","v":100},{"$f":"IF(ISNA(VLOOKUP($A342,'Race 4-Ladies'!$AB$27:$AG$100,6,0)),100,VLOOKUP($A342,'Race 4-Ladies'!$AB$30:$AG$100,6,0))","v":100},{"$f":"SMALL(D342:G342,{1,2,3})","v":100},100,100,300,24]
["Helen Brown","BS","V55",{"$f":"IF(ISNA(VLOOKUP($A343,'Race 1-Ladies'!$AB$24:$AG$53,6,0)),100,VLOOKUP($A343,'Race 1-Ladies'!$AB$24:$AG$53,6,0))","v":100},{"$f":"IF(ISNA(VLOOKUP($A343,'Race 2-Ladies'!$AB$23:$AG$53,6,0)),100,VLOOKUP($A343,'Race 2-Ladies'!$AB$23:$AG$53,6,0))","v":100},{"$f":"IF(ISNA(VLOOKUP($A343,'Race 3-Ladies'!$AB$27:$AG$61,6,0)),100,VLOOKUP($A343,'Race 3-Ladies'!$AB$27:$AG$61,6,0))","v":100},{"$f":"IF(ISNA(VLOOKUP($A343,'Race 4-Ladies'!$AB$27:$AG$100,6,0)),100,VLOOKUP($A343,'Race 4-Ladies'!$AB$30:$AG$100,6,0))","v":100},{"$f":"SMALL(D343:G343,{1,2,3})","v":100},100,100,300,24]
["Helen Marks","SS","V55",{"$f":"IF(ISNA(VLOOKUP($A344,'Race 1-Ladies'!$AB$24:$AG$53,6,0)),100,VLOOKUP($A344,'Race 1-Ladies'!$AB$24:$AG$53,6,0))","v":100},{"$f":"IF(ISNA(VLOOKUP($A344,'Race 2-Ladies'!$AB$23:$AG$53,6,0)),100,VLOOKUP($A344,'Race 2-Ladies'!$AB$23:$AG$53,6,0))","v":100},{"$f":"IF(ISNA(VLOOKUP($A344,'Race 3-Ladies'!$AB$27:$AG$61,6,0)),100,VLOOKUP($A344,'Race 3-Ladies'!$AB$27:$AG$61,6,0))","v":100},{"$f":"IF(ISNA(VLOOKUP($A344,'Race 4-Ladies'!$AB$27:$AG$100,6,0)),100,VLOOKUP($A344,'Race 4-Ladies'!$AB$30:$AG$100,6,0))","v":100},{"$f":"SMALL(D344:G344,{1,2,3})","v":100},100,100,300,24]
["Jacki Clifford","WJ","V55",{"$f":"IF(ISNA(VLOOKUP($A345,'Race 1-Ladies'!$AB$24:$AG$53,6,0)),100,VLOOKUP($A345,'Race 1-Ladies'!$AB$24:$AG$53,6,0))","v":100},{"$f":"IF(ISNA(VLOOKUP($A345,'Race 2-Ladies'!$AB$23:$AG$53,6,0)),100,VLOOKUP($A345,'Race 2-Ladies'!$AB$23:$AG$53,6,0))","v":100},{"$f":"IF(ISNA(VLOOKUP($A345,'Race 3-Ladies'!$AB$27:$AG$61,6,0)),100,VLOOKUP($A345,'Race 3-Ladies'!$AB$27:$AG$61,6,0))","v":100},{"$f":"IF(ISNA(VLOOKUP($A345,'Race 4-Ladies'!$AB$27:$AG$100,6,0)),100,VLOOKUP($A345,'Race 4-Ladies'!$AB$30:$AG$100,6,0))","v":100},{"$f":"SMALL(D345:G345,{1,2,3})","v":100},100,100,300,24]
["Jacqueline Lucas","SS","V55",{"$f":"IF(ISNA(VLOOKUP($A346,'Race 1-Ladies'!$AB$24:$AG$53,6,0)),100,VLOOKUP($A346,'Race 1-Ladies'!$AB$24:$AG$53,6,0))","v":100},{"$f":"IF(ISNA(VLOOKUP($A346,'Race 2-Ladies'!$AB$23:$AG$53,6,0)),100,VLOOKUP($A346,'Race 2-Ladies'!$AB$23:$AG$53,6,0))","v":100},{"$f":"IF(ISNA(VLOOKUP($A346,'Race 3-Ladies'!$AB$27:$AG$61,6,0)),100,VLOOKUP($A346,'Race 3-Ladies'!$AB$27:$AG$61,6,0))","v":100},{"$f":"IF(ISNA(VLOOKUP($A346,'Race 4-Ladies'!$AB$27:$AG$100,6,0)),100,VLOOKUP($A346,'Race 4-Ladies'!$AB$30:$AG$100,6,0))","v":100},{"$f":"SMALL(D346:G346,{1,2,3})","v":100},100,100,300,24]
["Jacqui Barnard","WJ","V55",{"$f":"IF(ISNA(VLOOKUP($A347,'Race 1-Ladies'!$AB$24:$AG$53,6,0)),100,VLOOKUP($A347,'Race 1-Ladies'!$AB$24:$AG$53,6,0))","v":100},{"$f":"IF(ISNA(VLOOKUP($A347,'Race 2-Ladies'!$AB$23:$AG$53,6,0)),100,VLOOKUP($A347,'Race 2-Ladies'!$AB$23:$AG$53,6,0))","v":11},{"$f":"IF(ISNA(VLOOKUP($A347,'Race 3-Ladies'!$AB$27:$AG$61,6,0)),100,VLOOKUP($A347,'Race 3-Ladies'!$AB$27:$AG$61,6,0))","v":11},{"$f":"IF(ISNA(VLOOKUP($A347,'Race 4-Ladies'!$AB$27:$AG$100,6,0)),100,VLOOKUP($A347,'Race 4-Ladies'!$AB$30:$AG$100,6,0))","v":100},{"$f":"SMALL(D347:G347,{1,2,3})","v":11},11,100,122,14]
["Jan Stock","WJ","V55",{"$f":"IF(ISNA(VLOOKUP($A348,'Race 1-Ladies'!$AB$24:$AG$53,6,0)),100,VLOOKUP($A348,'Race 1-Ladies'!$AB$24:$AG$53,6,0))","v":100},{"$f":"IF(ISNA(VLOOKUP($A348,'Race 2-Ladies'!$AB$23:$AG$53,6,0)),100,VLOOKUP($A348,'Race 2-Ladies'!$AB$23:$AG$53,6,0))","v":100},{"$f":"IF(ISNA(VLOOKUP($A348,'Race 3-Ladies'!$AB$27:$AG$61,6,0)),100,VLOOKUP($A348,'Race 3-Ladies'!$AB$27:$AG$61,6,0))","v":100},{"$f":"IF(ISNA(VLOOKUP($A348,'Race 4-Ladies'!$AB$27:$AG$100,6,0)),100,VLOOKUP($A348,'Race 4-Ladies'!$AB$30:$AG$100,6,0))","v":100},{"$f":"SMALL(D348:G348,{1,2,3})","v":100},100,100,300,24]
["Jane Evans","HRC","V55",{"$f":"IF(ISNA(VLOOKUP($A349,'Race 1-Ladies'!$AB$24:$AG$53,6,0)),100,VLOOKUP($A349,'Race 1-Ladies'!$AB$24:$AG$53,6,0))","v":100},{"$f":"IF(ISNA(VLOOKUP($A349,'Race 2-Ladies'!$AB$23:$AG$53,6,0)),100,VLOOKUP($A349,'Race 2-Ladies'!$AB$23:$AG$53,6,0))","v":100},{"$f":"IF(ISNA(VLOOKUP($A349,'Race 3-Ladies'!$AB$27:$AG$61,6,0)),100,VLOOKUP($A349,'Race 3-Ladies'!$AB$27:$AG$61,6,0))","v":100},{"$f":"IF(ISNA(VLOOKUP($A349,'Race 4-Ladies'!$AB$27:$AG$100,6,0)),100,VLOOKUP($A349,'Race 4-Ladies'!$AB$30:$AG$100,6,0))","v":100},{"$f":"SMALL(D349:G349,{1,2,3})","v":100},100,100,300,24]
["Jane Mansfield","BS","V55",{"$f":"IF(ISNA(VLOOKUP($A350,'Race 1-Ladies'!$AB$24:$AG$53,6,0)),100,VLOOKUP($A350,'Race 1-Ladies'!$AB$24:$AG$53,6,0))","v":100},{"$f":"IF(ISNA(VLOOKUP($A350,'Race 2-Ladies'!$AB$23:$AG$53,6,0)),100,VLOOKUP($A350,'Race 2-Ladies'!$AB$23:$AG$53,6,0))","v":100},{"$f":"IF(ISNA(VLOOKUP($A350,'Race 3-Ladies'!$AB$27:$AG$61,6,0)),100,VLOOKUP($A350,'Race 3-Ladies'!$AB$27:$AG$61,6,0))","v":100},{"$f":"IF(ISNA(VLOOKUP($A350,'Race 4-Ladies'!$AB$27:$AG$100,6,0)),100,VLOOKUP($A350,'Race 4-Ladies'!$AB$30:$AG$100,6,0))","v":100},{"$f":"SMALL(D350:G350,{1,2,3})","v":100},100,100,300,24]
["Jane Wren","WJ","V55",{"$f":"IF(ISNA(VLOOKUP($A351,'Race 1-Ladies'!$AB$24:$AG$53,6,0)),100,VLOOKUP($A351,'Race 1-Ladies'!$AB$24:$AG$53,6,0))","v":100},{"$f":"IF(ISNA(VLOOKUP($A351,'Race 2-Ladies'!$AB$23:$AG$53,6,0)),100,VLOOKUP($A351,'Race 2-Ladies'!$AB$23:$AG$53,6,0))","v":100},{"$f":"IF(ISNA(VLOOKUP($A351,'Race 3-Ladies'!$AB$27:$AG$61,6,0)),100,VLOOKUP($A351,'Race 3-Ladies'!$AB$27:$AG$61,6,0))","v":100},{"$f":"IF(ISNA(VLOOKUP($A351,'Race 4-Ladies'!$AB$27:$AG$100,6,0)),100,VLOOKUP($A351,'Race 4-Ladies'!$AB$30:$AG$100,6,0))","v":4},{"$f":"SMALL(D351:G351,{1,2,3})","v":4},100,100,204,17]
["Janet Readitt","WJ","V55",{"$f":"IF(ISNA(VLOOKUP($A352,'Race 1-Ladies'!$AB$24:$AG$53,6,0)),100,VLOOKUP($A352,'Race 1-Ladies'!$AB$24:$AG$53,6,0))","v":100},{"$f":"IF(ISNA(VLOOKUP($A352,'Race 2-Ladies'!$AB$23:$AG$53,6,0)),100,VLOOKUP($A352,'Race 2-Ladies'!$AB$23:$AG$53,6,0))","v":100},{"$f":"IF(ISNA(VLOOKUP($A352,'Race 3-Ladies'!$AB$27:$AG$61,6,0)),100,VLOOKUP($A352,'Race 3-Ladies'!$AB$27:$AG$61,6,0))","v":100},{"$f":"IF(ISNA(VLOOKUP($A352,'Race 4-Ladies'!$AB$27:$AG$100,6,0)),100,VLOOKUP($A352,'Race 4-Ladies'!$AB$30:$AG$100,6,0))","v":100},{"$f":"SMALL(D352:G352,{1,2,3})","v":100},100,100,300,24]
["Jeanette Collins","WJ","V55",{"$f":"IF(ISNA(VLOOKUP($A353,'Race 1-Ladies'!$AB$24:$AG$53,6,0)),100,VLOOKUP($A353,'Race 1-Ladies'!$AB$24:$AG$53,6,0))","v":100},{"$f":"IF(ISNA(VLOOKUP($A353,'Race 2-Ladies'!$AB$23:$AG$53,6,0)),100,VLOOKUP($A353,'Race 2-Ladies'!$AB$23:$AG$53,6,0))","v":10},{"$f":"IF(ISNA(VLOOKUP($A353,'Race 3-Ladies'!$AB$27:$AG$61,6,0)),100,VLOOKUP($A353,'Race 3-Ladies'!$AB$27:$AG$61,6,0))","v":8},{"$f":"IF(ISNA(VLOOKUP($A353,'Race 4-Ladies'!$AB$27:$AG$100,6,0)),100,VLOOKUP($A353,'Race 4-Ladies'!$AB$30:$AG$100,6,0))","v":100},{"$f":"SMALL(D353:G353,{1,2,3})","v":8},10,100,118,13]
["Jilly Palmer","BS","V55",{"$f":"IF(ISNA(VLOOKUP($A354,'Race 1-Ladies'!$AB$24:$AG$53,6,0)),100,VLOOKUP($A354,'Race 1-Ladies'!$AB$24:$AG$53,6,0))","v":100},{"$f":"IF(ISNA(VLOOKUP($A354,'Race 2-Ladies'!$AB$23:$AG$53,6,0)),100,VLOOKUP($A354,'Race 2-Ladies'!$AB$23:$AG$53,6,0))","v":7},{"$f":"IF(ISNA(VLOOKUP($A354,'Race 3-Ladies'!$AB$27:$AG$61,6,0)),100,VLOOKUP($A354,'Race 3-Ladies'!$AB$27:$AG$61,6,0))","v":9},{"$f":"IF(ISNA(VLOOKUP($A354,'Race 4-Ladies'!$AB$27:$AG$100,6,0)),100,VLOOKUP($A354,'Race 4-Ladies'!$AB$30:$AG$100,6,0))","v":10},{"$f":"SMALL(D354:G354,{1,2,3})","v":7},9,10,26,5]
["Jo Dallas","SS","V55",{"$f":"IF(ISNA(VLOOKUP($A355,'Race 1-Ladies'!$AB$24:$AG$53,6,0)),100,VLOOKUP($A355,'Race 1-Ladies'!$AB$24:$AG$53,6,0))","v":100},{"$f":"IF(ISNA(VLOOKUP($A355,'Race 2-Ladies'!$AB$23:$AG$53,6,0)),100,VLOOKUP($A355,'Race 2-Ladies'!$AB$23:$AG$53,6,0))","v":100},{"$f":"IF(ISNA(VLOOKUP($A355,'Race 3-Ladies'!$AB$27:$AG$61,6,0)),100,VLOOKUP($A355,'Race 3-Ladies'!$AB$27:$AG$61,6,0))","v":100},{"$f":"IF(ISNA(VLOOKUP($A355,'Race 4-Ladies'!$AB$27:$AG$100,6,0)),100,VLOOKUP($A355,'Race 4-Ladies'!$AB$30:$AG$100,6,0))","v":100},{"$f":"SMALL(D355:G355,{1,2,3})","v":100},100,100,300,24]
["Judy Sillitto","WJ","V55",{"$f":"IF(ISNA(VLOOKUP($A356,'Race 1-Ladies'!$AB$24:$AG$53,6,0)),100,VLOOKUP($A356,'Race 1-Ladies'!$AB$24:$AG$53,6,0))","v":100},{"$f":"IF(ISNA(VLOOKUP($A356,'Race 2-Ladies'!$AB$23:$AG$53,6,0)),100,VLOOKUP($A356,'Race 2-Ladies'!$AB$23:$AG$53,6,0))","v":100},{"$f":"IF(ISNA(VLOOKUP($A356,'Race 3-Ladies'!$AB$27:$AG$61,6,0)),100,VLOOKUP($A356,'Race 3-Ladies'!$AB$27:$AG$61,6,0))","v":100},{"$f":"IF(ISNA(VLOOKUP($A356,'Race 4-Ladies'!$AB$27:$AG$100,6,0)),100,VLOOKUP($A356,'Race 4-Ladies'!$AB$30:$AG$100,6,0))","v":100},{"$f":"SMALL(D356:G356,{1,2,3})","v":100},100,100,300,24]
["Julia Fonnereau","BS","V55",{"$f":"IF(ISNA(VLOOKUP($A357,'Race 1-Ladies'!$AB$24:$AG$53,6,0)),100,VLOOKUP($A357,'Race 1-Ladies'!$AB$24:$AG$53,6,0))","v":100},{"$f":"IF(ISNA(VLOOKUP($A357,'Race 2-Ladies'!$AB$23:$AG$53,6,0)),100,VLOOKUP($A357,'Race 2-Ladies'!$AB$23:$AG$53,6,0))","v":100},{"$f":"IF(ISNA(VLOOKUP($A357,'Race 3-Ladies'!$AB$27:$AG$61,6,0)),100,VLOOKUP($A357,'Race 3-Ladies'!$AB$27:$AG$61,6,0))","v":100},{"$f":"IF(ISNA(VLOOKUP($A357,'Race 4-Ladies'!$AB$27:$AG$100,6,0)),100,VLOOKUP($A357,'Race 4-Ladies'!$AB$30:$AG$100,6,0))","v":100},{"$f":"SMALL(D357:G357,{1,2,3})","v":100},100,100,300,24]
["Julia Gristwood","WJ","V55",{"$f":"IF(ISNA(VLOOKUP($A358,'Race 1-Ladies'!$AB$24:$AG$53,6,0)),100,VLOOKUP($A358,'Race 1-Ladies'!$AB$24:$AG$53,6,0))","v":100},{"$f":"IF(ISNA(VLOOKUP($A358,'Race 2-Ladies'!$AB$23:$AG$53,6,0)),100,VLOOKUP($A358,'Race 2-Ladies'!$AB$23:$AG$53,6,0))","v":100},{"$f":"IF(ISNA(VLOOKUP($A358,'Race 3-Ladies'!$AB$27:$AG$61,6,0)),100,VLOOKUP($A358,'Race 3-Ladies'!$AB$27:$AG$61,6,0))","v":100},{"$f":"IF(ISNA(VLOOKUP($A358,'Race 4-Ladies'!$AB$27:$AG$100,6,0)),100,VLOOKUP($A358,'Race 4-Ladies'!$AB$30:$AG$100,6,0))","v":100},{"$f":"SMALL(D358:G358,{1,2,3})","v":100},100,100,300,24]
["Julie Bradley","HRC","V55",{"$f":"IF(ISNA(VLOOKUP($A359,'Race 1-Ladies'!$AB$24:$AG$53,6,0)),100,VLOOKUP($A359,'Race 1-Ladies'!$AB$24:$AG$53,6,0))","v":100},{"$f":"IF(ISNA(VLOOKUP($A359,'Race 2-Ladies'!$AB$23:$AG$53,6,0)),100,VLOOKUP($A359,'Race 2-Ladies'!$AB$23:$AG$53,6,0))","v":100},{"$f":"IF(ISNA(VLOOKUP($A359,'Race 3-Ladies'!$AB$27:$AG$61,6,0)),100,VLOOKUP($A359,'Race 3-Ladies'!$AB$27:$AG$61,6,0))","v":100},{"$f":"IF(ISNA(VLOOKUP($A359,'Race 4-Ladies'!$AB$27:$AG$100,6,0)),100,VLOOKUP($A359,'Race 4-Ladies'!$AB$30:$AG$100,6,0))","v":100},{"$f":"SMALL(D359:G359,{1,2,3})","v":100},100,100,300,24]
["Julie Fogg","WJ","V55",{"$f":"IF(ISNA(VLOOKUP($A360,'Race 1-Ladies'!$AB$24:$AG$53,6,0)),100,VLOOKUP($A360,'Race 1-Ladies'!$AB$24:$AG$53,6,0))","v":100},{"$f":"IF(ISNA(VLOOKUP($A360,'Race 2-Ladies'!$AB$23:$AG$53,6,0)),100,VLOOKUP($A360,'Race 2-Ladies'!$AB$23:$AG$53,6,0))","v":100},{"$f":"IF(ISNA(VLOOKUP($A360,'Race 3-Ladies'!$AB$27:$AG$61,6,0)),100,VLOOKUP($A360,'Race 3-Ladies'!$AB$27:$AG$61,6,0))","v":100},{"$f":"IF(ISNA(VLOOKUP($A360,'Race 4-Ladies'!$AB$27:$AG$100,6,0)),100,VLOOKUP($A360,'Race 4-Ladies'!$AB$30:$AG$100,6,0))","v":100},{"$f":"SMALL(D360:G360,{1,2,3})","v":100},100,100,300,24]
["Julie Hartle","SS","V55",{"$f":"IF(ISNA(VLOOKUP($A361,'Race 1-Ladies'!$AB$24:$AG$53,6,0)),100,VLOOKUP($A361,'Race 1-Ladies'!$AB$24:$AG$53,6,0))","v":100},{"$f":"IF(ISNA(VLOOKUP($A361,'Race 2-Ladies'!$AB$23:$AG$53,6,0)),100,VLOOKUP($A361,'Race 2-Ladies'!$AB$23:$AG$53,6,0))","v":100},{"$f":"IF(ISNA(VLOOKUP($A361,'Race 3-Ladies'!$AB$27:$AG$61,6,0)),100,VLOOKUP($A361,'Race 3-Ladies'!$AB$27:$AG$61,6,0))","v":100},{"$f":"IF(ISNA(VLOOKUP($A361,'Race 4-Ladies'!$AB$27:$AG$100,6,0)),100,VLOOKUP($A361,'Race 4-Ladies'!$AB$30:$AG$100,6,0))","v":100},{"$f":"SMALL(D361:G361,{1,2,3})","v":100},100,100,300,24]
["Julie Ireland","HRC","V55",{"$f":"IF(ISNA(VLOOKUP($A362,'Race 1-Ladies'!$AB$24:$AG$53,6,0)),100,VLOOKUP($A362,'Race 1-Ladies'!$AB$24:$AG$53,6,0))","v":100},{"$f":"IF(ISNA(VLOOKUP($A362,'Race 2-Ladies'!$AB$23:$AG$53,6,0)),100,VLOOKUP($A362,'Race 2-Ladies'!$AB$23:$AG$53,6,0))","v":100},{"$f":"IF(ISNA(VLOOKUP($A362,'Race 3-Ladies'!$AB$27:$AG$61,6,0)),100,VLOOKUP($A362,'Race 3-Ladies'!$AB$27:$AG$61,6,0))","v":100},{"$f":"IF(ISNA(VLOOKUP($A362,'Race 4-Ladies'!$AB$27:$AG$100,6,0)),100,VLOOKUP($A362,'Race 4-Ladies'!$AB$30:$AG$100,6,0))","v":100},{"$f":"SMALL(D362:G362,{1,2,3})","v":100},100,100,300,24]
["Julie Rogers","BS","V55",{"$f":"IF(ISNA(VLOOKUP($A363,'Race 1-Ladies'!$AB$24:$AG$53,6,0)),100,VLOOKUP($A363,'Race 1-Ladies'!$AB$24:$AG$53,6,0))","v":100},{"$f":"IF(ISNA(VLOOKUP($A363,'Race 2-Ladies'!$AB$23:$AG$53,6,0)),100,VLOOKUP($A363,'Race 2-Ladies'!$AB$23:$AG$53,6,0))","v":100},{"$f":"IF(ISNA(VLOOKUP($A363,'Race 3-Ladies'!$AB$27:$AG$61,6,0)),100,VLOOKUP($A363,'Race 3-Ladies'!$AB$27:$AG$61,6,0))","v":100},{"$f":"IF(ISNA(VLOOKUP($A363,'Race 4-Ladies'!$AB$27:$AG$100,6,0)),100,VLOOKUP($A363,'Race 4-Ladies'!$AB$30:$AG$100,6,0))","v":100},{"$f":"SMALL(D363:G363,{1,2,3})","v":100},100,100,300,24]
["Karen Moir","HRC","V55",{"$f":"IF(ISNA(VLOOKUP($A364,'Race 1-Ladies'!$AB$24:$AG$53,6,0)),100,VLOOKUP($A364,'Race 1-Ladies'!$AB$24:$AG$53,6,0))","v":100},{"$f":"IF(ISNA(VLOOKUP($A364,'Race 2-Ladies'!$AB$23:$AG$53,6,0)),100,VLOOKUP($A364,'Race 2-Ladies'!$AB$23:$AG$53,6,0))","v":100},{"$f":"IF(ISNA(VLOOKUP($A364,'Race 3-Ladies'!$AB$27:$AG$61,6,0)),100,VLOOKUP($A364,'Race 3-Ladies'!$AB$27:$AG$61,6,0))","v":100},{"$f":"IF(ISNA(VLOOKUP($A364,'Race 4-Ladies'!$AB$27:$AG$100,6,0)),100,VLOOKUP($A364,'Race 4-Ladies'!$AB$30:$AG$100,6,0))","v":100},{"$f":"SMALL(D364:G364,{1,2,3})","v":100},100,100,300,24]
["Kate Babb","HRC","V55",{"$f":"IF(ISNA(VLOOKUP($A365,'Race 1-Ladies'!$AB$24:$AG$53,6,0)),100,VLOOKUP($A365,'Race 1-Ladies'!$AB$24:$AG$53,6,0))","v":100},{"$f":"IF(ISNA(VLOOKUP($A365,'Race 2-Ladies'!$AB$23:$AG$53,6,0)),100,VLOOKUP($A365,'Race 2-Ladies'!$AB$23:$AG$53,6,0))","v":100},{"$f":"IF(ISNA(VLOOKUP($A365,'Race 3-Ladies'!$AB$27:$AG$61,6,0)),100,VLOOKUP($A365,'Race 3-Ladies'!$AB$27:$AG$61,6,0))","v":100},{"$f":"IF(ISNA(VLOOKUP($A365,'Race 4-Ladies'!$AB$27:$AG$100,6,0)),100,VLOOKUP($A365,'Race 4-Ladies'!$AB$30:$AG$100,6,0))","v":8},{"$f":"SMALL(D365:G365,{1,2,3})","v":8},100,100,208,19]
["Kate Holden","SS","V55",{"$f":"IF(ISNA(VLOOKUP($A366,'Race 1-Ladies'!$AB$24:$AG$53,6,0)),100,VLOOKUP($A366,'Race 1-Ladies'!$AB$24:$AG$53,6,0))","v":100},{"$f":"IF(ISNA(VLOOKUP($A366,'Race 2-Ladies'!$AB$23:$AG$53,6,0)),100,VLOOKUP($A366,'Race 2-Ladies'!$AB$23:$AG$53,6,0))","v":100},{"$f":"IF(ISNA(VLOOKUP($A366,'Race 3-Ladies'!$AB$27:$AG$61,6,0)),100,VLOOKUP($A366,'Race 3-Ladies'!$AB$27:$AG$61,6,0))","v":100},{"$f":"IF(ISNA(VLOOKUP($A366,'Race 4-Ladies'!$AB$27:$AG$100,6,0)),100,VLOOKUP($A366,'Race 4-Ladies'!$AB$30:$AG$100,6,0))","v":100},{"$f":"SMALL(D366:G366,{1,2,3})","v":100},100,100,300,24]
["Kathy Nixon","SS","V55",{"$f":"IF(ISNA(VLOOKUP($A367,'Race 1-Ladies'!$AB$24:$AG$53,6,0)),100,VLOOKUP($A367,'Race 1-Ladies'!$AB$24:$AG$53,6,0))","v":100},{"$f":"IF(ISNA(VLOOKUP($A367,'Race 2-Ladies'!$AB$23:$AG$53,6,0)),100,VLOOKUP($A367,'Race 2-Ladies'!$AB$23:$AG$53,6,0))","v":100},{"$f":"IF(ISNA(VLOOKUP($A367,'Race 3-Ladies'!$AB$27:$AG$61,6,0)),100,VLOOKUP($A367,'Race 3-Ladies'!$AB$27:$AG$61,6,0))","v":100},{"$f":"IF(ISNA(VLOOKUP($A367,'Race 4-Ladies'!$AB$27:$AG$100,6,0)),100,VLOOKUP($A367,'Race 4-Ladies'!$AB$30:$AG$100,6,0))","v":100},{"$f":"SMALL(D367:G367,{1,2,3})","v":100},100,100,300,24]
["Kay Phillips","SS","V55",{"$f":"IF(ISNA(VLOOKUP($A368,'Race 1-Ladies'!$AB$24:$AG$53,6,0)),100,VLOOKUP($A368,'Race 1-Ladies'!$AB$24:$AG$53,6,0))","v":100},{"$f":"IF(ISNA(VLOOKUP($A368,'Race 2-Ladies'!$AB$23:$AG$53,6,0)),100,VLOOKUP($A368,'Race 2-Ladies'!$AB$23:$AG$53,6,0))","v":100},{"$f":"IF(ISNA(VLOOKUP($A368,'Race 3-Ladies'!$AB$27:$AG$61,6,0)),100,VLOOKUP($A368,'Race 3-Ladies'!$AB$27:$AG$61,6,0))","v":100},{"$f":"IF(ISNA(VLOOKUP($A368,'Race 4-Ladies'!$AB$27:$AG$100,6,0)),100,VLOOKUP($A368,'Race 4-Ladies'!$AB$30:$AG$100,6,0))","v":100},{"$f":"SMALL(D368:G368,{1,2,3})","v":100},100,100,300,24]
["Kim Wookey","HRC","V55",{"$f":"IF(ISNA(VLOOKUP($A369,'Race 1-Ladies'!$AB$24:$AG$53,6,0)),100,VLOOKUP($A369,'Race 1-Ladies'!$AB$24:$AG$53,6,0))","v":100},{"$f":"IF(ISNA(VLOOKUP($A369,'Race 2-Ladies'!$AB$23:$AG$53,6,0)),100,VLOOKUP($A369,'Race 2-Ladies'!$AB$23:$AG$53,6,0))","v":100},{"$f":"IF(ISNA(VLOOKUP($A369,'Race 3-Ladies'!$AB$27:$AG$61,6,0)),100,VLOOKUP($A369,'Race 3-Ladies'!$AB$27:$AG$61,6,0))","v":100},{"$f":"IF(ISNA(VLOOKUP($A369,'Race 4-Ladies'!$AB$27:$AG$100,6,0)),100,VLOOKUP($A369,'Race 4-Ladies'!$AB$30:$AG$100,6,0))","v":100},{"$f":"SMALL(D369:G369,{1,2,3})","v":100},100,100,300,24]
["Linda Brett","SS","V55",{"$f":"IF(ISNA(VLOOKUP($A370,'Race 1-Ladies'!$AB$24:$AG$53,6,0)),100,VLOOKUP($A370,'Race 1-Ladies'!$AB$24:$AG$53,6,0))","v":100},{"$f":"IF(ISNA(VLOOKUP($A370,'Race 2-Ladies'!$AB$23:$AG$53,6,0)),100,VLOOKUP($A370,'Race 2-Ladies'!$AB$23:$AG$53,6,0))","v":100},{"$f":"IF(ISNA(VLOOKUP($A370,'Race 3-Ladies'!$AB$27:$AG$61,6,0)),100,VLOOKUP($A370,'Race 3-Ladies'!$AB$27:$AG$61,6,0))","v":100},{"$f":"IF(ISNA(VLOOKUP($A370,'Race 4-Ladies'!$AB$27:$AG$100,6,0)),100,VLOOKUP($A370,'Race 4-Ladies'!$AB$30:$AG$100,6,0))","v":100},{"$f":"SMALL(D370:G370,{1,2,3})","v":100},100,100,300,24]
["Linda Helm-Manley","HRC","V55",{"$f":"IF(ISNA(VLOOKUP($A371,'Race 1-Ladies'!$AB$24:$AG$53,6,0)),100,VLOOKUP($A371,'Race 1-Ladies'!$AB$24:$AG$53,6,0))","v":1},{"$f":"IF(ISNA(VLOOKUP($A371,'Race 2-Ladies'!$AB$23:$AG$53,6,0)),100,VLOOKUP($A371,'Race 2-Ladies'!$AB$23:$AG$53,6,0))","v":100},{"$f":"IF(ISNA(VLOOKUP($A371,'Race 3-Ladies'!$AB$27:$AG$61,6,0)),100,VLOOKUP($A371,'Race 3-Ladies'!$AB$27:$AG$61,6,0))","v":1},{"$f":"IF(ISNA(VLOOKUP($A371,'Race 4-Ladies'!$AB$27:$AG$100,6,0)),100,VLOOKUP($A371,'Race 4-Ladies'!$AB$30:$AG$100,6,0))","v":1},{"$f":"SMALL(D371:G371,{1,2,3})","v":1},1,1,3,1]
["Lisa Hough","WJ","V55",{"$f":"IF(ISNA(VLOOKUP($A372,'Race 1-Ladies'!$AB$24:$AG$53,6,0)),100,VLOOKUP($A372,'Race 1-Ladies'!$AB$24:$AG$53,6,0))","v":100},{"$f":"IF(ISNA(VLOOKUP($A372,'Race 2-Ladies'!$AB$23:$AG$53,6,0)),100,VLOOKUP($A372,'Race 2-Ladies'!$AB$23:$AG$53,6,0))","v":100},{"$f":"IF(ISNA(VLOOKUP($A372,'Race 3-Ladies'!$AB$27:$AG$61,6,0)),100,VLOOKUP($A372,'Race 3-Ladies'!$AB$27:$AG$61,6,0))","v":100},{"$f":"IF(ISNA(VLOOKUP($A372,'Race 4-Ladies'!$AB$27:$AG$100,6,0)),100,VLOOKUP($A372,'Race 4-Ladies'!$AB$30:$AG$100,6,0))","v":100},{"$f":"SMALL(D372:G372,{1,2,3})","v":100},100,100,300,24]
["Lorraine Evans","BS","V55",{"$f":"IF(ISNA(VLOOKUP($A373,'Race 1-Ladies'!$AB$24:$AG$53,6,0)),100,VLOOKUP($A373,'Race 1-Ladies'!$AB$24:$AG$53,6,0))","v":100},{"$f":"IF(ISNA(VLOOKUP($A373,'Race 2-Ladies'!$AB$23:$AG$53,6,0)),100,VLOOKUP($A373,'Race 2-Ladies'!$AB$23:$AG$53,6,0))","v":100},{"$f":"IF(ISNA(VLOOKUP($A373,'Race 3-Ladies'!$AB$27:$AG$61,6,0)),100,VLOOKUP($A373,'Race 3-Ladies'!$AB$27:$AG$61,6,0))","v":100},{"$f":"IF(ISNA(VLOOKUP($A373,'Race 4-Ladies'!$AB$27:$AG$100,6,0)),100,VLOOKUP($A373,'Race 4-Ladies'!$AB$30:$AG$100,6,0))","v":100},{"$f":"SMALL(D373:G373,{1,2,3})","v":100},100,100,300,24]
["Luella Dixon","HRC","V55",{"$f":"IF(ISNA(VLOOKUP($A374,'Race 1-Ladies'!$AB$24:$AG$53,6,0)),100,VLOOKUP($A374,'Race 1-Ladies'!$AB$24:$AG$53,6,0))","v":100},{"$f":"IF(ISNA(VLOOKUP($A374,'Race 2-Ladies'!$AB$23:$AG$53,6,0)),100,VLOOKUP($A374,'Race 2-Ladies'!$AB$23:$AG$53,6,0))","v":100},{"$f":"IF(ISNA(VLOOKUP($A374,'Race 3-Ladies'!$AB$27:$AG$61,6,0)),100,VLOOKUP($A374,'Race 3-Ladies'!$AB$27:$AG$61,6,0))","v":100},{"$f":"IF(ISNA(VLOOKUP($A374,'Race 4-Ladies'!$AB$27:$AG$100,6,0)),100,VLOOKUP($A374,'Race 4-Ladies'!$AB$30:$AG$100,6,0))","v":100},{"$f":"SMALL(D374:G374,{1,2,3})","v":100},100,100,300,24]
["Mandy Avery","WJ","V55",{"$f":"IF(ISNA(VLOOKUP($A375,'Race 1-Ladies'!$AB$24:$AG$53,6,0)),100,VLOOKUP($A375,'Race 1-Ladies'!$AB$24:$AG$53,6,0))","v":100},{"$f":"IF(ISNA(VLOOKUP($A375,'Race 2-Ladies'!$AB$23:$AG$53,6,0)),100,VLOOKUP($A375,'Race 2-Ladies'!$AB$23:$AG$53,6,0))","v":100},{"$f":"IF(ISNA(VLOOKUP($A375,'Race 3-Ladies'!$AB$27:$AG$61,6,0)),100,VLOOKUP($A375,'Race 3-Ladies'!$AB$27:$AG$61,6,0))","v":100},{"$f":"IF(ISNA(VLOOKUP($A375,'Race 4-Ladies'!$AB$27:$AG$100,6,0)),100,VLOOKUP($A375,'Race 4-Ladies'!$AB$30:$AG$100,6,0))","v":100},{"$f":"SMALL(D375:G375,{1,2,3})","v":100},100,100,300,24]
["Margit Wendelberger James","SS","V55",{"$f":"IF(ISNA(VLOOKUP($A376,'Race 1-Ladies'!$AB$24:$AG$53,6,0)),100,VLOOKUP($A376,'Race 1-Ladies'!$AB$24:$AG$53,6,0))","v":6},{"$f":"IF(ISNA(VLOOKUP($A376,'Race 2-Ladies'!$AB$23:$AG$53,6,0)),100,VLOOKUP($A376,'Race 2-Ladies'!$AB$23:$AG$53,6,0))","v":3},{"$f":"IF(ISNA(VLOOKUP($A376,'Race 3-Ladies'!$AB$27:$AG$61,6,0)),100,VLOOKUP($A376,'Race 3-Ladies'!$AB$27:$AG$61,6,0))","v":100},{"$f":"IF(ISNA(VLOOKUP($A376,'Race 4-Ladies'!$AB$27:$AG$100,6,0)),100,VLOOKUP($A376,'Race 4-Ladies'!$AB$30:$AG$100,6,0))","v":100},{"$f":"SMALL(D376:G376,{1,2,3})","v":3},6,100,109,9]
["Marie Hockley","BS","V55",{"$f":"IF(ISNA(VLOOKUP($A377,'Race 1-Ladies'!$AB$24:$AG$53,6,0)),100,VLOOKUP($A377,'Race 1-Ladies'!$AB$24:$AG$53,6,0))","v":100},{"$f":"IF(ISNA(VLOOKUP($A377,'Race 2-Ladies'!$AB$23:$AG$53,6,0)),100,VLOOKUP($A377,'Race 2-Ladies'!$AB$23:$AG$53,6,0))","v":1},{"$f":"IF(ISNA(VLOOKUP($A377,'Race 3-Ladies'!$AB$27:$AG$61,6,0)),100,VLOOKUP($A377,'Race 3-Ladies'!$AB$27:$AG$61,6,0))","v":100},{"$f":"IF(ISNA(VLOOKUP($A377,'Race 4-Ladies'!$AB$27:$AG$100,6,0)),100,VLOOKUP($A377,'Race 4-Ladies'!$AB$30:$AG$100,6,0))","v":100},{"$f":"SMALL(D377:G377,{1,2,3})","v":1},100,100,201,{"$f":"RANK(K377,$K$312:$K$399,1)","v":15}]
["Maureen Hurt","WJ","V55",{"$f":"IF(ISNA(VLOOKUP($A378,'Race 1-Ladies'!$AB$24:$AG$53,6,0)),100,VLOOKUP($A378,'Race 1-Ladies'!$AB$24:$AG$53,6,0))","v":100},{"$f":"IF(ISNA(VLOOKUP($A378,'Race 2-Ladies'!$AB$23:$AG$53,6,0)),100,VLOOKUP($A378,'Race 2-Ladies'!$AB$23:$AG$53,6,0))","v":100},{"$f":"IF(ISNA(VLOOKUP($A378,'Race 3-Ladies'!$AB$27:$AG$61,6,0)),100,VLOOKUP($A378,'Race 3-Ladies'!$AB$27:$AG$61,6,0))","v":100},{"$f":"IF(ISNA(VLOOKUP($A378,'Race 4-Ladies'!$AB$27:$AG$100,6,0)),100,VLOOKUP($A378,'Race 4-Ladies'!$AB$30:$AG$100,6,0))","v":100},{"$f":"SMALL(D378:G378,{1,2,3})","v":100},100,100,300,24]
["Michelle Cross","WJ","V55",{"$f":"IF(ISNA(VLOOKUP($A379,'Race 1-Ladies'!$AB$24:$AG$53,6,0)),100,VLOOKUP($A379,'Race 1-Ladies'!$AB$24:$AG$53,6,0))","v":3},{"$f":"IF(ISNA(VLOOKUP($A379,'Race 2-Ladies'!$AB$23:$AG$53,6,0)),100,VLOOKUP($A379,'Race 2-Ladies'!$AB$23:$AG$53,6,0))","v":100},{"$f":"IF(ISNA(VLOOKUP($A379,'Race 3-Ladies'!$AB$27:$AG$61,6,0)),100,VLOOKUP($A379,'Race 3-Ladies'!$AB$27:$AG$61,6,0))","v":7},{"$f":"IF(ISNA(VLOOKUP($A379,'Race 4-Ladies'!$AB$27:$AG$100,6,0)),100,VLOOKUP($A379,'Race 4-Ladies'!$AB$30:$AG$100,6,0))","v":100},{"$f":"SMALL(D379:G379,{1,2,3})","v":3},7,100,110,10]
["Olu Gooden","WJ","V55",{"$f":"IF(ISNA(VLOOKUP($A380,'Race 1-Ladies'!$AB$24:$AG$53,6,0)),100,VLOOKUP($A380,'Race 1-Ladies'!$AB$24:$AG$53,6,0))","v":100},{"$f":"IF(ISNA(VLOOKUP($A380,'Race 2-Ladies'!$AB$23:$AG$53,6,0)),100,VLOOKUP($A380,'Race 2-Ladies'!$AB$23:$AG$53,6,0))","v":4},{"$f":"IF(ISNA(VLOOKUP($A380,'Race 3-Ladies'!$AB$27:$AG$61,6,0)),100,VLOOKUP($A380,'Race 3-Ladies'!$AB$27:$AG$61,6,0))","v":3},{"$f":"IF(ISNA(VLOOKUP($A380,'Race 4-Ladies'!$AB$27:$AG$100,6,0)),100,VLOOKUP($A380,'Race 4-Ladies'!$AB$30:$AG$100,6,0))","v":5},{"$f":"SMALL(D380:G380,{1,2,3})","v":3},4,5,12,3]
["Patricia Poole","BS","V55",{"$f":"IF(ISNA(VLOOKUP($A381,'Race 1-Ladies'!$AB$24:$AG$53,6,0)),100,VLOOKUP($A381,'Race 1-Ladies'!$AB$24:$AG$53,6,0))","v":100},{"$f":"IF(ISNA(VLOOKUP($A381,'Race 2-Ladies'!$AB$23:$AG$53,6,0)),100,VLOOKUP($A381,'Race 2-Ladies'!$AB$23:$AG$53,6,0))","v":5},{"$f":"IF(ISNA(VLOOKUP($A381,'Race 3-Ladies'!$AB$27:$AG$61,6,0)),100,VLOOKUP($A381,'Race 3-Ladies'!$AB$27:$AG$61,6,0))","v":6},{"$f":"IF(ISNA(VLOOKUP($A381,'Race 4-Ladies'!$AB$27:$AG$100,6,0)),100,VLOOKUP($A381,'Race 4-Ladies'!$AB$30:$AG$100,6,0))","v":100},{"$f":"SMALL(D381:G381,{1,2,3})","v":5},6,100,111,11]
["Rachel Rissbrook","BS","V55",{"$f":"IF(ISNA(VLOOKUP($A382,'Race 1-Ladies'!$AB$24:$AG$53,6,0)),100,VLOOKUP($A382,'Race 1-Ladies'!$AB$24:$AG$53,6,0))","v":100},{"$f":"IF(ISNA(VLOOKUP($A382,'Race 2-Ladies'!$AB$23:$AG$53,6,0)),100,VLOOKUP($A382,'Race 2-Ladies'!$AB$23:$AG$53,6,0))","v":100},{"$f":"IF(ISNA(VLOOKUP($A382,'Race 3-Ladies'!$AB$27:$AG$61,6,0)),100,VLOOKUP($A382,'Race 3-Ladies'!$AB$27:$AG$61,6,0))","v":100},{"$f":"IF(ISNA(VLOOKUP($A382,'Race 4-Ladies'!$AB$27:$AG$100,6,0)),100,VLOOKUP($A382,'Race 4-Ladies'!$AB$30:$AG$100,6,0))","v":100},{"$f":"SMALL(D382:G382,{1,2,3})","v":100},100,100,300,24]
["Robinne Colby","BS","V55",{"$f":"IF(ISNA(VLOOKUP($A383,'Race 1-Ladies'!$AB$24:$AG$53,6,0)),100,VLOOKUP($A383,'Race 1-Ladies'!$AB$24:$AG$53,6,0))","v":100},{"$f":"IF(ISNA(VLOOKUP($A383,'Race 2-Ladies'!$AB$23:$AG$53,6,0)),100,VLOOKUP($A383,'Race 2-Ladies'!$AB$23:$AG$53,6,0))","v":100},{"$f":"IF(ISNA(VLOOKUP($A383,'Race 3-Ladies'!$AB$27:$AG$61,6,0)),100,VLOOKUP($A383,'Race 3-Ladies'!$AB$27:$AG$61,6,0))","v":100},{"$f":"IF(ISNA(VLOOKUP($A383,'Race 4-Ladies'!$AB$27:$AG$100,6,0)),100,VLOOKUP($A383,'Race 4-Ladies'!$AB$30:$AG$100,6,0))","v":100},{"$f":"SMALL(D383:G383,{1,2,3})","v":100},100,100,300,24]
["Rosalind Hitchen","WJ","V55",{"$f":"IF(ISNA(VLOOKUP($A384,'Race 1-Ladies'!$AB$24:$AG$53,6,0)),100,VLOOKUP($A384,'Race 1-Ladies'!$AB$24:$AG$53,6,0))","v":11},{"$f":"IF(ISNA(VLOOKUP($A384,'Race 2-Ladies'!$AB$23:$AG$53,6,0)),100,VLOOKUP($A384,'Race 2-Ladies'!$AB$23:$AG$53,6,0))","v":100},{"$f":"IF(ISNA(VLOOKUP($A384,'Race 3-Ladies'!$AB$27:$AG$61,6,0)),100,VLOOKUP($A384,'Race 3-Ladies'!$AB$27:$AG$61,6,0))","v":10},{"$f":"IF(ISNA(VLOOKUP($A384,'Race 4-Ladies'!$AB$27:$AG$100,6,0)),100,VLOOKUP($A384,'Race 4-Ladies'!$AB$30:$AG$100,6,0))","v":11},{"$f":"SMALL(D384:G384,{1,2,3})","v":10},11,11,32,7]
["Sally House","BS","V55",{"$f":"IF(ISNA(VLOOKUP($A385,'Race 1-Ladies'!$AB$24:$AG$53,6,0)),100,VLOOKUP($A385,'Race 1-Ladies'!$AB$24:$AG$53,6,0))","v":100},{"$f":"IF(ISNA(VLOOKUP($A385,'Race 2-Ladies'!$AB$23:$AG$53,6,0)),100,VLOOKUP($A385,'Race 2-Ladies'!$AB$23:$AG$53,6,0))","v":100},{"$f":"IF(ISNA(VLOOKUP($A385,'Race 3-Ladies'!$AB$27:$AG$61,6,0)),100,VLOOKUP($A385,'Race 3-Ladies'!$AB$27:$AG$61,6,0))","v":100},{"$f":"IF(ISNA(VLOOKUP($A385,'Race 4-Ladies'!$AB$27:$AG$100,6,0)),100,VLOOKUP($A385,'Race 4-Ladies'!$AB$30:$AG$100,6,0))","v":100},{"$f":"SMALL(D385:G385,{1,2,3})","v":100},100,100,300,24]
["Sam Rowe","WJ","V55",{"$f":"IF(ISNA(VLOOKUP($A386,'Race 1-Ladies'!$AB$24:$AG$53,6,0)),100,VLOOKUP($A386,'Race 1-Ladies'!$AB$24:$AG$53,6,0))","v":2},{"$f":"IF(ISNA(VLOOKUP($A386,'Race 2-Ladies'!$AB$23:$AG$53,6,0)),100,VLOOKUP($A386,'Race 2-Ladies'!$AB$23:$AG$53,6,0))","v":100},{"$f":"IF(ISNA(VLOOKUP($A386,'Race 3-Ladies'!$AB$27:$AG$61,6,0)),100,VLOOKUP($A386,'Race 3-Ladies'!$AB$27:$AG$61,6,0))","v":100},{"$f":"IF(ISNA(VLOOKUP($A386,'Race 4-Ladies'!$AB$27:$AG$100,6,0)),100,VLOOKUP($A386,'Race 4-Ladies'!$AB$30:$AG$100,6,0))","v":100},{"$f":"SMALL(D386:G386,{1,2,3})","v":2},100,100,202,16]
["Sarah Gainsford","HRC","V55",{"$f":"IF(ISNA(VLOOKUP($A387,'Race 1-Ladies'!$AB$24:$AG$53,6,0)),100,VLOOKUP($A387,'Race 1-Ladies'!$AB$24:$AG$53,6,0))","v":100},{"$f":"IF(ISNA(VLOOKUP($A387,'Race 2-Ladies'!$AB$23:$AG$53,6,0)),100,VLOOKUP($A387,'Race 2-Ladies'!$AB$23:$AG$53,6,0))","v":100},{"$f":"IF(ISNA(VLOOKUP($A387,'Race 3-Ladies'!$AB$27:$AG$61,6,0)),100,VLOOKUP($A387,'Race 3-Ladies'!$AB$27:$AG$61,6,0))","v":100},{"$f":"IF(ISNA(VLOOKUP($A387,'Race 4-Ladies'!$AB$27:$AG$100,6,0)),100,VLOOKUP($A387,'Race 4-Ladies'!$AB$30:$AG$100,6,0))","v":100},{"$f":"SMALL(D387:G387,{1,2,3})","v":100},100,100,300,24]
["Sarah McKenna","SS","V55",{"$f":"IF(ISNA(VLOOKUP($A388,'Race 1-Ladies'!$AB$24:$AG$53,6,0)),100,VLOOKUP($A388,'Race 1-Ladies'!$AB$24:$AG$53,6,0))","v":100},{"$f":"IF(ISNA(VLOOKUP($A388,'Race 2-Ladies'!$AB$23:$AG$53,6,0)),100,VLOOKUP($A388,'Race 2-Ladies'!$AB$23:$AG$53,6,0))","v":100},{"$f":"IF(ISNA(VLOOKUP($A388,'Race 3-Ladies'!$AB$27:$AG$61,6,0)),100,VLOOKUP($A388,'Race 3-Ladies'!$AB$27:$AG$61,6,0))","v":100},{"$f":"IF(ISNA(VLOOKUP($A388,'Race 4-Ladies'!$AB$27:$AG$100,6,0)),100,VLOOKUP($A388,'Race 4-Ladies'!$AB$30:$AG$100,6,0))","v":100},{"$f":"SMALL(D388:G388,{1,2,3})","v":100},100,100,300,24]
["Sharon Neary","BS","V55",{"$f":"IF(ISNA(VLOOKUP($A389,'Race 1-Ladies'!$AB$24:$AG$53,6,0)),100,VLOOKUP($A389,'Race 1-Ladies'!$AB$24:$AG$53,6,0))","v":100},{"$f":"IF(ISNA(VLOOKUP($A389,'Race 2-Ladies'!$AB$23:$AG$53,6,0)),100,VLOOKUP($A389,'Race 2-Ladies'!$AB$23:$AG$53,6,0))","v":8},{"$f":"IF(ISNA(VLOOKUP($A389,'Race 3-Ladies'!$AB$27:$AG$61,6,0)),100,VLOOKUP($A389,'Race 3-Ladies'!$AB$27:$AG$61,6,0))","v":100},{"$f":"IF(ISNA(VLOOKUP($A389,'Race 4-Ladies'!$AB$27:$AG$100,6,0)),100,VLOOKUP($A389,'Race 4-Ladies'!$AB$30:$AG$100,6,0))","v":100},{"$f":"SMALL(D389:G389,{1,2,3})","v":8},100,100,{"$f":"SUM(H389:J389)","v":208},19]
["Siobhan Gibson","SS","V55",{"$f":"IF(ISNA(VLOOKUP($A390,'Race 1-Ladies'!$AB$24:$AG$53,6,0)),100,VLOOKUP($A390,'Race 1-Ladies'!$AB$24:$AG$53,6,0))","v":100},{"$f":"IF(ISNA(VLOOKUP($A390,'Race 2-Ladies'!$AB$23:$AG$53,6,0)),100,VLOOKUP($A390,'Race 2-Ladies'!$AB$23:$AG$53,6,0))","v":100},{"$f":"IF(ISNA(VLOOKUP($A390,'Race 3-Ladies'!$AB$27:$AG$61,6,0)),100,VLOOKUP($A390,'Race 3-Ladies'!$AB$27:$AG$61,6,0))","v":100},{"$f":"IF(ISNA(VLOOKUP($A390,'Race 4-Ladies'!$AB$27:$AG$100,6,0)),100,VLOOKUP($A390,'Race 4-Ladies'!$AB$30:$AG$100,6,0))","v":100},{"$f":"SMALL(D390:G390,{1,2,3})","v":100},100,100,300,24]
["Susan Grant","SS","V55",{"$f":"IF(ISNA(VLOOKUP($A391,'Race 1-Ladies'!$AB$24:$AG$53,6,0)),100,VLOOKUP($A391,'Race 1-Ladies'!$AB$24:$AG$53,6,0))","v":100},{"$f":"IF(ISNA(VLOOKUP($A391,'Race 2-Ladies'!$AB$23:$AG$53,6,0)),100,VLOOKUP($A391,'Race 2-Ladies'!$AB$23:$AG$53,6,0))","v":100},{"$f":"IF(ISNA(VLOOKUP($A391,'Race 3-Ladies'!$AB$27:$AG$61,6,0)),100,VLOOKUP($A391,'Race 3-Ladies'!$AB$27:$AG$61,6,0))","v":100},{"$f":"IF(ISNA(VLOOKUP($A391,'Race 4-Ladies'!$AB$27:$AG$100,6,0)),100,VLOOKUP($A391,'Race 4-Ladies'!$AB$30:$AG$100,6,0))","v":100},{"$f":"SMALL(D391:G391,{1,2,3})","v":100},100,100,300,24]
["Susan Maloney","HRC","V55",{"$f":"IF(ISNA(VLOOKUP($A392,'Race 1-Ladies'!$AB$24:$AG$53,6,0)),100,VLOOKUP($A392,'Race 1-Ladies'!$AB$24:$AG$53,6,0))","v":9},{"$f":"IF(ISNA(VLOOKUP($A392,'Race 2-Ladies'!$AB$23:$AG$53,6,0)),100,VLOOKUP($A392,'Race 2-Ladies'!$AB$23:$AG$53,6,0))","v":100},{"$f":"IF(ISNA(VLOOKUP($A392,'Race 3-Ladies'!$AB$27:$AG$61,6,0)),100,VLOOKUP($A392,'Race 3-Ladies'!$AB$27:$AG$61,6,0))","v":100},{"$f":"IF(ISNA(VLOOKUP($A392,'Race 4-Ladies'!$AB$27:$AG$100,6,0)),100,VLOOKUP($A392,'Race 4-Ladies'!$AB$30:$AG$100,6,0))","v":100},{"$f":"SMALL(D392:G392,{1,2,3})","v":9},100,100,209,21]
["Tamara Lamb","SS","V55",{"$f":"IF(ISNA(VLOOKUP($A393,'Race 1-Ladies'!$AB$24:$AG$53,6,0)),100,VLOOKUP($A393,'Race 1-Ladies'!$AB$24:$AG$53,6,0))","v":100},{"$f":"IF(ISNA(VLOOKUP($A393,'Race 2-Ladies'!$AB$23:$AG$53,6,0)),100,VLOOKUP($A393,'Race 2-Ladies'!$AB$23:$AG$53,6,0))","v":100},{"$f":"IF(ISNA(VLOOKUP($A393,'Race 3-Ladies'!$AB$27:$AG$61,6,0)),100,VLOOKUP($A393,'Race 3-Ladies'!$AB$27:$AG$61,6,0))","v":100},{"$f":"IF(ISNA(VLOOKUP($A393,'Race 4-Ladies'!$AB$27:$AG$100,6,0)),100,VLOOKUP($A393,'Race 4-Ladies'!$AB$30:$AG$100,6,0))","v":100},{"$f":"SMALL(D393:G393,{1,2,3})","v":100},100,100,300,24]
["Teresa Stickland","HRC","V55",{"$f":"IF(ISNA(VLOOKUP($A394,'Race 1-Ladies'!$AB$24:$AG$53,6,0)),100,VLOOKUP($A394,'Race 1-Ladies'!$AB$24:$AG$53,6,0))","v":8},{"$f":"IF(ISNA(VLOOKUP($A394,'Race 2-Ladies'!$AB$23:$AG$53,6,0)),100,VLOOKUP($A394,'Race 2-Ladies'!$AB$23:$AG$53,6,0))","v":9},{"$f":"IF(ISNA(VLOOKUP($A394,'Race 3-Ladies'!$AB$27:$AG$61,6,0)),100,VLOOKUP($A394,'Race 3-Ladies'!$AB$27:$AG$61,6,0))","v":100},{"$f":"IF(ISNA(VLOOKUP($A394,'Race 4-Ladies'!$AB$27:$AG$100,6,0)),100,VLOOKUP($A394,'Race 4-Ladies'!$AB$30:$AG$100,6,0))","v":9},{"$f":"SMALL(D394:G394,{1,2,3})","v":8},9,9,26,5]
["Teresa Weedon","WJ","V55",{"$f":"IF(ISNA(VLOOKUP($A395,'Race 1-Ladies'!$AB$24:$AG$53,6,0)),100,VLOOKUP($A395,'Race 1-Ladies'!$AB$24:$AG$53,6,0))","v":100},{"$f":"IF(ISNA(VLOOKUP($A395,'Race 2-Ladies'!$AB$23:$AG$53,6,0)),100,VLOOKUP($A395,'Race 2-Ladies'!$AB$23:$AG$53,6,0))","v":100},{"$f":"IF(ISNA(VLOOKUP($A395,'Race 3-Ladies'!$AB$27:$AG$61,6,0)),100,VLOOKUP($A395,'Race 3-Ladies'!$AB$27:$AG$61,6,0))","v":100},{"$f":"IF(ISNA(VLOOKUP($A395,'Race 4-Ladies'!$AB$27:$AG$100,6,0)),100,VLOOKUP($A395,'Race 4-Ladies'!$AB$30:$AG$100,6,0))","v":100},{"$f":"SMALL(D395:G395,{1,2,3})","v":100},100,100,300,24]
["Tracy Brewer","WJ","V55",{"$f":"IF(ISNA(VLOOKUP($A396,'Race 1-Ladies'!$AB$24:$AG$53,6,0)),100,VLOOKUP($A396,'Race 1-Ladies'!$AB$24:$AG$53,6,0))","v":100},{"$f":"IF(ISNA(VLOOKUP($A396,'Race 2-Ladies'!$AB$23:$AG$53,6,0)),100,VLOOKUP($A396,'Race 2-Ladies'!$AB$23:$AG$53,6,0))","v":100},{"$f":"IF(ISNA(VLOOKUP($A396,'Race 3-Ladies'!$AB$27:$AG$61,6,0)),100,VLOOKUP($A396,'Race 3-Ladies'!$AB$27:$AG$61,6,0))","v":100},{"$f":"IF(ISNA(VLOOKUP($A396,'Race 4-Ladies'!$AB$27:$AG$100,6,0)),100,VLOOKUP($A396,'Race 4-Ladies'!$AB$30:$AG$100,6,0))","v":100},{"$f":"SMALL(D396:G396,{1,2,3})","v":100},100,100,300,24]
["Vivienne Prentice","SS","V55",{"$f":"IF(ISNA(VLOOKUP($A397,'Race 1-Ladies'!$AB$24:$AG$53,6,0)),100,VLOOKUP($A397,'Race 1-Ladies'!$AB$24:$AG$53,6,0))","v":100},{"$f":"IF(ISNA(VLOOKUP($A397,'Race 2-Ladies'!$AB$23:$AG$53,6,0)),100,VLOOKUP($A397,'Race 2-Ladies'!$AB$23:$AG$53,6,0))","v":100},{"$f":"IF(ISNA(VLOOKUP($A397,'Race 3-Ladies'!$AB$27:$AG$61,6,0)),100,VLOOKUP($A397,'Race 3-Ladies'!$AB$27:$AG$61,6,0))","v":100},{"$f":"IF(ISNA(VLOOKUP($A397,'Race 4-Ladies'!$AB$27:$AG$100,6,0)),100,VLOOKUP($A397,'Race 4-Ladies'!$AB$30:$AG$100,6,0))","v":100},{"$f":"SMALL(D397:G397,{1,2,3})","v":100},100,100,300,24]
["Wendy Reddaway","WJ","V55",{"$f":"IF(ISNA(VLOOKUP($A398,'Race 1-Ladies'!$AB$24:$AG$53,6,0)),100,VLOOKUP($A398,'Race 1-Ladies'!$AB$24:$AG$53,6,0))","v":100},{"$f":"IF(ISNA(VLOOKUP($A398,'Race 2-Ladies'!$AB$23:$AG$53,6,0)),100,VLOOKUP($A398,'Race 2-Ladies'!$AB$23:$AG$53,6,0))","v":100},{"$f":"IF(ISNA(VLOOKUP($A398,'Race 3-Ladies'!$AB$27:$AG$61,6,0)),100,VLOOKUP($A398,'Race 3-Ladies'!$AB$27:$AG$61,6,0))","v":100},{"$f":"IF(ISNA(VLOOKUP($A398,'Race 4-Ladies'!$AB$27:$AG$100,6,0)),100,VLOOKUP($A398,'Race 4-Ladies'!$AB$30:$AG$100,6,0))","v":100},{"$f":"SMALL(D398:G398,{1,2,3})","v":100},100,100,300,24]
["Yasmin Gregory","HRC","V55",{"$f":"IF(ISNA(VLOOKUP($A399,'Race 1-Ladies'!$AB$24:$AG$53,6,0)),100,VLOOKUP($A399,'Race 1-Ladies'!$AB$24:$AG$53,6,0))","v":100},{"$f":"IF(ISNA(VLOOKUP($A399,'Race 2-Ladies'!$AB$23:$AG$53,6,0)),100,VLOOKUP($A399,'Race 2-Ladies'!$AB$23:$AG$53,6,0))","v":100},{"$f":"IF(ISNA(VLOOKUP($A399,'Race 3-Ladies'!$AB$27:$AG$61,6,0)),100,VLOOKUP($A399,'Race 3-Ladies'!$AB$27:$AG$61,6,0))","v":100},{"$f":"IF(ISNA(VLOOKUP($A399,'Race 4-Ladies'!$AB$27:$AG$100,6,0)),100,VLOOKUP($A399,'Race 4-Ladies'!$AB$30:$AG$100,6,0))","v":100},{"$f":"SMALL(D399:G399,{1,2,3})","v":100},100,100,300,24]
["Anne Ramsden","WJ","V65",{"$f":"IF(ISNA(VLOOKUP($A400,'Race 1-Ladies'!$AI$24:$AN$53,6,0)),100,VLOOKUP($A400,'Race 1-Ladies'!$AI$24:$AN$53,6,0))","v":100},{"$f":"IF(ISNA(VLOOKUP($A400,'Race 2-Ladies'!$AI$23:$AN$53,6,0)),100,VLOOKUP($A400,'Race 2-Ladies'!$AI$23:$AN$53,6,0))","v":3},{"$f":"IF(ISNA(VLOOKUP($A400,'Race 3-Ladies'!$AI$27:$AN$61,6,0)),100,VLOOKUP($A400,'Race 3-Ladies'!$AI$27:$AN$61,6,0))","v":3},{"$f":"IF(ISNA(VLOOKUP($A400,'Race 4-Ladies'!$AI$30:$AN$100,6,0)),100,VLOOKUP($A400,'Race 4-Ladies'!$AI$30:$AN$100,6,0))","v":100},{"$f":"SMALL(D400:G400,{1,2,3})","v":3},3,100,106,{"$f":"RANK(K400,$K$400:$K$427,1)","v":4}]
["Annie Thomas","WJ","V65",{"$f":"IF(ISNA(VLOOKUP($A401,'Race 1-Ladies'!$AI$24:$AN$53,6,0)),100,VLOOKUP($A401,'Race 1-Ladies'!$AI$24:$AN$53,6,0))","v":100},{"$f":"IF(ISNA(VLOOKUP($A401,'Race 2-Ladies'!$AI$23:$AN$53,6,0)),100,VLOOKUP($A401,'Race 2-Ladies'!$AI$23:$AN$53,6,0))","v":100},{"$f":"IF(ISNA(VLOOKUP($A401,'Race 3-Ladies'!$AI$27:$AN$61,6,0)),100,VLOOKUP($A401,'Race 3-Ladies'!$AI$27:$AN$61,6,0))","v":100},{"$f":"IF(ISNA(VLOOKUP($A401,'Race 4-Ladies'!$AI$30:$AN$100,6,0)),100,VLOOKUP($A401,'Race 4-Ladies'!$AI$30:$AN$100,6,0))","v":100},{"$f":"SMALL(D401:G401,{1,2,3})","v":100},100,100,300,{"$f":"RANK(K401,$K$400:$K$427,1)","v":7}]
["Chris Reed","WJ","V65",{"$f":"IF(ISNA(VLOOKUP($A402,'Race 1-Ladies'!$AI$24:$AN$53,6,0)),100,VLOOKUP($A402,'Race 1-Ladies'!$AI$24:$AN$53,6,0))","v":100},{"$f":"IF(ISNA(VLOOKUP($A402,'Race 2-Ladies'!$AI$23:$AN$53,6,0)),100,VLOOKUP($A402,'Race 2-Ladies'!$AI$23:$AN$53,6,0))","v":100},{"$f":"IF(ISNA(VLOOKUP($A402,'Race 3-Ladies'!$AI$27:$AN$61,6,0)),100,VLOOKUP($A402,'Race 3-Ladies'!$AI$27:$AN$61,6,0))","v":100},{"$f":"IF(ISNA(VLOOKUP($A402,'Race 4-Ladies'!$AI$30:$AN$100,6,0)),100,VLOOKUP($A402,'Race 4-Ladies'!$AI$30:$AN$100,6,0))","v":100},{"$f":"SMALL(D402:G402,{1,2,3})","v":100},100,100,300,7]
["Claron Riviere","WJ","V65",{"$f":"IF(ISNA(VLOOKUP($A403,'Race 1-Ladies'!$AI$24:$AN$53,6,0)),100,VLOOKUP($A403,'Race 1-Ladies'!$AI$24:$AN$53,6,0))","v":4},{"$f":"IF(ISNA(VLOOKUP($A403,'Race 2-Ladies'!$AI$23:$AN$53,6,0)),100,VLOOKUP($A403,'Race 2-Ladies'!$AI$23:$AN$53,6,0))","v":100},{"$f":"IF(ISNA(VLOOKUP($A403,'Race 3-Ladies'!$AI$27:$AN$61,6,0)),100,VLOOKUP($A403,'Race 3-Ladies'!$AI$27:$AN$61,6,0))","v":100},{"$f":"IF(ISNA(VLOOKUP($A403,'Race 4-Ladies'!$AI$30:$AN$100,6,0)),100,VLOOKUP($A403,'Race 4-Ladies'!$AI$30:$AN$100,6,0))","v":100},{"$f":"SMALL(D403:G403,{1,2,3})","v":4},100,100,204,5]
["Elizabeth Lord","WJ","V65",{"$f":"IF(ISNA(VLOOKUP($A404,'Race 1-Ladies'!$AI$24:$AN$53,6,0)),100,VLOOKUP($A404,'Race 1-Ladies'!$AI$24:$AN$53,6,0))","v":100},{"$f":"IF(ISNA(VLOOKUP($A404,'Race 2-Ladies'!$AI$23:$AN$53,6,0)),100,VLOOKUP($A404,'Race 2-Ladies'!$AI$23:$AN$53,6,0))","v":100},{"$f":"IF(ISNA(VLOOKUP($A404,'Race 3-Ladies'!$AI$27:$AN$61,6,0)),100,VLOOKUP($A404,'Race 3-Ladies'!$AI$27:$AN$61,6,0))","v":100},{"$f":"IF(ISNA(VLOOKUP($A404,'Race 4-Ladies'!$AI$30:$AN$100,6,0)),100,VLOOKUP($A404,'Race 4-Ladies'!$AI$30:$AN$100,6,0))","v":100},{"$f":"SMALL(D404:G404,{1,2,3})","v":100},100,100,300,7]
["Elizabeth Watson","WJ","V65",{"$f":"IF(ISNA(VLOOKUP($A405,'Race 1-Ladies'!$AI$24:$AN$53,6,0)),100,VLOOKUP($A405,'Race 1-Ladies'!$AI$24:$AN$53,6,0))","v":100},{"$f":"IF(ISNA(VLOOKUP($A405,'Race 2-Ladies'!$AI$23:$AN$53,6,0)),100,VLOOKUP($A405,'Race 2-Ladies'!$AI$23:$AN$53,6,0))","v":100},{"$f":"IF(ISNA(VLOOKUP($A405,'Race 3-Ladies'!$AI$27:$AN$61,6,0)),100,VLOOKUP($A405,'Race 3-Ladies'!$AI$27:$AN$61,6,0))","v":100},{"$f":"IF(ISNA(VLOOKUP($A405,'Race 4-Ladies'!$AI$30:$AN$100,6,0)),100,VLOOKUP($A405,'Race 4-Ladies'!$AI$30:$AN$100,6,0))","v":100},{"$f":"SMALL(D405:G405,{1,2,3})","v":100},100,100,300,7]
["Ellie Perkins","WJ","V65",{"$f":"IF(ISNA(VLOOKUP($A406,'Race 1-Ladies'!$AI$24:$AN$53,6,0)),100,VLOOKUP($A406,'Race 1-Ladies'!$AI$24:$AN$53,6,0))","v":100},{"$f":"IF(ISNA(VLOOKUP($A406,'Race 2-Ladies'!$AI$23:$AN$53,6,0)),100,VLOOKUP($A406,'Race 2-Ladies'!$AI$23:$AN$53,6,0))","v":100},{"$f":"IF(ISNA(VLOOKUP($A406,'Race 3-Ladies'!$AI$27:$AN$61,6,0)),100,VLOOKUP($A406,'Race 3-Ladies'!$AI$27:$AN$61,6,0))","v":100},{"$f":"IF(ISNA(VLOOKUP($A406,'Race 4-Ladies'!$AI$30:$AN$100,6,0)),100,VLOOKUP($A406,'Race 4-Ladies'!$AI$30:$AN$100,6,0))","v":100},{"$f":"SMALL(D406:G406,{1,2,3})","v":100},100,100,300,7]
["Hazel Nichols","WJ","V65",{"$f":"IF(ISNA(VLOOKUP($A407,'Race 1-Ladies'!$AI$24:$AN$53,6,0)),100,VLOOKUP($A407,'Race 1-Ladies'!$AI$24:$AN$53,6,0))","v":100},{"$f":"IF(ISNA(VLOOKUP($A407,'Race 2-Ladies'!$AI$23:$AN$53,6,0)),100,VLOOKUP($A407,'Race 2-Ladies'!$AI$23:$AN$53,6,0))","v":100},{"$f":"IF(ISNA(VLOOKUP($A407,'Race 3-Ladies'!$AI$27:$AN$61,6,0)),100,VLOOKUP($A407,'Race 3-Ladies'!$AI$27:$AN$61,6,0))","v":100},{"$f":"IF(ISNA(VLOOKUP($A407,'Race 4-Ladies'!$AI$30:$AN$100,6,0)),100,VLOOKUP($A407,'Race 4-Ladies'!$AI$30:$AN$100,6,0))","v":100},{"$f":"SMALL(D407:G407,{1,2,3})","v":100},100,100,300,7]
["Issie Grayson","SS","V65",{"$f":"IF(ISNA(VLOOKUP($A408,'Race 1-Ladies'!$AI$24:$AN$53,6,0)),100,VLOOKUP($A408,'Race 1-Ladies'!$AI$24:$AN$53,6,0))","v":100},{"$f":"IF(ISNA(VLOOKUP($A408,'Race 2-Ladies'!$AI$23:$AN$53,6,0)),100,VLOOKUP($A408,'Race 2-Ladies'!$AI$23:$AN$53,6,0))","v":100},{"$f":"IF(ISNA(VLOOKUP($A408,'Race 3-Ladies'!$AI$27:$AN$61,6,0)),100,VLOOKUP($A408,'Race 3-Ladies'!$AI$27:$AN$61,6,0))","v":100},{"$f":"IF(ISNA(VLOOKUP($A408,'Race 4-Ladies'!$AI$30:$AN$100,6,0)),100,VLOOKUP($A408,'Race 4-Ladies'!$AI$30:$AN$100,6,0))","v":100},{"$f":"SMALL(D408:G408,{1,2,3})","v":100},100,100,300,7]
["Janet Howes","BS","V65",{"$f":"IF(ISNA(VLOOKUP($A409,'Race 1-Ladies'!$AI$24:$AN$53,6,0)),100,VLOOKUP($A409,'Race 1-Ladies'!$AI$24:$AN$53,6,0))","v":100},{"$f":"IF(ISNA(VLOOKUP($A409,'Race 2-Ladies'!$AI$23:$AN$53,6,0)),100,VLOOKUP($A409,'Race 2-Ladies'!$AI$23:$AN$53,6,0))","v":100},{"$f":"IF(ISNA(VLOOKUP($A409,'Race 3-Ladies'!$AI$27:$AN$61,6,0)),100,VLOOKUP($A409,'Race 3-Ladies'!$AI$27:$AN$61,6,0))","v":100},{"$f":"IF(ISNA(VLOOKUP($A409,'Race 4-Ladies'!$AI$30:$AN$100,6,0)),100,VLOOKUP($A409,'Race 4-Ladies'!$AI$30:$AN$100,6,0))","v":100},{"$f":"SMALL(D409:G409,{1,2,3})","v":100},100,100,300,7]
["Janet Webster","HRC","V65",{"$f":"IF(ISNA(VLOOKUP($A410,'Race 1-Ladies'!$AI$24:$AN$53,6,0)),100,VLOOKUP($A410,'Race 1-Ladies'!$AI$24:$AN$53,6,0))","v":100},{"$f":"IF(ISNA(VLOOKUP($A410,'Race 2-Ladies'!$AI$23:$AN$53,6,0)),100,VLOOKUP($A410,'Race 2-Ladies'!$AI$23:$AN$53,6,0))","v":100},{"$f":"IF(ISNA(VLOOKUP($A410,'Race 3-Ladies'!$AI$27:$AN$61,6,0)),100,VLOOKUP($A410,'Race 3-Ladies'!$AI$27:$AN$61,6,0))","v":100},{"$f":"IF(ISNA(VLOOKUP($A410,'Race 4-Ladies'!$AI$30:$AN$100,6,0)),100,VLOOKUP($A410,'Race 4-Ladies'!$AI$30:$AN$100,6,0))","v":100},{"$f":"SMALL(D410:G410,{1,2,3})","v":100},100,100,300,7]
["Jaqueline Gelman","WJ","V65",{"$f":"IF(ISNA(VLOOKUP($A411,'Race 1-Ladies'!$AI$24:$AN$53,6,0)),100,VLOOKUP($A411,'Race 1-Ladies'!$AI$24:$AN$53,6,0))","v":100},{"$f":"IF(ISNA(VLOOKUP($A411,'Race 2-Ladies'!$AI$23:$AN$53,6,0)),100,VLOOKUP($A411,'Race 2-Ladies'!$AI$23:$AN$53,6,0))","v":100},{"$f":"IF(ISNA(VLOOKUP($A411,'Race 3-Ladies'!$AI$27:$AN$61,6,0)),100,VLOOKUP($A411,'Race 3-Ladies'!$AI$27:$AN$61,6,0))","v":100},{"$f":"IF(ISNA(VLOOKUP($A411,'Race 4-Ladies'!$AI$30:$AN$100,6,0)),100,VLOOKUP($A411,'Race 4-Ladies'!$AI$30:$AN$100,6,0))","v":100},{"$f":"SMALL(D411:G411,{1,2,3})","v":100},100,100,300,7]
["Jenni Viner","WJ","V65",{"$f":"IF(ISNA(VLOOKUP($A412,'Race 1-Ladies'!$AI$24:$AN$53,6,0)),100,VLOOKUP($A412,'Race 1-Ladies'!$AI$24:$AN$53,6,0))","v":3},{"$f":"IF(ISNA(VLOOKUP($A412,'Race 2-Ladies'!$AI$23:$AN$53,6,0)),100,VLOOKUP($A412,'Race 2-Ladies'!$AI$23:$AN$53,6,0))","v":4},{"$f":"IF(ISNA(VLOOKUP($A412,'Race 3-Ladies'!$AI$27:$AN$61,6,0)),100,VLOOKUP($A412,'Race 3-Ladies'!$AI$27:$AN$61,6,0))","v":4},{"$f":"IF(ISNA(VLOOKUP($A412,'Race 4-Ladies'!$AI$30:$AN$100,6,0)),100,VLOOKUP($A412,'Race 4-Ladies'!$AI$30:$AN$100,6,0))","v":100},{"$f":"SMALL(D412:G412,{1,2,3})","v":3},4,4,11,3]
["Jenny Brayshaw","BS","V65",{"$f":"IF(ISNA(VLOOKUP($A413,'Race 1-Ladies'!$AI$24:$AN$53,6,0)),100,VLOOKUP($A413,'Race 1-Ladies'!$AI$24:$AN$53,6,0))","v":2},{"$f":"IF(ISNA(VLOOKUP($A413,'Race 2-Ladies'!$AI$23:$AN$53,6,0)),100,VLOOKUP($A413,'Race 2-Ladies'!$AI$23:$AN$53,6,0))","v":2},{"$f":"IF(ISNA(VLOOKUP($A413,'Race 3-Ladies'!$AI$27:$AN$61,6,0)),100,VLOOKUP($A413,'Race 3-Ladies'!$AI$27:$AN$61,6,0))","v":2},{"$f":"IF(ISNA(VLOOKUP($A413,'Race 4-Ladies'!$AI$30:$AN$100,6,0)),100,VLOOKUP($A413,'Race 4-Ladies'!$AI$30:$AN$100,6,0))","v":100},{"$f":"SMALL(D413:G413,{1,2,3})","v":2},2,2,6,2]
["Joanne Mills","HRC","V65",{"$f":"IF(ISNA(VLOOKUP($A414,'Race 1-Ladies'!$AI$24:$AN$53,6,0)),100,VLOOKUP($A414,'Race 1-Ladies'!$AI$24:$AN$53,6,0))","v":100},{"$f":"IF(ISNA(VLOOKUP($A414,'Race 2-Ladies'!$AI$23:$AN$53,6,0)),100,VLOOKUP($A414,'Race 2-Ladies'!$AI$23:$AN$53,6,0))","v":100},{"$f":"IF(ISNA(VLOOKUP($A414,'Race 3-Ladies'!$AI$27:$AN$61,6,0)),100,VLOOKUP($A414,'Race 3-Ladies'!$AI$27:$AN$61,6,0))","v":100},{"$f":"IF(ISNA(VLOOKUP($A414,'Race 4-Ladies'!$AI$30:$AN$100,6,0)),100,VLOOKUP($A414,'Race 4-Ladies'!$AI$30:$AN$100,6,0))","v":100},{"$f":"SMALL(D414:G414,{1,2,3})","v":100},100,100,300,7]
["Judy Ward","HRC","V65",{"$f":"IF(ISNA(VLOOKUP($A415,'Race 1-Ladies'!$AI$24:$AN$53,6,0)),100,VLOOKUP($A415,'Race 1-Ladies'!$AI$24:$AN$53,6,0))","v":100},{"$f":"IF(ISNA(VLOOKUP($A415,'Race 2-Ladies'!$AI$23:$AN$53,6,0)),100,VLOOKUP($A415,'Race 2-Ladies'!$AI$23:$AN$53,6,0))","v":100},{"$f":"IF(ISNA(VLOOKUP($A415,'Race 3-Ladies'!$AI$27:$AN$61,6,0)),100,VLOOKUP($A415,'Race 3-Ladies'!$AI$27:$AN$61,6,0))","v":100},{"$f":"IF(ISNA(VLOOKUP($A415,'Race 4-Ladies'!$AI$30:$AN$100,6,0)),100,VLOOKUP($A415,'Race 4-Ladies'!$AI$30:$AN$100,6,0))","v":100},{"$f":"SMALL(D415:G415,{1,2,3})","v":100},100,100,300,7]
["June Brennan","SS","V65",{"$f":"IF(ISNA(VLOOKUP($A416,'Race 1-Ladies'!$AI$24:$AN$53,6,0)),100,VLOOKUP($A416,'Race 1-Ladies'!$AI$24:$AN$53,6,0))","v":100},{"$f":"IF(ISNA(VLOOKUP($A416,'Race 2-Ladies'!$AI$23:$AN$53,6,0)),100,VLOOKUP($A416,'Race 2-Ladies'!$AI$23:$AN$53,6,0))","v":100},{"$f":"IF(ISNA(VLOOKUP($A416,'Race 3-Ladies'!$AI$27:$AN$61,6,0)),100,VLOOKUP($A416,'Race 3-Ladies'!$AI$27:$AN$61,6,0))","v":100},{"$f":"IF(ISNA(VLOOKUP($A416,'Race 4-Ladies'!$AI$30:$AN$100,6,0)),100,VLOOKUP($A416,'Race 4-Ladies'!$AI$30:$AN$100,6,0))","v":100},{"$f":"SMALL(D416:G416,{1,2,3})","v":100},100,100,300,7]
["Margaret Balfour","WJ","V65",{"$f":"IF(ISNA(VLOOKUP($A417,'Race 1-Ladies'!$AI$24:$AN$53,6,0)),100,VLOOKUP($A417,'Race 1-Ladies'!$AI$24:$AN$53,6,0))","v":100},{"$f":"IF(ISNA(VLOOKUP($A417,'Race 2-Ladies'!$AI$23:$AN$53,6,0)),100,VLOOKUP($A417,'Race 2-Ladies'!$AI$23:$AN$53,6,0))","v":100},{"$f":"IF(ISNA(VLOOKUP($A417,'Race 3-Ladies'!$AI$27:$AN$61,6,0)),100,VLOOKUP($A417,'Race 3-Ladies'!$AI$27:$AN$61,6,0))","v":100},{"$f":"IF(ISNA(VLOOKUP($A417,'Race 4-Ladies'!$AI$30:$AN$100,6,0)),100,VLOOKUP($A417,'Race 4-Ladies'!$AI$30:$AN$100,6,0))","v":100},{"$f":"SMALL(D417:G417,{1,2,3})","v":100},100,100,300,7]
["Margaret Waddingham","WJ","V65",{"$f":"IF(ISNA(VLOOKUP($A418,'Race 1-Ladies'!$AI$24:$AN$53,6,0)),100,VLOOKUP($A418,'Race 1-Ladies'!$AI$24:$AN$53,6,0))","v":100},{"$f":"IF(ISNA(VLOOKUP($A418,'Race 2-Ladies'!$AI$23:$AN$53,6,0)),100,VLOOKUP($A418,'Race 2-Ladies'!$AI$23:$AN$53,6,0))","v":100},{"$f":"IF(ISNA(VLOOKUP($A418,'Race 3-Ladies'!$AI$27:$AN$61,6,0)),100,VLOOKUP($A418,'Race 3-Ladies'!$AI$27:$AN$61,6,0))","v":100},{"$f":"IF(ISNA(VLOOKUP($A418,'Race 4-Ladies'!$AI$30:$AN$100,6,0)),100,VLOOKUP($A418,'Race 4-Ladies'!$AI$30:$AN$100,6,0))","v":100},{"$f":"SMALL(D418:G418,{1,2,3})","v":100},100,100,300,7]
["Mary Amos","BS","V65",{"$f":"IF(ISNA(VLOOKUP($A419,'Race 1-Ladies'!$AI$24:$AN$53,6,0)),100,VLOOKUP($A419,'Race 1-Ladies'!$AI$24:$AN$53,6,0))","v":100},{"$f":"IF(ISNA(VLOOKUP($A419,'Race 2-Ladies'!$AI$23:$AN$53,6,0)),100,VLOOKUP($A419,'Race 2-Ladies'!$AI$23:$AN$53,6,0))","v":100},{"$f":"IF(ISNA(VLOOKUP($A419,'Race 3-Ladies'!$AI$27:$AN$61,6,0)),100,VLOOKUP($A419,'Race 3-Ladies'!$AI$27:$AN$61,6,0))","v":100},{"$f":"IF(ISNA(VLOOKUP($A419,'Race 4-Ladies'!$AI$30:$AN$100,6,0)),100,VLOOKUP($A419,'Race 4-Ladies'!$AI$30:$AN$100,6,0))","v":100},{"$f":"SMALL(D419:G419,{1,2,3})","v":100},100,100,300,7]
["Melanie Harris","HRC","V65",{"$f":"IF(ISNA(VLOOKUP($A420,'Race 1-Ladies'!$AI$24:$AN$53,6,0)),100,VLOOKUP($A420,'Race 1-Ladies'!$AI$24:$AN$53,6,0))","v":100},{"$f":"IF(ISNA(VLOOKUP($A420,'Race 2-Ladies'!$AI$23:$AN$53,6,0)),100,VLOOKUP($A420,'Race 2-Ladies'!$AI$23:$AN$53,6,0))","v":100},{"$f":"IF(ISNA(VLOOKUP($A420,'Race 3-Ladies'!$AI$27:$AN$61,6,0)),100,VLOOKUP($A420,'Race 3-Ladies'!$AI$27:$AN$61,6,0))","v":100},{"$f":"IF(ISNA(VLOOKUP($A420,'Race 4-Ladies'!$AI$30:$AN$100,6,0)),100,VLOOKUP($A420,'Race 4-Ladies'!$AI$30:$AN$100,6,0))","v":100},{"$f":"SMALL(D420:G420,{1,2,3})","v":100},100,100,300,7]
["Pamela Wilson","WJ","V65",{"$f":"IF(ISNA(VLOOKUP($A421,'Race 1-Ladies'!$AI$24:$AN$53,6,0)),100,VLOOKUP($A421,'Race 1-Ladies'!$AI$24:$AN$53,6,0))","v":1},{"$f":"IF(ISNA(VLOOKUP($A421,'Race 2-Ladies'!$AI$23:$AN$53,6,0)),100,VLOOKUP($A421,'Race 2-Ladies'!$AI$23:$AN$53,6,0))","v":1},{"$f":"IF(ISNA(VLOOKUP($A421,'Race 3-Ladies'!$AI$27:$AN$61,6,0)),100,VLOOKUP($A421,'Race 3-Ladies'!$AI$27:$AN$61,6,0))","v":1},{"$f":"IF(ISNA(VLOOKUP($A421,'Race 4-Ladies'!$AI$30:$AN$100,6,0)),100,VLOOKUP($A421,'Race 4-Ladies'!$AI$30:$AN$100,6,0))","v":1},{"$f":"SMALL(D421:G421,{1,2,3})","v":1},1,1,3,1]
["Paulene Galoppi","HRC","V65",{"$f":"IF(ISNA(VLOOKUP($A422,'Race 1-Ladies'!$AI$24:$AN$53,6,0)),100,VLOOKUP($A422,'Race 1-Ladies'!$AI$24:$AN$53,6,0))","v":5},{"$f":"IF(ISNA(VLOOKUP($A422,'Race 2-Ladies'!$AI$23:$AN$53,6,0)),100,VLOOKUP($A422,'Race 2-Ladies'!$AI$23:$AN$53,6,0))","v":100},{"$f":"IF(ISNA(VLOOKUP($A422,'Race 3-Ladies'!$AI$27:$AN$61,6,0)),100,VLOOKUP($A422,'Race 3-Ladies'!$AI$27:$AN$61,6,0))","v":100},{"$f":"IF(ISNA(VLOOKUP($A422,'Race 4-Ladies'!$AI$30:$AN$100,6,0)),100,VLOOKUP($A422,'Race 4-Ladies'!$AI$30:$AN$100,6,0))","v":100},{"$f":"SMALL(D422:G422,{1,2,3})","v":5},100,100,205,6]
["Rosemary Nugent","BS","V65",{"$f":"IF(ISNA(VLOOKUP($A423,'Race 1-Ladies'!$AI$24:$AN$53,6,0)),100,VLOOKUP($A423,'Race 1-Ladies'!$AI$24:$AN$53,6,0))","v":100},{"$f":"IF(ISNA(VLOOKUP($A423,'Race 2-Ladies'!$AI$23:$AN$53,6,0)),100,VLOOKUP($A423,'Race 2-Ladies'!$AI$23:$AN$53,6,0))","v":100},{"$f":"IF(ISNA(VLOOKUP($A423,'Race 3-Ladies'!$AI$27:$AN$61,6,0)),100,VLOOKUP($A423,'Race 3-Ladies'!$AI$27:$AN$61,6,0))","v":100},{"$f":"IF(ISNA(VLOOKUP($A423,'Race 4-Ladies'!$AI$30:$AN$100,6,0)),100,VLOOKUP($A423,'Race 4-Ladies'!$AI$30:$AN$100,6,0))","v":100},{"$f":"SMALL(D423:G423,{1,2,3})","v":100},100,100,300,7]
["Shirley Ball","BS","V65",{"$f":"IF(ISNA(VLOOKUP($A424,'Race 1-Ladies'!$AI$24:$AN$53,6,0)),100,VLOOKUP($A424,'Race 1-Ladies'!$AI$24:$AN$53,6,0))","v":100},{"$f":"IF(ISNA(VLOOKUP($A424,'Race 2-Ladies'!$AI$23:$AN$53,6,0)),100,VLOOKUP($A424,'Race 2-Ladies'!$AI$23:$AN$53,6,0))","v":100},{"$f":"IF(ISNA(VLOOKUP($A424,'Race 3-Ladies'!$AI$27:$AN$61,6,0)),100,VLOOKUP($A424,'Race 3-Ladies'!$AI$27:$AN$61,6,0))","v":100},{"$f":"IF(ISNA(VLOOKUP($A424,'Race 4-Ladies'!$AI$30:$AN$100,6,0)),100,VLOOKUP($A424,'Race 4-Ladies'!$AI$30:$AN$100,6,0))","v":100},{"$f":"SMALL(D424:G424,{1,2,3})","v":100},100,100,300,7]
["Theresa Burke","BS","V65",{"$f":"IF(ISNA(VLOOKUP($A425,'Race 1-Ladies'!$AI$24:$AN$53,6,0)),100,VLOOKUP($A425,'Race 1-Ladies'!$AI$24:$AN$53,6,0))","v":100},{"$f":"IF(ISNA(VLOOKUP($A425,'Race 2-Ladies'!$AI$23:$AN$53,6,0)),100,VLOOKUP($A425,'Race 2-Ladies'!$AI$23:$AN$53,6,0))","v":100},{"$f":"IF(ISNA(VLOOKUP($A425,'Race 3-Ladies'!$AI$27:$AN$61,6,0)),100,VLOOKUP($A425,'Race 3-Ladies'!$AI$27:$AN$61,6,0))","v":100},{"$f":"IF(ISNA(VLOOKUP($A425,'Race 4-Ladies'!$AI$30:$AN$100,6,0)),100,VLOOKUP($A425,'Race 4-Ladies'!$AI$30:$AN$100,6,0))","v":100},{"$f":"SMALL(D425:G425,{1,2,3})","v":100},100,100,300,7]
["Val Stringer","WJ","V65",{"$f":"IF(ISNA(VLOOKUP($A426,'Race 1-Ladies'!$AI$24:$AN$53,6,0)),100,VLOOKUP($A426,'Race 1-Ladies'!$AI$24:$AN$53,6,0))","v":100},{"$f":"IF(ISNA(VLOOKUP($A426,'Race 2-Ladies'!$AI$23:$AN$53,6,0)),100,VLOOKUP($A426,'Race 2-Ladies'!$AI$23:$AN$53,6,0))","v":100},{"$f":"IF(ISNA(VLOOKUP($A426,'Race 3-Ladies'!$AI$27:$AN$61,6,0)),100,VLOOKUP($A426,'Race 3-Ladies'!$AI$27:$AN$61,6,0))","v":100},{"$f":"IF(ISNA(VLOOKUP($A426,'Race 4-Ladies'!$AI$30:$AN$100,6,0)),100,VLOOKUP($A426,'Race 4-Ladies'!$AI$30:$AN$100,6,0))","v":100},{"$f":"SMALL(D426:G426,{1,2,3})","v":100},100,100,300,7]
["Vibeke Rowe","WJ","V65",{"$f":"IF(ISNA(VLOOKUP($A427,'Race 1-Ladies'!$AI$24:$AN$53,6,0)),100,VLOOKUP($A427,'Race 1-Ladies'!$AI$24:$AN$53,6,0))","v":100},{"$f":"IF(ISNA(VLOOKUP($A427,'Race 2-Ladies'!$AI$23:$AN$53,6,0)),100,VLOOKUP($A427,'Race 2-Ladies'!$AI$23:$AN$53,6,0))","v":100},{"$f":"IF(ISNA(VLOOKUP($A427,'Race 3-Ladies'!$AI$27:$AN$61,6,0)),100,VLOOKUP($A427,'Race 3-Ladies'!$AI$27:$AN$61,6,0))","v":100},{"$f":"IF(ISNA(VLOOKUP($A427,'Race 4-Ladies'!$AI$30:$AN$100,6,0)),100,VLOOKUP($A427,'Race 4-Ladies'!$AI$30:$AN$100,6,0))","v":100},{"$f":"SMALL(D427:G427,{1,2,3})","v":100},100,100,300,7]

{"sheet":"Race 1-Men","index":8,"n_rows":73,"n_cols":40,"rows_kept":73,"cut":false,"hidden":false,"merged":[]}
["Overall",null,null,null,null,null,"Ware Joggers",null,null,null,null,null,null,"Bishop's Stortford",null,null,null,null,null,null,"Saffron Striders",null,null,null,null,null,null,"Harlow Running & Tri Club"]
["Name","Club","Age Category","Claim","Position",null,"Name","Club","Age Category","Claim","Position",null,null,"Name","Club","Age Category","Claim","Position",null,null,"Name","Club","Age Category","Claim","Position",null,null,"Name","Club","Age Category","Claim","Position",null,null,"Name","Club","Age Category","Claim","Position"]
["Michael Waddington","WJ","S","1st",1,null,"Michael Waddington","WJ","S","1st",1,1,null,"Matt McRandal","BS","S","1st",9,9,null,"Craig Dyce","SS","V50","1st",13,13,null,"Paskell Blackwell","HRC","V40","1st",5,5]
["Andrew Mynott","WJ","V40","1st",2,null,"Andrew Mynott","WJ","V40","1st",2,2,null,"Stephen Wilkes","BS","V50","1st",10,10,null,"Chris O'Donovan","SS","S","2nd",16,16,null,"Scott Bird","HRC","S","1st",8,8]
["Kevin Francis","WJ","V40","1st",3,null,"Kevin Francis","WJ","V40","1st",3,3,null,"Robert Thorpe","BS","V50","1st",17,17,null,"Alan Jones","SS","V50","1st",32,32,null,"Martyn Coulter","HRC","S","1st",14,14]
["Vincent Riviere","WJ","V40","1st",4,null,"Vincent Riviere","WJ","V40","1st",4,4,null,"Peter Jurd","BS","V40","1st",18,18,null,"David Martin","SS","V50","1st",37,37,null,"Martin Westley","HRC","S","1st",15,15]
["Paskell Blackwell","HRC","V40","1st",5,null,"Tom Porter","WJ","S","1st",6,6,null,"Ben Pickford","BS","V40","1st",20,20,null,"Mark Thackstone","SS","V50","1st",42,42,null,"Lee Webber","HRC","V40","1st",29,29]
["Tom Porter","WJ","S","1st",6,null,"Matt Brown","WJ","S","1st",7,7,null,"Henry Ward","BS","S","1st",24,24,null,"Nigel Coates","SS","V60","1st",44,44,null,"Benjamin Usher","HRC","S","1st",30,30]
["Matt Brown","WJ","S","1st",7,null,"Mark Ford","WJ","S","1st",11,11,null,"James Delve","BS","V40","1st",27,27,null,"David Raimondo","SS","V40","1st",47,47,null,"Thomas Beales","HRC","V40","1st",33,33]
["Scott Bird","HRC","S","1st",8,null,"Liam Struwe","WJ","S","1st",12,12,null,"Richard Eddershaw","BS","V60","1st",31,31,null,"Neil Halls","SS","V50","1st",49,49,null,"Chris Mella","HRC","S","1st",38,38]
["Matt McRandal","BS","S","1st",9,null,"William Caunce","WJ","S","1st",19,null,null,"Kevin Marshall","BS","V50","1st",34,null,null,"Graeme Loudain","SS","V60","1st",55,null,null,"Andrew Terrell","HRC","V40","1st",41]
["Stephen Wilkes","BS","V50","1st",10,null,"Garth Morris","WJ","V60","1st",21,null,null,"Lee Boswell","BS","S","1st",35,null,null,"Arthur Oliva","SS","V60","1st",59,null,null,"Chris Arnell","HRC","V40","1st",43]
["Mark Ford","WJ","S","1st",11,null,"Jamie Higgs","WJ","V40","1st",22,null,null,"Jamie Smith","BS","V40","1st",51,null,null,"Simon Chambers","SS","V50","1st",71,null,null,"Miguel Luque","HRC","V50","1st",52]
["Liam Struwe","WJ","S","1st",12,null,"Adam Watson","WJ","S","1st",23,null,null,"Paul Dearlove","BS","V50","1st",58,null,null,null,null,null,null,null,null,null,"Mark Unwin","HRC","V40","1st",53]
["Craig Dyce","SS","V50","1st",13,null,"Nick Kenyon-Muir","WJ","V50","1st",25,null,null,"Martin Howe","BS","V60","1st",62,null,null,null,null,null,null,null,null,null,"Matthew Spires","HRC","V40","1st",56]
["Martyn Coulter","HRC","S","1st",14,null,"Andrew Kavanagh","WJ","S","1st",26,null,null,"Andrew Wilson","BS","V50","1st",63,null,null,null,null,null,null,null,null,null,"Sean Flynn","HRC","V60","1st",57]
["Martin Westley","HRC","S","1st",15,null,"Alexander Chappell","WJ","S","1st",28,null,null,"Ian Penson","BS","V60","1st",64,null,null,null,null,null,null,null,null,null,"Michael Robey","HRC","V40","1st",60]
["Chris O'Donovan","SS","S","2nd",16,null,"Andrew Biggs","WJ","V40","1st",36,null,null,null,null,null,null,null,null,null,null,null,null,null,null,null,null,"Andrew Smith","HRC","V50","1st",65]
["Robert Thorpe","BS","V50","1st",17,null,"Stephen Argent","WJ","V60","1st",39,null,null,null,null,null,null,null,null,null,null,null,null,null,null,null,null,"Robin Lozeau","HRC","V60","1st",69]
["Peter Jurd","BS","V40","1st",18,null,"Russell Cook","WJ","S","1st",40,null,null,null,null,null,null,null,null,null,null,null,null,null,null,null,null,"Alan Godbold","HRC","V50","1st",70]
["William Caunce","WJ","S","1st",19,null,"Mark Sanz","WJ","V50","1st",45]
["Ben Pickford","BS","V40","1st",20,null,"Alan Taylor","WJ","V50","1st",46]
["Garth Morris","WJ","V60","1st",21,null,"James Randall","WJ","S","1st",48]
["Jamie Higgs","WJ","V40","1st",22,null,"Peter Baker","WJ","V60","1st",50]
["Adam Watson","WJ","S","1st",23,null,"Richard Coffey","WJ","V50","1st",54]
["Henry Ward","BS","S","1st",24,null,"Simon Joyce","WJ","V50","1st",61]
["Nick Kenyon-Muir","WJ","V50","1st",25,null,"Clive Smith","WJ","V60","1st",66]
["Andrew Kavanagh","WJ","S","1st",26,null,"Roger Partridge","WJ","V60","1st",67]
["James Delve","BS","V40","1st",27,null,"Paul Cocklin","WJ","V60","1st",68]
["Alexander Chappell","WJ","S","1st",28]
["Lee Webber","HRC","V40","1st",29]
["Benjamin Usher","HRC","S","1st",30,null,"Senior",null,null,null,null,null,null,"V40",null,null,null,null,null,null,"V50",null,null,null,null,null,null,"V60",null,null,null,null,null,null,"V70"]
["Richard Eddershaw","BS","V60","1st",31,null,"Name","Club","Age Category","Claim","Overall Position","Category Position",null,"Name","Club","Age Category","Claim","Overall Position","Category Position",null,"Name","Club","Age Category","Claim","Overall Position","Category Position",null,"Name","Club","Age Category","Claim","Overall Position","Category Position",null,"Name","Club","Age Category","Claim","Overall Position","Category Position"]
["Alan Jones","SS","V50","1st",32,null,"Michael Waddington","WJ","S","1st",1,1,null,"Andrew Mynott","WJ","V40","1st",2,1,null,"Stephen Wilkes","BS","V50","1st",10,1,null,"Garth Morris","WJ","V60","1st",21,1]
["Thomas Beales","HRC","V40","1st",33,null,"Tom Porter","WJ","S","1st",6,2,null,"Kevin Francis","WJ","V40","1st",3,2,null,"Craig Dyce","SS","V50","1st",13,2,null,"Richard Eddershaw","BS","V60","1st",31,2]
["Kevin Marshall","BS","V50","1st",34,null,"Matt Brown","WJ","S","1st",7,3,null,"Vincent Riviere","WJ","V40","1st",4,3,null,"Robert Thorpe","BS","V50","1st",17,3,null,"Stephen Argent","WJ","V60","1st",39,3]
["Lee Boswell","BS","S","1st",35,null,"Scott Bird","HRC","S","1st",8,4,null,"Paskell Blackwell","HRC","V40","1st",5,4,null,"Nick Kenyon-Muir","WJ","V50","1st",25,4,null,"Nigel Coates","SS","V60","1st",44,4]
["Andrew Biggs","WJ","V40","1st",36,null,"Matt McRandal","BS","S","1st",9,5,null,"Peter Jurd","BS","V40","1st",18,5,null,"Alan Jones","SS","V50","1st",32,5,null,"Peter Baker","WJ","V60","1st",50,5]
["David Martin","SS","V50","1st",37,null,"Mark Ford","WJ","S","1st",11,6,null,"Ben Pickford","BS","V40","1st",20,6,null,"Kevin Marshall","BS","V50","1st",34,6,null,"Graeme Loudain","SS","V60","1st",55,6]
["Chris Mella","HRC","S","1st",38,null,"Liam Struwe","WJ","S","1st",12,7,null,"Jamie Higgs","WJ","V40","1st",22,7,null,"David Martin","SS","V50","1st",37,7,null,"Sean Flynn","HRC","V60","1st",57,7]
["Stephen Argent","WJ","V60","1st",39,null,"Martyn Coulter","HRC","S","1st",14,8,null,"James Delve","BS","V40","1st",27,8,null,"Mark Thackstone","SS","V50","1st",42,8,null,"Arthur Oliva","SS","V60","1st",59,8]
["Russell Cook","WJ","S","1st",40,null,"Martin Westley","HRC","S","1st",15,9,null,"Lee Webber","HRC","V40","1st",29,9,null,"Mark Sanz","WJ","V50","1st",45,9,null,"Martin Howe","BS","V60","1st",62,9]
["Andrew Terrell","HRC","V40","1st",41,null,"Chris O'Donovan","SS","S","2nd",16,10,null,"Thomas Beales","HRC","V40","1st",33,10,null,"Alan Taylor","WJ","V50","1st",46,10,null,"Ian Penson","BS","V60","1st",64,10]
["Mark Thackstone","SS","V50","1st",42,null,"William Caunce","WJ","S","1st",19,11,null,"Andrew Biggs","WJ","V40","1st",36,11,null,"Neil Halls","SS","V50","1st",49,11,null,"Clive Smith","WJ","V60","1st",66,11]
["Chris Arnell","HRC","V40","1st",43,null,"Adam Watson","WJ","S","1st",23,12,null,"Andrew Terrell","HRC","V40","1st",41,12,null,"Miguel Luque","HRC","V50","1st",52,12,null,"Roger Partridge","WJ","V60","1st",67,12]
["Nigel Coates","SS","V60","1st",44,null,"Henry Ward","BS","S","1st",24,13,null,"Chris Arnell","HRC","V40","1st",43,13,null,"Richard Coffey","WJ","V50","1st",54,13,null,"Paul Cocklin","WJ","V60","1st",68,13]
["Mark Sanz","WJ","V50","1st",45,null,"Andrew Kavanagh","WJ","S","1st",26,14,null,"David Raimondo","SS","V40","1st",47,14,null,"Paul Dearlove","BS","V50","1st",58,14,null,"Robin Lozeau","HRC","V60","1st",69,14]
["Alan Taylor","WJ","V50","1st",46,null,"Alexander Chappell","WJ","S","1st",28,15,null,"Jamie Smith","BS","V40","1st",51,15,null,"Simon Joyce","WJ","V50","1st",61,15]
["David Raimondo","SS","V40","1st",47,null,"Benjamin Usher","HRC","S","1st",30,16,null,"Mark Unwin","HRC","V40","1st",53,16,null,"Andrew Wilson","BS","V50","1st",63,16]
["James Randall","WJ","S","1st",48,null,"Lee Boswell","BS","S","1st",35,17,null,"Matthew Spires","HRC","V40","1st",56,17,null,"Andrew Smith","HRC","V50","1st",65,17]
["Neil Halls","SS","V50","1st",49,null,"Chris Mella","HRC","S","1st",38,18,null,"Michael Robey","HRC","V40","1st",60,18,null,"Alan Godbold","HRC","V50","1st",70,18]
["Peter Baker","WJ","V60","1st",50,null,"Russell Cook","WJ","S","1st",40,19,null,null,null,null,null,null,null,null,"Simon Chambers","SS","V50","1st",71,19]
["Jamie Smith","BS","V40","1st",51,null,"James Randall","WJ","S","1st",48,20]
["Miguel Luque","HRC","V50","1st",52]
["Mark Unwin","HRC","V40","1st",53]
["Richard Coffey","WJ","V50","1st",54]
["Graeme Loudain","SS","V60","1st",55]
["Matthew Spires","HRC","V40","1st",56]
["Sean Flynn","HRC","V60","1st",57]
["Paul Dearlove","BS","V50","1st",58]
["Arthur Oliva","SS","V60","1st",59]
["Michael Robey","HRC","V40","1st",60]
["Simon Joyce","WJ","V50","1st",61]
["Martin Howe","BS","V60","1st",62]
["Andrew Wilson","BS","V50","1st",63]
["Ian Penson","BS","V60","1st",64]
["Andrew Smith","HRC","V50","1st",65]
["Clive Smith","WJ","V60","1st",66]
["Roger Partridge","WJ","V60","1st",67]
["Paul Cocklin","WJ","V60","1st",68]
["Robin Lozeau","HRC","V60","1st",69]
["Alan Godbold","HRC","V50","1st",70]
["Simon Chambers","SS","V50","1st",71]

{"sheet":"Race 1-Ladies","index":9,"n_rows":54,"n_cols":40,"rows_kept":54,"cut":false,"hidden":false,"merged":[]}
["Overall",null,null,null,null,null,"Ware Joggers",null,null,null,null,null,null,"Bishop's Stortford",null,null,null,null,null,null,"Saffron Striders",null,null,null,null,null,null,"Harlow Running & Tri Club"]
["Name","Club","Age Category","Claim","Position",null,"Name","Club","Age Category","Claim","Position",null,null,"Name","Club","Age Category","Claim","Position",null,null,"Name","Club","Age Category","Claim","Position",null,null,"Name","Club","Age Category","Claim","Position",null,null,"Name","Club","Age Category","Claim","Position"]
["Lucy Barnes","HRC","S","1st",1,null,"Katy Woodward","WJ","V35","1st",2,2,null,"Sophie Barc","BS","V45","1st",7,7,null,"Fliss Tournant","SS","S","1st",3,3,null,"Lucy Barnes","HRC","S","1st",1,1]
["Katy Woodward","WJ","V35","1st",2,null,"Susan Millward","WJ","V45","1st",5,5,null,"Hannah McIlvenna","BS","V45","2nd",8,8,null,"Kerry Harrington","SS","V45","1st",13,13,null,"Fieke Blackwell","HRC","V35","1st",4,4]
["Fliss Tournant","SS","S","1st",3,null,"Katrina Dobson","WJ","V35","1st",6,6,null,"Joanna Jurd","BS","V35","1st",9,9,null,"Martha Flind","SS","S","1st",18,18,null,"Linda Helm-Manley","HRC","V55","1st",14,14]
["Fieke Blackwell","HRC","V35","1st",4,null,"Beverley McLees","WJ","V45","1st",10,10,null,"Emma Nixon","BS","V55","1st",26,26,null,"Charlotte Diggins","SS","V45","1st",23,23,null,"Sandra Rust","HRC","V45","1st",15,15]
["Susan Millward","WJ","V45","1st",5,null,"Lucy Dupuis","WJ","V45","1st",11,11,null,"Serena Beresford","BS","V35","1st",27,27,null,"Claire Crommie","SS","V45","1st",25,25,null,"Louise Cootes","HRC","V35","1st",19,19]
["Katrina Dobson","WJ","V35","1st",6,null,"Anthea Francis","WJ","V45","1st",12,12,null,"Jenny Brayshaw","BS","V65","1st",28,28,null,"Margit Wendelberger James","SS","V55","1st",30,30,null,"Kate Porter","HRC","V45","1st",20,20]
["Sophie Barc","BS","V45","1st",7,null,"Sam Rowe","WJ","V55","1st",16,16,null,"Lara Wheeldon","BS","V45","1st",35,35,null,"Katharine Lewis","SS","V45","1st",37,37,null,"Anna Robey","HRC","V35","1st",21,21]
["Hannah McIlvenna","BS","V45","2nd",8,null,"Fiona Smith","WJ","S","1st",18,18,null,"Niki Champion","BS","V45","1st",39,39,null,"Lisa Plumb","SS","V45","1st",38,38,null,"Gail Nicholls","HRC","V55","1st",29,29]
["Joanna Jurd","BS","V35","1st",9,null,"Pamela Wilson","WJ","V65","1st",22,null,null,"Francesca Palmer","BS","V45","1st",52,null,null,null,null,null,null,null,null,null,"Laura Prime","HRC","V45","1st",32]
["Beverley McLees","WJ","V45","1st",10,null,"Michelle Cross","WJ","V55","1st",24,null,null,null,null,null,null,null,null,null,null,null,null,null,null,null,null,"Tracy Stratford","HRC","V35","1st",33]
["Lucy Dupuis","WJ","V45","1st",11,null,"Tracy Brennan","WJ","V45","1st",31,null,null,null,null,null,null,null,null,null,null,null,null,null,null,null,null,"Selina Morgan","HRC","V35","1st",34]
["Anthea Francis","WJ","V45","1st",12,null,"Paula Gollop","WJ","V35","1st",36,null,null,null,null,null,null,null,null,null,null,null,null,null,null,null,null,"Kelly Spires","HRC","V45","1st",41]
["Kerry Harrington","SS","V45","1st",13,null,"Carla Bell","WJ","V55","1st",40,null,null,null,null,null,null,null,null,null,null,null,null,null,null,null,null,"Teresa Stickland","HRC","V55","1st",42]
["Linda Helm-Manley","HRC","V55","1st",14,null,"Jenni Viner","WJ","V65","1st",45,null,null,null,null,null,null,null,null,null,null,null,null,null,null,null,null,"Kerry Mavris","HRC","V45","1st",43]
["Sandra Rust","HRC","V45","1st",15,null,"Claron Riviere","WJ","V65","1st",47,null,null,null,null,null,null,null,null,null,null,null,null,null,null,null,null,"Susan Maloney","HRC","V55","1st",44]
["Sam Rowe","WJ","V55","1st",16,null,"Caroline Stephens","WJ","V55","1st",48,null,null,null,null,null,null,null,null,null,null,null,null,null,null,null,null,"Elizabeth Roberts","HRC","S","1st",46]
["Fiona Smith","WJ","S","1st",18,null,"Rosalind Hitchen","WJ","V55","1st",49,null,null,null,null,null,null,null,null,null,null,null,null,null,null,null,null,"Paulene Galoppi","HRC","V65","1st",50]
["Martha Flind","SS","S","1st",18,null,"Nadia Selby","WJ","V45","1st",51]
["Louise Cootes","HRC","V35","1st",19]
["Kate Porter","HRC","V45","1st",20]
["Anna Robey","HRC","V35","1st",21,null,"Senior",null,null,null,null,null,null,"V35",null,null,null,null,null,null,"V45",null,null,null,null,null,null,"V55",null,null,null,null,null,null,"V65"]
["Pamela Wilson","WJ","V65","1st",22,null,"Name","Club","Age Category","Claim","Overall Position","Category Position",null,"Name","Club","Age Category","Claim","Overall Position","Category Position",null,"Name","Club","Age Category","Claim","Overall Position","Category Position",null,"Name","Club","Age Category","Claim","Overall Position","Category Position",null,"Name","Club","Age Category","Claim","Overall Position","Category Position"]
["Charlotte Diggins","SS","V45","1st",23,null,"Lucy Barnes","HRC","S","1st",1,1,null,"Katy Woodward","WJ","V35","1st",2,1,null,"Susan Millward","WJ","V45","1st",5,1,null,"Linda Helm-Manley","HRC","V55","1st",14,1,null,"Pamela Wilson","WJ","V65","1st",22,1]
["Michelle Cross","WJ","V55","1st",24,null,"Fliss Tournant","SS","S","1st",3,2,null,"Fieke Blackwell","HRC","V35","1st",4,2,null,"Sophie Barc","BS","V45","1st",7,2,null,"Sam Rowe","WJ","V55","1st",16,2,null,"Jenny Brayshaw","BS","V65","1st",28,2]
["Claire Crommie","SS","V45","1st",25,null,"Fiona Smith","WJ","S","1st",18,3,null,"Katrina Dobson","WJ","V35","1st",6,3,null,"Hannah McIlvenna","BS","V45","2nd",8,3,null,"Michelle Cross","WJ","V55","1st",24,3,null,"Jenni Viner","WJ","V65","1st",45,3]
["Emma Nixon","BS","V55","1st",26,null,"Martha Flind","SS","S","1st",18,4,null,"Joanna Jurd","BS","V35","1st",9,4,null,"Beverley McLees","WJ","V45","1st",10,4,null,"Emma Nixon","BS","V55","1st",26,4,null,"Claron Riviere","WJ","V65","1st",47,4]
["Serena Beresford","BS","V35","1st",27,null,"Elizabeth Roberts","HRC","S","1st",46,5,null,"Louise Cootes","HRC","V35","1st",19,5,null,"Lucy Dupuis","WJ","V45","1st",11,5,null,"Gail Nicholls","HRC","V55","1st",29,5,null,"Paulene Galoppi","HRC","V65","1st",50,5]
["Jenny Brayshaw","BS","V65","1st",28,null,null,null,null,null,null,null,null,"Anna Robey","HRC","V35","1st",21,6,null,"Anthea Francis","WJ","V45","1st",12,6,null,"Margit Wendelberger James","SS","V55","1st",30,6]
["Gail Nicholls","HRC","V55","1st",29,null,null,null,null,null,null,null,null,"Serena Beresford","BS","V35","1st",27,7,null,"Kerry Harrington","SS","V45","1st",13,7,null,"Carla Bell","WJ","V55","1st",40,7]
["Margit Wendelberger James","SS","V55","1st",30,null,null,null,null,null,null,null,null,"Tracy Stratford","HRC","V35","1st",33,8,null,"Sandra Rust","HRC","V45","1st",15,8,null,"Teresa Stickland","HRC","V55","1st",42,8]
["Tracy Brennan","WJ","V45","1st",31,null,null,null,null,null,null,null,null,"Selina Morgan","HRC","V35","1st",34,9,null,"Kate Porter","HRC","V45","1st",20,9,null,"Susan Maloney","HRC","V55","1st",44,9]
["Laura Prime","HRC","V45","1st",32,null,null,null,null,null,null,null,null,"Paula Gollop","WJ","V35","1st",36,10,null,"Charlotte Diggins","SS","V45","1st",23,10,null,"Caroline Stephens","WJ","V55","1st",48,10]
["Tracy Stratford","HRC","V35","1st",33,null,null,null,null,null,null,null,null,null,null,null,null,null,null,null,"Claire Crommie","SS","V45","1st",25,11,null,"Rosalind Hitchen","WJ","V55","1st",49,11]
["Selina Morgan","HRC","V35","1st",34,null,null,null,null,null,null,null,null,null,null,null,null,null,null,null,"Tracy Brennan","WJ","V45","1st",31,12]
["Lara Wheeldon","BS","V45","1st",35,null,null,null,null,null,null,null,null,null,null,null,null,null,null,null,"Laura Prime","HRC","V45","1st",32,13]
["Paula Gollop","WJ","V35","1st",36,null,null,null,null,null,null,null,null,null,null,null,null,null,null,null,"Lara Wheeldon","BS","V45","1st",35,14]
["Katharine Lewis","SS","V45","1st",37,null,null,null,null,null,null,null,null,null,null,null,null,null,null,null,"Katharine Lewis","SS","V45","1st",37,15]
["Lisa Plumb","SS","V45","1st",38,null,null,null,null,null,null,null,null,null,null,null,null,null,null,null,"Lisa Plumb","SS","V45","1st",38,16]
["Niki Champion","BS","V45","1st",39,null,null,null,null,null,null,null,null,null,null,null,null,null,null,null,"Niki Champion","BS","V45","1st",39,17]
["Carla Bell","WJ","V55","1st",40,null,null,null,null,null,null,null,null,null,null,null,null,null,null,null,"Kelly Spires","HRC","V45","1st",41,18]
["Kelly Spires","HRC","V45","1st",41,null,null,null,null,null,null,null,null,null,null,null,null,null,null,null,"Kerry Mavris","HRC","V45","1st",43,19]
["Teresa Stickland","HRC","V55","1st",42,null,null,null,null,null,null,null,null,null,null,null,null,null,null,null,"Nadia Selby","WJ","V45","1st",51,20]
["Kerry Mavris","HRC","V45","1st",43,null,null,null,null,null,null,null,null,null,null,null,null,null,null,null,"Francesca Palmer","BS","V45","1st",52,21]
["Susan Maloney","HRC","V55","1st",44]
["Jenni Viner","WJ","V65","1st",45]
["Elizabeth Roberts","HRC","S","1st",46]
["Claron Riviere","WJ","V65","1st",47]
["Caroline Stephens","WJ","V55","1st",48]
["Rosalind Hitchen","WJ","V55","1st",49]
["Paulene Galoppi","HRC","V65","1st",50]
["Nadia Selby","WJ","V45","1st",51]
["Francesca Palmer","BS","V45","1st",52]

{"sheet":"Race 2-Men","index":10,"n_rows":94,"n_cols":40,"rows_kept":94,"cut":false,"hidden":false,"merged":[]}
["Overall",null,null,null,null,null,"Ware Joggers",null,null,null,null,null,null,"Bishop's Stortford",null,null,null,null,null,null,"Saffron Striders",null,null,null,null,null,null,"Harlow Running & Tri Club"]
["Name","Club","Age Category","Claim","Position",null,"Name","Club","Age Category","Claim","Position",null,null,"Name","Club","Age Category","Claim","Position",null,null,"Name","Club","Age Category","Claim","Position",null,null,"Name","Club","Age Category","Claim","Position",null,null,"Name","Club","Age Category","Claim","Position"]
["Michael Waddington","WJ","S","1st",1,null,"Michael Waddington","WJ","S","1st",1,1,null,"Peter Jurd","BS","V40","1st",13,13,null,"Iain Henley","SS","V40","1st",11,11,null,"Rob Lowe","HRC","V50","1st",3,3]
["Andrew Mynott","WJ","V40","1st",2,null,"Andrew Mynott","WJ","V40","1st",2,2,null,"Henry Ward","BS","S","1st",17,17,null,"David Raimondo","SS","V40","1st",18,18,null,"Paskell Blackwell","HRC","V40","1st",5,5]
["Rob Lowe","HRC","V50","1st",3,null,"Kevin Francis","WJ","V40","1st",4,4,null,"Matthew Cole","BS","V40","1st",30,30,null,"Tim McMahon","SS","V40","1st",21,21,null,"Scott Bird","HRC","S","1st",10,10]
["Kevin Francis","WJ","V40","1st",4,null,"Will Breese","WJ","S","1st",6,6,null,"James Delve","BS","V40","1st",33,33,null,"Justin James","SS","V50","1st",23,23,null,"Martin Westley","HRC","S","1st",12,12]
["Paskell Blackwell","HRC","V40","1st",5,null,"Matt Brown","WJ","S","1st",7,7,null,"Matt Cooker","BS","V40",null,35,35,null,"Michael Bradley","SS","V50","1st",26,26,null,"Martyn Coulter","HRC","S","1st",16,16]
["Will Breese","WJ","S","1st",6,null,"Tom Quinn","WJ",null,null,8,8,null,"Richard Eddershaw","BS","V60","1st",39,39,null,"Matthew Billis","SS","V40","1st",27,27,null,"Ryan Smith","HRC","V40","1st",24,24]
["Matt Brown","WJ","S","1st",7,null,"Tom Porter","WJ","S","1st",9,9,null,"Gary Jones","BS","V50","1st",43,43,null,"Marco Arcidiacono","SS","V50","1st",28,28,null,"Thomas Beales","HRC","V40","1st",31,31]
["Tom Quinn","WJ",null,null,8,null,"Jon Williams","WJ","V40","1st",14,14,null,"Lee Boswell","BS","S","1st",44,44,null,"Tim Tait","SS","V40","1st",29,29,null,"Chris Mella","HRC","S","1st",32,32]
["Tom Porter","WJ","S","1st",9,null,"Mark Ford","WJ","S","1st",15,null,null,"NEIL GAGE","BS","V40","1st",51,null,null,"Alan Jones","SS","V50","1st",42,null,null,"James Dowsett","HRC","V40","1st",34]
["Scott Bird","HRC","S","1st",10,null,"Neil Bull","WJ","V40","1st",19,null,null,"Gordon Mcleod","BS","S","1st",53,null,null,"Mark Anderton","SS","V40","1st",50,null,null,"Lee Webber","HRC","V40","1st",38]
["Iain Henley","SS","V40","1st",11,null,"Jamie Higgs","WJ","V40","1st",20,null,null,"Chris Chew","BS","V50","1st",55,null,null,"Oliver Diggins","SS","V40","1st",61,null,null,"Andrew Terrell","HRC","V40","1st",40]
["Martin Westley","HRC","S","1st",12,null,"Nicholas Egginton","WJ","V40","2nd",22,null,null,"John Kennedy","BS","V50","1st",57,null,null,"Lewis Elmes","SS","S","1st",62,null,null,"Jermaine Shand","HRC","S","1st",46]
["Peter Jurd","BS","V40","1st",13,null,"Stefan Gauntlett","WJ","S",null,25,null,null,"Wayne Greet","BS","V50","1st",58,null,null,"Neil Halls","SS","V50","1st",66,null,null,"Timothy Wood","HRC","S","1st",52]
["Jon Williams","WJ","V40","1st",14,null,"Nick Sansom","WJ","V40","1st",36,null,null,"Kevin Gillespie","BS","V50","1st",60,null,null,"Arthur Oliva","SS","V60","1st",69,null,null,"Mark Unwin","HRC","V40","1st",54]
["Mark Ford","WJ","S","1st",15,null,"Russell Cook","WJ","S","1st",37,null,null,"Mike Grant","BS","V60","1st",64,null,null,"Amit Davda","SS","S","1st",85,null,null,"Chris Arnell","HRC","V40","1st",59]
["Martyn Coulter","HRC","S","1st",16,null,"Mark Sanz","WJ","V50","1st",41,null,null,"Richard Faverker","BS","V40",null,67,null,null,"Chris O'Donovan","SS","S","2nd",87,null,null,"John Bull","HRC","V50","1st",65]
["Henry Ward","BS","S","1st",17,null,"Peter Baker","WJ","V60","1st",45,null,null,"Martin Howe","BS","V60","1st",72,null,null,"Simon Chambers","SS","V50","1st",92,null,null,"Miguel Luque","HRC","V50","1st",68]
["David Raimondo","SS","V40","1st",18,null,"Andrew Biggs","WJ","V40","1st",47,null,null,"Ian Penson","BS","V60","1st",75,null,null,null,null,null,null,null,null,null,"Graham Saville","HRC","V60","1st",70]
["Neil Bull","WJ","V40","1st",19,null,"Paul Brennan","WJ","V50","1st",48,null,null,"Lee Pickering","BS","V50","1st",77,null,null,null,null,null,null,null,null,null,"Sean Flynn","HRC","V60","1st",71]
["Jamie Higgs","WJ","V40","1st",20,null,"James Randall","WJ","S","1st",49,null,null,"Chris Brolly","BS","V60","1st",83,null,null,null,null,null,null,null,null,null,"Cyril Cornmillet","HRC","V40",null,74]
["Tim McMahon","SS","V40","1st",21,null,"Chris Williams","WJ","S",null,56,null,null,"Stuart Davenport","BS","V50","1st",84,null,null,null,null,null,null,null,null,null,"Gary Mead","HRC","V50","1st",76]
["Nicholas Egginton","WJ","V40","2nd",22,null,"Alan Taylor","WJ","V50","1st",63,null,null,"Mark Wilds","BS","V50","1st",86,null,null,null,null,null,null,null,null,null,"Alan Cootes","HRC","V60","1st",78]
["Justin James","SS","V50","1st",23,null,"Peter Keats","WJ","V60","1st",73,null,null,"John Neary","BS","V60","1st",90,null,null,null,null,null,null,null,null,null,"Michael Robey","HRC","V40","1st",80]
["Ryan Smith","HRC","V40","1st",24,null,"Alan Rafferty","WJ","V60","1st",79,null,null,null,null,null,null,null,null,null,null,null,null,null,null,null,null,"Andrew Smith","HRC","V50","1st",82]
["Stefan Gauntlett","WJ","S",null,25,null,"Clive Smith","WJ","V60","1st",81,null,null,null,null,null,null,null,null,null,null,null,null,null,null,null,null,"Tyrone Mustafa","HRC","V40","1st",88]
["Michael Bradley","SS","V50","1st",26,null,"Roger Partridge","WJ","V60","1st",89,null,null,null,null,null,null,null,null,null,null,null,null,null,null,null,null,"Alan Godbold","HRC","V50","1st",91]
["Matthew Billis","SS","V40","1st",27]
["Marco Arcidiacono","SS","V50","1st",28]
["Tim Tait","SS","V40","1st",29,null,"Senior",null,null,null,null,null,null,"V40",null,null,null,null,null,null,"V50",null,null,null,null,null,null,"V60",null,null,null,null,null,null,"V70"]
["Matthew Cole","BS","V40","1st",30,null,"Name","Club","Age Category","Claim","Overall Position","Category Position",null,"Name","Club","Age Category","Claim","Overall Position","Category Position",null,"Name","Club","Age Category","Claim","Overall Position","Category Position",null,"Name","Club","Age Category","Claim","Overall Position","Category Position",null,"Name","Club","Age Category","Claim","Overall Position","Category Position"]
["Thomas Beales","HRC","V40","1st",31,null,"Michael Waddington","WJ","S","1st",1,1,null,"Andrew Mynott","WJ","V40","1st",2,1,null,"Rob Lowe","HRC","V50","1st",3,1,null,"Richard Eddershaw","BS","V60","1st",39,1]
["Chris Mella","HRC","S","1st",32,null,"Will Breese","WJ","S","1st",6,2,null,"Kevin Francis","WJ","V40","1st",4,2,null,"Justin James","SS","V50","1st",23,2,null,"Peter Baker","WJ","V60","1st",45,2]
["James Delve","BS","V40","1st",33,null,"Matt Brown","WJ","S","1st",7,3,null,"Paskell Blackwell","HRC","V40","1st",5,3,null,"Michael Bradley","SS","V50","1st",26,3,null,"Mike Grant","BS","V60","1st",64,3]
["James Dowsett","HRC","V40","1st",34,null,"Tom Porter","WJ","S","1st",9,4,null,"Iain Henley","SS","V40","1st",11,4,null,"Marco Arcidiacono","SS","V50","1st",28,4,null,"Arthur Oliva","SS","V60","1st",69,4]
["Matt Cooker","BS","V40",null,35,null,"Scott Bird","HRC","S","1st",10,5,null,"Peter Jurd","BS","V40","1st",13,5,null,"Mark Sanz","WJ","V50","1st",41,5,null,"Graham Saville","HRC","V60","1st",70,5]
["Nick Sansom","WJ","V40","1st",36,null,"Martin Westley","HRC","S","1st",12,6,null,"Jon Williams","WJ","V40","1st",14,6,null,"Alan Jones","SS","V50","1st",42,6,null,"Sean Flynn","HRC","V60","1st",71,6]
["Russell Cook","WJ","S","1st",37,null,"Mark Ford","WJ","S","1st",15,7,null,"David Raimondo","SS","V40","1st",18,7,null,"Gary Jones","BS","V50","1st",43,7,null,"Martin Howe","BS","V60","1st",72,7]
["Lee Webber","HRC","V40","1st",38,null,"Martyn Coulter","HRC","S","1st",16,8,null,"Neil Bull","WJ","V40","1st",19,8,null,"Paul Brennan","WJ","V50","1st",48,8,null,"Peter Keats","WJ","V60","1st",73,8]
["Richard Eddershaw","BS","V60","1st",39,null,"Henry Ward","BS","S","1st",17,9,null,"Jamie Higgs","WJ","V40","1st",20,9,null,"Chris Chew","BS","V50","1st",55,9,null,"Ian Penson","BS","V60","1st",75,9]
["Andrew Terrell","HRC","V40","1st",40,null,"Stefan Gauntlett","WJ","S",null,25,10,null,"Tim McMahon","SS","V40","1st",21,10,null,"John Kennedy","BS","V50","1st",57,10,null,"Alan Cootes","HRC","V60","1st",78,10]
["Mark Sanz","WJ","V50","1st",41,null,"Chris Mella","HRC","S","1st",32,11,null,"Nicholas Egginton","WJ","V40","2nd",22,11,null,"Wayne Greet","BS","V50","1st",58,11,null,"Alan Rafferty","WJ","V60","1st",79,11]
["Alan Jones","SS","V50","1st",42,null,"Russell Cook","WJ","S","1st",37,12,null,"Ryan Smith","HRC","V40","1st",24,12,null,"Kevin Gillespie","BS","V50","1st",60,12,null,"Clive Smith","WJ","V60","1st",81,12]
["Gary Jones","BS","V50","1st",43,null,"Lee Boswell","BS","S","1st",44,13,null,"Matthew Billis","SS","V40","1st",27,13,null,"Alan Taylor","WJ","V50","1st",63,13,null,"Chris Brolly","BS","V60","1st",83,13]
["Lee Boswell","BS","S","1st",44,null,"Jermaine Shand","HRC","S","1st",46,14,null,"Tim Tait","SS","V40","1st",29,14,null,"John Bull","HRC","V50","1st",65,14,null,"Roger Partridge","WJ","V60","1st",89,14]
["Peter Baker","WJ","V60","1st",45,null,"James Randall","WJ","S","1st",49,15,null,"Matthew Cole","BS","V40","1st",30,15,null,"Neil Halls","SS","V50","1st",66,15,null,"John Neary","BS","V60","1st",90,15]
["Jermaine Shand","HRC","S","1st",46,null,"Timothy Wood","HRC","S","1st",52,16,null,"Thomas Beales","HRC","V40","1st",31,16,null,"Miguel Luque","HRC","V50","1st",68,16]
["Andrew Biggs","WJ","V40","1st",47,null,"Gordon Mcleod","BS","S","1st",53,17,null,"James Delve","BS","V40","1st",33,17,null,"Gary Mead","HRC","V50","1st",76,17]
["Paul Brennan","WJ","V50","1st",48,null,"Chris Williams","WJ","S",null,56,18,null,"James Dowsett","HRC","V40","1st",34,18,null,"Lee Pickering","BS","V50","1st",77,18]
["James Randall","WJ","S","1st",49,null,"Lewis Elmes","SS","S","1st",62,19,null,"Matt Cooker","BS","V40",null,35,19,null,"Andrew Smith","HRC","V50","1st",82,19]
["Mark Anderton","SS","V40","1st",50,null,"Amit Davda","SS","S","1st",85,20,null,"Nick Sansom","WJ","V40","1st",36,20,null,"Stuart Davenport","BS","V50","1st",84,20]
["NEIL GAGE","BS","V40","1st",51,null,"Chris O'Donovan","SS","S","2nd",87,21,null,"Lee Webber","HRC","V40","1st",38,21,null,"Mark Wilds","BS","V50","1st",86,21]
["Timothy Wood","HRC","S","1st",52,null,null,null,null,null,null,null,null,"Andrew Terrell","HRC","V40","1st",40,22,null,"Alan Godbold","HRC","V50","1st",91,22]
["Gordon Mcleod","BS","S","1st",53,null,null,null,null,null,null,null,null,"Andrew Biggs","WJ","V40","1st",47,23,null,"Simon Chambers","SS","V50","1st",92,23]
["Mark Unwin","HRC","V40","1st",54,null,null,null,null,null,null,null,null,"Mark Anderton","SS","V40","1st",50,24]
["Chris Chew","BS","V50","1st",55,null,null,null,null,null,null,null,null,"NEIL GAGE","BS","V40","1st",51,25]
["Chris Williams","WJ","S",null,56,null,null,null,null,null,null,null,null,"Mark Unwin","HRC","V40","1st",54,26]
["John Kennedy","BS","V50","1st",57,null,null,null,null,null,null,null,null,"Chris Arnell","HRC","V40","1st",59,27]
["Wayne Greet","BS","V50","1st",58,null,null,null,null,null,null,null,null,"Oliver Diggins","SS","V40","1st",61,28]
["Chris Arnell","HRC","V40","1st",59,null,null,null,null,null,null,null,null,"Richard Faverker","BS","V40",null,67,29]
["Kevin Gillespie","BS","V50","1st",60,null,null,null,null,null,null,null,null,"Cyril Cornmillet","HRC","V40",null,74,30]
["Oliver Diggins","SS","V40","1st",61,null,null,null,null,null,null,null,null,"Michael Robey","HRC","V40","1st",80,31]
["Lewis Elmes","SS","S","1st",62,null,null,null,null,null,null,null,null,"Tyrone Mustafa","HRC","V40","1st",88,32]
["Alan Taylor","WJ","V50","1st",63]
["Mike Grant","BS","V60","1st",64]
["John Bull","HRC","V50","1st",65]
["Neil Halls","SS","V50","1st",66]
["Richard Faverker","BS","V40",null,67]
["Miguel Luque","HRC","V50","1st",68]
["Arthur Oliva","SS","V60","1st",69]
["Graham Saville","HRC","V60","1st",70]
["Sean Flynn","HRC","V60","1st",71]
["Martin Howe","BS","V60","1st",72]
["Peter Keats","WJ","V60","1st",73]
["Cyril Cornmillet","HRC","V40",null,74]
["Ian Penson","BS","V60","1st",75]
["Gary Mead","HRC","V50","1st",76]
["Lee Pickering","BS","V50","1st",77]
["Alan Cootes","HRC","V60","1st",78]
["Alan Rafferty","WJ","V60","1st",79]
["Michael Robey","HRC","V40","1st",80]
["Clive Smith","WJ","V60","1st",81]
["Andrew Smith","HRC","V50","1st",82]
["Chris Brolly","BS","V60","1st",83]
["Stuart Davenport","BS","V50","1st",84]
["Amit Davda","SS","S","1st",85]
["Mark Wilds","BS","V50","1st",86]
["Chris O'Donovan","SS","S","2nd",87]
["Tyrone Mustafa","HRC","V40","1st",88]
["Roger Partridge","WJ","V60","1st",89]
["John Neary","BS","V60","1st",90]
["Alan Godbold","HRC","V50","1st",91]
["Simon Chambers","SS","V50","1st",92]

{"sheet":"Race 2-Ladies","index":11,"n_rows":62,"n_cols":40,"rows_kept":62,"cut":false,"hidden":false,"merged":[]}
["Overall",null,null,null,null,null,"Ware Joggers",null,null,null,null,null,null,"Bishop's Stortford",null,null,null,null,null,null,"Saffron Striders",null,null,null,null,null,null,"Harlow Running & Tri Club"]
["Name","Club","Age Category","Claim","Position",null,"Name","Club","Age Category","Claim","Position",null,null,"Name","Club","Age Category","Claim","Position",null,null,"Name","Club","Age Category","Claim","Position",null,null,"Name","Club","Age Category","Claim","Position",null,null,"Name","Club","Age Category","Claim","Position"]
["Lucy Barnes","HRC","S","1st",1,null,"Katy Woodward","WJ","V35","1st",2,2,null,"Elizabeth Bellinger","BS","V35","1st",6,6,null,"Fliss Tournant","SS","S","1st",3,3,null,"Lucy Barnes","HRC","S","1st",1,1]
["Katy Woodward","WJ","V35","1st",2,null,"Susan Millward","WJ","V45","1st",5,5,null,"Vicky Simpson","BS","V45","1st",9,9,null,"Flo Greatrix","SS","S","1st",12,12,null,"Terri Wiley","HRC","V35","1st",4,4]
["Fliss Tournant","SS","S","1st",3,null,"Katrina Dobson","WJ","V35","1st",8,8,null,"Emily Clancey","BS","S","1st",10,10,null,"Lucie Heanley","SS","V35","1st",15,15,null,"Fieke Blackwell","HRC","V35","1st",7,7]
["Terri Wiley","HRC","V35","1st",4,null,"Anthea Francis","WJ","V45","1st",13,13,null,"Marie Hockley","BS","V55","1st",19,19,null,"Kerry Harrington","SS","V45","1st",16,16,null,"Paige Bircham","HRC","S","1st",11,11]
["Susan Millward","WJ","V45","1st",5,null,"Lucy Dupuis","WJ","V45","1st",14,14,null,"Janna Jenkins","BS","V35","1st",22,22,null,"Charlotte Diggins","SS","V45","1st",24,24,null,"Louise Cootes","HRC","V35","1st",18,18]
["Elizabeth Bellinger","BS","V35","1st",6,null,"Fiona Smith","WJ","S","1st",17,17,null,"Briony Hudson","BS","V35",null,26,26,null,"Claire Crommie","SS","V45","1st",31,31,null,"Kate Porter","HRC","V45","1st",23,23]
["Fieke Blackwell","HRC","V35","1st",7,null,"Pamela Wilson","WJ","V65","1st",20,20,null,"Sarah Mackay","BS","V35","1st",39,39,null,"Margit Wendelberger James","SS","V55","1st",36,36,null,"Gail Nicholls","HRC","V55","1st",25,25]
["Katrina Dobson","WJ","V35","1st",8,null,"Jennifer Evans","WJ","S","1st",21,21,null,"Ellen Brooks","BS","V35","1st",40,40,null,"Lisa Plumb","SS","V45","1st",37,37,null,"Laura Prime","HRC","V45","1st",27,27]
["Vicky Simpson","BS","V45","1st",9,null,"Sharon Threlfall","WJ","V45","1st",29,null,null,"Patricia Poole","BS","V55","1st",44,null,null,"Charlotte Teall","SS","V35","1st",41,null,null,"Michelle Sheridan","HRC","V35","1st",28]
["Emily Clancey","BS","S","1st",10,null,"Tracy Brennan","WJ","V45","1st",38,null,null,"Lara Wheeldon","BS","V45","1st",45,null,null,"Katharine Lewis","SS","V45","1st",50,null,null,"Michelle Hyde","HRC","V35","1st",30]
["Paige Bircham","HRC","S","1st",11,null,"Olu Gooden","WJ","V55","2nd",42,null,null,"Jenny Brayshaw","BS","V65","1st",46,null,null,null,null,null,null,null,null,null,"Emma Luck","HRC","V45","1st",32]
["Flo Greatrix","SS","S","1st",12,null,"Vicky Smith","WJ","V45","1st",48,null,null,"Serena Beresford","BS","V35","1st",47,null,null,null,null,null,null,null,null,null,"Deborah Pomphret","HRC","V45","1st",33]
["Anthea Francis","WJ","V45","1st",13,null,"Carla Bell","WJ","V55","1st",49,null,null,"Jilly Palmer","BS","V55","1st",51,null,null,null,null,null,null,null,null,null,"Anna Robey","HRC","V35","1st",34]
["Lucy Dupuis","WJ","V45","1st",14,null,"Anne Ramsden","WJ","V65","1st",52,null,null,"Sharon Neary","BS","V55","1st",53,null,null,null,null,null,null,null,null,null,"Tracy Stratford","HRC","V35","1st",35]
["Lucie Heanley","SS","V35","1st",15,null,"Jeanette Collins","WJ","V55","2nd",55,null,null,"Alison Malcolm","BS","V45","1st",57,null,null,null,null,null,null,null,null,null,"Selina Morgan","HRC","V35","1st",43]
["Kerry Harrington","SS","V45","1st",16,null,"Jenni Viner","WJ","V65","1st",56,null,null,"Clare Gallagher","BS","V35","1st",58,null,null,null,null,null,null,null,null,null,"Teresa Stickland","HRC","V55","1st",54]
["Fiona Smith","WJ","S","1st",17,null,"Jacqui Barnard","WJ","V55","1st",59,null,null,null,null,null,null,null,null,null,null,null,null,null,null,null,null,"Joy Hale","HRC","V35","1st",60]
["Louise Cootes","HRC","V35","1st",18]
["Marie Hockley","BS","V55","1st",19]
["Pamela Wilson","WJ","V65","1st",20,null,"Senior",null,null,null,null,null,null,"V35",null,null,null,null,null,null,"V45",null,null,null,null,null,null,"V55",null,null,null,null,null,null,"V65"]
["Jennifer Evans","WJ","S","1st",21,null,"Name","Club","Age Category","Claim","Overall Position","Category Position",null,"Name","Club","Age Category","Claim","Overall Position","Category Position",null,"Name","Club","Age Category","Claim","Overall Position","Category Position",null,"Name","Club","Age Category","Claim","Overall Position","Category Position",null,"Name","Club","Age Category","Claim","Overall Position","Category Position"]
["Janna Jenkins","BS","V35","1st",22,null,"Lucy Barnes","HRC","S","1st",1,1,null,"Katy Woodward","WJ","V35","1st",2,1,null,"Susan Millward","WJ","V45","1st",5,1,null,"Marie Hockley","BS","V55","1st",19,1,null,"Pamela Wilson","WJ","V65","1st",20,1]
["Kate Porter","HRC","V45","1st",23,null,"Fliss Tournant","SS","S","1st",3,2,null,"Terri Wiley","HRC","V35","1st",4,2,null,"Vicky Simpson","BS","V45","1st",9,2,null,"Gail Nicholls","HRC","V55","1st",25,2,null,"Jenny Brayshaw","BS","V65","1st",46,2]
["Charlotte Diggins","SS","V45","1st",24,null,"Emily Clancey","BS","S","1st",10,3,null,"Elizabeth Bellinger","BS","V35","1st",6,3,null,"Anthea Francis","WJ","V45","1st",13,3,null,"Margit Wendelberger James","SS","V55","1st",36,3,null,"Anne Ramsden","WJ","V65","1st",52,3]
["Gail Nicholls","HRC","V55","1st",25,null,"Paige Bircham","HRC","S","1st",11,4,null,"Fieke Blackwell","HRC","V35","1st",7,4,null,"Lucy Dupuis","WJ","V45","1st",14,4,null,"Olu Gooden","WJ","V55","2nd",42,4,null,"Jenni Viner","WJ","V65","1st",56,4]
["Briony Hudson","BS","V35",null,26,null,"Flo Greatrix","SS","S","1st",12,5,null,"Katrina Dobson","WJ","V35","1st",8,5,null,"Kerry Harrington","SS","V45","1st",16,5,null,"Patricia Poole","BS","V55","1st",44,5]
["Laura Prime","HRC","V45","1st",27,null,"Fiona Smith","WJ","S","1st",17,6,null,"Lucie Heanley","SS","V35","1st",15,6,null,"Kate Porter","HRC","V45","1st",23,6,null,"Carla Bell","WJ","V55","1st",49,6]
["Michelle Sheridan","HRC","V35","1st",28,null,"Jennifer Evans","WJ","S","1st",21,7,null,"Louise Cootes","HRC","V35","1st",18,7,null,"Charlotte Diggins","SS","V45","1st",24,7,null,"Jilly Palmer","BS","V55","1st",51,7]
["Sharon Threlfall","WJ","V45","1st",29,null,null,null,null,null,null,null,null,"Janna Jenkins","BS","V35","1st",22,8,null,"Laura Prime","HRC","V45","1st",27,8,null,"Sharon Neary","BS","V55","1st",53,8]
["Michelle Hyde","HRC","V35","1st",30,null,null,null,null,null,null,null,null,"Briony Hudson","BS","V35",null,26,9,null,"Sharon Threlfall","WJ","V45","1st",29,9,null,"Teresa Stickland","HRC","V55","1st",54,9]
["Claire Crommie","SS","V45","1st",31,null,null,null,null,null,null,null,null,"Michelle Sheridan","HRC","V35","1st",28,10,null,"Claire Crommie","SS","V45","1st",31,10,null,"Jeanette Collins","WJ","V55","2nd",55,10]
["Emma Luck","HRC","V45","1st",32,null,null,null,null,null,null,null,null,"Michelle Hyde","HRC","V35","1st",30,11,null,"Emma Luck","HRC","V45","1st",32,11,null,"Jacqui Barnard","WJ","V55","1st",59,11]
["Deborah Pomphret","HRC","V45","1st",33,null,null,null,null,null,null,null,null,"Anna Robey","HRC","V35","1st",34,12,null,"Deborah Pomphret","HRC","V45","1st",33,12]
["Anna Robey","HRC","V35","1st",34,null,null,null,null,null,null,null,null,"Tracy Stratford","HRC","V35","1st",35,13,null,"Lisa Plumb","SS","V45","1st",37,13]
["Tracy Stratford","HRC","V35","1st",35,null,null,null,null,null,null,null,null,"Sarah Mackay","BS","V35","1st",39,14,null,"Tracy Brennan","WJ","V45","1st",38,14]
["Margit Wendelberger James","SS","V55","1st",36,null,null,null,null,null,null,null,null,"Ellen Brooks","BS","V35","1st",40,15,null,"Lara Wheeldon","BS","V45","1st",45,15]
["Lisa Plumb","SS","V45","1st",37,null,null,null,null,null,null,null,null,"Charlotte Teall","SS","V35","1st",41,16,null,"Vicky Smith","WJ","V45","1st",48,16]
["Tracy Brennan","WJ","V45","1st",38,null,null,null,null,null,null,null,null,"Selina Morgan","HRC","V35","1st",43,17,null,"Katharine Lewis","SS","V45","1st",50,17]
["Sarah Mackay","BS","V35","1st",39,null,null,null,null,null,null,null,null,"Serena Beresford","BS","V35","1st",47,18,null,"Alison Malcolm","BS","V45","1st",57,18]
["Ellen Brooks","BS","V35","1st",40,null,null,null,null,null,null,null,null,"Clare Gallagher","BS","V35","1st",58,19]
["Charlotte Teall","SS","V35","1st",41,null,null,null,null,null,null,null,null,"Joy Hale","HRC","V35","1st",60,20]
["Olu Gooden","WJ","V55","2nd",42]
["Selina Morgan","HRC","V35","1st",43]
["Patricia Poole","BS","V55","1st",44]
["Lara Wheeldon","BS","V45","1st",45]
["Jenny Brayshaw","BS","V65","1st",46]
["Serena Beresford","BS","V35","1st",47]
["Vicky Smith","WJ","V45","1st",48]
["Carla Bell","WJ","V55","1st",49]
["Katharine Lewis","SS","V45","1st",50]
["Jilly Palmer","BS","V55","1st",51]
["Anne Ramsden","WJ","V65","1st",52]
["Sharon Neary","BS","V55","1st",53]
["Teresa Stickland","HRC","V55","1st",54]
["Jeanette Collins","WJ","V55","2nd",55]
["Jenni Viner","WJ","V65","1st",56]
["Alison Malcolm","BS","V45","1st",57]
["Clare Gallagher","BS","V35","1st",58]
["Jacqui Barnard","WJ","V55","1st",59]
["Joy Hale","HRC","V35","1st",60]

{"sheet":"Race 3-Men","index":12,"n_rows":79,"n_cols":40,"rows_kept":79,"cut":false,"hidden":false,"merged":[]}
["Overall",null,null,null,null,null,"Ware Joggers",null,null,null,null,null,null,"Bishop's Stortford",null,null,null,null,null,null,"Saffron Striders",null,null,null,null,null,null,"Harlow Running & Tri Club"]
["Name","Club","Age Category","Claim","Position",null,"Name","Club","Age Category","Claim","Position",null,null,"Name","Club","Age Category","Claim","Position",null,null,"Name","Club","Age Category","Claim","Position",null,null,"Name","Club","Age Category","Claim","Position",null,null,"Name","Club","Age Category","Claim","Position"]
["Michael Waddington","WJ","S","1st",1,null,"Michael Waddington","WJ","S","1st",1,1,null,"Samuel Pedley","BS","S","1st",2,2,null,"Craig Dyce","SS","V50","1st",8,8,null,"Paskell Blackwell","HRC","V40","1st",5,5]
["Samuel Pedley","BS","S","1st",2,null,"Andrew Mynott","WJ","V40","1st",3,3,null,"Henry Ward","BS","S","1st",15,15,null,"Iain Henley","SS","V40","1st",17,17,null,"Rob Lowe","HRC","V50","1st",6,6]
["Andrew Mynott","WJ","V40","1st",3,null,"Kevin Francis","WJ","V40","1st",4,4,null,"Peter Jurd","BS","V40","1st",16,16,null,"Alan Jones","SS","V50","1st",34,34,null,"Martyn Coulter","HRC","S","1st",13,13]
["Kevin Francis","WJ","V40","1st",4,null,"Will Breese","WJ","S","1st",7,7,null,"James Delve","BS","V40","1st",33,33,null,"Marco Arcidiacono","SS","V50","1st",38,38,null,"Scott Bird","HRC","S","1st",14,14]
["Paskell Blackwell","HRC","V40","1st",5,null,"Tom Porter","WJ","S","1st",9,9,null,"Richard Eddershaw","BS","V60","1st",44,44,null,"David Martin","SS","V50","1st",40,40,null,"Martin Westley","HRC","S","1st",24,24]
["Rob Lowe","HRC","V50","1st",6,null,"Matt Brown","WJ","S","1st",10,10,null,"Chris Chew","BS","V50","1st",47,47,null,"Toby Lumsden","SS","V60","1st",45,45,null,"Colin Baker","HRC","V40","1st",26,26]
["Will Breese","WJ","S","1st",7,null,"Liam Struwe","WJ","S","1st",11,11,null,"NEIL GAGE","BS","V40","1st",48,48,null,"Nigel Coates","SS","V60","1st",53,53,null,"Lee Webber","HRC","V40","1st",30,30]
["Craig Dyce","SS","V50","1st",8,null,"Tom Quinn","WJ","S","1st",12,12,null,"Kevin Gillespie","BS","V50","1st",49,49,null,"Mark Thackstone","SS","V50","1st",54,54,null,"Thomas Beales","HRC","V40","1st",31,31]
["Tom Porter","WJ","S","1st",9,null,"Jon Williams","WJ","V40","1st",18,null,null,"Jamie Smith","BS","V40","1st",55,null,null,"John James","SS","V60","1st",56,null,null,"James Dowsett","HRC","V40","1st",32]
["Matt Brown","WJ","S","1st",10,null,"Mark Ford","WJ","S","1st",19,null,null,"Richard Faverker","BS","V40",null,61,null,null,"Neil Halls","SS","V50","1st",58,null,null,"Chris Mella","HRC","S","1st",36]
["Liam Struwe","WJ","S","1st",11,null,"Stefan Gauntlett","WJ","S","1st",20,null,null,"Martin Howe","BS","V60","1st",68,null,null,"Arthur Oliva","SS","V60","1st",64,null,null,"Jermaine Shand","HRC","S","1st",41]
["Tom Quinn","WJ","S","1st",12,null,"Garth Morris","WJ","V60","1st",21,null,null,"Ian Penson","BS","V60","1st",71,null,null,null,null,null,null,null,null,null,"Timothy Wood","HRC","S","1st",46]
["Martyn Coulter","HRC","S","1st",13,null,"Alexander Chappell","WJ","S","1st",22,null,null,"Mark Wilds","BS","V50","1st",72,null,null,null,null,null,null,null,null,null,"Miguel Luque","HRC","V50","1st",59]
["Scott Bird","HRC","S","1st",14,null,"Nicholas Egginton","WJ","V40","2nd",23,null,null,"Andrew Pooley","BS","V40","1st",74,null,null,null,null,null,null,null,null,null,"Jamie Olsen Ferreira","HRC","V40","1st",60]
["Henry Ward","BS","S","1st",15,null,"Andrew Kavanagh","WJ","S","1st",25,null,null,"Rohit Dayama","BS","V40","1st",75,null,null,null,null,null,null,null,null,null,"Darren Tiley","HRC","V50","1st",65]
["Peter Jurd","BS","V40","1st",16,null,"Jamie Higgs","WJ","V40","1st",27,null,null,null,null,null,null,null,null,null,null,null,null,null,null,null,null,"Mark Unwin","HRC","V40","1st",66]
["Iain Henley","SS","V40","1st",17,null,"Neil Bull","WJ","V40","1st",28,null,null,null,null,null,null,null,null,null,null,null,null,null,null,null,null,"Robin Lozeau","HRC","V60","1st",77]
["Jon Williams","WJ","V40","1st",18,null,"Adam Watson","WJ","S","1st",29]
["Mark Ford","WJ","S","1st",19,null,"Russell Cook","WJ","S","1st",35]
["Stefan Gauntlett","WJ","S","1st",20,null,"Andrew Biggs","WJ","V40","1st",37]
["Garth Morris","WJ","V60","1st",21,null,"Stephen Argent","WJ","V60","1st",39]
["Alexander Chappell","WJ","S","1st",22,null,"Nick Sansom","WJ","V40","1st",42]
["Nicholas Egginton","WJ","V40","2nd",23,null,"Mark Sanz","WJ","V50","1st",43]
["Martin Westley","HRC","S","1st",24,null,"Paul Brennan","WJ","V50","1st",50]
["Andrew Kavanagh","WJ","S","1st",25,null,"James Randall","WJ","S","1st",51]
["Colin Baker","HRC","V40","1st",26,null,"Matt Earl","WJ","V40","1st",52]
["Jamie Higgs","WJ","V40","1st",27,null,"Alan Taylor","WJ","V50","1st",57]
["Neil Bull","WJ","V40","1st",28,null,"Richard Coffey","WJ","V50","1st",62]
["Adam Watson","WJ","S","1st",29,null,"Peter Keats","WJ","V60","1st",63]
["Lee Webber","HRC","V40","1st",30,null,"Simon Joyce","WJ","V50","1st",67]
["Thomas Beales","HRC","V40","1st",31,null,"Clive Smith","WJ","V60","1st",69]
["James Dowsett","HRC","V40","1st",32,null,"Alan Rafferty","WJ","V60","1st",70]
["James Delve","BS","V40","1st",33,null,"Roger Partridge","WJ","V60","1st",73]
["Alan Jones","SS","V50","1st",34,null,"Phil Hudson","WJ","V60","1st",76]
["Russell Cook","WJ","S","1st",35]
["Chris Mella","HRC","S","1st",36]
["Andrew Biggs","WJ","V40","1st",37,null,"Senior",null,null,null,null,null,null,"V40",null,null,null,null,null,null,"V50",null,null,null,null,null,null,"V60",null,null,null,null,null,null,"V70"]
["Marco Arcidiacono","SS","V50","1st",38,null,"Name","Club","Age Category","Claim","Overall Position","Category Position",null,"Name","Club","Age Category","Claim","Overall Position","Category Position",null,"Name","Club","Age Category","Claim","Overall Position","Category Position",null,"Name","Club","Age Category","Claim","Overall Position","Category Position",null,"Name","Club","Age Category","Claim","Overall Position","Category Position"]
["Stephen Argent","WJ","V60","1st",39,null,"Michael Waddington","WJ","S","1st",1,1,null,"Andrew Mynott","WJ","V40","1st",3,1,null,"Rob Lowe","HRC","V50","1st",6,1,null,"Garth Morris","WJ","V60","1st",21,1]
["David Martin","SS","V50","1st",40,null,"Samuel Pedley","BS","S","1st",2,2,null,"Kevin Francis","WJ","V40","1st",4,2,null,"Craig Dyce","SS","V50","1st",8,2,null,"Stephen Argent","WJ","V60","1st",39,2]
["Jermaine Shand","HRC","S","1st",41,null,"Will Breese","WJ","S","1st",7,3,null,"Paskell Blackwell","HRC","V40","1st",5,3,null,"Alan Jones","SS","V50","1st",34,3,null,"Richard Eddershaw","BS","V60","1st",44,3]
["Nick Sansom","WJ","V40","1st",42,null,"Tom Porter","WJ","S","1st",9,4,null,"Peter Jurd","BS","V40","1st",16,4,null,"Marco Arcidiacono","SS","V50","1st",38,4,null,"Toby Lumsden","SS","V60","1st",45,4]
["Mark Sanz","WJ","V50","1st",43,null,"Matt Brown","WJ","S","1st",10,5,null,"Iain Henley","SS","V40","1st",17,5,null,"David Martin","SS","V50","1st",40,5,null,"Nigel Coates","SS","V60","1st",53,5]
["Richard Eddershaw","BS","V60","1st",44,null,"Liam Struwe","WJ","S","1st",11,6,null,"Jon Williams","WJ","V40","1st",18,6,null,"Mark Sanz","WJ","V50","1st",43,6,null,"John James","SS","V60","1st",56,6]
["Toby Lumsden","SS","V60","1st",45,null,"Tom Quinn","WJ","S","1st",12,7,null,"Nicholas Egginton","WJ","V40","2nd",23,7,null,"Chris Chew","BS","V50","1st",47,7,null,"Peter Keats","WJ","V60","1st",63,7]
["Timothy Wood","HRC","S","1st",46,null,"Martyn Coulter","HRC","S","1st",13,8,null,"Colin Baker","HRC","V40","1st",26,8,null,"Kevin Gillespie","BS","V50","1st",49,8,null,"Arthur Oliva","SS","V60","1st",64,8]
["Chris Chew","BS","V50","1st",47,null,"Scott Bird","HRC","S","1st",14,9,null,"Jamie Higgs","WJ","V40","1st",27,9,null,"Paul Brennan","WJ","V50","1st",50,9,null,"Martin Howe","BS","V60","1st",68,9]
["NEIL GAGE","BS","V40","1st",48,null,"Henry Ward","BS","S","1st",15,10,null,"Neil Bull","WJ","V40","1st",28,10,null,"Mark Thackstone","SS","V50","1st",54,10,null,"Clive Smith","WJ","V60","1st",69,10]
["Kevin Gillespie","BS","V50","1st",49,null,"Mark Ford","WJ","S","1st",19,11,null,"Lee Webber","HRC","V40","1st",30,11,null,"Alan Taylor","WJ","V50","1st",57,11,null,"Alan Rafferty","WJ","V60","1st",70,11]
["Paul Brennan","WJ","V50","1st",50,null,"Stefan Gauntlett","WJ","S","1st",20,12,null,"Thomas Beales","HRC","V40","1st",31,12,null,"Neil Halls","SS","V50","1st",58,12,null,"Ian Penson","BS","V60","1st",71,12]
["James Randall","WJ","S","1st",51,null,"Alexander Chappell","WJ","S","1st",22,13,null,"James Dowsett","HRC","V40","1st",32,13,null,"Miguel Luque","HRC","V50","1st",59,13,null,"Roger Partridge","WJ","V60","1st",73,13]
["Matt Earl","WJ","V40","1st",52,null,"Martin Westley","HRC","S","1st",24,14,null,"James Delve","BS","V40","1st",33,14,null,"Richard Coffey","WJ","V50","1st",62,14,null,"Phil Hudson","WJ","V60","1st",76,14]
["Nigel Coates","SS","V60","1st",53,null,"Andrew Kavanagh","WJ","S","1st",25,15,null,"Andrew Biggs","WJ","V40","1st",37,15,null,"Darren Tiley","HRC","V50","1st",65,15,null,"Robin Lozeau","HRC","V60","1st",77,15]
["Mark Thackstone","SS","V50","1st",54,null,"Adam Watson","WJ","S","1st",29,16,null,"Nick Sansom","WJ","V40","1st",42,16,null,"Simon Joyce","WJ","V50","1st",67,16]
["Jamie Smith","BS","V40","1st",55,null,"Russell Cook","WJ","S","1st",35,17,null,"NEIL GAGE","BS","V40","1st",48,17,null,"Mark Wilds","BS","V50","1st",72,17]
["John James","SS","V60","1st",56,null,"Chris Mella","HRC","S","1st",36,18,null,"Matt Earl","WJ","V40","1st",52,18]
["Alan Taylor","WJ","V50","1st",57,null,"Jermaine Shand","HRC","S","1st",41,19,null,"Jamie Smith","BS","V40","1st",55,19]
["Neil Halls","SS","V50","1st",58,null,"Timothy Wood","HRC","S","1st",46,20,null,"Jamie Olsen Ferreira","HRC","V40","1st",60,20]
["Miguel Luque","HRC","V50","1st",59,null,"James Randall","WJ","S","1st",51,21,null,"Richard Faverker","BS","V40",null,61,21]
["Jamie Olsen Ferreira","HRC","V40","1st",60,null,null,null,null,null,null,null,null,"Mark Unwin","HRC","V40","1st",66,22]
["Richard Faverker","BS","V40",null,61,null,null,null,null,null,null,null,null,"Andrew Pooley","BS","V40","1st",74,23]
["Richard Coffey","WJ","V50","1st",62,null,null,null,null,null,null,null,null,"Rohit Dayama","BS","V40","1st",75,24]
["Peter Keats","WJ","V60","1st",63]
["Arthur Oliva","SS","V60","1st",64]
["Darren Tiley","HRC","V50","1st",65]
["Mark Unwin","HRC","V40","1st",66]
["Simon Joyce","WJ","V50","1st",67]
["Martin Howe","BS","V60","1st",68]
["Clive Smith","WJ","V60","1st",69]
["Alan Rafferty","WJ","V60","1st",70]
["Ian Penson","BS","V60","1st",71]
["Mark Wilds","BS","V50","1st",72]
["Roger Partridge","WJ","V60","1st",73]
["Andrew Pooley","BS","V40","1st",74]
["Rohit Dayama","BS","V40","1st",75]
["Phil Hudson","WJ","V60","1st",76]
["Robin Lozeau","HRC","V60","1st",77]

{"sheet":"Race 3-Ladies","index":13,"n_rows":57,"n_cols":40,"rows_kept":57,"cut":false,"hidden":false,"merged":[]}
["Overall",null,null,null,null,null,"Ware Joggers",null,null,null,null,null,null,"Bishop's Stortford",null,null,null,null,null,null,"Saffron Striders",null,null,null,null,null,null,"Harlow Running & Tri Club"]
["Name","Club","Age Category","Claim","Position",null,"Name","Club","Age Category","Claim","Position",null,null,"Name","Club","Age Category","Claim","Position",null,null,"Name","Club","Age Category","Claim","Position",null,null,"Name","Club","Age Category","Claim","Position",null,null,"Name","Club","Age Category","Claim","Position"]
["Katy Woodward","WJ","V35","1st",1,null,"Katy Woodward","WJ","V35","1st",1,1,null,"Elizabeth Bellinger","BS","V35","1st",3,3,null,"Fliss Tournant","SS","S","1st",2,2,null,"Fieke Blackwell","HRC","V35","1st",5,5]
["Fliss Tournant","SS","S","1st",2,null,"Susan Millward","WJ","V45","2nd",4,4,null,"Hannah McIlvenna","BS","V45","2nd",7,7,null,"Sara Larsen Armstrong","SS","S","1st",15,15,null,"Catherine Ridge","HRC","V35","1st",13,13]
["Elizabeth Bellinger","BS","V35","1st",3,null,"Katrina Dobson","WJ","V35","1st",6,6,null,"Joanna Jurd","BS","V35","1st",8,8,null,"Anne Dawson","SS","V35","1st",19,19,null,"Paige Bircham","HRC","S","1st",18,18]
["Susan Millward","WJ","V45","2nd",4,null,"Anthea Francis","WJ","V45","1st",16,16,null,"Emily Clancey","BS","S","1st",9,9,null,"Kerry Harrington","SS","V45","1st",24,24,null,"Louise Cootes","HRC","V35","1st",21,21]
["Fieke Blackwell","HRC","V35","1st",5,null,"Fiona Smith","WJ","S","1st",17,17,null,"Vicky Simpson","BS","V45","1st",10,10,null,"Charlotte Diggins","SS","V45","1st",31,31,null,"Linda Helm-Manley","HRC","V55","1st",23,23]
["Katrina Dobson","WJ","V35","1st",6,null,"Lucy Dupuis","WJ","V45","1st",20,20,null,"Sophie Barc","BS","V45","1st",11,11,null,"Lisa Plumb","SS","V45","1st",41,41,null,"Gail Nicholls","HRC","V55","1st",25,25]
["Hannah McIlvenna","BS","V45","2nd",7,null,"Melanie Blackaby","WJ","V45","1st",27,27,null,"Grace Malcolm","BS","S","2nd",12,12,null,"Katharine Lewis","SS","V45","1st",44,44,null,"Michelle Sheridan","HRC","V35","1st",26,26]
["Joanna Jurd","BS","V35","1st",8,null,"Pamela Wilson","WJ","V65","1st",28,28,null,"Eilidh Malcolm","BS","S","2nd",14,null,null,null,null,null,null,null,null,null,"Donna Milton","HRC","V45","1st",29,29]
["Emily Clancey","BS","S","1st",9,null,"Deborah Amies","WJ","V45","1st",30,null,null,"Briony Hudson","BS","V35",null,22,22,null,null,null,null,null,null,null,null,"Emma Luck","HRC","V45","1st",32]
["Vicky Simpson","BS","V45","1st",10,null,"Olu Gooden","WJ","V55","2nd",34,null,null,"Serena Beresford","BS","V35","1st",36,null,null,null,null,null,null,null,null,null,"Michelle Hyde","HRC","V35","1st",33]
["Sophie Barc","BS","V45","1st",11,null,"Carla Bell","WJ","V55","1st",35,null,null,"Jenny Brayshaw","BS","V65","1st",37,null,null,null,null,null,null,null,null,null,"Elizabeth Roberts","HRC","S","1st",47]
["Grace Malcolm","BS","S","2nd",12,null,"Cate Campany","WJ","V55","1st",38,null,null,"Patricia Poole","BS","V55","1st",39]
["Catherine Ridge","HRC","V35","1st",13,null,"Michelle Cross","WJ","V55","1st",42,null,null,"Ellen Brooks","BS","V35","1st",40]
["Eilidh Malcolm","BS","S","2nd",14,null,"Christel Ainge","WJ","V45","1st",43,null,null,"Alison Malcolm","BS","V45","1st",51]
["Sara Larsen Armstrong","SS","S","1st",15,null,"Tracy Brennan","WJ","V45","1st",45,null,null,"Jilly Palmer","BS","V55","1st",53]
["Anthea Francis","WJ","V45","1st",16,null,"Sue Taylor","WJ","V45","1st",46]
["Fiona Smith","WJ","S","1st",17,null,"Anne Ramsden","WJ","V65","1st",48]
["Paige Bircham","HRC","S","1st",18,null,"Christy van Maanenberg","WJ","V45","1st",49]
["Anne Dawson","SS","V35","1st",19,null,"Jenni Viner","WJ","V65","1st",50]
["Lucy Dupuis","WJ","V45","1st",20,null,"Jeanette Collins","WJ","V55","2nd",52]
["Louise Cootes","HRC","V35","1st",21,null,"Rosalind Hitchen","WJ","V55","1st",54]
["Briony Hudson","BS","V35",null,22,null,"Jacqui Barnard","WJ","V55","1st",55]
["Linda Helm-Manley","HRC","V55","1st",23]
["Kerry Harrington","SS","V45","1st",24]
["Gail Nicholls","HRC","V55","1st",25,null,"Senior",null,null,null,null,null,null,"V35",null,null,null,null,null,null,"V45",null,null,null,null,null,null,"V55",null,null,null,null,null,null,"V65"]
["Michelle Sheridan","HRC","V35","1st",26,null,"Name","Club","Age Category","Claim","Overall Position","Category Position",null,"Name","Club","Age Category","Claim","Overall Position","Category Position",null,"Name","Club","Age Category","Claim","Overall Position","Category Position",null,"Name","Club","Age Category","Claim","Overall Position","Category Position",null,"Name","Club","Age Category","Claim","Overall Position","Category Position"]
["Melanie Blackaby","WJ","V45","1st",27,null,"Fliss Tournant","SS","S","1st",2,1,null,"Katy Woodward","WJ","V35","1st",1,1,null,"Susan Millward","WJ","V45","2nd",4,1,null,"Linda Helm-Manley","HRC","V55","1st",23,1,null,"Pamela Wilson","WJ","V65","1st",28,1]
["Pamela Wilson","WJ","V65","1st",28,null,"Emily Clancey","BS","S","1st",9,2,null,"Elizabeth Bellinger","BS","V35","1st",3,2,null,"Hannah McIlvenna","BS","V45","2nd",7,2,null,"Gail Nicholls","HRC","V55","1st",25,2,null,"Jenny Brayshaw","BS","V65","1st",37,2]
["Donna Milton","HRC","V45","1st",29,null,"Grace Malcolm","BS","S","2nd",12,3,null,"Fieke Blackwell","HRC","V35","1st",5,3,null,"Vicky Simpson","BS","V45","1st",10,3,null,"Olu Gooden","WJ","V55","2nd",34,3,null,"Anne Ramsden","WJ","V65","1st",48,3]
["Deborah Amies","WJ","V45","1st",30,null,"Eilidh Malcolm","BS","S","2nd",14,4,null,"Katrina Dobson","WJ","V35","1st",6,4,null,"Sophie Barc","BS","V45","1st",11,4,null,"Carla Bell","WJ","V55","1st",35,4,null,"Jenni Viner","WJ","V65","1st",50,4]
["Charlotte Diggins","SS","V45","1st",31,null,"Sara Larsen Armstrong","SS","S","1st",15,5,null,"Joanna Jurd","BS","V35","1st",8,5,null,"Anthea Francis","WJ","V45","1st",16,5,null,"Cate Campany","WJ","V55","1st",38,5]
["Emma Luck","HRC","V45","1st",32,null,"Fiona Smith","WJ","S","1st",17,6,null,"Catherine Ridge","HRC","V35","1st",13,6,null,"Lucy Dupuis","WJ","V45","1st",20,6,null,"Patricia Poole","BS","V55","1st",39,6]
["Michelle Hyde","HRC","V35","1st",33,null,"Paige Bircham","HRC","S","1st",18,7,null,"Anne Dawson","SS","V35","1st",19,7,null,"Kerry Harrington","SS","V45","1st",24,7,null,"Michelle Cross","WJ","V55","1st",42,7]
["Olu Gooden","WJ","V55","2nd",34,null,"Elizabeth Roberts","HRC","S","1st",47,8,null,"Louise Cootes","HRC","V35","1st",21,8,null,"Melanie Blackaby","WJ","V45","1st",27,8,null,"Jeanette Collins","WJ","V55","2nd",52,8]
["Carla Bell","WJ","V55","1st",35,null,null,null,null,null,null,null,null,"Briony Hudson","BS","V35",null,22,9,null,"Donna Milton","HRC","V45","1st",29,9,null,"Jilly Palmer","BS","V55","1st",53,9]
["Serena Beresford","BS","V35","1st",36,null,null,null,null,null,null,null,null,"Michelle Sheridan","HRC","V35","1st",26,10,null,"Deborah Amies","WJ","V45","1st",30,10,null,"Rosalind Hitchen","WJ","V55","1st",54,10]
["Jenny Brayshaw","BS","V65","1st",37,null,null,null,null,null,null,null,null,"Michelle Hyde","HRC","V35","1st",33,11,null,"Charlotte Diggins","SS","V45","1st",31,11,null,"Jacqui Barnard","WJ","V55","1st",55,11]
["Cate Campany","WJ","V55","1st",38,null,null,null,null,null,null,null,null,"Serena Beresford","BS","V35","1st",36,12,null,"Emma Luck","HRC","V45","1st",32,12]
["Patricia Poole","BS","V55","1st",39,null,null,null,null,null,null,null,null,"Ellen Brooks","BS","V35","1st",40,13,null,"Lisa Plumb","SS","V45","1st",41,13]
["Ellen Brooks","BS","V35","1st",40,null,null,null,null,null,null,null,null,null,null,null,null,null,null,null,"Christel Ainge","WJ","V45","1st",43,14]
["Lisa Plumb","SS","V45","1st",41,null,null,null,null,null,null,null,null,null,null,null,null,null,null,null,"Katharine Lewis","SS","V45","1st",44,15]
["Michelle Cross","WJ","V55","1st",42,null,null,null,null,null,null,null,null,null,null,null,null,null,null,null,"Tracy Brennan","WJ","V45","1st",45,16]
["Christel Ainge","WJ","V45","1st",43,null,null,null,null,null,null,null,null,null,null,null,null,null,null,null,"Sue Taylor","WJ","V45","1st",46,17]
["Katharine Lewis","SS","V45","1st",44,null,null,null,null,null,null,null,null,null,null,null,null,null,null,null,"Christy van Maanenberg","WJ","V45","1st",49,18]
["Tracy Brennan","WJ","V45","1st",45,null,null,null,null,null,null,null,null,null,null,null,null,null,null,null,"Alison Malcolm","BS","V45","1st",51,19]
["Sue Taylor","WJ","V45","1st",46]
["Elizabeth Roberts","HRC","S","1st",47]
["Anne Ramsden","WJ","V65","1st",48]
["Christy van Maanenberg","WJ","V45","1st",49]
["Jenni Viner","WJ","V65","1st",50]
["Alison Malcolm","BS","V45","1st",51]
["Jeanette Collins","WJ","V55","2nd",52]
["Jilly Palmer","BS","V55","1st",53]
["Rosalind Hitchen","WJ","V55","1st",54]
["Jacqui Barnard","WJ","V55","1st",55]

{"sheet":"Race 4-Men","index":14,"n_rows":70,"n_cols":40,"rows_kept":70,"cut":false,"hidden":false,"merged":[]}
["Overall",null,null,null,null,null,"Ware Joggers",null,null,null,null,null,null,"Bishop's Stortford",null,null,null,null,null,null,"Saffron Striders",null,null,null,null,null,null,"Harlow Running & Tri Club"]
["Name","Club","Age Category","Claim","Position",null,"Name","Club","Age Category","Claim","Position",null,null,"Name","Club","Age Category","Claim","Position",null,null,"Name","Club","Age Category","Claim","Position",null,null,"Name","Club","Age Category","Claim","Position",null,null,"Name","Club","Age Category","Claim","Position"]
["Oscar Bell","WJ","S","2nd",1,null,"Oscar Bell","WJ","S","2nd",1,1,null,"Henry Ward","BS","S","1st",11,11,null,"Craig Dyce","SS","V50","1st",3,3,null,"Rob Lowe","HRC","V50","1st",2,2]
["Rob Lowe","HRC","V50","1st",2,null,"Kevin Francis","WJ","V40","1st",4,4,null,"Kevin Mully","BS","V40","1st",17,17,null,"Alan Jones","SS","V50","1st",35,35,null,"Martin Westley","HRC","S","1st",13,13]
["Craig Dyce","SS","V50","1st",3,null,"Vincent Riviere","WJ","V40","1st",5,5,null,"James Delve","BS","V40","1st",28,28,null,"Mark Thackstone","SS","V50","1st",43,43,null,"Martyn Coulter","HRC","S","1st",15,15]
["Kevin Francis","WJ","V40","1st",4,null,"Matt Brown","WJ","S","1st",6,6,null,"Richard Eddershaw","BS","V60","1st",31,31,null,"Toby Lumsden","SS","V60","1st",44,44,null,"Benjamin Usher","HRC","S","1st",19,19]
["Vincent Riviere","WJ","V40","1st",5,null,"Tom Porter","WJ","S","1st",7,7,null,"Etienne Faure","BS","V40","1st",34,34,null,"Nigel Coates","SS","V60","1st",49,49,null,"Colin Baker","HRC","V40","1st",26,26]
["Matt Brown","WJ","S","1st",6,null,"Liam Struwe","WJ","S","1st",8,8,null,"Gordon Mcleod","BS","S","1st",38,38,null,"David Martin","SS","V50","1st",52,52,null,"Lee Webber","HRC","V40","1st",27,27]
["Tom Porter","WJ","S","1st",7,null,"Iain McMurray","WJ","S","1st",9,9,null,"Chris Chew","BS","V50","1st",39,39,null,"Neil Halls","SS","V50","1st",53,53,null,"Andrew Terrell","HRC","V40","1st",30,30]
["Liam Struwe","WJ","S","1st",8,null,"William Caunce","WJ","S","1st",10,10,null,"Lee Boswell","BS","S","1st",42,42,null,"John James","SS","V60","1st",54,54,null,"James Dowsett","HRC","V40","1st",33,33]
["Iain McMurray","WJ","S","1st",9,null,"Mark Ford","WJ","S","1st",12,null,null,"Jamie Smith","BS","V40","1st",51,null,null,"Arthur Oliva","SS","V60","1st",63,null,null,"Jermaine Shand","HRC","S","1st",37]
["William Caunce","WJ","S","1st",10,null,"Ian  Perrins","WJ","S","1st",14,null,null,"Richard Faverker","BS","V40",null,59,null,null,"Iain Rogers","SS","V50","1st",66,null,null,"Timothy Wood","HRC","S","1st",40]
["Henry Ward","BS","S","1st",11,null,"Alexander Chappell","WJ","S","1st",16,null,null,"Ian Penson","BS","V60","1st",65,null,null,null,null,null,null,null,null,null,"Chris Mella","HRC","S","1st",41]
["Mark Ford","WJ","S","1st",12,null,"Neil Bull","WJ","V40","1st",18,null,null,null,null,null,null,null,null,null,null,null,null,null,null,null,null,"Jon Steadman","HRC","V40","1st",45]
["Martin Westley","HRC","S","1st",13,null,"Jon Williams","WJ","V40","1st",20,null,null,null,null,null,null,null,null,null,null,null,null,null,null,null,null,"Chris Arnell","HRC","V40","1st",48]
["Ian  Perrins","WJ","S","1st",14,null,"Garth Morris","WJ","V60","1st",21,null,null,null,null,null,null,null,null,null,null,null,null,null,null,null,null,"John Bull","HRC","V50","1st",56]
["Martyn Coulter","HRC","S","1st",15,null,"Jamie Higgs","WJ","V40","1st",22,null,null,null,null,null,null,null,null,null,null,null,null,null,null,null,null,"Jamie Olsen Ferreira","HRC","V40","1st",57]
["Alexander Chappell","WJ","S","1st",16,null,"Nick Kenyon-Muir","WJ","V50","1st",23,null,null,null,null,null,null,null,null,null,null,null,null,null,null,null,null,"Gary Mead","HRC","V50","1st",60]
["Kevin Mully","BS","V40","1st",17,null,"Adam Watson","WJ","S","1st",24,null,null,null,null,null,null,null,null,null,null,null,null,null,null,null,null,"Andrew Smith","HRC","V50","1st",67]
["Neil Bull","WJ","V40","1st",18,null,"Stefan Gauntlett","WJ","S","1st",25,null,null,null,null,null,null,null,null,null,null,null,null,null,null,null,null,"Michael Gleeson","HRC","V50","1st",68]
["Benjamin Usher","HRC","S","1st",19,null,"Andrew Biggs","WJ","V40","1st",29]
["Jon Williams","WJ","V40","1st",20,null,"Stephen Argent","WJ","V60","1st",32]
["Garth Morris","WJ","V60","1st",21,null,"Mark Sanz","WJ","V50","1st",36]
["Jamie Higgs","WJ","V40","1st",22,null,"Peter Baker","WJ","V60","1st",46]
["Nick Kenyon-Muir","WJ","V50","1st",23,null,"Alan Taylor","WJ","V50","1st",47]
["Adam Watson","WJ","S","1st",24,null,"Matt Earl","WJ","V40","1st",50]
["Stefan Gauntlett","WJ","S","1st",25,null,"Russell Cook","WJ","S","1st",55]
["Colin Baker","HRC","V40","1st",26,null,"Alan Randall","WJ","V60","2nd",58]
["Lee Webber","HRC","V40","1st",27,null,"Peter Keats","WJ","V60","1st",61]
["James Delve","BS","V40","1st",28,null,"Richard Coffey","WJ","V50","1st",62]
["Andrew Biggs","WJ","V40","1st",29,null,"Simon Joyce","WJ","V50","1st",64]
["Andrew Terrell","HRC","V40","1st",30]
["Richard Eddershaw","BS","V60","1st",31]
["Stephen Argent","WJ","V60","1st",32,null,"Senior",null,null,null,null,null,null,"V40",null,null,null,null,null,null,"V50",null,null,null,null,null,null,"V60",null,null,null,null,null,null,"V70"]
["James Dowsett","HRC","V40","1st",33,null,"Name","Club","Age Category","Claim","Overall Position","Category Position",null,"Name","Club","Age Category","Claim","Overall Position","Category Position",null,"Name","Club","Age Category","Claim","Overall Position","Category Position",null,"Name","Club","Age Category","Claim","Overall Position","Category Position",null,"Name","Club","Age Category","Claim","Overall Position","Category Position"]
["Etienne Faure","BS","V40","1st",34,null,"Oscar Bell","WJ","S","1st",1,1,null,"Kevin Francis","WJ","V40","1st",4,1,null,"Rob Lowe","HRC","V50","1st",2,1,null,"Garth Morris","WJ","V60","1st",21,1]
["Alan Jones","SS","V50","1st",35,null,"Matt Brown","WJ","S","1st",6,2,null,"Vincent Riviere","WJ","V40","1st",5,2,null,"Craig Dyce","SS","V50","1st",3,2,null,"Richard Eddershaw","BS","V60","1st",31,2]
["Mark Sanz","WJ","V50","1st",36,null,"Tom Porter","WJ","S","1st",7,3,null,"Kevin Mully","BS","V40","1st",17,3,null,"Nick Kenyon-Muir","WJ","V50","1st",23,3,null,"Stephen Argent","WJ","V60","1st",32,3]
["Jermaine Shand","HRC","S","1st",37,null,"Liam Struwe","WJ","S","1st",8,4,null,"Neil Bull","WJ","V40","1st",18,4,null,"Alan Jones","SS","V50","1st",35,4,null,"Toby Lumsden","SS","V60","1st",44,4]
["Gordon Mcleod","BS","S","1st",38,null,"Iain McMurray","WJ","S","1st",9,5,null,"Jon Williams","WJ","V40","1st",20,5,null,"Mark Sanz","WJ","V50","1st",36,5,null,"Peter Baker","WJ","V60","1st",46,5]
["Chris Chew","BS","V50","1st",39,null,"William Caunce","WJ","S","1st",10,6,null,"Jamie Higgs","WJ","V40","1st",22,6,null,"Chris Chew","BS","V50","1st",39,6,null,"Nigel Coates","SS","V60","1st",49,6]
["Timothy Wood","HRC","S","1st",40,null,"Henry Ward","BS","S","1st",11,7,null,"Colin Baker","HRC","V40","1st",26,7,null,"Mark Thackstone","SS","V50","1st",43,7,null,"John James","SS","V60","1st",54,7]
["Chris Mella","HRC","S","1st",41,null,"Mark Ford","WJ","S","1st",12,8,null,"Lee Webber","HRC","V40","1st",27,8,null,"Alan Taylor","WJ","V50","1st",47,8,null,"Alan Randall","WJ","V60","2nd",58,8]
["Lee Boswell","BS","S","1st",42,null,"Martin Westley","HRC","S","1st",13,9,null,"James Delve","BS","V40","1st",28,9,null,"David Martin","SS","V50","1st",52,9,null,"Peter Keats","WJ","V60","1st",61,9]
["Mark Thackstone","SS","V50","1st",43,null,"Ian  Perrins","WJ","S","1st",14,10,null,"Andrew Biggs","WJ","V40","1st",29,10,null,"Neil Halls","SS","V50","1st",53,10,null,"Arthur Oliva","SS","V60","1st",63,10]
["Toby Lumsden","SS","V60","1st",44,null,"Martyn Coulter","HRC","S","1st",15,11,null,"Andrew Terrell","HRC","V40","1st",30,11,null,"John Bull","HRC","V50","1st",56,11,null,"Ian Penson","BS","V60","1st",65,11]
["Jon Steadman","HRC","V40","1st",45,null,"Alexander Chappell","WJ","S","1st",16,12,null,"James Dowsett","HRC","V40","1st",33,12,null,"Gary Mead","HRC","V50","1st",60,12]
["Peter Baker","WJ","V60","1st",46,null,"Benjamin Usher","HRC","S","1st",19,13,null,"Etienne Faure","BS","V40","1st",34,13,null,"Richard Coffey","WJ","V50","1st",62,13]
["Alan Taylor","WJ","V50","1st",47,null,"Adam Watson","WJ","S","1st",24,14,null,"Jon Steadman","HRC","V40","1st",45,14,null,"Simon Joyce","WJ","V50","1st",64,14]
["Chris Arnell","HRC","V40","1st",48,null,"Stefan Gauntlett","WJ","S","1st",25,15,null,"Chris Arnell","HRC","V40","1st",48,15,null,"Iain Rogers","SS","V50","1st",66,15]
["Nigel Coates","SS","V60","1st",49,null,"Jermaine Shand","HRC","S","1st",37,16,null,"Matt Earl","WJ","V40","1st",50,16,null,"Andrew Smith","HRC","V50","1st",67,16]
["Matt Earl","WJ","V40","1st",50,null,"Gordon Mcleod","BS","S","1st",38,17,null,"Jamie Smith","BS","V40","1st",51,17,null,"Michael Gleeson","HRC","V50","1st",68,17]
["Jamie Smith","BS","V40","1st",51,null,"Timothy Wood","HRC","S","1st",40,18,null,"Jamie Olsen Ferreira","HRC","V40","1st",57,18]
["David Martin","SS","V50","1st",52,null,"Chris Mella","HRC","S","1st",41,19,null,"Richard Faverker","BS","V40",null,59,19]
["Neil Halls","SS","V50","1st",53,null,"Lee Boswell","BS","S","1st",42,20]
["John James","SS","V60","1st",54,null,"Russell Cook","WJ","S","1st",55,21]
["Russell Cook","WJ","S","1st",55]
["John Bull","HRC","V50","1st",56]
["Jamie Olsen Ferreira","HRC","V40","1st",57]
["Alan Randall","WJ","V60","2nd",58]
["Richard Faverker","BS","V40",null,59]
["Gary Mead","HRC","V50","1st",60]
["Peter Keats","WJ","V60","1st",61]
["Richard Coffey","WJ","V50","1st",62]
["Arthur Oliva","SS","V60","1st",63]
["Simon Joyce","WJ","V50","1st",64]
["Ian Penson","BS","V60","1st",65]
["Iain Rogers","SS","V50","1st",66]
["Andrew Smith","HRC","V50","1st",67]
["Michael Gleeson","HRC","V50","1st",68]

{"sheet":"Race 4-Ladies","index":15,"n_rows":55,"n_cols":40,"rows_kept":55,"cut":false,"hidden":false,"merged":[]}
["Overall",null,null,null,null,null,"Ware Joggers",null,null,null,null,null,null,"Bishop's Stortford",null,null,null,null,null,null,"Saffron Striders",null,null,null,null,null,null,"Harlow Running & Tri Club"]
["Name","Club","Age Category","Claim","Position",null,"Name","Club","Age Category","Claim","Position",null,null,"Name","Club","Age Category","Claim","Position",null,null,"Name","Club","Age Category","Claim","Position",null,null,"Name","Club","Age Category","Claim","Position",null,null,"Name","Club","Age Category","Claim","Position"]
["Lucy Barnes","HRC","S","1st",1,null,"Katy Woodward","WJ","V35","1st",2,2,null,"Vicky Simpson","BS","V45","1st",8,8,null,"Fliss Tournant","SS","S","1st",3,3,null,"Lucy Barnes","HRC","S","1st",1,1]
["Katy Woodward","WJ","V35","1st",2,null,"Harriet Kealy","WJ","S","1st",4,4,null,"Eilidh Malcolm","BS","S","2nd",19,19,null,"Zib Gotto","SS","V45","1st",14,14,null,"Terri Wiley","HRC","V35","1st",6,6]
["Fliss Tournant","SS","S","1st",3,null,"Susan Millward","WJ","V45","2nd",5,5,null,"Emma Nixon","BS","V55","1st",26,26,null,"Kerry Harrington","SS","V45","1st",23,23,null,"Fieke Blackwell","HRC","V35","1st",9,9]
["Harriet Kealy","WJ","S","1st",4,null,"Katrina Dobson","WJ","V35","1st",7,7,null,"Jilly Palmer","BS","V55","1st",48,48,null,"Charlotte Teall","SS","V35","1st",36,36,null,"Catherine Ridge","HRC","V35","1st",11,11]
["Susan Millward","WJ","V45","2nd",5,null,"Sarah Hopewell","WJ","V35","1st",10,10,null,null,null,null,null,null,null,null,null,null,null,null,null,null,null,"Paige Bircham","HRC","S","1st",12,12]
["Terri Wiley","HRC","V35","1st",6,null,"Emily Reid","WJ","V35","1st",13,13,null,null,null,null,null,null,null,null,null,null,null,null,null,null,null,"Louise Cootes","HRC","V35","1st",17,17]
["Katrina Dobson","WJ","V35","1st",7,null,"Lucy Dupuis","WJ","V45","1st",15,15,null,null,null,null,null,null,null,null,null,null,null,null,null,null,null,"Sandra Rust","HRC","V45","1st",21,21]
["Vicky Simpson","BS","V45","1st",8,null,"Anthea Francis","WJ","V45","1st",16,16,null,null,null,null,null,null,null,null,null,null,null,null,null,null,null,"Linda Helm-Manley","HRC","V55","1st",22,22]
["Fieke Blackwell","HRC","V35","1st",9,null,"Annie Reville","WJ","V45","1st",18,null,null,null,null,null,null,null,null,null,null,null,null,null,null,null,null,"Michelle Sheridan","HRC","V35","1st",24]
["Sarah Hopewell","WJ","V35","1st",10,null,"Fiona Smith","WJ","S","1st",20,null,null,null,null,null,null,null,null,null,null,null,null,null,null,null,null,"Kerry Mavris","HRC","V45","1st",25]
["Catherine Ridge","HRC","V35","1st",11,null,"Pamela Wilson","WJ","V65","1st",28,null,null,null,null,null,null,null,null,null,null,null,null,null,null,null,null,"Tracy Stratford","HRC","V35","1st",27]
["Paige Bircham","HRC","S","1st",12,null,"Jennifer Evans","WJ","S","1st",29,null,null,null,null,null,null,null,null,null,null,null,null,null,null,null,null,"Donna Milton","HRC","V45","1st",30]
["Emily Reid","WJ","V35","1st",13,null,"Jane Wren","WJ","V55","2nd",32,null,null,null,null,null,null,null,null,null,null,null,null,null,null,null,null,"Gail Nicholls","HRC","V55","1st",31]
["Zib Gotto","SS","V45","1st",14,null,"Deborah Amies","WJ","V45","1st",33,null,null,null,null,null,null,null,null,null,null,null,null,null,null,null,null,"Kate Porter","HRC","V45","1st",34]
["Lucy Dupuis","WJ","V45","1st",15,null,"Jemina Punni","WJ","V35","1st",35,null,null,null,null,null,null,null,null,null,null,null,null,null,null,null,null,"Emma Luck","HRC","V45","1st",37]
["Anthea Francis","WJ","V45","1st",16,null,"Olu Gooden","WJ","V55","2nd",38,null,null,null,null,null,null,null,null,null,null,null,null,null,null,null,null,"Claire Morris","HRC","V35","1st",39]
["Louise Cootes","HRC","V35","1st",17,null,"Tracy Brennan","WJ","V45","1st",41,null,null,null,null,null,null,null,null,null,null,null,null,null,null,null,null,"Michelle Hyde","HRC","V35","1st",40]
["Annie Reville","WJ","V45","1st",18,null,"Cate Campany","WJ","V55","1st",42,null,null,null,null,null,null,null,null,null,null,null,null,null,null,null,null,"Claire Carter","HRC","V45","1st",43]
["Eilidh Malcolm","BS","S","2nd",19,null,"Lynsay Evans","WJ","V45","1st",51,null,null,null,null,null,null,null,null,null,null,null,null,null,null,null,null,"Selina Morgan","HRC","V35","1st",44]
["Fiona Smith","WJ","S","1st",20,null,"Rosalind Hitchen","WJ","V55","1st",52,null,null,null,null,null,null,null,null,null,null,null,null,null,null,null,null,"Alison Wilkinson","HRC","V55","1st",45]
["Sandra Rust","HRC","V45","1st",21,null,"Fiona Alder","WJ","V55","1st",53,null,null,null,null,null,null,null,null,null,null,null,null,null,null,null,null,"Kate Babb","HRC","V55","1st",46]
["Linda Helm-Manley","HRC","V55","1st",22,null,null,null,null,null,null,null,null,null,null,null,null,null,null,null,null,null,null,null,null,null,null,"Teresa Stickland","HRC","V55","1st",47]
["Kerry Harrington","SS","V45","1st",23,null,null,null,null,null,null,null,null,null,null,null,null,null,null,null,null,null,null,null,null,null,null,"Keren Greenall","HRC","V35","1st",49]
["Michelle Sheridan","HRC","V35","1st",24,null,null,null,null,null,null,null,null,null,null,null,null,null,null,null,null,null,null,null,null,null,null,"Lisa Brett","HRC","V45","1st",50]
["Kerry Mavris","HRC","V45","1st",25]
["Emma Nixon","BS","V55","1st",26]
["Tracy Stratford","HRC","V35","1st",27,null,"Senior",null,null,null,null,null,null,"V35",null,null,null,null,null,null,"V45",null,null,null,null,null,null,"V55",null,null,null,null,null,null,"V65"]
["Pamela Wilson","WJ","V65","1st",28,null,"Name","Club","Age Category","Claim","Overall Position","Category Position",null,"Name","Club","Age Category","Claim","Overall Position","Category Position",null,"Name","Club","Age Category","Claim","Overall Position","Category Position",null,"Name","Club","Age Category","Claim","Overall Position","Category Position",null,"Name","Club","Age Category","Claim","Overall Position","Category Position"]
["Jennifer Evans","WJ","S","1st",29,null,"Lucy Barnes","HRC","S","1st",1,1,null,"Katy Woodward","WJ","V35","1st",2,1,null,"Susan Millward","WJ","V45","2nd",5,1,null,"Linda Helm-Manley","HRC","V55","1st",22,1,null,"Pamela Wilson","WJ","V65","1st",28,1]
["Donna Milton","HRC","V45","1st",30,null,"Fliss Tournant","SS","S","1st",3,2,null,"Terri Wiley","HRC","V35","1st",6,2,null,"Vicky Simpson","BS","V45","1st",8,2,null,"Emma Nixon","BS","V55","1st",26,2]
["Gail Nicholls","HRC","V55","1st",31,null,"Harriet Kealy","WJ","S","1st",4,3,null,"Katrina Dobson","WJ","V35","1st",7,3,null,"Zib Gotto","SS","V45","1st",14,3,null,"Gail Nicholls","HRC","V55","1st",31,3]
["Jane Wren","WJ","V55","2nd",32,null,"Paige Bircham","HRC","S","1st",12,4,null,"Fieke Blackwell","HRC","V35","1st",9,4,null,"Lucy Dupuis","WJ","V45","1st",15,4,null,"Jane Wren","WJ","V55","2nd",32,4]
["Deborah Amies","WJ","V45","1st",33,null,"Eilidh Malcolm","BS","S","2nd",19,5,null,"Sarah Hopewell","WJ","V35","1st",10,5,null,"Anthea Francis","WJ","V45","1st",16,5,null,"Olu Gooden","WJ","V55","2nd",38,5]
["Kate Porter","HRC","V45","1st",34,null,"Fiona Smith","WJ","S","1st",20,6,null,"Catherine Ridge","HRC","V35","1st",11,6,null,"Annie Reville","WJ","V45","1st",18,6,null,"Cate Campany","WJ","V55","1st",42,6]
["Jemina Punni","WJ","V35","1st",35,null,"Jennifer Evans","WJ","S","1st",29,7,null,"Emily Reid","WJ","V35","1st",13,7,null,"Sandra Rust","HRC","V45","1st",21,7,null,"Alison Wilkinson","HRC","V55","1st",45,7]
["Charlotte Teall","SS","V35","1st",36,null,null,null,null,null,null,null,null,"Louise Cootes","HRC","V35","1st",17,8,null,"Kerry Harrington","SS","V45","1st",23,8,null,"Kate Babb","HRC","V55","1st",46,8]
["Emma Luck","HRC","V45","1st",37,null,null,null,null,null,null,null,null,"Michelle Sheridan","HRC","V35","1st",24,9,null,"Kerry Mavris","HRC","V45","1st",25,9,null,"Teresa Stickland","HRC","V55","1st",47,9]
["Olu Gooden","WJ","V55","2nd",38,null,null,null,null,null,null,null,null,"Tracy Stratford","HRC","V35","1st",27,10,null,"Donna Milton","HRC","V45","1st",30,10,null,"Jilly Palmer","BS","V55","1st",48,10]
["Claire Morris","HRC","V35","1st",39,null,null,null,null,null,null,null,null,"Jemina Punni","WJ","V35","1st",35,11,null,"Deborah Amies","WJ","V45","1st",33,11,null,"Rosalind Hitchen","WJ","V55","1st",52,11]
["Michelle Hyde","HRC","V35","1st",40,null,null,null,null,null,null,null,null,"Charlotte Teall","SS","V35","1st",36,12,null,"Kate Porter","HRC","V45","1st",34,12,null,"Fiona Alder","WJ","V55","1st",53,12]
["Tracy Brennan","WJ","V45","1st",41,null,null,null,null,null,null,null,null,"Claire Morris","HRC","V35","1st",39,13,null,"Emma Luck","HRC","V45","1st",37,13]
["Cate Campany","WJ","V55","1st",42,null,null,null,null,null,null,null,null,"Michelle Hyde","HRC","V35","1st",40,14,null,"Tracy Brennan","WJ","V45","1st",41,14]
["Claire Carter","HRC","V45","1st",43,null,null,null,null,null,null,null,null,"Selina Morgan","HRC","V35","1st",44,15,null,"Claire Carter","HRC","V45","1st",43,15]
["Selina Morgan","HRC","V35","1st",44,null,null,null,null,null,null,null,null,"Keren Greenall","HRC","V35","1st",49,16,null,"Lisa Brett","HRC","V45","1st",50,16]
["Alison Wilkinson","HRC","V55","1st",45,null,null,null,null,null,null,null,null,null,null,null,null,null,null,null,"Lynsay Evans","WJ","V45","1st",51,17]
["Kate Babb","HRC","V55","1st",46]
["Teresa Stickland","HRC","V55","1st",47]
["Jilly Palmer","BS","V55","1st",48]
["Keren Greenall","HRC","V35","1st",49]
["Lisa Brett","HRC","V45","1st",50]
["Lynsay Evans","WJ","V45","1st",51]
["Rosalind Hitchen","WJ","V55","1st",52]
["Fiona Alder","WJ","V55","1st",53]